{"text_format":"2","workbook":"xlsx","n_sheets":10,"sheets":["Cinema, voice alarm","Cinema, siren","Cinema, alarm bell","School","Office","Night club, active staff","_@RISKFitInformation","Night club, passive staff","Department store","Restaurant, café"],"not_rendered":{"charts":0,"images":0,"macros":0,"external_links":0,"defined_names":159,"comments":0,"pivot_tables":0},"unopened":[],"bounds":{"document_bytes":16777216,"sheet_cells":100000,"run_cost":"one","rows_first":2000,"rows_last":500,"rows_between":2000,"halvings":0,"cell_chars":16384,"cell_head_chars":4096},"cells_cut":0,"cells_raw":0,"read":"whole","date_system":"1900"}

{"sheet":"Cinema, voice alarm","index":0,"n_rows":902,"n_cols":4,"rows_kept":902,"cut":false,"hidden":false,"merged":[[0,0,0,3]]}
["Cinema - Voice alarm"]
["Individual","Recognition","Response","Total pre-movement time"]
["Person 1",15,24,{"$f":"B3+C3","v":39}]
["Person 2",24,15,{"$f":"B4+C4","v":39}]
["Person 3",17,24,41]
["Person 4",20,23,43]
["Person 5",14,14,28]
["Person 6",17,11,28]
["Person 7",20,31,51]
["Person 8",20,22,42]
["Person 9",13,14,27]
["Person 10",20,25,45]
["Person 11",18,29,47]
["Person 12",21,20,{"$f":"B14+C14","v":41}]
["Person 13",21,21,{"$f":"B15+C15","v":42}]
["Person 14",20,12,32]
["Person 15",16,16,32]
["Person 16",17,3,20]
["Person 17",15,5,20]
["Person 18",12,12,24]
["Person 19",15,19,{"$f":"B21+C21","v":34}]
["Person 20",21,20,{"$f":"B22+C22","v":41}]
["Person 21",18,23,41]
["Person 22",23,21,44]
["Person 23",13,18,31]
["Person 24",14,24,38]
["Person 25",32,5,37]
["Person 26",39,4,43]
["Person 27",39,6,45]
["Person 28",38,3,41]
["Person 29",38,7,45]
["Person 30",38,6,44]
["Person 31",36,8,44]
["Person 32",35,9,44]
["Person 33",39,6,45]
["Person 34",38,10,48]
["Person 35",28,7,35]
["Person 36",19,5,{"$f":"B38+C38","v":24}]
["Person 37",19,4,{"$f":"B39+C39","v":23}]
["Person 38",20,8,28]
["Person 39",21,27,48]
["Person 40",22,20,42]
["Person 41",22,18,40]
["Person 42",17,10,27]
["Person 43",16,10,26]
["Person 44",14,6,20]
["Person 45",20,4,24]
["Person 46",17,11,{"$f":"B48+C48","v":28}]
["Person 47",17,13,{"$f":"B49+C49","v":30}]
["Person 48",19,11,30]
["Person 49",16,5,21]
["Person 50",34,9,43]
["Person 51",35,7,42]
["Person 52",16,18,34]
["Person 53",17,19,36]
["Person 54",20,16,36]
["Person 55",21,12,33]
["Person 56",122,14,{"$f":"B58+C58","v":136}]
["Person 57",122,15,{"$f":"B59+C59","v":137}]
["Person 58",123,9,132]
["Person 59",123,8,131]
["Person 60",121,5,126]
["Person 61",116,6,122]
["Person 62",106,15,121]
["Person 63",106,8,114]
["Person 64",106,8,114]
["Person 65",117,1,118]
["Person 66",119,3,122]
["Person 67",121,1,122]
["Person 68",116,4,120]
["Person 69",34,1,35]
["Person 70",123,15,138]
["Person 71",120,16,136]
["Person 72",94,1,95]
["Person 73",95,17,{"$f":"B75+C75","v":112}]
["Person 74",90,14,{"$f":"B76+C76","v":104}]
["Person 75",90,10,100]
["Person 76",89,6,95]
["Person 77",90,6,96]
["Person 78",87,9,96]
["Person 79",88,7,95]
["Person 80",93,2,95]
["Person 81",89,5,94]
["Person 82",87,14,101]
["Person 83",91,11,102]
["Person 84",88,10,98]
["Person 85",80,13,93]
["Person 86",90,4,94]
["Person 87",91,6,97]
["Person 88",92,8,100]
["Person 89",94,5,99]
["Person 90",91,14,105]
["Person 91",91,19,110]
["Person 92",91,2,93]
["Person 93",93,7,100]
["Person 94",92,3,95]
["Person 95",91,8,99]
["Person 96",91,7,98]
["Person 97",89,1,90]
["Person 98",89,5,94]
["Person 99",90,5,95]
["Person 100",91,3,94]
["Person 101",91,2,93]
["Person 102",38,17,{"$f":"B104+C104","v":55}]
["Person 103",43,12,{"$f":"B105+C105","v":55}]
["Person 104",38,5,43]
["Person 105",36,6,42]
["Person 106",53,6,59]
["Person 107",33,25,58]
["Person 108",36,16,52]
["Person 109",36,15,51]
["Person 110",34,16,50]
["Person 111",33,15,48]
["Person 112",36,11,47]
["Person 113",30,7,37]
["Person 114",36,4,40]
["Person 115",36,9,45]
["Person 116",43,4,47]
["Person 117",55,4,59]
["Person 118",52,5,57]
["Person 119",52,1,53]
["Person 120",52,1,53]
["Person 121",37,40,{"$f":"B123+C123","v":77}]
["Person 122",25,22,{"$f":"B124+C124","v":47}]
["Person 123",32,16,48]
["Person 124",29,19,48]
["Person 125",29,21,50]
["Person 126",30,13,43]
["Person 127",27,16,43]
["Person 128",26,13,39]
["Person 129",26,15,41]
["Person 130",27,17,44]
["Person 131",25,20,45]
["Person 132",29,22,51]
["Person 133",27,24,51]
["Person 134",30,14,44]
["Person 135",26,16,42]
["Person 136",34,8,42]
["Person 137",33,14,47]
["Person 138",31,23,54]
["Person 139",27,27,54]
["Person 140",27,33,60]
["Person 141",48,18,66]
["Person 142",44,11,55]
["Person 143",35,20,55]
["Person 144",32,16,48]
["Person 145",22,10,32]
["Person 146",21,9,30]
["Person 147",30,22,52]
["Person 148",30,22,52]
["Person 149",20,6,26]
["Person 150",22,5,27]
["Person 151",26,13,39]
["Person 152",25,13,38]
["Person 153",24,12,36]
["Person 154",30,17,47]
["Person 155",26,24,50]
["Person 156",25,17,42]
["Person 157",36,13,49]
["Person 158",14,42,56]
["Person 159",26,30,56]
["Person 160",31,11,42]
["Person 161",29,12,41]
["Person 162",29,12,41]
["Person 163",30,20,50]
["Person 164",25,7,32]
["Person 165",24,7,31]
["Person 166",22,4,26]
["Person 167",24,2,26]
["Person 168",19,7,26]
["Person 169",21,5,26]
["Person 170",29,17,46]
["Person 171",28,18,46]
["Person 172",30,16,46]
["Person 173",29,29,58]
["Person 174",29,29,58]
["Person 175",24,14,38]
["Person 176",24,15,39]
["Person 177",22,15,37]
["Person 178",22,22,44]
["Person 179",27,24,51]
["Person 180",25,16,41]
["Person 181",24,16,40]
["Person 182",21,19,40]
["Person 183",22,27,49]
["Person 184",21,9,30]
["Person 185",26,21,47]
["Person 186",35,7,{"$f":"B188+C188","v":42}]
["Person 187",25,17,42]
["Person 188",28,16,44]
["Person 189",25,19,44]
["Person 190"]
["Person 191"]
["Person 192",52,14,66]
["Person 193",29,35,64]
["Person 194",25,23,48]
["Person 195",25,23,48]
["Person 196",22,10,32]
["Person 197",25,22,47]
["Person 198",26,18,44]
["Person 199",22,10,32]
["Person 200",23,19,42]
["Person 201",23,25,48]
["Person 202",24,23,47]
["Person 203",26,27,53]
["Person 204",24,29,53]
["Person 205",31,12,43]
["Person 206",24,23,47]
["Person 207",34,13,47]
["Person 208",34,13,47]
["Person 209",30,20,50]
["Person 210",24,38,62]
["Person 211",20,9,29]
["Person 212",22,7,29]
["Person 213",17,10,27]
["Person 214",23,6,29]
["Person 215",18,13,31]
["Person 216",22,9,31]
["Person 217",14,9,23]
["Person 218",14,9,23]
["Person 219",30,33,63]
["Person 220",30,37,67]
["Person 221"]
["Person 222"]
["Person 223"]
["Person 224"]
["Person 225"]
["Person 226",20,8,28]
["Person 227",16,11,27]
["Person 228",16,12,28]
["Person 229",18,10,28]
["Person 230",20,11,31]
["Person 231",23,12,35]
["Person 232",23,13,36]
["Person 233",22,21,43]
["Person 234",22,19,41]
["Person 235",29,20,49]
["Person 236",28,25,53]
["Person 237",27,23,50]
["Person 238",27,24,51]
["Person 239",28,20,48]
["Person 240",28,20,48]
["Person 241",17,11,28]
["Person 242",22,6,28]
["Person 243",23,27,50]
["Person 244",26,16,42]
["Person 245",26,16,42]
["Person 246",22,26,48]
["Person 247",21,29,50]
["Person 248",23,26,49]
["Person 249",25,24,49]
["Person 250",34,13,{"$f":"B252+C252","v":47}]
["Person 251",34,10,44]
["Person 252",34,18,52]
["Person 253",23,29,52]
["Person 254",35,17,52]
["Person 255",41,15,56]
["Person 256",16,16,{"$f":"B258+C258","v":32}]
["Person 257",20,12,{"$f":"B259+C259","v":32}]
["Person 258",20,12,32]
["Person 259",20,13,33]
["Person 260",19,12,31]
["Person 261",17,12,29]
["Person 262",18,10,28]
["Person 263",33,9,42]
["Person 264",42,6,48]
["Person 265",16,5,21]
["Person 266",15,5,20]
["Person 267",16,4,20]
["Person 268",18,2,20]
["Person 269",18,2,20]
["Person 270",20,9,29]
["Person 271",21,9,30]
["Person 272",25,6,31]
["Person 273",23,10,33]
["Person 274",22,10,32]
["Person 275",21,11,32]
["Person 276",21,10,31]
["Person 277",15,12,27]
["Person 278",19,10,29]
["Person 279",20,7,27]
["Person 280",18,9,27]
["Person 281",20,5,25]
["Person 282",21,2,23]
["Person 283",17,5,22]
["Person 284",16,6,22]
["Person 285",19,8,27]
["Person 286",16,8,24]
["Person 287",20,14,34]
["Person 288",16,10,26]
["Person 289",18,12,30]
["Person 290",17,11,28]
["Person 291",19,11,30]
["Person 292",19,16,35]
["Person 293",19,15,34]
["Person 294",15,15,30]
["Person 295",19,14,33]
["Person 296",18,9,27]
["Person 297",20,12,32]
["Person 298",19,8,27]
["Person 299",18,5,23]
["Person 300",19,7,26]
["Person 301",17,7,24]
["Person 302",23,7,30]
["Person 303",22,10,32]
["Person 304",21,10,31]
["Person 305",22,7,29]
["Person 306",22,7,29]
["Person 307",20,12,32]
["Person 308",19,14,33]
["Person 309",19,13,32]
["Person 310",22,7,29]
["Person 311",19,4,23]
["Person 312",19,4,23]
["Person 313",14,4,18]
["Person 314",14,3,17]
["Person 315",18,12,30]
["Person 316",20,9,29]
["Person 317",18,40,58]
["Person 318",22,40,62]
["Person 319",22,30,52]
["Person 320",27,14,41]
["Person 321",27,12,{"$f":"B323+C323","v":39}]
["Person 322",27,13,40]
["Person 323",28,15,43]
["Person 324",28,15,43]
["Person 325",18,5,23]
["Person 326",18,4,22]
["Person 327",17,5,22]
["Person 328",17,6,23]
["Person 329",27,34,61]
["Person 330",36,26,62]
["Person 331",22,9,31]
["Person 332",22,7,29]
["Person 333",21,6,27]
["Person 334",22,12,34]
["Person 335",24,14,38]
["Person 336",19,25,44]
["Person 337",19,21,40]
["Person 338",22,11,33]
["Person 339",26,10,36]
["Person 340",20,8,28]
["Person 341",22,9,31]
["Person 342",22,10,32]
["Person 343",24,10,34]
["Person 344",27,16,43]
["Person 345",32,11,43]
["Person 346",21,30,51]
["Person 347",30,21,51]
["Person 348",30,20,50]
["Person 349",30,20,50]
["Person 350",29,21,50]
["Person 351",18,11,29]
["Person 352",18,13,31]
["Person 353",20,13,33]
["Person 354",26,7,33]
["Person 355",15,8,23]
["Person 356",15,7,22]
["Person 357",14,15,29]
["Person 358",22,22,44]
["Person 359",22,16,38]
["Person 360",19,16,35]
["Person 361",26,9,35]
["Person 362",30,12,42]
["Person 363",30,10,40]
["Person 364",27,13,40]
["Person 365",21,19,40]
["Person 366",15,9,24]
["Person 367",17,8,25]
["Person 368",17,6,23]
["Person 369",15,17,32]
["Person 370",20,7,27]
["Person 371",21,8,29]
["Person 372",21,12,33]
["Person 373",21,16,37]
["Person 374",20,17,37]
["Person 375",22,21,43]
["Person 376",21,19,40]
["Person 377",16,22,38]
["Person 378",16,21,37]
["Person 379",20,7,27]
["Person 380",21,6,27]
["Person 381",18,9,27]
["Person 382",19,9,28]
["Person 383",18,10,28]
["Person 384",15,13,28]
["Person 385",36,10,{"$f":"B387+C387","v":46}]
["Person 386",27,13,{"$f":"B388+C388","v":40}]
["Person 387",27,13,40]
["Person 388",27,11,38]
["Person 389",33,16,49]
["Person 390",29,16,45]
["Person 391",35,11,46]
["Person 392",34,37,71]
["Person 393",53,18,71]
["Person 394",28,9,37]
["Person 395",29,10,39]
["Person 396",59,20,79]
["Person 397",50,16,66]
["Person 398",24,15,39]
["Person 399",37,7,44]
["Person 400",25,19,44]
["Person 401",20,23,43]
["Person 402",28,17,45]
["Person 403",26,19,45]
["Person 404",46,24,70]
["Person 405",38,32,70]
["Person 406",32,12,44]
["Person 407",33,12,45]
["Person 408",30,6,36]
["Person 409",28,10,38]
["Person 410",29,8,37]
["Person 411",30,9,39]
["Person 412",22,17,39]
["Person 413",22,16,38]
["Person 414",22,18,40]
["Person 415",22,15,37]
["Person 416",31,8,39]
["Person 417",42,9,51]
["Person 418",35,15,50]
["Person 419",40,14,54]
["Person 420",39,20,59]
["Person 421",37,19,56]
["Person 422",34,22,56]
["Person 423",33,16,49]
["Person 424",32,17,49]
["Person 425",27,5,32]
["Person 426",28,6,34]
["Person 427",25,14,39]
["Person 428",25,14,39]
["Person 429",24,33,57]
["Person 430",26,23,49]
["Person 431",26,23,49]
["Person 432",23,11,34]
["Person 433",22,16,38]
["Person 434",22,17,39]
["Person 435",29,10,39]
["Person 436",29,13,42]
["Person 437",28,10,38]
["Person 438",32,18,50]
["Person 439",37,13,50]
["Person 440",25,14,39]
["Person 441",31,8,39]
["Person 442",27,16,43]
["Person 443",26,13,39]
["Person 444",34,4,38]
["Person 445",24,14,38]
["Person 446",24,12,36]
["Person 447",42,17,59]
["Person 448",42,17,59]
["Person 449",62]
["Person 450",66]
["Person 451",46,35,{"$f":"B453+C453","v":81}]
["Person 452",46,35,{"$f":"B454+C454","v":81}]
["Person 453",28,25,53]
["Person 454",36,16,52]
["Person 455",37,18,55]
["Person 456",30,31,61]
["Person 457",16,18,34]
["Person 458",23,11,34]
["Person 459",22,11,33]
["Person 460",30,10,40]
["Person 461",30,10,40]
["Person 462",26,13,39]
["Person 463",24,15,39]
["Person 464",35,8,43]
["Person 465",35,8,43]
["Person 466",23,23,46]
["Person 467",34,12,46]
["Person 468",25,17,42]
["Person 469",32,9,41]
["Person 470",24,11,35]
["Person 471",25,12,37]
["Person 472",28,7,35]
["Person 473",27,8,35]
["Person 474",27,8,35]
["Person 475",25,11,36]
["Person 476",23,13,36]
["Person 477",23,15,38]
["Person 478",20,19,39]
["Person 479",30,32,62]
["Person 480",30,32,62]
["Person 481",26,23,49]
["Person 482",25,22,47]
["Person 483",29,25,54]
["Person 484",30,27,57]
["Person 485",49,13,62]
["Person 486",49,13,62]
["Person 487",24,14,38]
["Person 488",30,8,38]
["Person 489",34,8,42]
["Person 490",28,17,45]
["Person 491",28,18,46]
["Person 492",24,13,37]
["Person 493",25,15,40]
["Person 494",69,10,79]
["Person 495",45,25,70]
["Person 496",38,33,71]
["Person 497",34,25,59]
["Person 498",31,28,59]
["Person 499",29,26,55]
["Person 500",39,13,52]
["Person 501",37,15,52]
["Person 502",20,25,45]
["Person 503",20,46,66]
["Person 504",18,14,32]
["Person 505",19,11,30]
["Person 506",19,13,32]
["Person 507",25,7,32]
["Person 508",22,33,55]
["Person 509",28,27,55]
["Person 510",30,29,59]
["Person 511",41,18,59]
["Person 512",28,16,44]
["Person 513",28,16,44]
["Person 514",28,16,44]
["Person 515",31,11,42]
["Person 516",24,17,{"$f":"B518+C518","v":41}]
["Person 517",21,32,53]
["Person 518",29,9,38]
["Person 519",25,12,37]
["Person 520",23,8,31]
["Person 521",20,12,32]
["Person 522",20,12,32]
["Person 523",24,26,50]
["Person 524",22,26,48]
["Person 525",20,20,40]
["Person 526",23,40,63]
["Person 527",53,4,57]
["Person 528",25,31,56]
["Person 529",19,10,29]
["Person 530",19,12,31]
["Person 531",19,12,31]
["Person 532",19,12,31]
["Person 533",22,13,35]
["Person 534",21,16,37]
["Person 535",23,14,37]
["Person 536",27,15,42]
["Person 537",27,25,52]
["Person 538",27,22,49]
["Person 539",28,19,47]
["Person 540",43,6,49]
["Person 541",27,18,45]
["Person 542",26,19,45]
["Person 543",28,17,45]
["Person 544",28,17,45]
["Person 545",26,8,34]
["Person 546",28,6,34]
["Person 547",21,20,41]
["Person 548",35,9,44]
["Person 549",41,6,47]
["Person 550",25,13,38]
["Person 551",32,17,49]
["Person 552",25,22,47]
["Person 553",24,23,47]
["Person 554",23,23,46]
["Person 555",22,16,38]
["Person 556",30,14,44]
["Person 557",20,17,37]
["Person 558",30,7,37]
["Person 559",28,11,39]
["Person 560",30,13,43]
["Person 561",23,13,36]
["Person 562",23,11,34]
["Person 563",22,15,37]
["Person 564",25,13,38]
["Person 565",25,36,61]
["Person 566",30,31,61]
["Person 567",31,23,54]
["Person 568",25,27,52]
["Person 569",29,20,49]
["Person 570",26,21,47]
["Person 571",26,20,46]
["Person 572",28,12,40]
["Person 573",28,12,40]
["Person 574",27,17,44]
["Person 575",26,16,42]
["Person 576",22,7,29]
["Person 577",25,6,31]
["Person 578",25,5,30]
["Person 579",21,8,29]
["Person 580",21,8,{"$f":"B582+C582","v":29}]
["Person 581",21,10,31]
["Person 582",22,11,33]
["Person 583",24,13,37]
["Person 584",24,12,36]
["Person 585",26,17,43]
["Person 586",26,17,43]
["Person 587",33,11,44]
["Person 588",29,15,44]
["Person 589",29,8,37]
["Person 590",27,10,37]
["Person 591",26,6,32]
["Person 592",27,4,31]
["Person 593",22,7,29]
["Person 594",26,13,39]
["Person 595",23,18,41]
["Person 596",21,20,41]
["Person 597",22,18,40]
["Person 598",24,17,41]
["Person 599",25,16,41]
["Person 600",28,7,35]
["Person 601",21,13,34]
["Person 602",22,9,31]
["Person 603",21,11,32]
["Person 604",23,7,30]
["Person 605",27,4,31]
["Person 606",21,5,26]
["Person 607",21,5,26]
["Person 608",21,7,28]
["Person 609",22,7,29]
["Person 610",21,7,28]
["Person 611",25,20,45]
["Person 612",26,20,46]
["Person 613",24,13,37]
["Person 614",23,14,37]
["Person 615",22,16,38]
["Person 616",25,29,54]
["Person 617",29,25,54]
["Person 618",31,21,52]
["Person 619",22,18,40]
["Person 620",26,22,48]
["Person 621",26,26,52]
["Person 622",26,26,52]
["Person 623",25,27,52]
["Person 624",35,17,52]
["Person 625",26,21,47]
["Person 626",21,23,44]
["Person 627",24,16,40]
["Person 628",27,12,39]
["Person 629",25,50,75]
["Person 630",24,43,{"$f":"B632+C632","v":67}]
["Person 631",34,17,{"$f":"B633+C633","v":51}]
["Person 632",19,31,{"$f":"B634+C634","v":50}]
["Person 633",19,31,50]
["Person 634",33,7,40]
["Person 635",22,12,34]
["Person 636",27,10,37]
["Person 637",22,13,35]
["Person 638",22,9,31]
["Person 639",19,11,30]
["Person 640",23,20,43]
["Person 641",19,22,41]
["Person 642",24,14,38]
["Person 643",23,15,38]
["Person 644",22,18,40]
["Person 645",25,16,41]
["Person 646",29,18,47]
["Person 647",31,16,47]
["Person 648",38,10,48]
["Person 649",30,11,41]
["Person 650",21,14,35]
["Person 651",21,14,35]
["Person 652",27,18,45]
["Person 653",21,24,45]
["Person 654",27,17,44]
["Person 655",30,14,44]
["Person 656",28,7,35]
["Person 657",28,9,37]
["Person 658",31,8,39]
["Person 659",30,6,36]
["Person 660",26,13,39]
["Person 661",22,15,37]
["Person 662",22,14,36]
["Person 663",23,10,33]
["Person 664",23,12,35]
["Person 665",22,19,41]
["Person 666",25,17,42]
["Person 667",21,13,34]
["Person 668",21,11,32]
["Person 669",20,15,35]
["Person 670",23,12,35]
["Person 671",20,13,33]
["Person 672",31,7,38]
["Person 673",30,15,45]
["Person 674",29,23,52]
["Person 675",22,29,51]
["Person 676",24,34,58]
["Person 677",32,22,54]
["Person 678",40,8,48]
["Person 679",33,13,46]
["Person 680",30,14,44]
["Person 681",23,27,50]
["Person 682",23,27,50]
["Person 683",23,18,41]
["Person 684",22,26,48]
["Person 685",23,22,45]
["Person 686",22,16,38]
["Person 687",22,11,33]
["Person 688",27,7,34]
["Person 689",24,14,38]
["Person 690",22,8,30]
["Person 691",21,9,30]
["Person 692",25,6,31]
["Person 693",20,11,31]
["Person 694",25,8,33]
["Person 695",26,6,32]
["Person 696",20,19,{"$f":"B698+C698","v":39}]
["Person 697",19,20,39]
["Person 698",21,18,39]
["Person 699",20,18,38]
["Person 700",20,15,35]
["Person 701",19,16,35]
["Person 702",24,10,34]
["Person 703",24,9,33]
["Person 704",28,7,35]
["Person 705",27,10,37]
["Person 706",29,2,31]
["Person 707",28,21,49]
["Person 708",32,18,50]
["Person 709",30,8,38]
["Person 710",30,8,38]
["Person 711",25,11,36]
["Person 712",24,14,38]
["Person 713",20,14,34]
["Person 714",22,11,33]
["Person 715",27,7,34]
["Person 716",28,5,33]
["Person 717",30,1,31]
["Person 718",23,6,29]
["Person 719",21,5,26]
["Person 720",18,7,25]
["Person 721",26,11,37]
["Person 722",29,18,47]
["Person 723",28,18,46]
["Person 724",30,17,47]
["Person 725",24,15,39]
["Person 726",31,18,49]
["Person 727",22,28,50]
["Person 728",21,25,46]
["Person 729",36,10,46]
["Person 730",25,14,39]
["Person 731",30,10,40]
["Person 732",24,20,44]
["Person 733",23,20,43]
["Person 734",19,15,34]
["Person 735",18,16,34]
["Person 736",25,11,36]
["Person 737",27,8,35]
["Person 738",26,11,37]
["Person 739",31,8,39]
["Person 740",27,12,39]
["Person 741",28,10,38]
["Person 742",26,23,49]
["Person 743",27,22,49]
["Person 744",22,18,40]
["Person 745",16,29,45]
["Person 746",21,20,41]
["Person 747",26,20,46]
["Person 748",30,15,45]
["Person 749",25,11,36]
["Person 750",25,11,36]
["Person 751",26,8,34]
["Person 752",25,9,34]
["Person 753",22,10,32]
["Person 754",24,12,36]
["Person 755",25,15,40]
["Person 756",26,16,42]
["Person 757",26,14,40]
["Person 758",24,15,39]
["Person 759",27,13,40]
["Person 760",28,16,{"$f":"B762+C762","v":44}]
["Person 761",24,9,33]
["Person 762",20,16,36]
["Person 763",22,15,37]
["Person 764",21,15,36]
["Person 765",19,20,39]
["Person 766",21,21,{"$f":"B768+C768","v":42}]
["Person 767",26,16,{"$f":"B769+C769","v":42}]
["Person 768",20,18,38]
["Person 769",23,16,39]
["Person 770",28,15,43]
["Person 771",30,15,45]
["Person 772",30,24,54]
["Person 773",28,26,54]
["Person 774",30,10,40]
["Person 775",33,7,40]
["Person 776",26,6,32]
["Person 777",27,11,38]
["Person 778",38,7,45]
["Person 779",36,8,44]
["Person 780",28,12,40]
["Person 781",23,12,35]
["Person 782",26,9,35]
["Person 783",23,11,34]
["Person 784",23,11,34]
["Person 785",24,14,38]
["Person 786",22,19,41]
["Person 787",31,10,41]
["Person 788",37,17,54]
["Person 789",37,19,56]
["Person 790",25,14,39]
["Person 791",26,11,37]
["Person 792",30,7,37]
["Person 793",27,7,34]
["Person 794",27,6,33]
["Person 795",28,5,33]
["Person 796",27,13,40]
["Person 797",29,20,49]
["Person 798",29,21,50]
["Person 799",28,15,43]
["Person 800",28,17,45]
["Person 801",29,24,53]
["Person 802",29,19,48]
["Person 803",28,20,48]
["Person 804",26,19,45]
["Person 805",35,9,44]
["Person 806",22,21,43]
["Person 807",25,8,33]
["Person 808",25,8,33]
["Person 809",20,8,28]
["Person 810",19,10,29]
["Person 811",22,5,27]
["Person 812",36,8,44]
["Person 813",31,13,44]
["Person 814",29,17,46]
["Person 815",29,16,45]
["Person 816",28,16,44]
["Person 817",30,14,44]
["Person 818",35,9,44]
["Person 819",35,9,44]
["Person 820",20,9,29]
["Person 821",20,9,29]
["Person 822",20,8,28]
["Person 823",26,6,32]
["Person 824",21,9,30]
["Person 825",21,7,28]
["Person 826",26,7,33]
["Person 827",24,9,33]
["Person 828",22,10,32]
["Person 829",23,11,34]
["Person 830",22,13,35]
["Person 831",22,13,{"$f":"B833+C833","v":35}]
["Person 832",30,18,48]
["Person 833",23,23,46]
["Person 834",24,12,36]
["Person 835",25,11,36]
["Person 836",25,12,37]
["Person 837",21,14,35]
["Person 838",29,12,41]
["Person 839",29,15,44]
["Person 840",27,17,44]
["Person 841",22,10,32]
["Person 842",22,13,35]
["Person 843",23,11,34]
["Person 844",21,16,37]
["Person 845",20,19,39]
["Person 846",29,11,40]
["Person 847",28,12,40]
["Person 848",48,27,75]
["Person 849",48,27,75]
["Person 850",61,14,75]
["Person 851",55,20,75]
["Person 852",44,12,56]
["Person 853",25,24,49]
["Person 854",31,9,40]
["Person 855",18,17,35]
["Person 856",23,13,36]
["Person 857",28,11,39]
["Person 858",31,11,42]
["Person 859",26,14,40]
["Person 860",23,14,37]
["Person 861",24,17,41]
["Person 862",17,21,38]
["Person 863",20,36,56]
["Person 864",27,29,56]
["Person 865",29,31,60]
["Person 866",35,25,60]
["Person 867",19,28,47]
["Person 868",28,20,48]
["Person 869",21,9,30]
["Person 870",30,2,32]
["Person 871",22,13,35]
["Person 872",28,6,34]
["Person 873",28,6,34]
["Person 874",23,16,39]
["Person 875",26,12,38]
["Person 876",24,14,38]
["Person 877",26,14,40]
["Person 878",31,12,43]
["Person 879",29,13,42]
["Person 880",28,24,52]
["Person 881",33,19,52]
["Person 882",22,19,41]
["Person 883",21,16,37]
["Person 884",27,7,34]
["Person 885",25,12,37]
["Person 886",24,7,31]
["Person 887",23,12,35]
["Person 888",24,11,35]
["Person 889",28,9,37]
["Person 890",28,20,48]
["Person 891",24,28,52]
["Person 892",21,21,42]
["Person 893",18,24,42]
["Person 894",21,19,40]
["Person 895",20,16,{"$f":"B897+C897","v":36}]
["Person 896",21,13,34]
["Person 897",28,3,31]
["Person 898",26,6,32]
["Person 899",18,12,30]
["Person 900",18,9,27]

{"sheet":"Cinema, siren","index":1,"n_rows":94,"n_cols":4,"rows_kept":94,"cut":false,"hidden":false,"merged":[[0,0,0,3]]}
["Cinema - Siren"]
["Individual","Recognition","Response","Total pre-movement time"]
["Person 1",16,8,24]
["Person 2",18,17,35]
["Person 3",16,8,24]
["Person 4",18,6,24]
["Person 5",25,16,41]
["Person 6",18,10,28]
["Person 7",15,4,19]
["Person 8",14,4,18]
["Person 9",15,3,18]
["Person 10",14,7,21]
["Person 11",16,9,25]
["Person 12",18,9,27]
["Person 13",17,10,27]
["Person 14",14,16,30]
["Person 15",16,18,34]
["Person 16",20,14,34]
["Person 17",19,8,27]
["Person 18",20,5,25]
["Person 19",12,10,22]
["Person 20",19,7,26]
["Person 21",16,9,25]
["Person 22",14,11,25]
["Person 23",11,14,25]
["Person 24",12,7,19]
["Person 25",12,7,19]
["Person 26",10,9,19]
["Person 27",14,5,19]
["Person 28",14,6,20]
["Person 29",15,6,21]
["Person 30",14,10,24]
["Person 31",11,14,25]
["Person 32",16,9,25]
["Person 33",8,14,22]
["Person 34",13,9,22]
["Person 35",13,11,24]
["Person 36",14,11,25]
["Person 37",15,9,24]
["Person 38",14,19,33]
["Person 39",14,17,31]
["Person 40",20,9,29]
["Person 41",17,8,25]
["Person 42",20,5,25]
["Person 43",16,15,31]
["Person 44",15,19,34]
["Person 45",15,13,28]
["Person 46",14,6,20]
["Person 47",14,4,18]
["Person 48",12,9,21]
["Person 49",13,9,22]
["Person 50",17,5,22]
["Person 51",14,10,24]
["Person 52",17,7,24]
["Person 53",17,3,20]
["Person 54",16,4,20]
["Person 55",16,4,20]
["Person 56",17,4,21]
["Person 57",12,3,15]
["Person 58",15,2,17]
["Person 59",15,4,19]
["Person 60",13,5,18]
["Person 61",12,6,18]
["Person 62",10,10,20]
["Person 63",14,5,19]
["Person 64",15,4,19]
["Person 65",15,4,19]
["Person 66",14,4,18]
["Person 67",13,11,24]
["Person 68",16,7,23]
["Person 69",16,2,18]
["Person 70",16,9,25]
["Person 71",39,5,44]
["Person 72",38,6,44]
["Person 73",37,4,41]
["Person 74",35,5,40]
["Person 75",28,9,37]
["Person 76",17,9,26]
["Person 77",17,13,30]
["Person 78",20,10,30]
["Person 79",18,5,23]
["Person 80",32,4,36]
["Person 81",21,15,36]
["Person 82",10,4,14]
["Person 83",15,3,18]
["Person 84",15,3,18]
["Person 85",21,6,27]
["Person 86",20,6,26]
["Person 87",21,8,29]
["Person 88",20,5,25]
["Person 89",22,6,28]
["Person 90",177,2,{"$f":"B92+C92","v":179}]
["Person 91",177,1,{"$f":"B93+C93","v":178}]
["Person 92",177,1,{"$f":"B94+C94","v":178}]

{"sheet":"Cinema, alarm bell","index":2,"n_rows":889,"n_cols":4,"rows_kept":889,"cut":false,"hidden":false,"merged":[[0,0,0,3],[1,8,1,9]]}
["Cinema - Alarm bell"]
["Individual","Recognition","Response","Total pre-movement time"]
["Person 1",5,25,30]
["Person 2",5,15,20]
["Person 3",7,12,19]
["Person 4",5,17,22]
["Person 5",6,12,18]
["Person 6",5,14,19]
["Person 7",5,15,20]
["Person 8",6,15,21]
["Person 9",6,11,17]
["Person 10",6,12,18]
["Person 11",22,5,27]
["Person 12",11,16,27]
["Person 13",14,13,27]
["Person 14",10,17,27]
["Person 15",8,9,17]
["Person 16",9,10,19]
["Person 17",9,11,20]
["Person 18",23,2,25]
["Person 19",8,16,24]
["Person 20",8,15,23]
["Person 21",10,7,17]
["Person 22",11,6,17]
["Person 23",9,7,16]
["Person 24",7,9,16]
["Person 25",10,20,30]
["Person 26",24,4,28]
["Person 27",13,12,25]
["Person 28",12,12,24]
["Person 29",12,9,21]
["Person 30",11,11,22]
["Person 31",11,10,21]
["Person 32",10,10,20]
["Person 33",10,11,21]
["Person 34",9,10,19]
["Person 35",12,11,23]
["Person 36",14,11,25]
["Person 37",16,15,31]
["Person 38",16,15,31]
["Person 39",16,15,31]
["Person 40",14,12,26]
["Person 41",13,8,21]
["Person 42",13,7,20]
["Person 43",11,6,17]
["Person 44",11,6,17]
["Person 45",12,8,20]
["Person 46",11,7,18]
["Person 47",13,12,25]
["Person 48",11,14,25]
["Person 49",12,11,23]
["Person 50",10,17,27]
["Person 51",12,15,27]
["Person 52",29,2,31]
["Person 53",27,4,31]
["Person 54",14,16,30]
["Person 55",27,3,30]
["Person 56",10,11,21]
["Person 57",11,10,21]
["Person 58",10,9,19]
["Person 59",10,31,41]
["Person 60",11,37,48]
["Person 61",10,39,49]
["Person 62",10,16,26]
["Person 63",12,15,27]
["Person 64",12,14,26]
["Person 65",12,12,24]
["Person 66",21,4,25]
["Person 67",21,6,27]
["Person 68",13,15,28]
["Person 69",13,14,27]
["Person 70",12,8,20]
["Person 71",12,10,22]
["Person 72",13,10,23]
["Person 73",12,19,31]
["Person 74",13,9,22]
["Person 75",11,6,17]
["Person 76",11,6,17]
["Person 77",12,23,35]
["Person 78",15,20,35]
["Person 79",24,22,46]
["Person 80",12,32,44]
["Person 81",11,9,20]
["Person 82",11,9,20]
["Person 83",12,7,19]
["Person 84",16,6,22]
["Person 85",14,9,23]
["Person 86",13,10,23]
["Person 87",13,8,21]
["Person 88",16,7,23]
["Person 89",13,11,24]
["Person 90",12,10,22]
["Person 91",17,14,31]
["Person 92",15,19,34]
["Person 93",13,7,20]
["Person 94",13,7,20]
["Person 95",13,6,19]
["Person 96",13,8,21]
["Person 97",38,10,48]
["Person 98",24,14,38]
["Person 99",39,5,44]
["Person 100",18,19,37]
["Person 101",16,21,37]
["Person 102",16,13,29]
["Person 103",13,16,29]
["Person 104",13,18,31]
["Person 105",14,18,32]
["Person 106",16,16,32]
["Person 107",13,10,23]
["Person 108",14,8,22]
["Person 109",13,12,25]
["Person 110",38,5,43]
["Person 111",23,5,28]
["Person 112",22,5,27]
["Person 113",23,7,30]
["Person 114",31,2,33]
["Person 115",24,11,35]
["Person 116",24,10,34]
["Person 117",21,15,36]
["Person 118",20,17,37]
["Person 119",19,11,30]
["Person 120",23,9,32]
["Person 121",20,10,30]
["Person 122",19,8,27]
["Person 123",21,10,31]
["Person 124",22,9,31]
["Person 125",23,6,29]
["Person 126",22,5,27]
["Person 127",26,10,36]
["Person 128",28,11,39]
["Person 129",28,15,43]
["Person 130",30,15,45]
["Person 131",22,19,41]
["Person 132",39,3,42]
["Person 133",38,3,41]
["Person 134",38,3,41]
["Person 135",22,8,30]
["Person 136",21,8,29]
["Person 137",20,7,27]
["Person 138",21,6,27]
["Person 139",21,6,27]
["Person 140",22,5,27]
["Person 141"]
["Person 142",21,29,50]
["Person 143",20,19,39]
["Person 144",22,16,38]
["Person 145",24,14,38]
["Person 146",29,3,32]
["Person 147",22,10,32]
["Person 148",22,9,31]
["Person 149",23,9,32]
["Person 150",23,6,29]
["Person 151",20,7,27]
["Person 152",21,5,26]
["Person 153",18,6,24]
["Person 154",18,5,23]
["Person 155",22,15,37]
["Person 156",29,9,38]
["Person 157",26,11,37]
["Person 158",21,13,34]
["Person 159",20,16,36]
["Person 160",20,11,31]
["Person 161",22,13,35]
["Person 162",21,11,32]
["Person 163",22,9,31]
["Person 164",19,11,30]
["Person 165",18,8,26]
["Person 166",19,8,27]
["Person 167",17,8,25]
["Person 168",22,5,27]
["Person 169",20,10,30]
["Person 170",27,5,32]
["Person 171",24,6,30]
["Person 172",22,7,29]
["Person 173",24,6,30]
["Person 174",22,7,29]
["Person 175",23,5,28]
["Person 176",19,3,22]
["Person 177",19,3,22]
["Person 178",20,9,29]
["Person 179",21,12,33]
["Person 180",22,8,30]
["Person 181",20,12,32]
["Person 182",24,13,37]
["Person 183",27,10,37]
["Person 184",23,6,29]
["Person 185",23,4,27]
["Person 186",22,6,28]
["Person 187",22,7,29]
["Person 188",22,16,38]
["Person 189",23,16,39]
["Person 190",21,10,31]
["Person 191",23,8,31]
["Person 192",24,18,42]
["Person 193",24,17,41]
["Person 194",20,4,24]
["Person 195",21,3,24]
["Person 196",19,7,26]
["Person 197",22,4,26]
["Person 198",25,12,37]
["Person 199",28,5,33]
["Person 200",25,4,29]
["Person 201",25,34,59]
["Person 202",23,5,28]
["Person 203",21,37,58]
["Person 204",38,20,58]
["Person 205",40,18,58]
["Person 206",23,35,58]
["Person 207",19,10,29]
["Person 208",18,9,27]
["Person 209",19,8,27]
["Person 210",19,8,27]
["Person 211",27,8,35]
["Person 212",27,5,32]
["Person 213",29,4,33]
["Person 214",25,5,30]
["Person 215",23,3,26]
["Person 216",26,3,29]
["Person 217",24,3,27]
["Person 218",12,12,24]
["Person 219",12,11,23]
["Person 220",13,11,24]
["Person 221",14,12,26]
["Person 222",25,2,27]
["Person 223",24,2,26]
["Person 224",21,5,26]
["Person 225",21,5,26]
["Person 226",15,12,27]
["Person 227",20,9,29]
["Person 228",28,2,30]
["Person 229",30,2,32]
["Person 230",15,17,32]
["Person 231",14,15,29]
["Person 232",29,18,47]
["Person 233",26,18,44]
["Person 234",26,18,44]
["Person 235",22,19,41]
["Person 236",23,16,39]
["Person 237",22,6,28]
["Person 238",27,5,32]
["Person 239",25,7,32]
["Person 240",24,6,30]
["Person 241",14,14,28]
["Person 242",13,13,26]
["Person 243",15,15,30]
["Person 244",18,12,30]
["Person 245",14,16,30]
["Person 246",23,11,34]
["Person 247",23,10,33]
["Person 248",22,13,35]
["Person 249",25,5,30]
["Person 250",25,5,30]
["Person 251",25,5,30]
["Person 252",24,5,29]
["Person 253",24,5,29]
["Person 254",11,8,19]
["Person 255",19,7,26]
["Person 256",25,11,36]
["Person 257",26,12,38]
["Person 258",26,12,38]
["Person 259",20,20,40]
["Person 260",29,12,41]
["Person 261",22,21,43]
["Person 262",23,21,44]
["Person 263",27,18,45]
["Person 264",27,18,45]
["Person 265",25,21,46]
["Person 266",24,25,49]
["Person 267",25,17,42]
["Person 268",27,10,37]
["Person 269",26,13,39]
["Person 270",26,7,33]
["Person 271",24,13,37]
["Person 272",25,16,41]
["Person 273",26,14,40]
["Person 274",25,20,45]
["Person 275",25,20,45]
["Person 276",25,22,47]
["Person 277",25,22,47]
["Person 278",25,12,37]
["Person 279",25,12,37]
["Person 280",23,13,36]
["Person 281",24,11,35]
["Person 282",25,7,32]
["Person 283",25,7,32]
["Person 284",27,3,30]
["Person 285",16,19,35]
["Person 286",15,15,30]
["Person 287",23,11,34]
["Person 288",23,9,32]
["Person 289",19,22,41]
["Person 290",22,19,41]
["Person 291",11,24,35]
["Person 292",18,17,35]
["Person 293",26,15,41]
["Person 294",23,6,29]
["Person 295",24,8,32]
["Person 296",28,6,34]
["Person 297",26,4,30]
["Person 298",25,2,27]
["Person 299",13,11,24]
["Person 300",13,11,24]
["Person 301",23,7,30]
["Person 302",23,12,35]
["Person 303",22,10,32]
["Person 304",22,8,30]
["Person 305",22,9,31]
["Person 306",23,6,29]
["Person 307",25,5,30]
["Person 308",26,8,34]
["Person 309",25,7,32]
["Person 310",6,14,20]
["Person 311",23,4,27]
["Person 312",10,15,25]
["Person 313",10,14,24]
["Person 314",9,10,19]
["Person 315",5,13,18]
["Person 316",25,10,35]
["Person 317",38,12,50]
["Person 318",31,22,53]
["Person 319",26,20,46]
["Person 320",28,17,45]
["Person 321",24,20,44]
["Person 322",24,21,45]
["Person 323",24,9,33]
["Person 324",27,7,34]
["Person 325",13,17,30]
["Person 326",16,14,30]
["Person 327",8,19,27]
["Person 328",8,19,27]
["Person 329",20,7,27]
["Person 330",18,8,26]
["Person 331",38,7,45]
["Person 332",36,7,43]
["Person 333",23,15,38]
["Person 334",20,15,35]
["Person 335",25,14,39]
["Person 336",25,14,39]
["Person 337",40,6,46]
["Person 338",30,9,39]
["Person 339",28,12,40]
["Person 340",27,13,40]
["Person 341",30,10,40]
["Person 342",16,11,27]
["Person 343",19,18,37]
["Person 344",27,9,36]
["Person 345",27,10,37]
["Person 346",17,6,23]
["Person 347",18,5,23]
["Person 348",8,13,21]
["Person 349",16,5,21]
["Person 350",15,5,20]
["Person 351",15,9,24]
["Person 352",16,9,25]
["Person 353",16,14,30]
["Person 354",15,13,28]
["Person 355",24,8,32]
["Person 356",50,4,54]
["Person 357",50,4,54]
["Person 358",24,30,54]
["Person 359",24,30,54]
["Person 360",13,13,26]
["Person 361",17,9,26]
["Person 362",19,7,26]
["Person 363",8,14,22]
["Person 364",8,14,22]
["Person 365",22,4,26]
["Person 366",22,4,26]
["Person 367",25,8,33]
["Person 368",25,13,38]
["Person 369",12,23,35]
["Person 370",12,18,30]
["Person 371",12,22,34]
["Person 372",14,17,31]
["Person 373",25,14,39]
["Person 374",29,20,49]
["Person 375",15,13,28]
["Person 376",18,21,39]
["Person 377",19,18,37]
["Person 378",13,19,32]
["Person 379",15,20,35]
["Person 380",10,17,27]
["Person 381",12,20,32]
["Person 382",12,20,32]
["Person 383",10,21,31]
["Person 384",18,12,30]
["Person 385",12,20,32]
["Person 386",15,30,45]
["Person 387",30,12,42]
["Person 388",31,8,39]
["Person 389",33,6,39]
["Person 390",28,14,42]
["Person 391",14,18,32]
["Person 392",25,7,32]
["Person 393",14,11,25]
["Person 394",12,27,39]
["Person 395",18,19,37]
["Person 396",30,9,39]
["Person 397",26,18,44]
["Person 398",13,24,37]
["Person 399",28,14,42]
["Person 400",29,20,49]
["Person 401",28,8,36]
["Person 402",17,13,30]
["Person 403",16,24,40]
["Person 404",14,15,29]
["Person 405",14,19,33]
["Person 406",12,21,33]
["Person 407",28,21,49]
["Person 408",29,24,53]
["Person 409",29,22,51]
["Person 410",24,12,36]
["Person 411",23,16,39]
["Person 412",35,15,50]
["Person 413",22,25,47]
["Person 414",12,20,32]
["Person 415",10,20,30]
["Person 416",10,14,24]
["Person 417",15,10,25]
["Person 418",12,19,31]
["Person 419",12,19,31]
["Person 420",10,18,28]
["Person 421",13,20,33]
["Person 422",13,7,20]
["Person 423",15,11,26]
["Person 424",17,43,60]
["Person 425",20,40,60]
["Person 426",27,33,60]
["Person 427",38,22,60]
["Person 428",42,18,60]
["Person 429",11,39,50]
["Person 430",12,39,51]
["Person 431",12,13,25]
["Person 432",11,14,25]
["Person 433",17,18,35]
["Person 434",17,18,35]
["Person 435",6,21,27]
["Person 436",6,14,20]
["Person 437",5,12,17]
["Person 438",44,6,50]
["Person 439",43,8,51]
["Person 440",32,12,44]
["Person 441",8,34,42]
["Person 442",9,32,41]
["Person 443",6,34,40]
["Person 444",13,19,32]
["Person 445",7,26,33]
["Person 446",18,14,32]
["Person 447",18,14,32]
["Person 448",20,25,45]
["Person 449",16,29,45]
["Person 450",4,7,11]
["Person 451",9,2,11]
["Person 452",10,10,20]
["Person 453",17,7,24]
["Person 454",12,10,22]
["Person 455",12,4,16]
["Person 456",11,9,20]
["Person 457",13,10,23]
["Person 458",14,13,27]
["Person 459",9,20,29]
["Person 460",8,20,28]
["Person 461",8,16,24]
["Person 462",17,7,24]
["Person 463",18,14,32]
["Person 464",17,15,32]
["Person 465",7,14,21]
["Person 466",10,10,20]
["Person 467",14,8,22]
["Person 468",10,20,30]
["Person 469",10,26,36]
["Person 470",8,27,35]
["Person 471",13,9,22]
["Person 472",15,16,31]
["Person 473",15,16,31]
["Person 474",9,11,20]
["Person 475",7,13,20]
["Person 476",9,13,22]
["Person 477",15,26,41]
["Person 478",12,30,42]
["Person 479",15,26,41]
["Person 480",21,21,42]
["Person 481",17,14,31]
["Person 482",15,6,21]
["Person 483",18,13,31]
["Person 484",18,28,46]
["Person 485",16,27,43]
["Person 486",15,28,43]
["Person 487",18,25,43]
["Person 488",16,13,29]
["Person 489",21,7,28]
["Person 490",21,11,32]
["Person 491",11,12,23]
["Person 492",10,22,32]
["Person 493",11,17,28]
["Person 494",14,14,28]
["Person 495",17,17,34]
["Person 496",13,14,27]
["Person 497",13,14,27]
["Person 498",20,11,31]
["Person 499",13,18,31]
["Person 500",12,17,29]
["Person 501",19,11,30]
["Person 502",23,8,31]
["Person 503",16,16,32]
["Person 504",14,4,18]
["Person 505",8,8,16]
["Person 506",9,7,16]
["Person 507",9,6,15]
["Person 508",12,15,27]
["Person 509",13,15,28]
["Person 510",17,11,28]
["Person 511",15,13,28]
["Person 512",14,12,26]
["Person 513",20,4,24]
["Person 514",21,2,23]
["Person 515",15,6,21]
["Person 516",14,7,21]
["Person 517",16,5,21]
["Person 518",10,10,20]
["Person 519",9,15,24]
["Person 520",9,16,25]
["Person 521",11,9,20]
["Person 522",13,8,21]
["Person 523",16,9,25]
["Person 524",19,10,29]
["Person 525",14,16,30]
["Person 526",19,12,31]
["Person 527",10,18,28]
["Person 528",11,17,28]
["Person 529",14,10,24]
["Person 530",16,12,28]
["Person 531",21,5,26]
["Person 532",14,4,18]
["Person 533",13,4,17]
["Person 534",9,10,19]
["Person 535",14,7,21]
["Person 536",13,6,19]
["Person 537",13,11,24]
["Person 538",22,4,26]
["Person 539",15,15,30]
["Person 540",17,13,30]
["Person 541",16,18,34]
["Person 542",13,21,34]
["Person 543",9,13,22]
["Person 544",11,11,22]
["Person 545",15,5,20]
["Person 546",18,3,21]
["Person 547",16,7,23]
["Person 548",11,7,18]
["Person 549",12,8,20]
["Person 550",12,7,19]
["Person 551",11,9,20]
["Person 552",11,8,19]
["Person 553",12,9,21]
["Person 554",13,13,26]
["Person 555",14,10,24]
["Person 556",10,13,23]
["Person 557",16,14,30]
["Person 558",17,10,27]
["Person 559",17,10,27]
["Person 560",20,4,24]
["Person 561",18,6,24]
["Person 562",12,12,24]
["Person 563",13,5,18]
["Person 564",12,6,18]
["Person 565",12,5,17]
["Person 566",11,10,21]
["Person 567",11,14,25]
["Person 568",10,15,25]
["Person 569",12,17,29]
["Person 570",14,14,28]
["Person 571",18,10,28]
["Person 572",18,17,35]
["Person 573",20,14,34]
["Person 574",14,9,23]
["Person 575",16,9,25]
["Person 576",19,6,25]
["Person 577",16,9,25]
["Person 578",11,5,16]
["Person 579",11,3,14]
["Person 580",11,6,17]
["Person 581",12,6,18]
["Person 582",10,18,28]
["Person 583",13,15,28]
["Person 584",12,17,29]
["Person 585",11,18,29]
["Person 586",11,14,25]
["Person 587",14,20,34]
["Person 588",22,13,35]
["Person 589",21,11,32]
["Person 590",18,14,32]
["Person 591",12,25,37]
["Person 592",12,25,37]
["Person 593",7,9,16]
["Person 594",12,15,27]
["Person 595",10,18,28]
["Person 596",11,18,29]
["Person 597",14,16,30]
["Person 598",13,16,29]
["Person 599",13,14,27]
["Person 600",14,16,30]
["Person 601",15,18,33]
["Person 602",15,22,37]
["Person 603",11,23,34]
["Person 604",14,11,25]
["Person 605",16,10,26]
["Person 606",13,12,25]
["Person 607",13,17,30]
["Person 608",9,43,52]
["Person 609",15,37,52]
["Person 610",23,29,52]
["Person 611",10,2,12]
["Person 612",10,2,12]
["Person 613",22,27,49]
["Person 614",22,27,49]
["Person 615",21,29,50]
["Person 616",39,15,54]
["Person 617",21,32,53]
["Person 618",20,28,48]
["Person 619",13,10,23]
["Person 620",18,10,28]
["Person 621",15,8,23]
["Person 622",15,8,23]
["Person 623",12,9,21]
["Person 624",14,7,21]
["Person 625",18,26,44]
["Person 626",21,33,54]
["Person 627",15,11,26]
["Person 628",11,14,25]
["Person 629",13,20,33]
["Person 630",12,9,21]
["Person 631",13,10,23]
["Person 632",12,22,34]
["Person 633",16,28,44]
["Person 634",20,3,23]
["Person 635",14,9,23]
["Person 636",15,5,20]
["Person 637",7,4,11]
["Person 638",11,15,26]
["Person 639",12,14,26]
["Person 640",11,19,30]
["Person 641",12,9,21]
["Person 642",12,33,45]
["Person 643",28,22,50]
["Person 644",20,30,50]
["Person 645",12,11,23]
["Person 646",12,11,23]
["Person 647",16,6,22]
["Person 648",16,7,23]
["Person 649",17,4,21]
["Person 650",13,7,20]
["Person 651",13,7,20]
["Person 652",12,10,22]
["Person 653",11,8,19]
["Person 654",14,13,27]
["Person 655",16,10,26]
["Person 656",15,4,19]
["Person 657",23,4,27]
["Person 658",24,3,27]
["Person 659",25,21,46]
["Person 660",17,32,49]
["Person 661",20,29,49]
["Person 662",20,29,49]
["Person 663",20,11,31]
["Person 664",19,5,24]
["Person 665",13,7,20]
["Person 666",16,5,21]
["Person 667",10,19,29]
["Person 668",11,5,16]
["Person 669",12,5,17]
["Person 670",12,5,17]
["Person 671",13,9,22]
["Person 672",11,11,22]
["Person 673",10,9,19]
["Person 674",9,12,21]
["Person 675",16,8,24]
["Person 676",11,15,26]
["Person 677",12,13,25]
["Person 678",11,13,24]
["Person 679",12,14,26]
["Person 680",19,10,29]
["Person 681",20,12,32]
["Person 682",23,12,35]
["Person 683",11,4,15]
["Person 684",6,6,12]
["Person 685",11,3,14]
["Person 686",7,7,14]
["Person 687",6,10,16]
["Person 688",8,11,19]
["Person 689",9,10,19]
["Person 690",12,5,17]
["Person 691",19,2,21]
["Person 692",20,12,32]
["Person 693",17,14,31]
["Person 694",17,15,32]
["Person 695",18,15,33]
["Person 696",16,17,33]
["Person 697",24,13,37]
["Person 698",10,3,13]
["Person 699",11,4,15]
["Person 700",13,3,16]
["Person 701",16,6,22]
["Person 702",16,7,23]
["Person 703",22,7,29]
["Person 704",15,16,31]
["Person 705",17,10,27]
["Person 706",10,25,35]
["Person 707",11,37,48]
["Person 708",20,30,50]
["Person 709",18,21,39]
["Person 710",16,15,31]
["Person 711",16,11,27]
["Person 712",21,6,27]
["Person 713",10,7,17]
["Person 714",10,7,17]
["Person 715",10,6,16]
["Person 716",10,6,16]
["Person 717",13,8,21]
["Person 718",15,6,21]
["Person 719",15,16,31]
["Person 720",21,8,29]
["Person 721",22,20,42]
["Person 722",19,29,48]
["Person 723",19,31,50]
["Person 724",24,11,35]
["Person 725",14,10,24]
["Person 726",16,7,23]
["Person 727",16,7,23]
["Person 728",20,29,49]
["Person 729",17,25,42]
["Person 730",16,29,45]
["Person 731",15,10,25]
["Person 732",13,13,26]
["Person 733",14,13,27]
["Person 734",13,18,31]
["Person 735",13,18,31]
["Person 736",13,28,41]
["Person 737",25,16,41]
["Person 738",13,23,36]
["Person 739",18,17,35]
["Person 740",15,10,25]
["Person 741",15,19,34]
["Person 742",13,20,33]
["Person 743",14,30,44]
["Person 744",21,26,47]
["Person 745",14,6,20]
["Person 746",18,17,35]
["Person 747",19,5,24]
["Person 748",14,5,19]
["Person 749",18,37,55]
["Person 750",13,42,55]
["Person 751",13,39,52]
["Person 752",12,31,43]
["Person 753",13,30,43]
["Person 754",34,26,60]
["Person 755",25,35,60]
["Person 756",11,16,27]
["Person 757",13,11,24]
["Person 758",14,8,22]
["Person 759",14,8,22]
["Person 760",18,10,28]
["Person 761",18,10,28]
["Person 762",12,8,20]
["Person 763",7,12,19]
["Person 764",14,42,56]
["Person 765",14,17,31]
["Person 766",15,42,57]
["Person 767",13,18,31]
["Person 768",14,12,26]
["Person 769",15,12,27]
["Person 770",15,16,31]
["Person 771",17,27,44]
["Person 772",13,22,35]
["Person 773",16,9,25]
["Person 774",14,29,43]
["Person 775",14,35,49]
["Person 776",16,30,46]
["Person 777",11,21,32]
["Person 778",12,15,27]
["Person 779",12,13,25]
["Person 780",10,11,21]
["Person 781",9,12,21]
["Person 782",9,13,22]
["Person 783",10,9,19]
["Person 784",11,7,18]
["Person 785",17,5,22]
["Person 786",11,26,37]
["Person 787",11,26,37]
["Person 788",11,29,40]
["Person 789",14,26,40]
["Person 790",12,20,32]
["Person 791",16,16,32]
["Person 792",13,37,50]
["Person 793",13,15,28]
["Person 794",15,9,24]
["Person 795",12,12,24]
["Person 796",19,7,26]
["Person 797",17,3,20]
["Person 798",13,7,20]
["Person 799",12,6,18]
["Person 800",12,7,19]
["Person 801",13,6,19]
["Person 802",14,7,21]
["Person 803",13,6,19]
["Person 804",12,6,18]
["Person 805",13,21,34]
["Person 806",12,20,32]
["Person 807",16,11,27]
["Person 808",12,16,28]
["Person 809",12,12,24]
["Person 810",13,10,23]
["Person 811",15,6,21]
["Person 812",14,3,17]
["Person 813",13,3,16]
["Person 814",11,3,14]
["Person 815",11,3,14]
["Person 816",10,4,14]
["Person 817",14,50,64]
["Person 818",13,9,22]
["Person 819",14,50,64]
["Person 820",21,45,66]
["Person 821",15,50,65]
["Person 822",15,9,24]
["Person 823",15,9,24]
["Person 824",15,24,39]
["Person 825",19,38,57]
["Person 826",13,9,22]
["Person 827",13,9,22]
["Person 828",14,6,20]
["Person 829",11,12,23]
["Person 830",12,13,25]
["Person 831",12,14,26]
["Person 832",22,25,47]
["Person 833",11,24,35]
["Person 834",11,20,31]
["Person 835",11,29,40]
["Person 836",12,29,41]
["Person 837",19,18,37]
["Person 838",16,21,37]
["Person 839",14,23,37]
["Person 840",13,17,30]
["Person 841",14,7,21]
["Person 842",13,9,22]
["Person 843",14,12,26]
["Person 844",13,14,27]
["Person 845",15,4,19]
["Person 846",13,6,19]
["Person 847",16,17,33]
["Person 848",20,13,33]
["Person 849",19,29,48]
["Person 850",19,34,53]
["Person 851",13,40,53]
["Person 852",22,19,41]
["Person 853",15,22,37]
["Person 854",24,27,51]
["Person 855",28,21,49]
["Person 856",13,20,33]
["Person 857",13,16,29]
["Person 858",14,10,24]
["Person 859",12,11,23]
["Person 860",13,12,25]
["Person 861"]
["Person 862",209,4,{"$f":"B864+C864","v":213}]
["Person 863",65,10,75]
["Person 864",63,12,75]
["Person 865",61,8,69]
["Person 866",63,6,69]
["Person 867",62,8,70]
["Person 868",65,6,71]
["Person 869",158,3,161]
["Person 870",158,5,163]
["Person 871",50,1,51]
["Person 872",124,4,128]
["Person 873",46,1,47]
["Person 874",50,3,53]
["Person 875",195,29,224]
["Person 876",58,6,64]
["Person 877",48,1,49]
["Person 878",149,5,154]
["Person 879",151,2,153]
["Person 880"]
["Person 881"]
["Person 882"]
["Person 883"]
["Person 884",90,35,{"$f":"B886+C886","v":125}]
["Person 885",113,3,{"$f":"B887+C887","v":116}]
["Person 886",82,2,84]
[null,{"$f":"MAX(B3:B888)","v":209},null,{"$f":"MAX(D3:D888)","v":224}]

{"sheet":"School","index":3,"n_rows":74,"n_cols":4,"rows_kept":74,"cut":false,"hidden":false,"merged":[[0,0,0,3],[1,9,1,10]]}
["School - Alarm bell"]
["Individual","Recognition","Response","Total pre-movement time"]
["Person 1",3,35,{"$f":"B3+C3","v":38}]
["Person 2",6,30,{"$f":"B4+C4","v":36}]
["Person 3",10,25,35]
["Person 4",5,17,22]
["Person 5",5,23,28]
["Person 6",2,34,36]
["Person 7",3,34,37]
["Person 8",5,28,33]
["Person 9",4,45,49]
["Person 10",2,26,28]
["Person 11",3,31,34]
["Person 12",8,25,33]
["Person 13",6,7,13]
["Person 14",8,36,44]
["Person 15",9,38,47]
["Person 16",8,42,50]
["Person 17",7,35,42]
["Person 18",19,1,{"$f":"B20+C20","v":20}]
["Person 19",22,16,{"$f":"B21+C21","v":38}]
["Person 20",19,12,31]
["Person 21",25,1,26]
["Person 22",26,1,27]
["Person 23",22,1,23]
["Person 24",38,87,{"$f":"B26+C26","v":125}]
["Person 25",120,42,{"$f":"B27+C27","v":162}]
["Person 26",104,28,132]
["Person 27",101,35,136]
["Person 28",125,45,170]
["Person 29",122,45,167]
["Person 30",122,45,167]
["Person 31",117,16,133]
["Person 32",113,18,131]
["Person 33",112,19,131]
["Person 34",93,8,101]
["Person 35",95,13,108]
["Person 36",22,83,105]
["Person 37",70,42,112]
["Person 38",91,26,117]
["Person 39",91,21,112]
["Person 40",90,14,104]
["Person 41",74,29,103]
["Person 42",10,98,108]
["Person 43",9,37,{"$f":"B45+C45","v":46}]
["Person 44",14,41,{"$f":"B46+C46","v":55}]
["Person 45",13,38,51]
["Person 46",6,37,43]
["Person 47",16,51,67]
["Person 48",7,45,52]
["Person 49",18,52,70]
["Person 50",13,28,41]
["Person 51",9,29,38]
["Person 52",12,28,40]
["Person 53",11,47,58]
["Person 54",13,36,49]
["Person 55",13,25,38]
["Person 56",21,52,{"$f":"B58+C58","v":73}]
["Person 57",10,60,{"$f":"B59+C59","v":70}]
["Person 58",5,95,100]
["Person 59",10,91,101]
["Person 60",16,85,101]
["Person 61",14,120,134]
["Person 62",9,121,130]
["Person 63",11,118,129]
["Person 64",17,44,61]
["Person 65",17,50,67]
["Person 66",22,49,71]
["Person 67",21,73,94]
["Person 68",30,62,92]
["Person 69",28,47,75]
["Person 70",24,86,110]
["Person 71",22,47,69]
["Person 72",15,61,76]

{"sheet":"Office","index":4,"n_rows":3016,"n_cols":12,"rows_kept":3016,"cut":false,"hidden":false,"merged":[[0,0,0,3]]}
["Office - Alarm bell"]
["Individual","Recognition","Response","Total pre-movement time"]
["Person 1",30,32,{"$f":"B3+C3","v":62}]
["Person 2",11,1,{"$f":"B4+C4","v":12}]
["Person 3",10,2,12]
["Person 4",null,null,42]
["Person 5",26,1,{"$f":"B7+C7","v":27}]
["Person 6",22,5,{"$f":"B8+C8","v":27}]
["Person 7",28,2,30]
["Person 8",6,12,{"$f":"B10+C10","v":18}]
["Person 9",10,14,{"$f":"B11+C11","v":24}]
["Person 10",null,null,38]
["Person 11",59,22,81]
["Person 12",74,11,85]
["Person 13",97,93,190]
["Person 14",38,43,{"$f":"B16+C16","v":81}]
["Person 15",105,87,{"$f":"B17+C17","v":192}]
["Person 16",41,5,46]
["Person 17",80,1,81]
["Person 18",111,90,201]
["Person 19",110,71,181]
["Person 20",null,null,50]
["Person 21",33,2,{"$f":"B23+C23","v":35}]
["Person 22",33,32,65]
["Person 23",null,null,68]
["Person 24",31,14,45]
["Person 25",29,29,58]
["Person 26",null,null,108]
["Person 27",null,null,111]
["Person 28",29,20,{"$f":"B30+C30","v":49}]
["Person 29",32,1,{"$f":"B31+C31","v":33}]
["Person 30",32,17,49]
["Person 31",45,5,50]
["Person 32",null,null,63]
["Person 33",30,22,{"$f":"B35+C35","v":52}]
["Person 34",31,24,{"$f":"B36+C36","v":55}]
["Person 35",25,38,63]
["Person 36",30,19,49]
["Person 37",34,12,46]
["Person 38",26,22,{"$f":"B40+C40","v":48}]
["Person 39",27,10,{"$f":"B41+C41","v":37}]
["Person 40",null,null,36]
["Person 41",24,14,38]
["Person 42",30,45,75]
["Person 43",33,41,74]
["Person 44",42,6,48]
["Person 45",47,15,62]
{"$rows_empty":2453}
[{"$nulls":6},"XLine1",{"$f":"\"LogLogistic(0;33,318;2,9624)\"","v":"LogLogistic(0;33,318;2,9624)"},null,null,"XLine2",{"$f":"\"Lognorm(40,869;29,023)\"","v":"Lognorm(40,869;29,023)"}]
[]
[{"$nulls":6},0,{"$f":"$I$34","v":0},null,null,0,{"$f":"$K$34","v":0}]
[{"$nulls":6},0,{"$f":"$I$35","v":0},null,null,0,{"$f":"$K$35","v":0}]
[{"$nulls":6},0,{"$f":"$I$36","v":0},null,null,0,{"$f":"$K$36","v":0}]
[{"$nulls":6},0.32064128256513025,{"$f":"$I$37","v":0},null,null,0.32064128256513025,{"$f":"$K$37","v":0}]
[{"$nulls":6},0.6412825651302605,{"$f":"$I$38","v":0},null,null,0.6412825651302605,{"$f":"$K$38","v":0}]
[{"$nulls":6},0.96192384769539074,{"$f":"$I$39","v":0},null,null,0.96192384769539074,{"$f":"$K$39","v":0}]
[{"$nulls":6},1.282565130260521,{"$f":"$I$40","v":0},null,null,1.282565130260521,{"$f":"$K$40","v":0}]
[{"$nulls":6},1.6032064128256511,{"$f":"$I$41","v":0},null,null,1.6032064128256511,{"$f":"$K$41","v":0}]
[{"$nulls":6},1.9238476953907815,{"$f":"$I$42","v":0},null,null,1.9238476953907815,{"$f":"$K$42","v":0}]
[{"$nulls":6},2.2444889779559118,{"$f":"$I$43","v":0},null,null,2.2444889779559118,{"$f":"$K$43","v":0}]
[{"$nulls":6},2.565130260521042,{"$f":"$I$44","v":0},null,null,2.565130260521042,{"$f":"$K$44","v":0}]
[{"$nulls":6},2.8857715430861721,{"$f":"$I$45","v":0},null,null,2.8857715430861721,{"$f":"$K$45","v":0}]
[{"$nulls":6},3.2064128256513023,{"$f":"$I$46","v":0},null,null,3.2064128256513023,{"$f":"$K$46","v":0}]
[{"$nulls":6},3.5270541082164328,{"$f":"$I$47","v":0},null,null,3.5270541082164328,{"$f":"$K$47","v":0}]
[{"$nulls":6},3.847695390781563,{"$f":"$I$48","v":0},null,null,3.847695390781563,{"$f":"$K$48","v":0}]
[{"$nulls":6},4.1683366733466931,{"$f":"$I$49","v":0},null,null,4.1683366733466931,{"$f":"$K$49","v":0}]
[{"$nulls":6},4.4889779559118237,{"$f":"$I$50","v":0},null,null,4.4889779559118237,{"$f":"$K$50","v":0}]
[{"$nulls":6},4.8096192384769534,{"$f":"$I$51","v":0},null,null,4.8096192384769534,{"$f":"$K$51","v":0}]
[{"$nulls":6},5.130260521042084,{"$f":"$I$52","v":0},null,null,5.130260521042084,{"$f":"$K$52","v":0}]
[{"$nulls":6},5.4509018036072145,{"$f":"$I$53","v":0},null,null,5.4509018036072145,{"$f":"$K$53","v":0}]
[{"$nulls":6},5.7715430861723442,{"$f":"$I$54","v":0},null,null,5.7715430861723442,{"$f":"$K$54","v":0}]
[{"$nulls":6},6.0921843687374748,{"$f":"$I$55","v":0},null,null,6.0921843687374748,{"$f":"$K$55","v":0}]
[{"$nulls":6},6.4128256513026045,{"$f":"$I$56","v":0},null,null,6.4128256513026045,{"$f":"$K$56","v":0}]
[{"$nulls":6},6.7334669338677351,{"$f":"$I$57","v":0},null,null,6.7334669338677351,{"$f":"$K$57","v":0}]
[{"$nulls":6},7.0541082164328657,{"$f":"$I$58","v":0},null,null,7.0541082164328657,{"$f":"$K$58","v":0}]
[{"$nulls":6},7.3747494989979954,{"$f":"$I$59","v":0},null,null,7.3747494989979954,{"$f":"$K$59","v":0}]
[{"$nulls":6},7.6953907815631259,{"$f":"$I$60","v":0},null,null,7.6953907815631259,{"$f":"$K$60","v":0}]
[{"$nulls":6},8.0160320641282556,{"$f":"$I$61","v":0},null,null,8.0160320641282556,{"$f":"$K$61","v":0}]
[{"$nulls":6},8.3366733466933862,{"$f":"$I$62","v":0},null,null,8.3366733466933862,{"$f":"$K$62","v":0}]
[{"$nulls":6},8.6573146292585168,{"$f":"$I$63","v":0},null,null,8.6573146292585168,{"$f":"$K$63","v":0}]
[{"$nulls":6},8.9779559118236474,{"$f":"$I$64","v":0},null,null,8.9779559118236474,{"$f":"$K$64","v":0}]
[{"$nulls":6},9.298597194388778,{"$f":"$I$65","v":0},null,null,9.298597194388778,{"$f":"$K$65","v":0}]
[{"$nulls":6},9.6192384769539068,{"$f":"$I$66","v":0},null,null,9.6192384769539068,{"$f":"$K$66","v":0}]
[{"$nulls":6},9.9398797595190373,{"$f":"$I$67","v":0},null,null,9.9398797595190373,{"$f":"$K$67","v":0}]
[{"$nulls":6},10.260521042084168,{"$f":"$I$68","v":0},null,null,10.260521042084168,{"$f":"$K$68","v":0}]
[{"$nulls":6},10.581162324649299,{"$f":"$I$69","v":0},null,null,10.581162324649299,{"$f":"$K$69","v":0}]
[{"$nulls":6},10.901803607214429,{"$f":"$I$70","v":0},null,null,10.901803607214429,{"$f":"$K$70","v":0}]
[{"$nulls":6},11.222444889779558,{"$f":"$I$71","v":0},null,null,11.222444889779558,{"$f":"$K$71","v":0}]
[{"$nulls":6},11.543086172344688,{"$f":"$I$72","v":0},null,null,11.543086172344688,{"$f":"$K$72","v":0}]
[{"$nulls":6},11.863727454909819,{"$f":"$I$73","v":0},null,null,11.863727454909819,{"$f":"$K$73","v":0}]
[{"$nulls":6},12.18436873747495,{"$f":"$I$74","v":0},null,null,12.18436873747495,{"$f":"$K$74","v":0}]
[{"$nulls":6},12.50501002004008,{"$f":"$I$75","v":0},null,null,12.50501002004008,{"$f":"$K$75","v":0}]
[{"$nulls":6},12.825651302605209,{"$f":"$I$76","v":0},null,null,12.825651302605209,{"$f":"$K$76","v":0}]
[{"$nulls":6},13.14629258517034,{"$f":"$I$77","v":0},null,null,13.14629258517034,{"$f":"$K$77","v":0}]
[{"$nulls":6},13.46693386773547,{"$f":"$I$78","v":0},null,null,13.46693386773547,{"$f":"$K$78","v":0}]
[{"$nulls":6},13.787575150300601,{"$f":"$I$79","v":0},null,null,13.787575150300601,{"$f":"$K$79","v":0}]
[{"$nulls":6},14.108216432865731,{"$f":"$I$80","v":0},null,null,14.108216432865731,{"$f":"$K$80","v":0}]
[{"$nulls":6},14.428857715430862,{"$f":"$I$81","v":0},null,null,14.428857715430862,{"$f":"$K$81","v":0}]
[{"$nulls":6},14.749498997995991,{"$f":"$I$82","v":0},null,null,14.691675178142324,{"$f":"$K$82","v":0}]
[{"$nulls":6},15.070140280561121,{"$f":"$I$83","v":0},null,null,14.749498997995991,{"$f":"$K$83","v":0}]
[{"$nulls":6},15.390781563126252,{"$f":"$I$84","v":0},null,null,15.070140280561121,{"$f":"$K$84","v":0}]
[{"$nulls":6},15.711422845691382,{"$f":"$I$85","v":0},null,null,15.390781563126252,{"$f":"$K$85","v":0}]
[{"$nulls":6},15.869413428608866,{"$f":"$I$86","v":0},null,null,15.711422845691382,{"$f":"$K$86","v":0}]
[{"$nulls":6},16.032064128256511,{"$f":"$I$87","v":0},null,null,16.032064128256511,{"$f":"$K$87","v":0}]
[{"$nulls":6},16.352705410821642,{"$f":"$I$88","v":0},null,null,16.352705410821642,{"$f":"$K$88","v":0}]
[{"$nulls":6},16.673346693386772,{"$f":"$I$89","v":0},null,null,16.673346693386772,{"$f":"$K$89","v":0}]
[{"$nulls":6},16.993987975951903,{"$f":"$I$90","v":0},null,null,16.993987975951903,{"$f":"$K$90","v":0}]
[{"$nulls":6},17.314629258517034,{"$f":"$I$91","v":0},null,null,17.314629258517034,{"$f":"$K$91","v":0}]
[{"$nulls":6},17.635270541082164,{"$f":"$I$92","v":0},null,null,17.635270541082164,{"$f":"$K$92","v":0}]
[{"$nulls":6},17.955911823647295,{"$f":"$I$93","v":0},null,null,17.955911823647295,{"$f":"$K$93","v":0}]
[{"$nulls":6},18.276553106212425,{"$f":"$I$94","v":0},null,null,18.276553106212425,{"$f":"$K$94","v":0}]
[{"$nulls":6},18.597194388777556,{"$f":"$I$95","v":0},null,null,18.597194388777556,{"$f":"$K$95","v":0}]
[{"$nulls":6},18.917835671342683,{"$f":"$I$96","v":0},null,null,18.917835671342683,{"$f":"$K$96","v":0}]
[{"$nulls":6},19.238476953907814,{"$f":"$I$97","v":0},null,null,19.238476953907814,{"$f":"$K$97","v":0}]
[{"$nulls":6},19.559118236472944,{"$f":"$I$98","v":0},null,null,19.460773443356327,{"$f":"$K$98","v":0}]
[{"$nulls":6},19.879759519038075,{"$f":"$I$99","v":0},null,null,19.559118236472944,{"$f":"$K$99","v":0}]
[{"$nulls":6},20.200400801603205,{"$f":"$I$100","v":0},null,null,19.879759519038075,{"$f":"$K$100","v":0}]
[{"$nulls":6},20.521042084168336,{"$f":"$I$101","v":0},null,null,20.200400801603205,{"$f":"$K$101","v":0}]
[{"$nulls":6},20.841683366733466,{"$f":"$I$102","v":0},null,null,20.521042084168336,{"$f":"$K$102","v":0}]
[{"$nulls":6},20.866281516464571,{"$f":"$I$103","v":0},null,null,20.841683366733466,{"$f":"$K$103","v":0}]
[{"$nulls":6},21.162324649298597,{"$f":"$I$104","v":0},null,null,21.162324649298597,{"$f":"$K$104","v":0}]
[{"$nulls":6},21.482965931863728,{"$f":"$I$105","v":0},null,null,21.482965931863728,{"$f":"$K$105","v":0}]
[{"$nulls":6},21.803607214428858,{"$f":"$I$106","v":0},null,null,21.803607214428858,{"$f":"$K$106","v":0}]
[{"$nulls":6},22.124248496993989,{"$f":"$I$107","v":0},null,null,22.124248496993989,{"$f":"$K$107","v":0}]
[{"$nulls":6},22.444889779559116,{"$f":"$I$108","v":0},null,null,22.150753281775067,{"$f":"$K$108","v":0}]
[{"$nulls":6},22.765531062124246,{"$f":"$I$109","v":0},null,null,22.444889779559116,{"$f":"$K$109","v":0}]
[{"$nulls":6},23.086172344689377,{"$f":"$I$110","v":0},null,null,22.765531062124246,{"$f":"$K$110","v":0}]
[{"$nulls":6},23.406813627254508,{"$f":"$I$111","v":0},null,null,23.086172344689377,{"$f":"$K$111","v":0}]
[{"$nulls":6},23.727454909819638,{"$f":"$I$112","v":0},null,null,23.406813627254508,{"$f":"$K$112","v":0}]
[{"$nulls":6},24.048096192384769,{"$f":"$I$113","v":0},null,null,23.727454909819638,{"$f":"$K$113","v":0}]
[{"$nulls":6},24.368737474949899,{"$f":"$I$114","v":0},null,null,23.833877121061118,{"$f":"$K$114","v":0}]
[{"$nulls":6},24.68937875751503,{"$f":"$I$115","v":0},null,null,24.048096192384769,{"$f":"$K$115","v":0}]
[{"$nulls":6},25.01002004008016,{"$f":"$I$116","v":0},null,null,24.368737474949899,{"$f":"$K$116","v":0}]
[{"$nulls":6},25.030133031365317,{"$f":"$I$117","v":0},null,null,24.68937875751503,{"$f":"$K$117","v":0}]
[{"$nulls":6},25.330661322645291,{"$f":"$I$118","v":0},null,null,25.01002004008016,{"$f":"$K$118","v":0}]
[{"$nulls":6},25.651302605210418,{"$f":"$I$119","v":0},null,null,25.330661322645291,{"$f":"$K$119","v":0}]
[{"$nulls":6},25.971943887775549,{"$f":"$I$120","v":0},null,null,25.651302605210418,{"$f":"$K$120","v":0}]
[{"$nulls":6},26.282351114847796,{"$f":"$I$121","v":0},null,null,25.971943887775549,{"$f":"$K$121","v":0}]
[{"$nulls":6},26.292585170340679,{"$f":"$I$122","v":0},null,null,26.292585170340679,{"$f":"$K$122","v":0}]
[{"$nulls":6},26.61322645290581,{"$f":"$I$123","v":0},null,null,26.61322645290581,{"$f":"$K$123","v":0}]
[{"$nulls":6},26.93386773547094,{"$f":"$I$124","v":0},null,null,26.93386773547094,{"$f":"$K$124","v":0}]
[{"$nulls":6},27.254509018036071,{"$f":"$I$125","v":0},null,null,27.254509018036071,{"$f":"$K$125","v":0}]
[{"$nulls":6},27.575150300601202,{"$f":"$I$126","v":0},null,null,27.575150300601202,{"$f":"$K$126","v":0}]
[{"$nulls":6},27.895791583166332,{"$f":"$I$127","v":0},null,null,27.895791583166332,{"$f":"$K$127","v":0}]
[{"$nulls":6},28.216432865731463,{"$f":"$I$128","v":0},null,null,28.216432865731463,{"$f":"$K$128","v":0}]
[{"$nulls":6},28.537074148296593,{"$f":"$I$129","v":0},null,null,28.341120395118207,{"$f":"$K$129","v":0}]
[{"$nulls":6},28.857715430861724,{"$f":"$I$130","v":0},null,null,28.537074148296593,{"$f":"$K$130","v":0}]
[{"$nulls":6},29.056067110460798,{"$f":"$I$131","v":0},null,null,28.857715430861724,{"$f":"$K$131","v":0}]
[{"$nulls":6},29.178356713426851,{"$f":"$I$132","v":0},null,null,29.178356713426851,{"$f":"$K$132","v":0}]
[{"$nulls":6},29.498997995991981,{"$f":"$I$133","v":0},null,null,29.498997995991981,{"$f":"$K$133","v":0}]
[{"$nulls":6},29.819639278557112,{"$f":"$I$134","v":0},null,null,29.819639278557112,{"$f":"$K$134","v":0}]
[{"$nulls":6},30.140280561122243,{"$f":"$I$135","v":0},null,null,30.140280561122243,{"$f":"$K$135","v":0}]
[{"$nulls":6},30.460921843687373,{"$f":"$I$136","v":0},null,null,30.460921843687373,{"$f":"$K$136","v":0}]
[{"$nulls":6},30.781563126252504,{"$f":"$I$137","v":0},null,null,30.781563126252504,{"$f":"$K$137","v":0}]
[{"$nulls":6},31.102204408817634,{"$f":"$I$138","v":0},null,null,31.102204408817634,{"$f":"$K$138","v":0}]
[{"$nulls":6},31.422845691382765,{"$f":"$I$139","v":0},null,null,31.422845691382765,{"$f":"$K$139","v":0}]
[{"$nulls":6},31.743486973947896,{"$f":"$I$140","v":0},null,null,31.743486973947896,{"$f":"$K$140","v":0}]
[{"$nulls":6},32.064128256513023,{"$f":"$I$141","v":0},null,null,32.064128256513023,{"$f":"$K$141","v":0}]
[{"$nulls":6},32.384769539078157,{"$f":"$I$142","v":0},null,null,32.384769539078157,{"$f":"$K$142","v":0}]
[{"$nulls":6},32.705410821643284,{"$f":"$I$143","v":0},null,null,32.705410821643284,{"$f":"$K$143","v":0}]
[{"$nulls":6},33.026052104208418,{"$f":"$I$144","v":0},null,null,33.026052104208418,{"$f":"$K$144","v":0}]
[{"$nulls":6},33.317999999999998,{"$f":"$I$145","v":0},null,null,33.321573975431548,{"$f":"$K$145","v":0}]
[{"$nulls":6},33.346693386773545,{"$f":"$I$146","v":0},null,null,33.346693386773545,{"$f":"$K$146","v":0}]
[{"$nulls":6},33.667334669338679,{"$f":"$I$147","v":0},null,null,33.667334669338679,{"$f":"$K$147","v":0}]
[{"$nulls":6},33.987975951903806,{"$f":"$I$148","v":0},null,null,33.987975951903806,{"$f":"$K$148","v":0}]
[{"$nulls":6},34.308617234468933,{"$f":"$I$149","v":0},null,null,34.308617234468933,{"$f":"$K$149","v":0}]
[{"$nulls":6},34.629258517034067,{"$f":"$I$150","v":0},null,null,34.629258517034067,{"$f":"$K$150","v":0}]
[{"$nulls":6},34.949899799599194,{"$f":"$I$151","v":0},null,null,34.949899799599194,{"$f":"$K$151","v":0}]
[{"$nulls":6},35.270541082164328,{"$f":"$I$152","v":0},null,null,35.270541082164328,{"$f":"$K$152","v":0}]
[{"$nulls":6},35.591182364729455,{"$f":"$I$153","v":0},null,null,35.591182364729455,{"$f":"$K$153","v":0}]
[{"$nulls":6},35.91182364729459,{"$f":"$I$154","v":0},null,null,35.91182364729459,{"$f":"$K$154","v":0}]
[{"$nulls":6},36.232464929859717,{"$f":"$I$155","v":0},null,null,36.232464929859717,{"$f":"$K$155","v":0}]
[{"$nulls":6},36.553106212424851,{"$f":"$I$156","v":0},null,null,36.553106212424851,{"$f":"$K$156","v":0}]
[{"$nulls":6},36.873747494989978,{"$f":"$I$157","v":0},null,null,36.873747494989978,{"$f":"$K$157","v":0}]
[{"$nulls":6},37.194388777555112,{"$f":"$I$158","v":0},null,null,37.194388777555112,{"$f":"$K$158","v":0}]
[{"$nulls":6},37.515030060120239,{"$f":"$I$159","v":0},null,null,37.515030060120239,{"$f":"$K$159","v":0}]
[{"$nulls":6},37.835671342685366,{"$f":"$I$160","v":0},null,null,37.835671342685366,{"$f":"$K$160","v":0}]
[{"$nulls":6},38.1563126252505,{"$f":"$I$161","v":0},null,null,38.1563126252505,{"$f":"$K$161","v":0}]
[{"$nulls":6},38.20507158728114,{"$f":"$I$162","v":0},null,null,38.476953907815627,{"$f":"$K$162","v":0}]
[{"$nulls":6},38.476953907815627,{"$f":"$I$163","v":0},null,null,38.797595190380761,{"$f":"$K$163","v":0}]
[{"$nulls":6},38.797595190380761,{"$f":"$I$164","v":0},null,null,39.118236472945888,{"$f":"$K$164","v":0}]
[{"$nulls":6},39.118236472945888,{"$f":"$I$165","v":0},null,null,39.177254699902832,{"$f":"$K$165","v":0}]
[{"$nulls":6},39.438877755511022,{"$f":"$I$166","v":0},null,null,39.438877755511022,{"$f":"$K$166","v":0}]
[{"$nulls":6},39.759519038076149,{"$f":"$I$167","v":0},null,null,39.759519038076149,{"$f":"$K$167","v":0}]
[{"$nulls":6},40.080160320641284,{"$f":"$I$168","v":0},null,null,40.080160320641284,{"$f":"$K$168","v":0}]
[{"$nulls":6},40.400801603206411,{"$f":"$I$169","v":0},null,null,40.400801603206411,{"$f":"$K$169","v":0}]
[{"$nulls":6},40.721442885771545,{"$f":"$I$170","v":0},null,null,40.721442885771545,{"$f":"$K$170","v":0}]
[{"$nulls":6},41.042084168336672,{"$f":"$I$171","v":0},null,null,41.042084168336672,{"$f":"$K$171","v":0}]
[{"$nulls":6},41.362725450901799,{"$f":"$I$172","v":0},null,null,41.362725450901799,{"$f":"$K$172","v":0}]
[{"$nulls":6},41.683366733466933,{"$f":"$I$173","v":0},null,null,41.683366733466933,{"$f":"$K$173","v":0}]
[{"$nulls":6},42.00400801603206,{"$f":"$I$174","v":0},null,null,42.00400801603206,{"$f":"$K$174","v":0}]
[{"$nulls":6},42.324649298597194,{"$f":"$I$175","v":0},null,null,42.324649298597194,{"$f":"$K$175","v":0}]
[{"$nulls":6},42.645290581162321,{"$f":"$I$176","v":0},null,null,42.645290581162321,{"$f":"$K$176","v":0}]
[{"$nulls":6},42.965931863727455,{"$f":"$I$177","v":0},null,null,42.965931863727455,{"$f":"$K$177","v":0}]
[{"$nulls":6},43.286573146292582,{"$f":"$I$178","v":0},null,null,43.286573146292582,{"$f":"$K$178","v":0}]
[{"$nulls":6},43.607214428857716,{"$f":"$I$179","v":0},null,null,43.607214428857716,{"$f":"$K$179","v":0}]
[{"$nulls":6},43.927855711422843,{"$f":"$I$180","v":0},null,null,43.927855711422843,{"$f":"$K$180","v":0}]
[{"$nulls":6},44.248496993987978,{"$f":"$I$181","v":0},null,null,44.248496993987978,{"$f":"$K$181","v":0}]
[{"$nulls":6},44.350108831181387,{"$f":"$I$182","v":0},null,null,44.569138276553105,{"$f":"$K$182","v":0}]
[{"$nulls":6},44.569138276553105,{"$f":"$I$183","v":0},null,null,44.889779559118232,{"$f":"$K$183","v":0}]
[{"$nulls":6},44.889779559118232,{"$f":"$I$184","v":0},null,null,45.210420841683366,{"$f":"$K$184","v":0}]
[{"$nulls":6},45.210420841683366,{"$f":"$I$185","v":0},null,null,45.531062124248493,{"$f":"$K$185","v":0}]
[{"$nulls":6},45.531062124248493,{"$f":"$I$186","v":0},null,null,45.851703406813627,{"$f":"$K$186","v":0}]
[{"$nulls":6},45.851703406813627,{"$f":"$I$187","v":0},null,null,46.172344689378754,{"$f":"$K$187","v":0}]
[{"$nulls":6},46.172344689378754,{"$f":"$I$188","v":0},null,null,46.492985971943888,{"$f":"$K$188","v":0}]
[{"$nulls":6},46.492985971943888,{"$f":"$I$189","v":0},null,null,46.586096192423582,{"$f":"$K$189","v":0}]
[{"$nulls":6},46.813627254509015,{"$f":"$I$190","v":0},null,null,46.813627254509015,{"$f":"$K$190","v":0}]
[{"$nulls":6},47.134268537074149,{"$f":"$I$191","v":0},null,null,47.134268537074149,{"$f":"$K$191","v":0}]
[{"$nulls":6},47.454909819639276,{"$f":"$I$192","v":0},null,null,47.454909819639276,{"$f":"$K$192","v":0}]
[{"$nulls":6},47.77555110220441,{"$f":"$I$193","v":0},null,null,47.77555110220441,{"$f":"$K$193","v":0}]
[{"$nulls":6},48.096192384769537,{"$f":"$I$194","v":0},null,null,48.096192384769537,{"$f":"$K$194","v":0}]
[{"$nulls":6},48.416833667334664,{"$f":"$I$195","v":0},null,null,48.416833667334664,{"$f":"$K$195","v":0}]
[{"$nulls":6},48.737474949899799,{"$f":"$I$196","v":0},null,null,48.737474949899799,{"$f":"$K$196","v":0}]
[{"$nulls":6},49.058116232464926,{"$f":"$I$197","v":0},null,null,49.058116232464926,{"$f":"$K$197","v":0}]
[{"$nulls":6},49.37875751503006,{"$f":"$I$198","v":0},null,null,49.37875751503006,{"$f":"$K$198","v":0}]
[{"$nulls":6},49.699398797595187,{"$f":"$I$199","v":0},null,null,49.699398797595187,{"$f":"$K$199","v":0}]
[{"$nulls":6},50.020040080160321,{"$f":"$I$200","v":0},null,null,50.020040080160321,{"$f":"$K$200","v":0}]
[{"$nulls":6},50.340681362725448,{"$f":"$I$201","v":0},null,null,50.340681362725448,{"$f":"$K$201","v":0}]
[{"$nulls":6},50.661322645290582,{"$f":"$I$202","v":0},null,null,50.661322645290582,{"$f":"$K$202","v":0}]
[{"$nulls":6},50.981963927855709,{"$f":"$I$203","v":0},null,null,50.981963927855709,{"$f":"$K$203","v":0}]
[{"$nulls":6},51.302605210420836,{"$f":"$I$204","v":0},null,null,51.302605210420836,{"$f":"$K$204","v":0}]
[{"$nulls":6},51.62324649298597,{"$f":"$I$205","v":0},null,null,51.62324649298597,{"$f":"$K$205","v":0}]
[{"$nulls":6},51.943887775551097,{"$f":"$I$206","v":0},null,null,51.943887775551097,{"$f":"$K$206","v":0}]
[{"$nulls":6},52.264529058116231,{"$f":"$I$207","v":0},null,null,52.264529058116231,{"$f":"$K$207","v":0}]
[{"$nulls":6},52.585170340681358,{"$f":"$I$208","v":0},null,null,52.585170340681358,{"$f":"$K$208","v":0}]
[{"$nulls":6},52.905811623246493,{"$f":"$I$209","v":0},null,null,52.905811623246493,{"$f":"$K$209","v":0}]
[{"$nulls":6},53.200141248170269,{"$f":"$I$210","v":0},null,null,53.22645290581162,{"$f":"$K$210","v":0}]
[{"$nulls":6},53.22645290581162,{"$f":"$I$211","v":0},null,null,53.547094188376754,{"$f":"$K$211","v":0}]
[{"$nulls":6},53.547094188376754,{"$f":"$I$212","v":0},null,null,53.867735470941881,{"$f":"$K$212","v":0}]
[{"$nulls":6},53.867735470941881,{"$f":"$I$213","v":0},null,null,54.188376753507015,{"$f":"$K$213","v":0}]
[{"$nulls":6},54.188376753507015,{"$f":"$I$214","v":0},null,null,54.509018036072142,{"$f":"$K$214","v":0}]
[{"$nulls":6},54.509018036072142,{"$f":"$I$215","v":0},null,null,54.829659318637269,{"$f":"$K$215","v":0}]
[{"$nulls":6},54.829659318637269,{"$f":"$I$216","v":0},null,null,55.150300601202403,{"$f":"$K$216","v":0}]
[{"$nulls":6},55.150300601202403,{"$f":"$I$217","v":0},null,null,55.47094188376753,{"$f":"$K$217","v":0}]
[{"$nulls":6},55.47094188376753,{"$f":"$I$218","v":0},null,null,55.791583166332664,{"$f":"$K$218","v":0}]
[{"$nulls":6},55.791583166332664,{"$f":"$I$219","v":0},null,null,56.112224448897791,{"$f":"$K$219","v":0}]
[{"$nulls":6},56.112224448897791,{"$f":"$I$220","v":0},null,null,56.432865731462925,{"$f":"$K$220","v":0}]
[{"$nulls":6},56.432865731462925,{"$f":"$I$221","v":0},null,null,56.753507014028052,{"$f":"$K$221","v":0}]
[{"$nulls":6},56.753507014028052,{"$f":"$I$222","v":0},null,null,57.054633282276313,{"$f":"$K$222","v":0}]
[{"$nulls":6},57.074148296593187,{"$f":"$I$223","v":0},null,null,57.074148296593187,{"$f":"$K$223","v":0}]
[{"$nulls":6},57.394789579158314,{"$f":"$I$224","v":0},null,null,57.394789579158314,{"$f":"$K$224","v":0}]
[{"$nulls":6},57.715430861723448,{"$f":"$I$225","v":0},null,null,57.715430861723448,{"$f":"$K$225","v":0}]
[{"$nulls":6},58.036072144288575,{"$f":"$I$226","v":0},null,null,58.036072144288575,{"$f":"$K$226","v":0}]
[{"$nulls":6},58.356713426853702,{"$f":"$I$227","v":0},null,null,58.356713426853702,{"$f":"$K$227","v":0}]
[{"$nulls":6},58.677354709418836,{"$f":"$I$228","v":0},null,null,58.677354709418836,{"$f":"$K$228","v":0}]
[{"$nulls":6},58.997995991983963,{"$f":"$I$229","v":0},null,null,58.997995991983963,{"$f":"$K$229","v":0}]
[{"$nulls":6},59.318637274549097,{"$f":"$I$230","v":0},null,null,59.318637274549097,{"$f":"$K$230","v":0}]
[{"$nulls":6},59.639278557114224,{"$f":"$I$231","v":0},null,null,59.639278557114224,{"$f":"$K$231","v":0}]
[{"$nulls":6},59.959919839679358,{"$f":"$I$232","v":0},null,null,59.959919839679358,{"$f":"$K$232","v":0}]
[{"$nulls":6},60.280561122244485,{"$f":"$I$233","v":0},null,null,60.280561122244485,{"$f":"$K$233","v":0}]
[{"$nulls":6},60.601202404809619,{"$f":"$I$234","v":0},null,null,60.601202404809619,{"$f":"$K$234","v":0}]
[{"$nulls":6},60.921843687374746,{"$f":"$I$235","v":0},null,null,60.921843687374746,{"$f":"$K$235","v":0}]
[{"$nulls":6},61.242484969939881,{"$f":"$I$236","v":0},null,null,61.242484969939881,{"$f":"$K$236","v":0}]
[{"$nulls":6},61.563126252505008,{"$f":"$I$237","v":0},null,null,61.563126252505008,{"$f":"$K$237","v":0}]
[{"$nulls":6},61.883767535070135,{"$f":"$I$238","v":0},null,null,61.883767535070135,{"$f":"$K$238","v":0}]
[{"$nulls":6},62.204408817635269,{"$f":"$I$239","v":0},null,null,62.204408817635269,{"$f":"$K$239","v":0}]
[{"$nulls":6},62.525050100200396,{"$f":"$I$240","v":0},null,null,62.525050100200396,{"$f":"$K$240","v":0}]
[{"$nulls":6},62.84569138276553,{"$f":"$I$241","v":0},null,null,62.84569138276553,{"$f":"$K$241","v":0}]
[{"$nulls":6},63.166332665330657,{"$f":"$I$242","v":0},null,null,63.166332665330657,{"$f":"$K$242","v":0}]
[{"$nulls":6},63.486973947895791,{"$f":"$I$243","v":0},null,null,63.486973947895791,{"$f":"$K$243","v":0}]
[{"$nulls":6},63.807615230460918,{"$f":"$I$244","v":0},null,null,63.807615230460918,{"$f":"$K$244","v":0}]
[{"$nulls":6},64.128256513026045,{"$f":"$I$245","v":0},null,null,64.128256513026045,{"$f":"$K$245","v":0}]
[{"$nulls":6},64.448897795591179,{"$f":"$I$246","v":0},null,null,64.448897795591179,{"$f":"$K$246","v":0}]
[{"$nulls":6},64.769539078156313,{"$f":"$I$247","v":0},null,null,64.769539078156313,{"$f":"$K$247","v":0}]
[{"$nulls":6},65.090180360721433,{"$f":"$I$248","v":0},null,null,65.090180360721433,{"$f":"$K$248","v":0}]
[{"$nulls":6},65.410821643286567,{"$f":"$I$249","v":0},null,null,65.410821643286567,{"$f":"$K$249","v":0}]
[{"$nulls":6},65.731462925851702,{"$f":"$I$250","v":0},null,null,65.731462925851702,{"$f":"$K$250","v":0}]
[{"$nulls":6},66.052104208416836,{"$f":"$I$251","v":0},null,null,66.052104208416836,{"$f":"$K$251","v":0}]
[{"$nulls":6},66.372745490981956,{"$f":"$I$252","v":0},null,null,66.372745490981956,{"$f":"$K$252","v":0}]
[{"$nulls":6},66.69338677354709,{"$f":"$I$253","v":0},null,null,66.69338677354709,{"$f":"$K$253","v":0}]
[{"$nulls":6},67.014028056112224,{"$f":"$I$254","v":0},null,null,67.014028056112224,{"$f":"$K$254","v":0}]
[{"$nulls":6},67.334669338677358,{"$f":"$I$255","v":0},null,null,67.334669338677358,{"$f":"$K$255","v":0}]
[{"$nulls":6},67.655310621242478,{"$f":"$I$256","v":0},null,null,67.655310621242478,{"$f":"$K$256","v":0}]
[{"$nulls":6},67.975951903807612,{"$f":"$I$257","v":0},null,null,67.975951903807612,{"$f":"$K$257","v":0}]
[{"$nulls":6},68.296593186372746,{"$f":"$I$258","v":0},null,null,68.296593186372746,{"$f":"$K$258","v":0}]
[{"$nulls":6},68.617234468937866,{"$f":"$I$259","v":0},null,null,68.617234468937866,{"$f":"$K$259","v":0}]
[{"$nulls":6},68.937875751503,{"$f":"$I$260","v":0},null,null,68.937875751503,{"$f":"$K$260","v":0}]
[{"$nulls":6},69.258517034068134,{"$f":"$I$261","v":0},null,null,69.258517034068134,{"$f":"$K$261","v":0}]
[{"$nulls":6},69.579158316633269,{"$f":"$I$262","v":0},null,null,69.579158316633269,{"$f":"$K$262","v":0}]
[{"$nulls":6},69.899799599198388,{"$f":"$I$263","v":0},null,null,69.899799599198388,{"$f":"$K$263","v":0}]
[{"$nulls":6},69.951490582428633,{"$f":"$I$264","v":0},null,null,70.220440881763523,{"$f":"$K$264","v":0}]
[{"$nulls":6},70.220440881763523,{"$f":"$I$265","v":0},null,null,70.541082164328657,{"$f":"$K$265","v":0}]
[{"$nulls":6},70.541082164328657,{"$f":"$I$266","v":0},null,null,70.861723446893791,{"$f":"$K$266","v":0}]
[{"$nulls":6},70.861723446893791,{"$f":"$I$267","v":0},null,null,71.182364729458911,{"$f":"$K$267","v":0}]
[{"$nulls":6},71.182364729458911,{"$f":"$I$268","v":0},null,null,71.503006012024045,{"$f":"$K$268","v":0}]
[{"$nulls":6},71.503006012024045,{"$f":"$I$269","v":0},null,null,71.823647294589179,{"$f":"$K$269","v":0}]
[{"$nulls":6},71.823647294589179,{"$f":"$I$270","v":0},null,null,72.144288577154299,{"$f":"$K$270","v":0}]
[{"$nulls":6},72.144288577154299,{"$f":"$I$271","v":0},null,null,72.464929859719433,{"$f":"$K$271","v":0}]
[{"$nulls":6},72.464929859719433,{"$f":"$I$272","v":0},null,null,72.785571142284567,{"$f":"$K$272","v":0}]
[{"$nulls":6},72.785571142284567,{"$f":"$I$273","v":0},null,null,73.106212424849701,{"$f":"$K$273","v":0}]
[{"$nulls":6},73.106212424849701,{"$f":"$I$274","v":0},null,null,73.426853707414821,{"$f":"$K$274","v":0}]
[{"$nulls":6},73.426853707414821,{"$f":"$I$275","v":0},null,null,73.747494989979955,{"$f":"$K$275","v":0}]
[{"$nulls":6},73.747494989979955,{"$f":"$I$276","v":0},null,null,74.06813627254509,{"$f":"$K$276","v":0}]
[{"$nulls":6},74.06813627254509,{"$f":"$I$277","v":0},null,null,74.388777555110224,{"$f":"$K$277","v":0}]
[{"$nulls":6},74.388777555110224,{"$f":"$I$278","v":0},null,null,74.709418837675344,{"$f":"$K$278","v":0}]
[{"$nulls":6},74.709418837675344,{"$f":"$I$279","v":0},null,null,75.030060120240478,{"$f":"$K$279","v":0}]
[{"$nulls":6},75.030060120240478,{"$f":"$I$280","v":0},null,null,75.350701402805612,{"$f":"$K$280","v":0}]
[{"$nulls":6},75.350701402805612,{"$f":"$I$281","v":0},null,null,75.575268220744263,{"$f":"$K$281","v":0}]
[{"$nulls":6},75.671342685370732,{"$f":"$I$282","v":0},null,null,75.671342685370732,{"$f":"$K$282","v":0}]
[{"$nulls":6},75.991983967935866,{"$f":"$I$283","v":0},null,null,75.991983967935866,{"$f":"$K$283","v":0}]
[{"$nulls":6},76.312625250501,{"$f":"$I$284","v":0},null,null,76.312625250501,{"$f":"$K$284","v":0}]
[{"$nulls":6},76.633266533066134,{"$f":"$I$285","v":0},null,null,76.633266533066134,{"$f":"$K$285","v":0}]
[{"$nulls":6},76.953907815631254,{"$f":"$I$286","v":0},null,null,76.953907815631254,{"$f":"$K$286","v":0}]
[{"$nulls":6},77.274549098196388,{"$f":"$I$287","v":0},null,null,77.274549098196388,{"$f":"$K$287","v":0}]
[{"$nulls":6},77.595190380761522,{"$f":"$I$288","v":0},null,null,77.595190380761522,{"$f":"$K$288","v":0}]
[{"$nulls":6},77.915831663326657,{"$f":"$I$289","v":0},null,null,77.915831663326657,{"$f":"$K$289","v":0}]
[{"$nulls":6},78.236472945891776,{"$f":"$I$290","v":0},null,null,78.236472945891776,{"$f":"$K$290","v":0}]
[{"$nulls":6},78.557114228456911,{"$f":"$I$291","v":0},null,null,78.557114228456911,{"$f":"$K$291","v":0}]
[{"$nulls":6},78.877755511022045,{"$f":"$I$292","v":0},null,null,78.877755511022045,{"$f":"$K$292","v":0}]
[{"$nulls":6},79.198396793587165,{"$f":"$I$293","v":0},null,null,79.198396793587165,{"$f":"$K$293","v":0}]
[{"$nulls":6},79.519038076152299,{"$f":"$I$294","v":0},null,null,79.519038076152299,{"$f":"$K$294","v":0}]
[{"$nulls":6},79.839679358717433,{"$f":"$I$295","v":0},null,null,79.839679358717433,{"$f":"$K$295","v":0}]
[{"$nulls":6},80.160320641282567,{"$f":"$I$296","v":0},null,null,80.160320641282567,{"$f":"$K$296","v":0}]
[{"$nulls":6},80.480961923847687,{"$f":"$I$297","v":0},null,null,80.480961923847687,{"$f":"$K$297","v":0}]
[{"$nulls":6},80.801603206412821,{"$f":"$I$298","v":0},null,null,80.801603206412821,{"$f":"$K$298","v":0}]
[{"$nulls":6},81.122244488977955,{"$f":"$I$299","v":0},null,null,81.122244488977955,{"$f":"$K$299","v":0}]
[{"$nulls":6},81.442885771543089,{"$f":"$I$300","v":0},null,null,81.442885771543089,{"$f":"$K$300","v":0}]
[{"$nulls":6},81.763527054108209,{"$f":"$I$301","v":0},null,null,81.763527054108209,{"$f":"$K$301","v":0}]
[{"$nulls":6},82.084168336673343,{"$f":"$I$302","v":0},null,null,82.084168336673343,{"$f":"$K$302","v":0}]
[{"$nulls":6},82.404809619238478,{"$f":"$I$303","v":0},null,null,82.404809619238478,{"$f":"$K$303","v":0}]
[{"$nulls":6},82.725450901803598,{"$f":"$I$304","v":0},null,null,82.725450901803598,{"$f":"$K$304","v":0}]
[{"$nulls":6},83.046092184368732,{"$f":"$I$305","v":0},null,null,83.046092184368732,{"$f":"$K$305","v":0}]
[{"$nulls":6},83.366733466933866,{"$f":"$I$306","v":0},null,null,83.366733466933866,{"$f":"$K$306","v":0}]
[{"$nulls":6},83.687374749499,{"$f":"$I$307","v":0},null,null,83.687374749499,{"$f":"$K$307","v":0}]
[{"$nulls":6},84.00801603206412,{"$f":"$I$308","v":0},null,null,84.00801603206412,{"$f":"$K$308","v":0}]
[{"$nulls":6},84.328657314629254,{"$f":"$I$309","v":0},null,null,84.328657314629254,{"$f":"$K$309","v":0}]
[{"$nulls":6},84.649298597194388,{"$f":"$I$310","v":0},null,null,84.649298597194388,{"$f":"$K$310","v":0}]
[{"$nulls":6},84.969939879759522,{"$f":"$I$311","v":0},null,null,84.969939879759522,{"$f":"$K$311","v":0}]
[{"$nulls":6},85.290581162324642,{"$f":"$I$312","v":0},null,null,85.290581162324642,{"$f":"$K$312","v":0}]
[{"$nulls":6},85.611222444889776,{"$f":"$I$313","v":0},null,null,85.611222444889776,{"$f":"$K$313","v":0}]
[{"$nulls":6},85.93186372745491,{"$f":"$I$314","v":0},null,null,85.93186372745491,{"$f":"$K$314","v":0}]
[{"$nulls":6},86.25250501002003,{"$f":"$I$315","v":0},null,null,86.25250501002003,{"$f":"$K$315","v":0}]
[{"$nulls":6},86.573146292585164,{"$f":"$I$316","v":0},null,null,86.573146292585164,{"$f":"$K$316","v":0}]
[{"$nulls":6},86.893787575150299,{"$f":"$I$317","v":0},null,null,86.893787575150299,{"$f":"$K$317","v":0}]
[{"$nulls":6},87.214428857715433,{"$f":"$I$318","v":0},null,null,87.214428857715433,{"$f":"$K$318","v":0}]
[{"$nulls":6},87.535070140280553,{"$f":"$I$319","v":0},null,null,87.535070140280553,{"$f":"$K$319","v":0}]
[{"$nulls":6},87.855711422845687,{"$f":"$I$320","v":0},null,null,87.855711422845687,{"$f":"$K$320","v":0}]
[{"$nulls":6},88.176352705410821,{"$f":"$I$321","v":0},null,null,88.176352705410821,{"$f":"$K$321","v":0}]
[{"$nulls":6},88.496993987975955,{"$f":"$I$322","v":0},null,null,88.496993987975955,{"$f":"$K$322","v":0}]
[{"$nulls":6},88.817635270541075,{"$f":"$I$323","v":0},null,null,88.817635270541075,{"$f":"$K$323","v":0}]
[{"$nulls":6},89.138276553106209,{"$f":"$I$324","v":0},null,null,89.138276553106209,{"$f":"$K$324","v":0}]
[{"$nulls":6},89.458917835671343,{"$f":"$I$325","v":0},null,null,89.458917835671343,{"$f":"$K$325","v":0}]
[{"$nulls":6},89.779559118236463,{"$f":"$I$326","v":0},null,null,89.779559118236463,{"$f":"$K$326","v":0}]
[{"$nulls":6},90.100200400801597,{"$f":"$I$327","v":0},null,null,90.100200400801597,{"$f":"$K$327","v":0}]
[{"$nulls":6},90.420841683366731,{"$f":"$I$328","v":0},null,null,90.420841683366731,{"$f":"$K$328","v":0}]
[{"$nulls":6},90.741482965931866,{"$f":"$I$329","v":0},null,null,90.741482965931866,{"$f":"$K$329","v":0}]
[{"$nulls":6},91.062124248496986,{"$f":"$I$330","v":0},null,null,91.062124248496986,{"$f":"$K$330","v":0}]
[{"$nulls":6},91.38276553106212,{"$f":"$I$331","v":0},null,null,91.38276553106212,{"$f":"$K$331","v":0}]
[{"$nulls":6},91.703406813627254,{"$f":"$I$332","v":0},null,null,91.703406813627254,{"$f":"$K$332","v":0}]
[{"$nulls":6},92.024048096192388,{"$f":"$I$333","v":0},null,null,92.024048096192388,{"$f":"$K$333","v":0}]
[{"$nulls":6},92.344689378757508,{"$f":"$I$334","v":0},null,null,92.344689378757508,{"$f":"$K$334","v":0}]
[{"$nulls":6},92.665330661322642,{"$f":"$I$335","v":0},null,null,92.665330661322642,{"$f":"$K$335","v":0}]
[{"$nulls":6},92.985971943887776,{"$f":"$I$336","v":0},null,null,92.985971943887776,{"$f":"$K$336","v":0}]
[{"$nulls":6},93.306613226452896,{"$f":"$I$337","v":0},null,null,93.306613226452896,{"$f":"$K$337","v":0}]
[{"$nulls":6},93.62725450901803,{"$f":"$I$338","v":0},null,null,93.62725450901803,{"$f":"$K$338","v":0}]
[{"$nulls":6},93.947895791583164,{"$f":"$I$339","v":0},null,null,93.947895791583164,{"$f":"$K$339","v":0}]
[{"$nulls":6},94.268537074148298,{"$f":"$I$340","v":0},null,null,94.268537074148298,{"$f":"$K$340","v":0}]
[{"$nulls":6},94.589178356713418,{"$f":"$I$341","v":0},null,null,94.589178356713418,{"$f":"$K$341","v":0}]
[{"$nulls":6},94.909819639278552,{"$f":"$I$342","v":0},null,null,94.909819639278552,{"$f":"$K$342","v":0}]
[{"$nulls":6},95.230460921843687,{"$f":"$I$343","v":0},null,null,95.230460921843687,{"$f":"$K$343","v":0}]
[{"$nulls":6},95.551102204408821,{"$f":"$I$344","v":0},null,null,95.551102204408821,{"$f":"$K$344","v":0}]
[{"$nulls":6},95.871743486973941,{"$f":"$I$345","v":0},null,null,95.871743486973941,{"$f":"$K$345","v":0}]
[{"$nulls":6},96.192384769539075,{"$f":"$I$346","v":0},null,null,96.192384769539075,{"$f":"$K$346","v":0}]
[{"$nulls":6},96.513026052104209,{"$f":"$I$347","v":0},null,null,96.513026052104209,{"$f":"$K$347","v":0}]
[{"$nulls":6},96.833667334669329,{"$f":"$I$348","v":0},null,null,96.833667334669329,{"$f":"$K$348","v":0}]
[{"$nulls":6},97.154308617234463,{"$f":"$I$349","v":0},null,null,97.154308617234463,{"$f":"$K$349","v":0}]
[{"$nulls":6},97.474949899799597,{"$f":"$I$350","v":0},null,null,97.474949899799597,{"$f":"$K$350","v":0}]
[{"$nulls":6},97.795591182364731,{"$f":"$I$351","v":0},null,null,97.795591182364731,{"$f":"$K$351","v":0}]
[{"$nulls":6},98.116232464929851,{"$f":"$I$352","v":0},null,null,98.116232464929851,{"$f":"$K$352","v":0}]
[{"$nulls":6},98.436873747494985,{"$f":"$I$353","v":0},null,null,98.436873747494985,{"$f":"$K$353","v":0}]
[{"$nulls":6},98.757515030060119,{"$f":"$I$354","v":0},null,null,98.757515030060119,{"$f":"$K$354","v":0}]
[{"$nulls":6},99.078156312625254,{"$f":"$I$355","v":0},null,null,99.078156312625254,{"$f":"$K$355","v":0}]
[{"$nulls":6},99.398797595190373,{"$f":"$I$356","v":0},null,null,99.398797595190373,{"$f":"$K$356","v":0}]
[{"$nulls":6},99.719438877755508,{"$f":"$I$357","v":0},null,null,99.719438877755508,{"$f":"$K$357","v":0}]
[{"$nulls":6},100.04008016032064,{"$f":"$I$358","v":0},null,null,100.04008016032064,{"$f":"$K$358","v":0}]
[{"$nulls":6},100.36072144288576,{"$f":"$I$359","v":0},null,null,100.36072144288576,{"$f":"$K$359","v":0}]
[{"$nulls":6},100.6813627254509,{"$f":"$I$360","v":0},null,null,100.6813627254509,{"$f":"$K$360","v":0}]
[{"$nulls":6},101.00200400801603,{"$f":"$I$361","v":0},null,null,101.00200400801603,{"$f":"$K$361","v":0}]
[{"$nulls":6},101.32264529058116,{"$f":"$I$362","v":0},null,null,101.32264529058116,{"$f":"$K$362","v":0}]
[{"$nulls":6},101.64328657314628,{"$f":"$I$363","v":0},null,null,101.64328657314628,{"$f":"$K$363","v":0}]
[{"$nulls":6},101.96392785571142,{"$f":"$I$364","v":0},null,null,101.96392785571142,{"$f":"$K$364","v":0}]
[{"$nulls":6},102.28456913827655,{"$f":"$I$365","v":0},null,null,102.28456913827655,{"$f":"$K$365","v":0}]
[{"$nulls":6},102.60521042084167,{"$f":"$I$366","v":0},null,null,102.60521042084167,{"$f":"$K$366","v":0}]
[{"$nulls":6},102.92585170340681,{"$f":"$I$367","v":0},null,null,102.92585170340681,{"$f":"$K$367","v":0}]
[{"$nulls":6},103.24649298597194,{"$f":"$I$368","v":0},null,null,103.24649298597194,{"$f":"$K$368","v":0}]
[{"$nulls":6},103.56713426853707,{"$f":"$I$369","v":0},null,null,103.56713426853707,{"$f":"$K$369","v":0}]
[{"$nulls":6},103.88777555110219,{"$f":"$I$370","v":0},null,null,103.88777555110219,{"$f":"$K$370","v":0}]
[{"$nulls":6},104.20841683366733,{"$f":"$I$371","v":0},null,null,104.20841683366733,{"$f":"$K$371","v":0}]
[{"$nulls":6},104.52905811623246,{"$f":"$I$372","v":0},null,null,104.52905811623246,{"$f":"$K$372","v":0}]
[{"$nulls":6},104.8496993987976,{"$f":"$I$373","v":0},null,null,104.8496993987976,{"$f":"$K$373","v":0}]
[{"$nulls":6},105.17034068136272,{"$f":"$I$374","v":0},null,null,105.17034068136272,{"$f":"$K$374","v":0}]
[{"$nulls":6},105.49098196392785,{"$f":"$I$375","v":0},null,null,105.49098196392785,{"$f":"$K$375","v":0}]
[{"$nulls":6},105.81162324649299,{"$f":"$I$376","v":0},null,null,105.81162324649299,{"$f":"$K$376","v":0}]
[{"$nulls":6},106.13226452905811,{"$f":"$I$377","v":0},null,null,106.13226452905811,{"$f":"$K$377","v":0}]
[{"$nulls":6},106.45290581162324,{"$f":"$I$378","v":0},null,null,106.45290581162324,{"$f":"$K$378","v":0}]
[{"$nulls":6},106.77354709418837,{"$f":"$I$379","v":0},null,null,106.77354709418837,{"$f":"$K$379","v":0}]
[{"$nulls":6},107.09418837675351,{"$f":"$I$380","v":0},null,null,107.09418837675351,{"$f":"$K$380","v":0}]
[{"$nulls":6},107.41482965931863,{"$f":"$I$381","v":0},null,null,107.41482965931863,{"$f":"$K$381","v":0}]
[{"$nulls":6},107.73547094188376,{"$f":"$I$382","v":0},null,null,107.73547094188376,{"$f":"$K$382","v":0}]
[{"$nulls":6},108.0561122244489,{"$f":"$I$383","v":0},null,null,108.0561122244489,{"$f":"$K$383","v":0}]
[{"$nulls":6},108.37675350701403,{"$f":"$I$384","v":0},null,null,108.37675350701403,{"$f":"$K$384","v":0}]
[{"$nulls":6},108.69739478957915,{"$f":"$I$385","v":0},null,null,108.69739478957915,{"$f":"$K$385","v":0}]
[{"$nulls":6},109.01803607214428,{"$f":"$I$386","v":0},null,null,109.01803607214428,{"$f":"$K$386","v":0}]
[{"$nulls":6},109.33867735470942,{"$f":"$I$387","v":0},null,null,109.33867735470942,{"$f":"$K$387","v":0}]
[{"$nulls":6},109.65931863727454,{"$f":"$I$388","v":0},null,null,109.65931863727454,{"$f":"$K$388","v":0}]
[{"$nulls":6},109.97995991983967,{"$f":"$I$389","v":0},null,null,109.97995991983967,{"$f":"$K$389","v":0}]
[{"$nulls":6},110.30060120240481,{"$f":"$I$390","v":0},null,null,110.30060120240481,{"$f":"$K$390","v":0}]
[{"$nulls":6},110.62124248496994,{"$f":"$I$391","v":0},null,null,110.62124248496994,{"$f":"$K$391","v":0}]
[{"$nulls":6},110.94188376753506,{"$f":"$I$392","v":0},null,null,110.94188376753506,{"$f":"$K$392","v":0}]
[{"$nulls":6},111.26252505010019,{"$f":"$I$393","v":0},null,null,111.26252505010019,{"$f":"$K$393","v":0}]
[{"$nulls":6},111.58316633266533,{"$f":"$I$394","v":0},null,null,111.58316633266533,{"$f":"$K$394","v":0}]
[{"$nulls":6},111.90380761523046,{"$f":"$I$395","v":0},null,null,111.90380761523046,{"$f":"$K$395","v":0}]
[{"$nulls":6},112.22444889779558,{"$f":"$I$396","v":0},null,null,112.22444889779558,{"$f":"$K$396","v":0}]
[{"$nulls":6},112.54509018036072,{"$f":"$I$397","v":0},null,null,112.54509018036072,{"$f":"$K$397","v":0}]
[{"$nulls":6},112.86573146292585,{"$f":"$I$398","v":0},null,null,112.86573146292585,{"$f":"$K$398","v":0}]
[{"$nulls":6},113.18637274549097,{"$f":"$I$399","v":0},null,null,113.18637274549097,{"$f":"$K$399","v":0}]
[{"$nulls":6},113.5070140280561,{"$f":"$I$400","v":0},null,null,113.5070140280561,{"$f":"$K$400","v":0}]
[{"$nulls":6},113.82765531062124,{"$f":"$I$401","v":0},null,null,113.82765531062124,{"$f":"$K$401","v":0}]
[{"$nulls":6},114.14829659318637,{"$f":"$I$402","v":0},null,null,114.14829659318637,{"$f":"$K$402","v":0}]
[{"$nulls":6},114.46893787575149,{"$f":"$I$403","v":0},null,null,114.46893787575149,{"$f":"$K$403","v":0}]
[{"$nulls":6},114.78957915831663,{"$f":"$I$404","v":0},null,null,114.78957915831663,{"$f":"$K$404","v":0}]
[{"$nulls":6},115.11022044088176,{"$f":"$I$405","v":0},null,null,115.11022044088176,{"$f":"$K$405","v":0}]
[{"$nulls":6},115.4308617234469,{"$f":"$I$406","v":0},null,null,115.4308617234469,{"$f":"$K$406","v":0}]
[{"$nulls":6},115.75150300601202,{"$f":"$I$407","v":0},null,null,115.75150300601202,{"$f":"$K$407","v":0}]
[{"$nulls":6},116.07214428857715,{"$f":"$I$408","v":0},null,null,116.07214428857715,{"$f":"$K$408","v":0}]
[{"$nulls":6},116.39278557114228,{"$f":"$I$409","v":0},null,null,116.39278557114228,{"$f":"$K$409","v":0}]
[{"$nulls":6},116.7134268537074,{"$f":"$I$410","v":0},null,null,116.7134268537074,{"$f":"$K$410","v":0}]
[{"$nulls":6},117.03406813627254,{"$f":"$I$411","v":0},null,null,117.03406813627254,{"$f":"$K$411","v":0}]
[{"$nulls":6},117.35470941883767,{"$f":"$I$412","v":0},null,null,117.35470941883767,{"$f":"$K$412","v":0}]
[{"$nulls":6},117.67535070140281,{"$f":"$I$413","v":0},null,null,117.67535070140281,{"$f":"$K$413","v":0}]
[{"$nulls":6},117.99599198396793,{"$f":"$I$414","v":0},null,null,117.99599198396793,{"$f":"$K$414","v":0}]
[{"$nulls":6},118.31663326653306,{"$f":"$I$415","v":0},null,null,118.31663326653306,{"$f":"$K$415","v":0}]
[{"$nulls":6},118.63727454909819,{"$f":"$I$416","v":0},null,null,118.63727454909819,{"$f":"$K$416","v":0}]
[{"$nulls":6},118.95791583166333,{"$f":"$I$417","v":0},null,null,118.95791583166333,{"$f":"$K$417","v":0}]
[{"$nulls":6},119.27855711422845,{"$f":"$I$418","v":0},null,null,119.27855711422845,{"$f":"$K$418","v":0}]
[{"$nulls":6},119.59919839679358,{"$f":"$I$419","v":0},null,null,119.59919839679358,{"$f":"$K$419","v":0}]
[{"$nulls":6},119.91983967935872,{"$f":"$I$420","v":0},null,null,119.91983967935872,{"$f":"$K$420","v":0}]
[{"$nulls":6},120.24048096192384,{"$f":"$I$421","v":0},null,null,120.24048096192384,{"$f":"$K$421","v":0}]
[{"$nulls":6},120.56112224448897,{"$f":"$I$422","v":0},null,null,120.56112224448897,{"$f":"$K$422","v":0}]
[{"$nulls":6},120.8817635270541,{"$f":"$I$423","v":0},null,null,120.8817635270541,{"$f":"$K$423","v":0}]
[{"$nulls":6},121.20240480961924,{"$f":"$I$424","v":0},null,null,121.20240480961924,{"$f":"$K$424","v":0}]
[{"$nulls":6},121.52304609218436,{"$f":"$I$425","v":0},null,null,121.52304609218436,{"$f":"$K$425","v":0}]
[{"$nulls":6},121.84368737474949,{"$f":"$I$426","v":0},null,null,121.84368737474949,{"$f":"$K$426","v":0}]
[{"$nulls":6},122.16432865731463,{"$f":"$I$427","v":0},null,null,122.16432865731463,{"$f":"$K$427","v":0}]
[{"$nulls":6},122.48496993987976,{"$f":"$I$428","v":0},null,null,122.48496993987976,{"$f":"$K$428","v":0}]
[{"$nulls":6},122.80561122244488,{"$f":"$I$429","v":0},null,null,122.80561122244488,{"$f":"$K$429","v":0}]
[{"$nulls":6},123.12625250501002,{"$f":"$I$430","v":0},null,null,123.12625250501002,{"$f":"$K$430","v":0}]
[{"$nulls":6},123.44689378757515,{"$f":"$I$431","v":0},null,null,123.44689378757515,{"$f":"$K$431","v":0}]
[{"$nulls":6},123.76753507014027,{"$f":"$I$432","v":0},null,null,123.76753507014027,{"$f":"$K$432","v":0}]
[{"$nulls":6},124.0881763527054,{"$f":"$I$433","v":0},null,null,124.0881763527054,{"$f":"$K$433","v":0}]
[{"$nulls":6},124.40881763527054,{"$f":"$I$434","v":0},null,null,124.40881763527054,{"$f":"$K$434","v":0}]
[{"$nulls":6},124.72945891783567,{"$f":"$I$435","v":0},null,null,124.72945891783567,{"$f":"$K$435","v":0}]
[{"$nulls":6},125.05010020040079,{"$f":"$I$436","v":0},null,null,125.05010020040079,{"$f":"$K$436","v":0}]
[{"$nulls":6},125.37074148296593,{"$f":"$I$437","v":0},null,null,125.37074148296593,{"$f":"$K$437","v":0}]
[{"$nulls":6},125.69138276553106,{"$f":"$I$438","v":0},null,null,125.69138276553106,{"$f":"$K$438","v":0}]
[{"$nulls":6},126.01202404809619,{"$f":"$I$439","v":0},null,null,126.01202404809619,{"$f":"$K$439","v":0}]
[{"$nulls":6},126.33266533066131,{"$f":"$I$440","v":0},null,null,126.33266533066131,{"$f":"$K$440","v":0}]
[{"$nulls":6},126.65330661322645,{"$f":"$I$441","v":0},null,null,126.65330661322645,{"$f":"$K$441","v":0}]
[{"$nulls":6},126.97394789579158,{"$f":"$I$442","v":0},null,null,126.97394789579158,{"$f":"$K$442","v":0}]
[{"$nulls":6},127.2945891783567,{"$f":"$I$443","v":0},null,null,127.2945891783567,{"$f":"$K$443","v":0}]
[{"$nulls":6},127.61523046092184,{"$f":"$I$444","v":0},null,null,127.61523046092184,{"$f":"$K$444","v":0}]
[{"$nulls":6},127.93587174348697,{"$f":"$I$445","v":0},null,null,127.93587174348697,{"$f":"$K$445","v":0}]
[{"$nulls":6},128.25651302605209,{"$f":"$I$446","v":0},null,null,128.25651302605209,{"$f":"$K$446","v":0}]
[{"$nulls":6},128.57715430861722,{"$f":"$I$447","v":0},null,null,128.57715430861722,{"$f":"$K$447","v":0}]
[{"$nulls":6},128.89779559118236,{"$f":"$I$448","v":0},null,null,128.89779559118236,{"$f":"$K$448","v":0}]
[{"$nulls":6},129.21843687374749,{"$f":"$I$449","v":0},null,null,129.21843687374749,{"$f":"$K$449","v":0}]
[{"$nulls":6},129.53907815631263,{"$f":"$I$450","v":0},null,null,129.53907815631263,{"$f":"$K$450","v":0}]
[{"$nulls":6},129.85971943887776,{"$f":"$I$451","v":0},null,null,129.85971943887776,{"$f":"$K$451","v":0}]
[{"$nulls":6},130.18036072144287,{"$f":"$I$452","v":0},null,null,130.18036072144287,{"$f":"$K$452","v":0}]
[{"$nulls":6},130.501002004008,{"$f":"$I$453","v":0},null,null,130.501002004008,{"$f":"$K$453","v":0}]
[{"$nulls":6},130.82164328657313,{"$f":"$I$454","v":0},null,null,130.82164328657313,{"$f":"$K$454","v":0}]
[{"$nulls":6},131.14228456913827,{"$f":"$I$455","v":0},null,null,131.14228456913827,{"$f":"$K$455","v":0}]
[{"$nulls":6},131.4629258517034,{"$f":"$I$456","v":0},null,null,131.4629258517034,{"$f":"$K$456","v":0}]
[{"$nulls":6},131.78356713426854,{"$f":"$I$457","v":0},null,null,131.78356713426854,{"$f":"$K$457","v":0}]
[{"$nulls":6},132.10420841683367,{"$f":"$I$458","v":0},null,null,132.10420841683367,{"$f":"$K$458","v":0}]
[{"$nulls":6},132.42484969939881,{"$f":"$I$459","v":0},null,null,132.42484969939881,{"$f":"$K$459","v":0}]
[{"$nulls":6},132.74549098196391,{"$f":"$I$460","v":0},null,null,132.74549098196391,{"$f":"$K$460","v":0}]
[{"$nulls":6},133.06613226452905,{"$f":"$I$461","v":0},null,null,133.06613226452905,{"$f":"$K$461","v":0}]
[{"$nulls":6},133.38677354709418,{"$f":"$I$462","v":0},null,null,133.38677354709418,{"$f":"$K$462","v":0}]
[{"$nulls":6},133.70741482965931,{"$f":"$I$463","v":0},null,null,133.70741482965931,{"$f":"$K$463","v":0}]
[{"$nulls":6},134.02805611222445,{"$f":"$I$464","v":0},null,null,134.02805611222445,{"$f":"$K$464","v":0}]
[{"$nulls":6},134.34869739478958,{"$f":"$I$465","v":0},null,null,134.34869739478958,{"$f":"$K$465","v":0}]
[{"$nulls":6},134.66933867735472,{"$f":"$I$466","v":0},null,null,134.66933867735472,{"$f":"$K$466","v":0}]
[{"$nulls":6},134.98997995991982,{"$f":"$I$467","v":0},null,null,134.98997995991982,{"$f":"$K$467","v":0}]
[{"$nulls":6},135.31062124248496,{"$f":"$I$468","v":0},null,null,135.31062124248496,{"$f":"$K$468","v":0}]
[{"$nulls":6},135.63126252505009,{"$f":"$I$469","v":0},null,null,135.63126252505009,{"$f":"$K$469","v":0}]
[{"$nulls":6},135.95190380761522,{"$f":"$I$470","v":0},null,null,135.95190380761522,{"$f":"$K$470","v":0}]
[{"$nulls":6},136.27254509018036,{"$f":"$I$471","v":0},null,null,136.27254509018036,{"$f":"$K$471","v":0}]
[{"$nulls":6},136.59318637274549,{"$f":"$I$472","v":0},null,null,136.59318637274549,{"$f":"$K$472","v":0}]
[{"$nulls":6},136.91382765531063,{"$f":"$I$473","v":0},null,null,136.91382765531063,{"$f":"$K$473","v":0}]
[{"$nulls":6},137.23446893787573,{"$f":"$I$474","v":0},null,null,137.23446893787573,{"$f":"$K$474","v":0}]
[{"$nulls":6},137.55511022044087,{"$f":"$I$475","v":0},null,null,137.55511022044087,{"$f":"$K$475","v":0}]
[{"$nulls":6},137.875751503006,{"$f":"$I$476","v":0},null,null,137.875751503006,{"$f":"$K$476","v":0}]
[{"$nulls":6},138.19639278557113,{"$f":"$I$477","v":0},null,null,138.19639278557113,{"$f":"$K$477","v":0}]
[{"$nulls":6},138.51703406813627,{"$f":"$I$478","v":0},null,null,138.51703406813627,{"$f":"$K$478","v":0}]
[{"$nulls":6},138.8376753507014,{"$f":"$I$479","v":0},null,null,138.8376753507014,{"$f":"$K$479","v":0}]
[{"$nulls":6},139.15831663326654,{"$f":"$I$480","v":0},null,null,139.15831663326654,{"$f":"$K$480","v":0}]
[{"$nulls":6},139.47895791583167,{"$f":"$I$481","v":0},null,null,139.47895791583167,{"$f":"$K$481","v":0}]
[{"$nulls":6},139.79959919839678,{"$f":"$I$482","v":0},null,null,139.79959919839678,{"$f":"$K$482","v":0}]
[{"$nulls":6},140.12024048096191,{"$f":"$I$483","v":0},null,null,140.12024048096191,{"$f":"$K$483","v":0}]
[{"$nulls":6},140.44088176352705,{"$f":"$I$484","v":0},null,null,140.44088176352705,{"$f":"$K$484","v":0}]
[{"$nulls":6},140.76152304609218,{"$f":"$I$485","v":0},null,null,140.76152304609218,{"$f":"$K$485","v":0}]
[{"$nulls":6},141.08216432865731,{"$f":"$I$486","v":0},null,null,141.08216432865731,{"$f":"$K$486","v":0}]
[{"$nulls":6},141.40280561122245,{"$f":"$I$487","v":0},null,null,141.40280561122245,{"$f":"$K$487","v":0}]
[{"$nulls":6},141.72344689378758,{"$f":"$I$488","v":0},null,null,141.72344689378758,{"$f":"$K$488","v":0}]
[{"$nulls":6},142.04408817635269,{"$f":"$I$489","v":0},null,null,142.04408817635269,{"$f":"$K$489","v":0}]
[{"$nulls":6},142.36472945891782,{"$f":"$I$490","v":0},null,null,142.36472945891782,{"$f":"$K$490","v":0}]
[{"$nulls":6},142.68537074148296,{"$f":"$I$491","v":0},null,null,142.68537074148296,{"$f":"$K$491","v":0}]
[{"$nulls":6},143.00601202404809,{"$f":"$I$492","v":0},null,null,143.00601202404809,{"$f":"$K$492","v":0}]
[{"$nulls":6},143.32665330661322,{"$f":"$I$493","v":0},null,null,143.32665330661322,{"$f":"$K$493","v":0}]
[{"$nulls":6},143.64729458917836,{"$f":"$I$494","v":0},null,null,143.64729458917836,{"$f":"$K$494","v":0}]
[{"$nulls":6},143.96793587174349,{"$f":"$I$495","v":0},null,null,143.96793587174349,{"$f":"$K$495","v":0}]
[{"$nulls":6},144.2885771543086,{"$f":"$I$496","v":0},null,null,144.2885771543086,{"$f":"$K$496","v":0}]
[{"$nulls":6},144.60921843687373,{"$f":"$I$497","v":0},null,null,144.60921843687373,{"$f":"$K$497","v":0}]
[{"$nulls":6},144.92985971943887,{"$f":"$I$498","v":0},null,null,144.92985971943887,{"$f":"$K$498","v":0}]
[{"$nulls":6},145.250501002004,{"$f":"$I$499","v":0},null,null,145.250501002004,{"$f":"$K$499","v":0}]
[{"$nulls":6},145.57114228456913,{"$f":"$I$500","v":0},null,null,145.57114228456913,{"$f":"$K$500","v":0}]
[{"$nulls":6},145.89178356713427,{"$f":"$I$501","v":0},null,null,145.89178356713427,{"$f":"$K$501","v":0}]
[{"$nulls":6},146.2124248496994,{"$f":"$I$502","v":0},null,null,146.2124248496994,{"$f":"$K$502","v":0}]
[{"$nulls":6},146.53306613226454,{"$f":"$I$503","v":0},null,null,146.53306613226454,{"$f":"$K$503","v":0}]
[{"$nulls":6},146.85370741482964,{"$f":"$I$504","v":0},null,null,146.85370741482964,{"$f":"$K$504","v":0}]
[{"$nulls":6},147.17434869739478,{"$f":"$I$505","v":0},null,null,147.17434869739478,{"$f":"$K$505","v":0}]
[{"$nulls":6},147.49498997995991,{"$f":"$I$506","v":0},null,null,147.49498997995991,{"$f":"$K$506","v":0}]
[{"$nulls":6},147.81563126252505,{"$f":"$I$507","v":0},null,null,147.81563126252505,{"$f":"$K$507","v":0}]
[{"$nulls":6},148.13627254509018,{"$f":"$I$508","v":0},null,null,148.13627254509018,{"$f":"$K$508","v":0}]
[{"$nulls":6},148.45691382765531,{"$f":"$I$509","v":0},null,null,148.45691382765531,{"$f":"$K$509","v":0}]
[{"$nulls":6},148.77755511022045,{"$f":"$I$510","v":0},null,null,148.77755511022045,{"$f":"$K$510","v":0}]
[{"$nulls":6},149.09819639278555,{"$f":"$I$511","v":0},null,null,149.09819639278555,{"$f":"$K$511","v":0}]
[{"$nulls":6},149.41883767535069,{"$f":"$I$512","v":0},null,null,149.41883767535069,{"$f":"$K$512","v":0}]
[{"$nulls":6},149.73947895791582,{"$f":"$I$513","v":0},null,null,149.73947895791582,{"$f":"$K$513","v":0}]
[{"$nulls":6},150.06012024048096,{"$f":"$I$514","v":0},null,null,150.06012024048096,{"$f":"$K$514","v":0}]
[{"$nulls":6},150.38076152304609,{"$f":"$I$515","v":0},null,null,150.38076152304609,{"$f":"$K$515","v":0}]
[{"$nulls":6},150.70140280561122,{"$f":"$I$516","v":0},null,null,150.70140280561122,{"$f":"$K$516","v":0}]
[{"$nulls":6},151.02204408817636,{"$f":"$I$517","v":0},null,null,151.02204408817636,{"$f":"$K$517","v":0}]
[{"$nulls":6},151.34268537074146,{"$f":"$I$518","v":0},null,null,151.34268537074146,{"$f":"$K$518","v":0}]
[{"$nulls":6},151.6633266533066,{"$f":"$I$519","v":0},null,null,151.6633266533066,{"$f":"$K$519","v":0}]
[{"$nulls":6},151.98396793587173,{"$f":"$I$520","v":0},null,null,151.98396793587173,{"$f":"$K$520","v":0}]
[{"$nulls":6},152.30460921843687,{"$f":"$I$521","v":0},null,null,152.30460921843687,{"$f":"$K$521","v":0}]
[{"$nulls":6},152.625250501002,{"$f":"$I$522","v":0},null,null,152.625250501002,{"$f":"$K$522","v":0}]
[{"$nulls":6},152.94589178356713,{"$f":"$I$523","v":0},null,null,152.94589178356713,{"$f":"$K$523","v":0}]
[{"$nulls":6},153.26653306613227,{"$f":"$I$524","v":0},null,null,153.26653306613227,{"$f":"$K$524","v":0}]
[{"$nulls":6},153.5871743486974,{"$f":"$I$525","v":0},null,null,153.5871743486974,{"$f":"$K$525","v":0}]
[{"$nulls":6},153.90781563126251,{"$f":"$I$526","v":0},null,null,153.90781563126251,{"$f":"$K$526","v":0}]
[{"$nulls":6},154.22845691382764,{"$f":"$I$527","v":0},null,null,154.22845691382764,{"$f":"$K$527","v":0}]
[{"$nulls":6},154.54909819639278,{"$f":"$I$528","v":0},null,null,154.54909819639278,{"$f":"$K$528","v":0}]
[{"$nulls":6},154.86973947895791,{"$f":"$I$529","v":0},null,null,154.86973947895791,{"$f":"$K$529","v":0}]
[{"$nulls":6},155.19038076152304,{"$f":"$I$530","v":0},null,null,155.19038076152304,{"$f":"$K$530","v":0}]
[{"$nulls":6},155.51102204408818,{"$f":"$I$531","v":0},null,null,155.51102204408818,{"$f":"$K$531","v":0}]
[{"$nulls":6},155.83166332665331,{"$f":"$I$532","v":0},null,null,155.83166332665331,{"$f":"$K$532","v":0}]
[{"$nulls":6},156.15230460921842,{"$f":"$I$533","v":0},null,null,156.15230460921842,{"$f":"$K$533","v":0}]
[{"$nulls":6},156.47294589178355,{"$f":"$I$534","v":0},null,null,156.47294589178355,{"$f":"$K$534","v":0}]
[{"$nulls":6},156.79358717434869,{"$f":"$I$535","v":0},null,null,156.79358717434869,{"$f":"$K$535","v":0}]
[{"$nulls":6},157.11422845691382,{"$f":"$I$536","v":0},null,null,157.11422845691382,{"$f":"$K$536","v":0}]
[{"$nulls":6},157.43486973947896,{"$f":"$I$537","v":0},null,null,157.43486973947896,{"$f":"$K$537","v":0}]
[{"$nulls":6},157.75551102204409,{"$f":"$I$538","v":0},null,null,157.75551102204409,{"$f":"$K$538","v":0}]
[{"$nulls":6},158.07615230460922,{"$f":"$I$539","v":0},null,null,158.07615230460922,{"$f":"$K$539","v":0}]
[{"$nulls":6},158.39679358717433,{"$f":"$I$540","v":0},null,null,158.39679358717433,{"$f":"$K$540","v":0}]
[{"$nulls":6},158.71743486973946,{"$f":"$I$541","v":0},null,null,158.71743486973946,{"$f":"$K$541","v":0}]
[{"$nulls":6},159.0380761523046,{"$f":"$I$542","v":0},null,null,159.0380761523046,{"$f":"$K$542","v":0}]
[{"$nulls":6},159.35871743486973,{"$f":"$I$543","v":0},null,null,159.35871743486973,{"$f":"$K$543","v":0}]
[{"$nulls":6},159.67935871743487,{"$f":"$I$544","v":0},null,null,159.67935871743487,{"$f":"$K$544","v":0}]
[{"$nulls":6},160,{"$f":"$I$545","v":0},null,null,160,{"$f":"$K$545","v":0}]
[]
[{"$nulls":7},{"$f":"1E-200","v":9.9999999999999998E-201},null,null,null,{"$f":"1E-200","v":9.9999999999999998E-201}]

{"sheet":"Night club, active staff","index":5,"n_rows":64,"n_cols":2,"rows_kept":64,"cut":false,"hidden":false,"merged":[[0,0,0,1],[1,4,1,5]]}
["Nightclub - Active staff"]
["Individual","Pre-movement time"]
["Person 1",27]
["Person 2",61]
["Person 3",66]
["Person 4",55]
["Person 5",36]
["Person 6",36]
["Person 7",40]
["Person 8",71]
["Person 9",61]
["Person 10",49]
["Person 11",68]
["Person 12",54]
["Person 13",57]
["Person 14",44]
["Person 15",20]
["Person 16",49]
["Person 17",49]
["Person 18",61]
["Person 19",53]
["Person 20",50]
["Person 21",41]
["Person 22",68]
["Person 23",65]
["Person 24",20]
["Person 25",87]
["Person 26",85]
["Person 27",67]
["Person 28",50]
["Person 29",70]
["Person 30",35]
["Person 31",34]
["Person 32",34]
["Person 33",47]
["Person 34",84]
["Person 35",86]
["Person 36",53]
["Person 37",44]
["Person 38",30]
["Person 39",51]
["Person 40",52]
["Person 41",32]
["Person 42",32]
["Person 43",34]
["Person 44",54]
["Person 45",28]
["Person 46",28]
["Person 47",28]
["Person 48",28]
["Person 49",44]
["Person 50",44]
["Person 51",41]
["Person 52",41]
["Person 53",61]
["Person 54",61]
["Person 55",61]
["Person 56",61]
["Person 57",11]
["Person 58",11]
["Person 59",11]
["Person 60",21]
["Person 61",23]
["Person 62",27]

{"sheet":"_@RISKFitInformation","index":6,"n_rows":50,"n_cols":16,"rows_kept":50,"cut":false,"hidden":true,"merged":[]}
["Created By Version","7.0.1"]
["Required Version","5.0.0"]
["Recommended Version","6.0.0"]
["Modified By Version","7.5.1"]
[]
[]
[]
[]
["Count",40]
["GUID","Name","Range","CRC","Options","Comp. Graph Serialization","PP Graph Serialization","QQ Graph Serialization","Unsued","Fixed Params","Bootstrap Options","BootstrapParamGraphSerialization","BatchFit Options","BootstrapGOFGraphSerialization","FitSelector"]
["FIT_12A85_D61B4","Tolkning",{"$f":"'Cinema, voice alarm'!$B$3:$B$902","v":13},0,"F1\t0\t0\t-1E+300\t 1E+300\t 1\t0\t3\t 0\t1\t 1\t10\tBinomial\tGeomet\tIntUniform\tLogistic\tLogLogistic\tNegBin\tNormal\tPoisson\tTriang\tUniform\t0\t1\t-1\t1\t 0\t 1\t0\t0\t0","GF1_rK0qDwEAEADMAQwjACYANAB1AIMAhACnALUAqAHIAcIBKgCkIwAAAAAAAQQAAAAAAAAAAAAbRml0IENvbXBhcmlzb24gZm9yIFRvbGtuaW5nASBSaXNrTG9nbG9naXN0aWMoMDsyNSw1NzE7NSwzMTExKQEBCgACAAEETm9uZQMBAQCkAQEBAQEAAQAAAAAAAAAAAAAAAAAAgGFAAQgAAAABAAQAAQABAQEBAQABAQEABAAAAArUAAHjAAD4AAAOAQAkAQA6AQBQAQBmAQB8AQCSAQANAAVJbnB1dAAAJQEBAgATAAtMb2dsb2dpc3RpYwABLwEAAgAUAAxVbnVzZWQgQ3VydmUAAk8BAAIAFAAMVW51c2VkIEN1cnZlAAOMAQACABQADFVudXNlZCBDdXJ2ZQAETAEAAgAUAAxVbnVzZWQgQ3VydmUABTkBAAIAFAAMVW51c2VkIEN1cnZlAAZOAQACABQADFVudXNlZCBDdXJ2ZQAHIwEAAgAUAAxVbnVzZWQgQ3VydmUACCkBAAIAFAAMVW51c2VkIEN1cnZlAAlgAQACALABuQEAAQIBAAAAAAAAAAABAAAAAAAA8H8BBQABAQEAAQEBAA==",null,null,null," 0\t 8\t\t\t\t\t\t\t\t","F1\t0\t 1000\t .95",null,null,null,4,true]
["FIT_E0E12_DA626","Respons",{"$f":"'Cinema, voice alarm'!$C$3:$C$902","v":25},0,"F1\t0\t0\t-1E+300\t 1E+300\t 1\t0\t3\t 0\t1\t 1\t10\tBinomial\tGamma\tGeomet\tIntUniform\tLogistic\tNegBin\tNormal\tPoisson\tTriang\tUniform\t0\t1\t-1\t1\t 0\t 1\t0\t0\t0","GF1_rK0qDwEAEADHAQwjACYANABuAIIAgwCmALQAowHDAb0BKgD//wAAAAAAAQQAAAAAAAAAAAEaRml0IENvbXBhcmlzb24gZm9yIFJlc3BvbnMBGlJpc2tXZWlidWxsKDIsMDEzMTsxNiwyODgpAQEQAAIAAQpTdGF0aXN0aWNzAwEBAP8BAQEBAQABAAAAAAAAAAAAAAAAAAAATkABBwAAAAEABAAAAAEBAQEBAAEBAQAEAAAACtMAAeIAAPMAAAkBAB8BADUBAEsBAGEBAHcBAI0BAA0ABUlucHV0AAAlAQECAA8AB1dlaWJ1bGwAAS8BAAIAFAAMVW51c2VkIEN1cnZlAAJPAQACABQADFVudXNlZCBDdXJ2ZQADjAEAAgAUAAxVbnVzZWQgQ3VydmUABEwBAAIAFAAMVW51c2VkIEN1cnZlAAU5AQACABQADFVudXNlZCBDdXJ2ZQAGTgEAAgAUAAxVbnVzZWQgQ3VydmUAByMBAAIAFAAMVW51c2VkIEN1cnZlAAgpAQACABQADFVudXNlZCBDdXJ2ZQAJYAEAAgCrAbQBAQECAQAAAAAAAAAAAQAAAAAAAPB/AQUAAQEBAAEBAQA=",null,null,null," 0\t 8\t\t\t\t\t\t\t\t","F1\t0\t 1000\t .95",null,null,null,4,true]
["FIT_24EC2_2233A","Total förberedelse",{"$f":"'Cinema, voice alarm'!$D$3:$D$902","v":47},0,"F1\t0\t0\t-1E+300\t 1E+300\t 1\t0\t3\t 0\t1\t 1\t10\tBinomial\tGeomet\tIntUniform\tLogistic\tLogLogistic\tNegBin\tNormal\tPoisson\tTriang\tUniform\t0\t1\t-1\t1\t 0\t 1\t0\t0\t0","GF1_rK0qDwEAEADIAQwjACYANACAAJQAlQCjALEApAHEAb4BKgD//wAAAAAAAQQAAAAAAAAAAAEmRml0IENvbXBhcmlzb24gZm9yIFRvdGFsIGbDtnJiZXJlZGVsc2UBIFJpc2tMb2dsb2dpc3RpYygwOzQwLDQ4NTs1LDc2MzcpAQEQAAIAAQpTdGF0aXN0aWNzAwEBAP8BAQEBAQABAQEABAAAAAEBAQEBAAEBAQAEAAAACtAAAd8AAPQAAAoBACABADYBAEwBAGIBAHgBAI4BAA0ABUlucHV0AAAlAQECABMAC0xvZ2xvZ2lzdGljAAEvAQACABQADFVudXNlZCBDdXJ2ZQACTwEAAgAUAAxVbnVzZWQgQ3VydmUAA4wBAAIAFAAMVW51c2VkIEN1cnZlAARMAQACABQADFVudXNlZCBDdXJ2ZQAFOQEAAgAUAAxVbnVzZWQgQ3VydmUABk4BAAIAFAAMVW51c2VkIEN1cnZlAAcjAQACABQADFVudXNlZCBDdXJ2ZQAIKQEAAgAUAAxVbnVzZWQgQ3VydmUACWABAAIArAG1AQEBAgEAAAAAAAAAAAEAAAAAAADwfwEFAAEBAQABAQEA",null,null,null," 0\t 8\t\t\t\t\t\t\t\t","F1\t0\t 1000\t .95",null,null,null,4,true]
["FIT_90B4C_3D2D4","Tolkning siren",{"$f":"'Cinema, siren'!$B$3:$B$91","v":18},0,"F1\t0\t0\t-1E+300\t 1E+300\t 1\t0\t3\t 0\t1\t 1\t14\tBinomial\tExpon\tGamma\tGeomet\tIntUniform\tLogistic\tLogLogistic\tLognorm\tNegBin\tNormal\tPoisson\tTriang\tUniform\tWeibull\t0\t1\t-1\t1\t 0\t 1\t0\t0\t0","GF1_rK0qDwEAEADOAQwjACYANAB1AIkAigCtALsAqgHKAcQBKgD//wAAAAAAAQQAAAAAAAAAAAEhRml0IENvbXBhcmlzb24gZm9yIFRvbGtuaW5nIHNpcmVuARpSaXNrTG9nbm9ybSgxNiw4MDM7NCw4NTE2KQEBEAACAAEKU3RhdGlzdGljcwMBAQD/AQEBAQEAAQAAAAAAAAAAAAAAAAAAAERAAQkAAAABAAQAAAABAQEBAQABAQEABAAAAAraAAHpAAD6AAAQAQAmAQA8AQBSAQBoAQB+AQCUAQANAAVJbnB1dAAAJQEBAgAPAAdMb2dub3JtAAEvAQACABQADFVudXNlZCBDdXJ2ZQACTwEAAgAUAAxVbnVzZWQgQ3VydmUAA4wBAAIAFAAMVW51c2VkIEN1cnZlAARMAQACABQADFVudXNlZCBDdXJ2ZQAFOQEAAgAUAAxVbnVzZWQgQ3VydmUABk4BAAIAFAAMVW51c2VkIEN1cnZlAAcjAQACABQADFVudXNlZCBDdXJ2ZQAIKQEAAgAUAAxVbnVzZWQgQ3VydmUACWABAAIAsgG7AQEBAgEAAAAAAAAAAAEAAAAAAADwfwEFAAEBAQABAQEA",null,null,null," 0\t 8\t\t\t\t\t\t\t\t","F1\t0\t 1000\t .95",null,null,null,4,true]
["FIT_2DC56_25886","Tolkning 2",{"$f":"'Cinema, voice alarm'!$B$3:$B$902","v":21},0,"F1\t0\t0\t-1E+300\t 1E+300\t 1\t0\t3\t 0\t1\t 1\t19\tBetaGeneral\tBinomial\tExpon\tExtValue\tExtValueMin\tGamma\tGeomet\tIntUniform\tLaplace\tLogistic\tLogLogistic\tLognorm\tNegBin\tNormal\tPoisson\tRayleigh\tTriang\tUniform\tWeibull\t0\t1\t-1\t1\t 0\t 1\t0\t0\t0","GF1_rK0qDwEADwDUAQwjACYANAB3AIsAjACvAL0AsAHQAcoBKgD//wAAAAAAAQQAAAAAAAAAAAEdRml0IENvbXBhcmlzb24gZm9yIFRvbGtuaW5nIDIBIFJpc2tMb2dsb2dpc3RpYygwOzI1LDU3MTs1LDMxMTEpAQEQAAIAAQpTdGF0aXN0aWNzAwEBAP8BAQEBAQABAAAAAAAAAAAAAAAAAABAYEABBQAAAAEABAAAAAEBAQEBAAEBAQAEAAAACtwAAesAAAABABYBACwBAEIBAFgBAG4BAIQBAJoBAA0ABUlucHV0AAAlAQECABMAC0xvZ0xvZ2lzdGljAAEvAQACABQADFVudXNlZCBDdXJ2ZQACTwEAAgAUAAxVbnVzZWQgQ3VydmUAA4wBAAIAFAAMVW51c2VkIEN1cnZlAARMAQACABQADFVudXNlZCBDdXJ2ZQAFOQEAAgAUAAxVbnVzZWQgQ3VydmUABk4BAAIAFAAMVW51c2VkIEN1cnZlAAcjAQACABQADFVudXNlZCBDdXJ2ZQAIKQEAAgAUAAxVbnVzZWQgQ3VydmUACWABAAIAuAHBAQEBAgEAAAAAAAAAAAEAAAAAAADwfwEFAAEBAQABAQEA",null,null,null," 0\t 8\t\t\t\t\t\t\t\t","F1\t0\t 1000\t .95",null,null,null,4,true]
["FIT_4F32D_C623C","Respons 2",{"$f":"'Cinema, voice alarm'!$C$3:$C$902","v":12},0,"F1\t0\t0\t-1E+300\t 1E+300\t 1\t0\t3\t 0\t1\t 1\t19\tBetaGeneral\tBinomial\tExpon\tExtValue\tExtValueMin\tGamma\tGeomet\tIntUniform\tLaplace\tLogistic\tLogLogistic\tLognorm\tNegBin\tNormal\tPoisson\tRayleigh\tTriang\tUniform\tWeibull\t0\t1\t-1\t1\t 0\t 1\t0\t0\t0","GF1_rK0qDwEADwDFAQwjACYANABuAIIAgwCmALQAoQHBAbsBKgD//wAAAAAAAQQAAAAAAAAAAAEcRml0IENvbXBhcmlzb24gZm9yIFJlc3BvbnMgMgEYUmlza0dhbW1hKDMsNDYwMjs0LDE2NTcpAQEQAAIAAQpTdGF0aXN0aWNzAwEBAP8BAQEBAQABAAAAAAAAAAAAAAAAAAAATkABBwAAAAEABAAAAAEBAQEBAAEBAQAEAAAACtMAAeIAAPEAAAcBAB0BADMBAEkBAF8BAHUBAIsBAA0ABUlucHV0AAAlAQECAA0ABUdhbW1hAAEvAQACABQADFVudXNlZCBDdXJ2ZQACTwEAAgAUAAxVbnVzZWQgQ3VydmUAA4wBAAIAFAAMVW51c2VkIEN1cnZlAARMAQACABQADFVudXNlZCBDdXJ2ZQAFOQEAAgAUAAxVbnVzZWQgQ3VydmUABk4BAAIAFAAMVW51c2VkIEN1cnZlAAcjAQACABQADFVudXNlZCBDdXJ2ZQAIKQEAAgAUAAxVbnVzZWQgQ3VydmUACWABAAIAqQGyAQEBAgEAAAAAAAAAAAEAAAAAAADwfwEFAAEBAQABAQEA",null,null,null," 0\t 8\t\t\t\t\t\t\t\t","F1\t0\t 1000\t .95",null,null,null,4,true]
["FIT_7B74E_C952F","Total förberedelse talat meddelande",{"$f":"'Cinema, voice alarm'!$D$3:$D$902","v":32},0,"F1\t0\t0\t-1E+300\t 1E+300\t 1\t0\t3\t 0\t1\t 1\t19\tBetaGeneral\tBinomial\tExpon\tExtValue\tExtValueMin\tGamma\tGeomet\tIntUniform\tLaplace\tLogistic\tLogLogistic\tLognorm\tNegBin\tNormal\tPoisson\tRayleigh\tTriang\tUniform\tWeibull\t0\t1\t-1\t1\t 0\t 1\t0\t0\t0","GF1_rK0qDwEADwDuAQwjACYANACRAKUApgDJANcAygHqAeQBKgD//wAAAAAAAQQAAAAAAAAAAAE3Rml0IENvbXBhcmlzb24gZm9yIFRvdGFsIGbDtnJiZXJlZGVsc2UgdGFsYXQgbWVkZGVsYW5kZQEgUmlza0xvZ2xvZ2lzdGljKDA7NDAsNDg1OzUsNzYzNykBARAAAgABClN0YXRpc3RpY3MDAQEA/wEBAQEBAAEAAAAAAAAAAAAAAAAAAIBhQAEIAAAAAQAEAAAAAQEBAQEAAQEBAAQAAAAK9gABBQEAGgEAMAEARgEAXAEAcgEAiAEAngEAtAEADQAFSW5wdXQAACUBAQIAEwALTG9nTG9naXN0aWMAAS8BAAIAFAAMVW51c2VkIEN1cnZlAAJPAQACABQADFVudXNlZCBDdXJ2ZQADjAEAAgAUAAxVbnVzZWQgQ3VydmUABEwBAAIAFAAMVW51c2VkIEN1cnZlAAU5AQACABQADFVudXNlZCBDdXJ2ZQAGTgEAAgAUAAxVbnVzZWQgQ3VydmUAByMBAAIAFAAMVW51c2VkIEN1cnZlAAgpAQACABQADFVudXNlZCBDdXJ2ZQAJYAEAAgDSAdsBAQECAQAAAAAAAAAAAQAAAAAAAPB/AQUAAQEBAAEBAQA=",null,null,null," 0\t 8\t\t\t\t\t\t\t\t","F1\t0\t 1000\t .95",null,null,null,4,true]
["FIT_B11BC_80585","Respons siren",{"$f":"'Cinema, siren'!$C$3:$C$91","v":14},0,"F1\t0\t0\t-1E+300\t 1E+300\t 1\t0\t3\t 0\t1\t 1\t19\tBetaGeneral\tBinomial\tExpon\tExtValue\tExtValueMin\tGamma\tGeomet\tIntUniform\tLaplace\tLogistic\tLogLogistic\tLognorm\tNegBin\tNormal\tPoisson\tRayleigh\tTriang\tUniform\tWeibull\t0\t1\t-1\t1\t 0\t 1\t0\t0\t0","GF1_rK0qDwEAEADCAQwjACYANAB6AI4AjwCdAKsAngG+AbgBKgD//wAAAAAAAQQAAAAAAAAAAAEgRml0IENvbXBhcmlzb24gZm9yIFJlc3BvbnMgc2lyZW4BIFJpc2tMb2dsb2dpc3RpYygwOzcsMTYxODszLDI0NzMpAQEQAAIAAQpTdGF0aXN0aWNzAwEBAP8BAQEBAQABAQEABAAAAAEBAQEBAAEBAQAEAAAACsoAAdkAAO4AAAQBABoBADABAEYBAFwBAHIBAIgBAA0ABUlucHV0AAAlAQECABMAC0xvZ2xvZ2lzdGljAAEvAQACABQADFVudXNlZCBDdXJ2ZQACTwEAAgAUAAxVbnVzZWQgQ3VydmUAA4wBAAIAFAAMVW51c2VkIEN1cnZlAARMAQACABQADFVudXNlZCBDdXJ2ZQAFOQEAAgAUAAxVbnVzZWQgQ3VydmUABk4BAAIAFAAMVW51c2VkIEN1cnZlAAcjAQACABQADFVudXNlZCBDdXJ2ZQAIKQEAAgAUAAxVbnVzZWQgQ3VydmUACWABAAIApgGvAQEBAgEAAAAAAAAAAAEAAAAAAADwfwEFAAEBAQABAQEA",null,null,null," 0\t 8\t\t\t\t\t\t\t\t","F1\t0\t 1000\t .95",null,null,null,4,true]
["FIT_72220_688E9","Respons 3",{"$f":"'Cinema, siren'!$C$3:$C$91","v":8},0,"F1\t0\t0\t-1E+300\t 1E+300\t 1\t0\t3\t 0\t1\t 1\t19\tBetaGeneral\tBinomial\tExpon\tExtValue\tExtValueMin\tGamma\tGeomet\tIntUniform\tLaplace\tLogistic\tLogLogistic\tLognorm\tNegBin\tNormal\tPoisson\tRayleigh\tTriang\tUniform\tWeibull\t0\t1\t-1\t1\t 0\t 1\t0\t0\t0","GF1_rK0qDwEADwDJAQwjACYANABwAIQAhQCoALYApQHFAb8BKgD//wAAAAAAAQQAAAAAAAAAAAEcRml0IENvbXBhcmlzb24gZm9yIFJlc3BvbnMgMwEaUmlza0xvZ25vcm0oOCwxNTQzOzQsNTgxOCkBARAAAgABClN0YXRpc3RpY3MDAQEA/wEBAQEBAAEAAAAAAAAAAAAAAAAAAAA+QAEHAAAAAQAEAAAAAQEBAQEAAQEBAAQAAAAK1QAB5AAA9QAACwEAIQEANwEATQEAYwEAeQEAjwEADQAFSW5wdXQAACUBAQIADwAHTG9nbm9ybQABLwEAAgAUAAxVbnVzZWQgQ3VydmUAAk8BAAIAFAAMVW51c2VkIEN1cnZlAAOMAQACABQADFVudXNlZCBDdXJ2ZQAETAEAAgAUAAxVbnVzZWQgQ3VydmUABTkBAAIAFAAMVW51c2VkIEN1cnZlAAZOAQACABQADFVudXNlZCBDdXJ2ZQAHIwEAAgAUAAxVbnVzZWQgQ3VydmUACCkBAAIAFAAMVW51c2VkIEN1cnZlAAlgAQACAK0BtgEBAQIBAAAAAAAAAAABAAAAAAAA8H8BBQABAQEAAQEBAA==",null,null,null," 0\t 8\t\t\t\t\t\t\t\t","F1\t0\t 1000\t .95",null,null,null,4,true]
["FIT_6FAD1_C0BC9","Total förberedelse siren",{"$f":"'Cinema, siren'!$D$3:$D$91","v":25},0,"F1\t0\t0\t-1E+300\t 1E+300\t 1\t0\t3\t 0\t1\t 1\t19\tBetaGeneral\tBinomial\tExpon\tExtValue\tExtValueMin\tGamma\tGeomet\tIntUniform\tLaplace\tLogistic\tLogLogistic\tLognorm\tNegBin\tNormal\tPoisson\tRayleigh\tTriang\tUniform\tWeibull\t0\t1\t-1\t1\t 0\t 1\t0\t0\t0","GF1_rK0qDwEAEADZAQwjACYANACAAJQAlQC4AMYAtQHVAc8BKgD//wAAAAAAAQQAAAAAAAAAAAEsRml0IENvbXBhcmlzb24gZm9yIFRvdGFsIGbDtnJiZXJlZGVsc2Ugc2lyZW4BGlJpc2tXZWlidWxsKDMsODUzODsyNyw1MjMpAQEQAAIAAQpTdGF0aXN0aWNzAwEBAP8BAQEBAQABAAAAAAAAAAAAAAAAAAAASUABCwAAAAEABAAAAAEBAQEBAAEBAQAEAAAACuUAAfQAAAUBABsBADEBAEcBAF0BAHMBAIkBAJ8BAA0ABUlucHV0AAAlAQECAA8AB1dlaWJ1bGwAAS8BAAIAFAAMVW51c2VkIEN1cnZlAAJPAQACABQADFVudXNlZCBDdXJ2ZQADjAEAAgAUAAxVbnVzZWQgQ3VydmUABEwBAAIAFAAMVW51c2VkIEN1cnZlAAU5AQACABQADFVudXNlZCBDdXJ2ZQAGTgEAAgAUAAxVbnVzZWQgQ3VydmUAByMBAAIAFAAMVW51c2VkIEN1cnZlAAgpAQACABQADFVudXNlZCBDdXJ2ZQAJYAEAAgC9AcYBAQECAQAAAAAAAAAAAQAAAAAAAPB/AQUAAQEBAAEBAQA=",null,null,null," 0\t 8\t\t\t\t\t\t\t\t","F1\t0\t 1000\t .95",null,null,null,4,true]
["FIT_50CCE_29B72","Tolkning rinklocka",{"$f":"'Cinema, alarm bell'!$B$3:$B$888","v":8},0,"F1\t0\t0\t-1E+300\t 1E+300\t 1\t0\t3\t 0\t1\t 1\t19\tBetaGeneral\tBinomial\tExpon\tExtValue\tExtValueMin\tGamma\tGeomet\tIntUniform\tLaplace\tLogistic\tLogLogistic\tLognorm\tNegBin\tNormal\tPoisson\tRayleigh\tTriang\tUniform\tWeibull\t0\t1\t-1\t1\t 0\t 1\t0\t0\t0","GF1_rK0qDwEAEADQAQwjACYANAB3AIsAjACvAL0AqgHMAcYBKgD//wAAAAAAAQQAAAAAAAAAAAElRml0IENvbXBhcmlzb24gZm9yIFRvbGtuaW5nIHJpbmtsb2NrYQEYUmlza0dhbW1hKDMsNjU1Nzs1LDIwMjkpAQEQAAIAAQpTdGF0aXN0aWNzAwEBAP8BAQEBAQABAAAAAAAAAAAAAAAAAAAAWUABBgAAAAEABAAAAAEBAQEBAAEBAQAEAAAACtwAAesAAPoAABABACYBADwBAFIBAGgBAH4BAJQBAA0ABUlucHV0AAAlAQECAA0ABUdhbW1hAAEvAQACABQADFVudXNlZCBDdXJ2ZQACTwEAAgAUAAxVbnVzZWQgQ3VydmUAA4wBAAIAFAAMVW51c2VkIEN1cnZlAARMAQACABQADFVudXNlZCBDdXJ2ZQAFOQEAAgAUAAxVbnVzZWQgQ3VydmUABk4BAAIAFAAMVW51c2VkIEN1cnZlAAcjAQACABQADFVudXNlZCBDdXJ2ZQAIKQEAAgAUAAxVbnVzZWQgQ3VydmUACWABAAIAsgG8AQABAgGamZmZmZmpPwAAZmZmZmZm7j8AAAUAAQEBAAEBAQA=",null,null,null," 0\t 8\t\t\t\t\t\t\t\t","F1\t0\t 1000\t .95",null,null,null,4,true]
["FIT_8BE35_CF858","Respons ringklocka",{"$f":"'Cinema, alarm bell'!$C$3:$C$888","v":15},0,"F1\t0\t0\t-1E+300\t 1E+300\t 1\t0\t3\t 0\t1\t 1\t19\tBetaGeneral\tBinomial\tExpon\tExtValue\tExtValueMin\tGamma\tGeomet\tIntUniform\tLaplace\tLogistic\tLogLogistic\tLognorm\tNegBin\tNormal\tPoisson\tRayleigh\tTriang\tUniform\tWeibull\t0\t1\t-1\t1\t 0\t 1\t0\t0\t0","GF1_rK0qDwEAEADSAQwjACYANAB5AI0AjgCxAL8ArgHOAcgBKgD//wAAAAAAAQQAAAAAAAAAAAElRml0IENvbXBhcmlzb24gZm9yIFJlc3BvbnMgcmluZ2tsb2NrYQEaUmlza1dlaWJ1bGwoMSw3MDk2OzE1LDE0NikBARAAAgABClN0YXRpc3RpY3MDAQEA/wEBAQEBAAEAAAAAAAAAAAAAAAAAAABOQAEHAAAAAQAEAAAAAQEBAQEAAQEBAAQAAAAK3gAB7QAA/gAAFAEAKgEAQAEAVgEAbAEAggEAmAEADQAFSW5wdXQAACUBAQIADwAHV2VpYnVsbAABLwEAAgAUAAxVbnVzZWQgQ3VydmUAAk8BAAIAFAAMVW51c2VkIEN1cnZlAAOMAQACABQADFVudXNlZCBDdXJ2ZQAETAEAAgAUAAxVbnVzZWQgQ3VydmUABTkBAAIAFAAMVW51c2VkIEN1cnZlAAZOAQACABQADFVudXNlZCBDdXJ2ZQAHIwEAAgAUAAxVbnVzZWQgQ3VydmUACCkBAAIAFAAMVW51c2VkIEN1cnZlAAlgAQACALYBvwEBAQIBAAAAAAAAAAABAAAAAAAA8H8BBQABAQEAAQEBAA==",null,null,null," 0\t 8\t\t\t\t\t\t\t\t","F1\t0\t 1000\t .95",null,null,null,4,true]
["FIT_4E456_A15FE","Total förberedelse ringklocka",{"$f":"'Cinema, alarm bell'!$D$3:$D$888","v":17},0,"F1\t0\t0\t-1E+300\t 1E+300\t 1\t0\t3\t 0\t1\t 1\t19\tBetaGeneral\tBinomial\tExpon\tExtValue\tExtValueMin\tGamma\tGeomet\tIntUniform\tLaplace\tLogistic\tLogLogistic\tLognorm\tNegBin\tNormal\tPoisson\tRayleigh\tTriang\tUniform\tWeibull\t0\t1\t-1\t1\t 0\t 1\t0\t0\t0","GF1_rK0qDwEAEADnAQwjACYANACKAJ4AnwDCANAAwwHjAd0BKgD//wAAAAAAAQQAAAAAAAAAAAExRml0IENvbXBhcmlzb24gZm9yIFRvdGFsIGbDtnJiZXJlZGVsc2UgcmluZ2tsb2NrYQEfUmlza0xvZ2xvZ2lzdGljKDA7MjksNDU7NCw5NzY1KQEBEAACAAEKU3RhdGlzdGljcwMBAQD/AQEBAQEAAQAAAAAAAAAAAAAAAAAAwGxAAQUAAAABAAQAAAABAQEBAQABAQEABAAAAArvAAH+AAATAQApAQA/AQBVAQBrAQCBAQCXAQCtAQANAAVJbnB1dAAAJQEBAgATAAtMb2dsb2dpc3RpYwABLwEAAgAUAAxVbnVzZWQgQ3VydmUAAk8BAAIAFAAMVW51c2VkIEN1cnZlAAOMAQACABQADFVudXNlZCBDdXJ2ZQAETAEAAgAUAAxVbnVzZWQgQ3VydmUABTkBAAIAFAAMVW51c2VkIEN1cnZlAAZOAQACABQADFVudXNlZCBDdXJ2ZQAHIwEAAgAUAAxVbnVzZWQgQ3VydmUACCkBAAIAFAAMVW51c2VkIEN1cnZlAAlgAQACAMsB1AEBAQIBAAAAAAAAAAABAAAAAAAA8H8BBQABAQEAAQEBAA==",null,null,null," 0\t 8\t\t\t\t\t\t\t\t","F1\t0\t 1000\t .95",null,null,null,4,true]
["FIT_6C0C2_5FF27","Tolkning undervisning",{"$f":"School!$B$3:$B$74","v":26},0,"F1\t0\t0\t-1E+300\t 1E+300\t 1\t0\t3\t 0\t1\t 1\t19\tBetaGeneral\tBinomial\tExpon\tExtValue\tExtValueMin\tGamma\tGeomet\tIntUniform\tLaplace\tLogistic\tLogLogistic\tLognorm\tNegBin\tNormal\tPoisson\tRayleigh\tTriang\tUniform\tWeibull\t0\t1\t-1\t1\t 0\t 1\t0\t0\t0","GF1_rK0qDwEAEADCAQwjACYANAB8AJAAkQCfAK0AnAG+AbgBKgD//wAAAAAAAQQAAAAAAAAAAAEoRml0IENvbXBhcmlzb24gZm9yIFRvbGtuaW5nIHVuZGVydmlzbmluZwEaUmlza0xvZ25vcm0oMzMsMDMyOzUxLDk5NCkBARAAAgABClN0YXRpc3RpY3MDAQEA/wEBAQEBAAEBAQAEAAAAAQEBAQEAAQEBAAQAAAAKzAAB2wAA7AAAAgEAGAEALgEARAEAWgEAcAEAhgEADQAFSW5wdXQAACUBAQIADwAHTG9nbm9ybQABLwEAAgAUAAxVbnVzZWQgQ3VydmUAAk8BAAIAFAAMVW51c2VkIEN1cnZlAAOMAQACABQADFVudXNlZCBDdXJ2ZQAETAEAAgAUAAxVbnVzZWQgQ3VydmUABTkBAAIAFAAMVW51c2VkIEN1cnZlAAZOAQACABQADFVudXNlZCBDdXJ2ZQAHIwEAAgAUAAxVbnVzZWQgQ3VydmUACCkBAAIAFAAMVW51c2VkIEN1cnZlAAlgAQACAKQBrgEBAQIBmpmZmZmZqT8AAGZmZmZmZu4/AAAFAAEBAQABAQEA",null,null,null," 0\t 8\t\t\t\t\t\t\t\t","F1\t0\t 1000\t .95",null,null,null,4,true]
["FIT_5C16D_E71CD","Respons utbildningslokal",{"$f":"School!$C$3:$C$74","v":1},0,"F1\t0\t0\t-1E+300\t 1E+300\t 1\t0\t3\t 0\t1\t 1\t19\tBetaGeneral\tBinomial\tExpon\tExtValue\tExtValueMin\tGamma\tGeomet\tIntUniform\tLaplace\tLogistic\tLogLogistic\tLognorm\tNegBin\tNormal\tPoisson\tRayleigh\tTriang\tUniform\tWeibull\t0\t1\t-1\t1\t 0\t 1\t0\t0\t0","GF1_rK0qDwEAEADAAQwjACYANAB5AI0AjgCcAKoAmgG8AbYBKgD//wAAAAAAAQQAAAAAAAAAAAErRml0IENvbXBhcmlzb24gZm9yIFJlc3BvbnMgdXRiaWxkbmluZ3Nsb2thbAEUUmlza1JheWxlaWdoKDM1LDQ3NCkBARAAAgABClN0YXRpc3RpY3MDAQEA/wEBAQEBAAEBAQAEAAAAAQEBAQEAAQEBAAQAAAAKyQAB2AAA6gAAAAEAFgEALAEAQgEAWAEAbgEAhAEADQAFSW5wdXQAACUBAQIAEAAIUmF5bGVpZ2gAAS8BAAIAFAAMVW51c2VkIEN1cnZlAAJPAQACABQADFVudXNlZCBDdXJ2ZQADjAEAAgAUAAxVbnVzZWQgQ3VydmUABEwBAAIAFAAMVW51c2VkIEN1cnZlAAU5AQACABQADFVudXNlZCBDdXJ2ZQAGTgEAAgAUAAxVbnVzZWQgQ3VydmUAByMBAAIAFAAMVW51c2VkIEN1cnZlAAgpAQACABQADFVudXNlZCBDdXJ2ZQAJYAEAAgCiAawBAQECAZqZmZmZmak/AABmZmZmZmbuPwAABQABAQEAAQEBAA==",null,null,null," 0\t 8\t\t\t\t\t\t\t\t","F1\t0\t 1000\t .95",null,null,null,4,true]
["FIT_15C06_CE269","Total förberedelse undervisningslokal",{"$f":"School!$D$3:$D$74","v":125},0,"F1\t0\t0\t-1E+300\t 1E+300\t 1\t0\t3\t 0\t1\t 1\t19\tBetaGeneral\tBinomial\tExpon\tExtValue\tExtValueMin\tGamma\tGeomet\tIntUniform\tLaplace\tLogistic\tLogLogistic\tLognorm\tNegBin\tNormal\tPoisson\tRayleigh\tTriang\tUniform\tWeibull\t0\t1\t-1\t1\t 0\t 1\t0\t0\t0","GF1_rK0qDwEAEADhAQwjACYANACHAJsAnAC/AM0AvQHdAdcBKgD//wAAAAAAAQQAAAAAAAAAAAE5Rml0IENvbXBhcmlzb24gZm9yIFRvdGFsIGbDtnJiZXJlZGVsc2UgdW5kZXJ2aXNuaW5nc2xva2FsARRSaXNrUmF5bGVpZ2goNjAsNzU1KQEBEAACAAEKU3RhdGlzdGljcwMBAQD/AQEBAQEAAQAAAAAAAAAAAAAAAAAAAGlAAQsAAAABAAQAAAABAQEBAQABAQEABAAAAArsAAH7AAANAQAjAQA5AQBPAQBlAQB7AQCRAQCnAQANAAVJbnB1dAAAJQEBAgAQAAhSYXlsZWlnaAABLwEAAgAUAAxVbnVzZWQgQ3VydmUAAk8BAAIAFAAMVW51c2VkIEN1cnZlAAOMAQACABQADFVudXNlZCBDdXJ2ZQAETAEAAgAUAAxVbnVzZWQgQ3VydmUABTkBAAIAFAAMVW51c2VkIEN1cnZlAAZOAQACABQADFVudXNlZCBDdXJ2ZQAHIwEAAgAUAAxVbnVzZWQgQ3VydmUACCkBAAIAFAAMVW51c2VkIEN1cnZlAAlgAQACAMUBzgEBAQIBAAAAAAAAAAABAAAAAAAA8H8BBQABAQEAAQEBAA==",null,null,null," 0\t 8\t\t\t\t\t\t\t\t","F1\t0\t 1000\t .95",null,null,null,4,true]
["FIT_33352_9C5C9","Total förberedelse 2",{"$f":"School!$D$3:$D$74","v":162},0,"F1\t0\t0\t-1E+300\t 1E+300\t 1\t0\t3\t 0\t1\t 1\t18\tBetaGeneral\tBinomial\tExpon\tExtValue\tExtValueMin\tGamma\tGeomet\tIntUniform\tLaplace\tLogistic\tLogLogistic\tLognorm\tNegBin\tNormal\tPoisson\tTriang\tUniform\tWeibull\t0\t1\t-1\t1\t 0\t 1\t0\t0\t0",{"$nulls":4}," 0\t 8\t\t\t\t\t\t\t\t","F1\t0\t 1000\t .95",null,null,null,4,true]
["FIT_639B0_C1B50","Förberedelse Nattklubb mv",{"$f":"'Night club, active staff'!$B$3:$B$64","v":85},0,"F1\t0\t0\t-1E+300\t 1E+300\t 1\t0\t3\t 0\t1\t 1\t18\tBetaGeneral\tBinomial\tExpon\tExtValue\tExtValueMin\tGamma\tGeomet\tIntUniform\tLaplace\tLogistic\tLogLogistic\tLognorm\tNegBin\tNormal\tPoisson\tTriang\tUniform\tWeibull\t0\t1\t-1\t1\t 0\t 1\t0\t0\t0","GF1_rK0qDwEAEADQAQwjACYANACGAJoAmwCpALcAqgHMAcYBKgD//wAAAAAAAQQAAAAAAAAAAAEtRml0IENvbXBhcmlzb24gZm9yIEbDtnJiZXJlZGVsc2UgTmF0dGtsdWJiIG12AR9SaXNrTG9nbG9naXN0aWMoMDs0NCwzMDM7Myw4MTkpAQEQAAIAAQpTdGF0aXN0aWNzAwEBAP8BAQEBAQABAQEABAAAAAEBAQEBAAEBAQAEAAAACtYAAeUAAPoAABABACYBADwBAFIBAGgBAH4BAJQBAA0ABUlucHV0AAAlAQECABMAC0xvZ2xvZ2lzdGljAAEvAQACABQADFVudXNlZCBDdXJ2ZQACTwEAAgAUAAxVbnVzZWQgQ3VydmUAA4wBAAIAFAAMVW51c2VkIEN1cnZlAARMAQACABQADFVudXNlZCBDdXJ2ZQAFOQEAAgAUAAxVbnVzZWQgQ3VydmUABk4BAAIAFAAMVW51c2VkIEN1cnZlAAcjAQACABQADFVudXNlZCBDdXJ2ZQAIKQEAAgAUAAxVbnVzZWQgQ3VydmUACWABAAIAsgG8AQEBAgGamZmZmZmpPwAAZmZmZmZm7j8AAAUAAQEBAAEBAQA=",null,null,null," 0\t 8\t\t\t\t\t\t\t\t","F1\t0\t 1000\t .95",null,null,null,4,true]
["FIT_933A_86E70","Förberedelse nattklubb ej v",{"$f":"'Night club, passive staff'!$B$3:$B$86","v":70},0,"F1\t0\t0\t-1E+300\t 1E+300\t 1\t0\t3\t 0\t1\t 1\t23\tBetaGeneral\tBinomial\tExpon\tExtValue\tExtValueMin\tGamma\tGeomet\tIntUniform\tInvGauss\tLaplace\tLevy\tLogistic\tLogLogistic\tLognorm\tNegBin\tNormal\tPareto\tPearson5\tPearson6\tPoisson\tTriang\tUniform\tWeibull\t0\t1\t-1\t1\t 0\t 1\t0\t0\t0","GF1_rK0qDwEAEADTAQwjACYANACJAJ0AngCsALoArQHPAckBKgD//wAAAAAAAQQAAAAAAAAAAAEvRml0IENvbXBhcmlzb24gZm9yIEbDtnJiZXJlZGVsc2UgbmF0dGtsdWJiIGVqIHYBIFJpc2tMb2dsb2dpc3RpYygwOzUwLDYxNjsyLDMxNTMpAQEQAAIAAQpTdGF0aXN0aWNzAwEBAP8BAQEBAQABAQEABAAAAAEBAQEBAAEBAQAEAAAACtkAAegAAP0AABMBACkBAD8BAFUBAGsBAIEBAJcBAA0ABUlucHV0AAAlAQECABMAC0xvZ2xvZ2lzdGljAAEvAQACABQADFVudXNlZCBDdXJ2ZQACTwEAAgAUAAxVbnVzZWQgQ3VydmUAA4wBAAIAFAAMVW51c2VkIEN1cnZlAARMAQACABQADFVudXNlZCBDdXJ2ZQAFOQEAAgAUAAxVbnVzZWQgQ3VydmUABk4BAAIAFAAMVW51c2VkIEN1cnZlAAcjAQACABQADFVudXNlZCBDdXJ2ZQAIKQEAAgAUAAxVbnVzZWQgQ3VydmUACWABAAIAtQG/AQEBAgGamZmZmZmpPwAAZmZmZmZm7j8AAAUAAQEBAAEBAQA=",null,null,null," 0\t 8\t\t\t\t\t\t\t\t","F1\t0\t 1000\t .95",null,null,null,4,true]
["FIT_4A533_24864","Förberedelse nattklubb ej vakt",{"$f":"'Night club, passive staff'!$B$3:$B$86","v":69},0,"F1\t0\t0\t-1E+300\t 1E+300\t 1\t0\t3\t 0\t1\t 1\t18\tBetaGeneral\tBinomial\tExpon\tExtValue\tExtValueMin\tGamma\tGeomet\tIntUniform\tLaplace\tLogistic\tLogLogistic\tLognorm\tNegBin\tNormal\tPoisson\tTriang\tUniform\tWeibull\t0\t1\t-1\t1\t 0\t 1\t0\t0\t0",{"$nulls":4}," 0\t 8\t\t\t\t\t\t\t\t","F1\t0\t 1000\t .95",null,null,null,4,true]
["FIT_7105F_DC009","Tolkning 3",{"$f":"'Department store'!$B$3:$B$231","v":54},0,"F1\t0\t0\t-1E+300\t 1E+300\t 1\t0\t3\t 0\t1\t 1\t18\tBetaGeneral\tBinomial\tExpon\tExtValue\tExtValueMin\tGamma\tGeomet\tIntUniform\tLaplace\tLogistic\tLogLogistic\tLognorm\tNegBin\tNormal\tPoisson\tTriang\tUniform\tWeibull\t0\t1\t-1\t1\t 0\t 1\t0\t0\t0","GF1_rK0qDwEAEADBAQwjACYANAB3AIsAjACaAKgAmwG9AbcBKgD//wAAAAAAAQQAAAAAAAAAAAEdRml0IENvbXBhcmlzb24gZm9yIFRvbGtuaW5nIDMBIFJpc2tMb2dsb2dpc3RpYygwOzIzLDA4OTs0LDQzMDMpAQEQAAIAAQpTdGF0aXN0aWNzAwEBAP8BAQEBAQABAQEABAAAAAEBAQEBAAEBAQAEAAAACscAAdYAAOsAAAEBABcBAC0BAEMBAFkBAG8BAIUBAA0ABUlucHV0AAAlAQECABMAC0xvZ2xvZ2lzdGljAAEvAQACABQADFVudXNlZCBDdXJ2ZQACTwEAAgAUAAxVbnVzZWQgQ3VydmUAA4wBAAIAFAAMVW51c2VkIEN1cnZlAARMAQACABQADFVudXNlZCBDdXJ2ZQAFOQEAAgAUAAxVbnVzZWQgQ3VydmUABk4BAAIAFAAMVW51c2VkIEN1cnZlAAcjAQACABQADFVudXNlZCBDdXJ2ZQAIKQEAAgAUAAxVbnVzZWQgQ3VydmUACWABAAIAowGtAQEBAgGamZmZmZmpPwAAZmZmZmZm7j8AAAUAAQEBAAEBAQA=",null,null,null," 0\t 8\t\t\t\t\t\t\t\t","F1\t0\t 1000\t .95",null,null,null,4,true]
["FIT_A680_5DC0A","Respons 4",{"$f":"'Department store'!$C$3:$C$231","v":41},0,"F1\t0\t0\t-1E+300\t 1E+300\t 1\t0\t3\t 0\t1\t 1\t18\tBetaGeneral\tBinomial\tExpon\tExtValue\tExtValueMin\tGamma\tGeomet\tIntUniform\tLaplace\tLogistic\tLogLogistic\tLognorm\tNegBin\tNormal\tPoisson\tTriang\tUniform\tWeibull\t0\t1\t-1\t1\t 0\t 1\t0\t0\t0","GF1_rK0qDwEAEACyAQwjACYANABuAIIAgwCRAJ8AjAGuAagBKgD//wAAAAAAAQQAAAAAAAAAAAEcRml0IENvbXBhcmlzb24gZm9yIFJlc3BvbnMgNAEYUmlza0dhbW1hKDAsODQxOTM7MTIsNjQpAQEQAAIAAQpTdGF0aXN0aWNzAwEBAP8BAQEBAQABAQEABAAAAAEBAQEBAAEBAQAEAAAACr4AAc0AANwAAPIAAAgBAB4BADQBAEoBAGABAHYBAA0ABUlucHV0AAAlAQECAA0ABUdhbW1hAAEvAQACABQADFVudXNlZCBDdXJ2ZQACTwEAAgAUAAxVbnVzZWQgQ3VydmUAA4wBAAIAFAAMVW51c2VkIEN1cnZlAARMAQACABQADFVudXNlZCBDdXJ2ZQAFOQEAAgAUAAxVbnVzZWQgQ3VydmUABk4BAAIAFAAMVW51c2VkIEN1cnZlAAcjAQACABQADFVudXNlZCBDdXJ2ZQAIKQEAAgAUAAxVbnVzZWQgQ3VydmUACWABAAIAlAGeAQEBAgGamZmZmZmpPwAAZmZmZmZm7j8AAAUAAQEBAAEBAQA=",null,null,null," 0\t 8\t\t\t\t\t\t\t\t","F1\t0\t 1000\t .95",null,null,null,4,true]
["FIT_C0878_579C5","Total förberedelse 3",{"$f":"'Department store'!$D$3:$D$231","v":31},0,"F1\t0\t0\t-1E+300\t 1E+300\t 1\t0\t3\t 0\t1\t 1\t18\tBetaGeneral\tBinomial\tExpon\tExtValue\tExtValueMin\tGamma\tGeomet\tIntUniform\tLaplace\tLogistic\tLogLogistic\tLognorm\tNegBin\tNormal\tPoisson\tTriang\tUniform\tWeibull\t0\t1\t-1\t1\t 0\t 1\t0\t0\t0","GF1_rK0qDwEAEADXAQwjACYANAB8AJAAkQC0AMIAsQHTAc0BKgD//wAAAAAAAQQAAAAAAAAAAAEoRml0IENvbXBhcmlzb24gZm9yIFRvdGFsIGbDtnJiZXJlZGVsc2UgMwEaUmlza0xvZ25vcm0oMzUsOTE5OzE4LDI3OSkBARAAAgABClN0YXRpc3RpY3MDAQEA/wEBAQEBAAEAAAAAAAAAAAAAAAAAAABeQAEHAAAAAQAEAAAAAQEBAQEAAQEBAAQAAAAK4QAB8AAAAQEAFwEALQEAQwEAWQEAbwEAhQEAmwEADQAFSW5wdXQAACUBAQIADwAHTG9nbm9ybQABLwEAAgAUAAxVbnVzZWQgQ3VydmUAAk8BAAIAFAAMVW51c2VkIEN1cnZlAAOMAQACABQADFVudXNlZCBDdXJ2ZQAETAEAAgAUAAxVbnVzZWQgQ3VydmUABTkBAAIAFAAMVW51c2VkIEN1cnZlAAZOAQACABQADFVudXNlZCBDdXJ2ZQAHIwEAAgAUAAxVbnVzZWQgQ3VydmUACCkBAAIAFAAMVW51c2VkIEN1cnZlAAlgAQACALkBwwEAAQIBmpmZmZmZqT8AAGZmZmZmZu4/AAAFAAEBAQABAQEA",null,null,null," 0\t 8\t\t\t\t\t\t\t\t","F1\t0\t 1000\t .95",null,null,null,4,true]
["FIT_CE595_8A1B6","Två personer",{"$f":"'Restaurant, café'!$L$2:$L$13","v":{"$error":"#VALUE!"}},0,"F1\t0\t0\t-1E+300\t 1E+300\t 1\t0\t0\t 0\t0\t 1\t23\tBetaGeneral\tBinomial\tExpon\tExtValue\tExtValueMin\tGamma\tGeomet\tIntUniform\tInvGauss\tLaplace\tLevy\tLogistic\tLogLogistic\tLognorm\tNegBin\tNormal\tPareto\tPearson5\tPearson6\tPoisson\tTriang\tUniform\tWeibull\t0\t1\t-1\t1\t 0\t 1\t0\t0\t0","GF1_rK0qDwEADwC9AQwjACYANAB2AIoAiwCZAKcAlwG5AbMBKgD//wAAAAAAAQQAAAAAAAAAAAEgRml0IENvbXBhcmlzb24gZm9yIFR2w6UgcGVyc29uZXIBHFJpc2tFeHR2YWx1ZSg0OCw3NjM0OzgsNTg4MSkBARAAAgABClN0YXRpc3RpY3MDAQEA/wEBAQEBAAEBAQAEAAAAAQEBAQEAAQEBAAQAAAAKxgAB1QAA5wAA/QAAEwEAKQEAPwEAVQEAawEAgQEADQAFSW5wdXQAACUBAQIAEAAIRXh0VmFsdWUAAS8BAAIAFAAMVW51c2VkIEN1cnZlAAJPAQACABQADFVudXNlZCBDdXJ2ZQADjAEAAgAUAAxVbnVzZWQgQ3VydmUABEwBAAIAFAAMVW51c2VkIEN1cnZlAAU5AQACABQADFVudXNlZCBDdXJ2ZQAGTgEAAgAUAAxVbnVzZWQgQ3VydmUAByMBAAIAFAAMVW51c2VkIEN1cnZlAAgpAQACABQADFVudXNlZCBDdXJ2ZQAJYAEAAgCfAakBAQECAZqZmZmZmak/AABmZmZmZmbuPwAABQABAQEAAQEBAA==",null,null,null," 0\t 8\t\t\t\t\t\t\t\t","F1\t0\t 1000\t .95",null,null,null,4,true]
["FIT_2215A_3E811","Dataset 1",{"$f":"'Restaurant, café'!$M$2:$M$17","v":{"$error":"#VALUE!"}},0,"F1\t0\t0\t-1E+300\t 1E+300\t 1\t0\t0\t 0\t0\t 1\t23\tBetaGeneral\tBinomial\tExpon\tExtValue\tExtValueMin\tGamma\tGeomet\tIntUniform\tInvGauss\tLaplace\tLevy\tLogistic\tLogLogistic\tLognorm\tNegBin\tNormal\tPareto\tPearson5\tPearson6\tPoisson\tTriang\tUniform\tWeibull\t0\t1\t-1\t1\t 0\t 1\t0\t0\t0","GF1_rK0qDwEADwC2AQwjACYANABwAIQAhQCTAKEAkAGyAawBKgD//wAAAAAAAQQAAAAAAAAAAAEcRml0IENvbXBhcmlzb24gZm9yIERhdGFzZXQgMQEaUmlza1VuaWZvcm0oMTUsMjg2OzkwLDcxNCkBARAAAgABClN0YXRpc3RpY3MDAQEA/wEBAQEBAAEBAQAEAAAAAQEBAQEAAQEBAAQAAAAKwAABzwAA4AAA9gAADAEAIgEAOAEATgEAZAEAegEADQAFSW5wdXQAACUBAQIADwAHVW5pZm9ybQABLwEAAgAUAAxVbnVzZWQgQ3VydmUAAk8BAAIAFAAMVW51c2VkIEN1cnZlAAOMAQACABQADFVudXNlZCBDdXJ2ZQAETAEAAgAUAAxVbnVzZWQgQ3VydmUABTkBAAIAFAAMVW51c2VkIEN1cnZlAAZOAQACABQADFVudXNlZCBDdXJ2ZQAHIwEAAgAUAAxVbnVzZWQgQ3VydmUACCkBAAIAFAAMVW51c2VkIEN1cnZlAAlgAQACAJgBogEBAQIBmpmZmZmZqT8AAGZmZmZmZu4/AAAFAAEBAQABAQEA",null,null,null," 0\t 8\t\t\t\t\t\t\t\t","F1\t0\t 1000\t .95",null,null,null,4,true]
["FIT_D2ECA_87AA","Total förberedelse 4",{"$f":"'Restaurant, café'!$D$3:$D$29","v":{"$error":"#VALUE!"}},0,"F1\t0\t0\t-1E+300\t 1E+300\t 1\t0\t3\t 0\t1\t 1\t18\tBetaGeneral\tBinomial\tExpon\tExtValue\tExtValueMin\tGamma\tGeomet\tIntUniform\tLaplace\tLogistic\tLogLogistic\tLognorm\tNegBin\tNormal\tPoisson\tTriang\tUniform\tWeibull\t0\t1\t-1\t1\t 0\t 1\t0\t0\t0","GF1_rK0qDwEAEADMAQwjACYANACCAJYAlwClALMApgHIAcIBKgD//wAAAAAAAQQAAAAAAAAAAAEoRml0IENvbXBhcmlzb24gZm9yIFRvdGFsIGbDtnJiZXJlZGVsc2UgNAEgUmlza0xvZ2xvZ2lzdGljKDA7NTAsOTUzOzUsNjE4NCkBARAAAgABClN0YXRpc3RpY3MDAQEA/wEBAQEBAAEBAQAEAAAAAQEBAQEAAQEBAAQAAAAK0gAB4QAA9gAADAEAIgEAOAEATgEAZAEAegEAkAEADQAFSW5wdXQAACUBAQIAEwALTG9nbG9naXN0aWMAAS8BAAIAFAAMVW51c2VkIEN1cnZlAAJPAQACABQADFVudXNlZCBDdXJ2ZQADjAEAAgAUAAxVbnVzZWQgQ3VydmUABEwBAAIAFAAMVW51c2VkIEN1cnZlAAU5AQACABQADFVudXNlZCBDdXJ2ZQAGTgEAAgAUAAxVbnVzZWQgQ3VydmUAByMBAAIAFAAMVW51c2VkIEN1cnZlAAgpAQACABQADFVudXNlZCBDdXJ2ZQAJYAEAAgCuAbgBAQECAZqZmZmZmak/AABmZmZmZmbuPwAABQABAQEAAQEBAA==",null,null,null," 0\t 8\t\t\t\t\t\t\t\t","F1\t0\t 1000\t .95",null,null,null,4,true]
["FIT_A614D_8B81B","Tolkning 4",{"$f":"'Restaurant, café'!$B$3:$B$29","v":{"$error":"#VALUE!"}},0,"F1\t0\t0\t-1E+300\t 1E+300\t 1\t0\t3\t 0\t1\t 1\t18\tBetaGeneral\tBinomial\tExpon\tExtValue\tExtValueMin\tGamma\tGeomet\tIntUniform\tLaplace\tLogistic\tLogLogistic\tLognorm\tNegBin\tNormal\tPoisson\tTriang\tUniform\tWeibull\t0\t1\t-1\t1\t 0\t 1\t0\t0\t0","GF1_rK0qDwEAEACzAQwjACYANABvAIMAhACSAKAAjQGvAakBKgD//wAAAAAAAQQAAAAAAAAAAAEdRml0IENvbXBhcmlzb24gZm9yIFRvbGtuaW5nIDQBGFJpc2tHYW1tYSg4LDM1Mjk7MywyNzIzKQEBEAACAAEKU3RhdGlzdGljcwMBAQD/AQEBAQEAAQEBAAQAAAABAQEBAQABAQEABAAAAAq/AAHOAADdAADzAAAJAQAfAQA1AQBLAQBhAQB3AQANAAVJbnB1dAAAJQEBAgANAAVHYW1tYQABLwEAAgAUAAxVbnVzZWQgQ3VydmUAAk8BAAIAFAAMVW51c2VkIEN1cnZlAAOMAQACABQADFVudXNlZCBDdXJ2ZQAETAEAAgAUAAxVbnVzZWQgQ3VydmUABTkBAAIAFAAMVW51c2VkIEN1cnZlAAZOAQACABQADFVudXNlZCBDdXJ2ZQAHIwEAAgAUAAxVbnVzZWQgQ3VydmUACCkBAAIAFAAMVW51c2VkIEN1cnZlAAlgAQACAJUBnwEBAQIBmpmZmZmZqT8AAGZmZmZmZu4/AAAFAAEBAQABAQEA",null,null,null," 0\t 8\t\t\t\t\t\t\t\t","F1\t0\t 1000\t .95",null,null,null,4,true]
["FIT_CD63F_165AA","Respons 5",{"$f":"'Restaurant, café'!$C$3:$C$29","v":{"$error":"#VALUE!"}},0,"F1\t0\t0\t-1E+300\t 1E+300\t 1\t0\t3\t 0\t1\t 1\t18\tBetaGeneral\tBinomial\tExpon\tExtValue\tExtValueMin\tGamma\tGeomet\tIntUniform\tLaplace\tLogistic\tLogLogistic\tLognorm\tNegBin\tNormal\tPoisson\tTriang\tUniform\tWeibull\t0\t1\t-1\t1\t 0\t 1\t0\t0\t0","GF1_rK0qDwEAEAC/AQwjACYANAB1AIkAigCYAKYAmQG7AbUBKgD//wAAAAAAAQQAAAAAAAAAAAEcRml0IENvbXBhcmlzb24gZm9yIFJlc3BvbnMgNQEfUmlza0xvZ2xvZ2lzdGljKDA7MjAsMDY1OzIsMTExKQEBEAACAAEKU3RhdGlzdGljcwMBAQD/AQEBAQEAAQEBAAQAAAABAQEBAQABAQEABAAAAArFAAHUAADpAAD/AAAVAQArAQBBAQBXAQBtAQCDAQANAAVJbnB1dAAAJQEBAgATAAtMb2dsb2dpc3RpYwABLwEAAgAUAAxVbnVzZWQgQ3VydmUAAk8BAAIAFAAMVW51c2VkIEN1cnZlAAOMAQACABQADFVudXNlZCBDdXJ2ZQAETAEAAgAUAAxVbnVzZWQgQ3VydmUABTkBAAIAFAAMVW51c2VkIEN1cnZlAAZOAQACABQADFVudXNlZCBDdXJ2ZQAHIwEAAgAUAAxVbnVzZWQgQ3VydmUACCkBAAIAFAAMVW51c2VkIEN1cnZlAAlgAQACAKEBqwEBAQIBmpmZmZmZqT8AAGZmZmZmZu4/AAAFAAEBAQABAQEA",null,null,null," 0\t 8\t\t\t\t\t\t\t\t","F1\t0\t 1000\t .95",null,null,null,4,true]
["FIT_61DEC_A10CB","Tolkning 5",{"$f":"Office!$B$3:$B$47","v":34},0,"F1\t0\t0\t-1E+300\t 1E+300\t 1\t0\t3\t 0\t1\t 1\t13\tBetaGeneral\tBinomial\tExtValue\tExtValueMin\tGeomet\tIntUniform\tLogLogistic\tLognorm\tNegBin\tNormal\tPoisson\tTriang\tUniform\t0\t1\t-1\t1\t 0\t 1\t0\t0\t0","GF1_rK0qDwEAEADBAQwjACYANAB3AIsAjACaAKgAmwG9AbcBKgD//wAAAAAAAQQAAAAAAAAAAAEdRml0IENvbXBhcmlzb24gZm9yIFRvbGtuaW5nIDUBIFJpc2tMb2dsb2dpc3RpYygwOzMzLDMxODsyLDk2MjQpAQEQAAIAAQpTdGF0aXN0aWNzAwEBAP8BAQEBAQABAQEABAAAAAEBAQEBAAEBAQAEAAAACscAAdYAAOsAAAEBABcBAC0BAEMBAFkBAG8BAIUBAA0ABUlucHV0AAAlAQECABMAC0xvZ2xvZ2lzdGljAAEvAQACABQADFVudXNlZCBDdXJ2ZQACTwEAAgAUAAxVbnVzZWQgQ3VydmUAA4wBAAIAFAAMVW51c2VkIEN1cnZlAARMAQACABQADFVudXNlZCBDdXJ2ZQAFOQEAAgAUAAxVbnVzZWQgQ3VydmUABk4BAAIAFAAMVW51c2VkIEN1cnZlAAcjAQACABQADFVudXNlZCBDdXJ2ZQAIKQEAAgAUAAxVbnVzZWQgQ3VydmUACWABAAIAowGtAQEBAgGamZmZmZmpPwAAZmZmZmZm7j8AAAUAAQEBAAEBAQA=",null,null,null," 0\t 8\t\t\t\t\t\t\t\t","F1\t0\t 1000\t .95",null,null,null,4,true]
["FIT_61F0C_8FB2","Förh. Första personen",{"$f":"'Cinema, voice alarm'!$F$3:$F$902","v":0},0,"F1\t0\t0\t-1E+300\t 1E+300\t 1\t0\t3\t 0\t1\t 1\t18\tBetaGeneral\tBinomial\tExpon\tExtValue\tExtValueMin\tGamma\tGeomet\tIntUniform\tLaplace\tLogistic\tLogLogistic\tLognorm\tNegBin\tNormal\tPoisson\tTriang\tUniform\tWeibull\t0\t1\t-1\t1\t 0\t 1\t0\t0\t0","GF1_rK0qDwEADwDMAQwjACYANACEAJgAmQCnALUAqAHIAcIBKgD//wAAAAAAAQQAAAAAAAAAAAEqRml0IENvbXBhcmlzb24gZm9yIEbDtnJoLiBGw7Zyc3RhIHBlcnNvbmVuASBSaXNrTG9nbG9naXN0aWMoMDsyMCwzODE7Myw0MDM2KQEBEAACAAEKU3RhdGlzdGljcwMBAQD/AQEBAQEAAQEBAAQAAAABAQEBAQABAQEABAAAAArUAAHjAAD4AAAOAQAkAQA6AQBQAQBmAQB8AQCSAQANAAVJbnB1dAAAJQEBAgATAAtMb2dMb2dpc3RpYwABLwEAAgAUAAxVbnVzZWQgQ3VydmUAAk8BAAIAFAAMVW51c2VkIEN1cnZlAAOMAQACABQADFVudXNlZCBDdXJ2ZQAETAEAAgAUAAxVbnVzZWQgQ3VydmUABTkBAAIAFAAMVW51c2VkIEN1cnZlAAZOAQACABQADFVudXNlZCBDdXJ2ZQAHIwEAAgAUAAxVbnVzZWQgQ3VydmUACCkBAAIAFAAMVW51c2VkIEN1cnZlAAlgAQACALABuQEBAQIBAAAAAAAAEMABAAAAAAAA8H8BBQABAQEAAQEBAA==",null,null,null," 0\t 8\t\t\t\t\t\t\t\t","F1\t0\t 1000\t .95",null,null,null,4,true]
["FIT_8A88E_2EFBB","Normerad förberedelsetid",{"$f":"'Cinema, siren'!$F$3:$F$91","v":0},0,"F1\t0\t0\t-1E+300\t 1E+300\t 1\t0\t3\t 0\t1\t 1\t18\tBetaGeneral\tBinomial\tExpon\tExtValue\tExtValueMin\tGamma\tGeomet\tIntUniform\tLaplace\tLogistic\tLogLogistic\tLognorm\tNegBin\tNormal\tPoisson\tTriang\tUniform\tWeibull\t0\t1\t-1\t1\t 0\t 1\t0\t0\t0","GF1_rK0qDwEADwDXAQwjACYANAB+AJIAkwC2AMQAsQHTAc0BKgD//wAAAAAAAQQAAAAAAAAAAAEsRml0IENvbXBhcmlzb24gZm9yIE5vcm1lcmFkIGbDtnJiZXJlZGVsc2V0aWQBGFJpc2tHYW1tYSgzLDUzNTk7Myw1Mzk5KQEBEAACAAEKU3RhdGlzdGljcwMBAQD/AQEBAQEAAQAAAAAAAAAAAAAAAAAAAERAAQkAAAABAAQAAAABAQEBAQABAQEABAAAAArjAAHyAAABAQAXAQAtAQBDAQBZAQBvAQCFAQCbAQANAAVJbnB1dAAAJQEBAgANAAVHYW1tYQABLwEAAgAUAAxVbnVzZWQgQ3VydmUAAk8BAAIAFAAMVW51c2VkIEN1cnZlAAOMAQACABQADFVudXNlZCBDdXJ2ZQAETAEAAgAUAAxVbnVzZWQgQ3VydmUABTkBAAIAFAAMVW51c2VkIEN1cnZlAAZOAQACABQADFVudXNlZCBDdXJ2ZQAHIwEAAgAUAAxVbnVzZWQgQ3VydmUACCkBAAIAFAAMVW51c2VkIEN1cnZlAAlgAQACALkBwwEAAQIBmpmZmZmZqT8AAGZmZmZmZu4/AAAFAAEBAQABAQEA",null,null,null," 0\t 8\t\t\t\t\t\t\t\t","F1\t0\t 1000\t .95",null,null,null,4,true]
["FIT_C8A68_4177A","Normerad",{"$f":"'Cinema, alarm bell'!$F$3:$F$888","v":0},0,"F1\t0\t0\t-1E+300\t 1E+300\t 1\t0\t3\t 0\t1\t 1\t18\tBetaGeneral\tBinomial\tExpon\tExtValue\tExtValueMin\tGamma\tGeomet\tIntUniform\tLaplace\tLogistic\tLogLogistic\tLognorm\tNegBin\tNormal\tPoisson\tTriang\tUniform\tWeibull\t0\t1\t-1\t1\t 0\t 1\t0\t0\t0",{"$nulls":4}," 0\t 8\t\t\t\t\t\t\t\t","F1\t0\t 1000\t .95",null,null,null,4,true]
["FIT_B22E6_8458","Normerad förb",{"$f":"'Cinema, siren'!$F$3:$F$94","v":0},0,"F1\t0\t0\t-1E+300\t 1E+300\t 1\t0\t3\t 0\t1\t 1\t18\tBetaGeneral\tBinomial\tExpon\tExtValue\tExtValueMin\tGamma\tGeomet\tIntUniform\tLaplace\tLogistic\tLogLogistic\tLognorm\tNegBin\tNormal\tPoisson\tTriang\tUniform\tWeibull\t0\t1\t-1\t1\t 0\t 1\t0\t0\t0",{"$nulls":4}," 0\t 8\t\t\t\t\t\t\t\t","F1\t0\t 1000\t .95",null,null,null,4,true]
["FIT_4A86B_62FB8","Normerad förberedelsetid 2",{"$f":"'Restaurant, café'!$F$3:$F$29","v":{"$error":"#VALUE!"}},0,"F1\t0\t0\t-1E+300\t 1E+300\t 1\t0\t3\t 0\t1\t 1\t18\tBetaGeneral\tBinomial\tExpon\tExtValue\tExtValueMin\tGamma\tGeomet\tIntUniform\tLaplace\tLogistic\tLogLogistic\tLognorm\tNegBin\tNormal\tPoisson\tTriang\tUniform\tWeibull\t0\t1\t-1\t1\t 0\t 1\t0\t0\t0",{"$nulls":4}," 0\t 8\t\t\t\t\t\t\t\t","F1\t0\t 1000\t .95",null,null,null,4,true]
["FIT_DA8DA_574B0","Normerad förberedelsetid 3",{"$f":"School!$F$3:$F$74","v":0},0,"F1\t0\t0\t-1E+300\t 1E+300\t 1\t0\t3\t 0\t1\t 1\t18\tBetaGeneral\tBinomial\tExpon\tExtValue\tExtValueMin\tGamma\tGeomet\tIntUniform\tLaplace\tLogistic\tLogLogistic\tLognorm\tNegBin\tNormal\tPoisson\tTriang\tUniform\tWeibull\t0\t1\t-1\t1\t 0\t 1\t0\t0\t0",{"$nulls":4}," 0\t 8\t\t\t\t\t\t\t\t","F1\t0\t 1000\t .95",null,null,null,4,true]
["FIT_93624_A9487","Tolkning Biograf talat",{"$f":"'Cinema, voice alarm'!$B$3:$B$191","v":14},0,"F1\t0\t0\t-1E+300\t 1E+300\t 1\t0\t3\t 0\t1\t 1\t17\tBetaGeneral\tBinomial\tExtValue\tExtValueMin\tGeomet\tIntUniform\tKumaraswamy\tLaplace\tLogistic\tLogLogistic\tLognorm\tNegBin\tNormal\tPoisson\tReciprocal\tTriang\tUniform\t0\t1\t-1\t1\t 0\t 1\t0\t0\t0","GF1_rK0qDwEAEADNAQwjACYANACDAJcAmACmALQApwHJAcMBKgD//wAAAAAAAQQAAAAAAAAAAAEpRml0IENvbXBhcmlzb24gZm9yIFRvbGtuaW5nIEJpb2dyYWYgdGFsYXQBIFJpc2tMb2dsb2dpc3RpYygwOzMzLDExMzsyLDY3NjIpAQEQAAIAAQpTdGF0aXN0aWNzAwEBAP8BAQEBAQABAQEABAAAAAEBAQEBAAEBAQAEAAAACtMAAeIAAPcAAA0BACMBADkBAE8BAGUBAHsBAJEBAA0ABUlucHV0AAAlAQECABMAC0xvZ2xvZ2lzdGljAAEvAQACABQADFVudXNlZCBDdXJ2ZQACTwEAAgAUAAxVbnVzZWQgQ3VydmUAA4wBAAIAFAAMVW51c2VkIEN1cnZlAARMAQACABQADFVudXNlZCBDdXJ2ZQAFOQEAAgAUAAxVbnVzZWQgQ3VydmUABk4BAAIAFAAMVW51c2VkIEN1cnZlAAcjAQACABQADFVudXNlZCBDdXJ2ZQAIKQEAAgAUAAxVbnVzZWQgQ3VydmUACWABAAIArwG5AQEBAgGamZmZmZmpPwAAZmZmZmZm7j8AAAUAAQEBAAEBAQA=",null,null,null," 0\t 8\t\t\t\t\t\t\t\t","F1\t0\t 1000\t .95",null,null,null,4,true]
["FIT_8B87_D1B46","Dataset 2",{"$f":"School!$C$3:$C$74","v":38},0,"F4\t1\t0\t0\t-1E+300\t 1E+300\t 1\t0\t0\t3\t 0\t1\t 1\t25\tBetaGeneral\tBinomial\tExpon\tExtValue\tExtValueMin\tGamma\tGeomet\tIntUniform\tInvGauss\tKumaraswamy\tLaplace\tLevy\tLogistic\tLogLogistic\tLognorm\tNegBin\tNormal\tPareto\tPearson5\tPearson6\tPoisson\tReciprocal\tTriang\tUniform\tWeibull\t0\t0\t1\t-1\t1\t 0\t 1\t0\t0\t0",{"$nulls":4}," 0\t 8\t\t\t\t\t\t\t\t","F1\t0\t 1000\t .95",null,"F2\t 0\t1\t1\t1",null,4,true]
["FIT_2F633_873F6","Respons 6",{"$f":"Office!$C$3:$C$47","v":{"$error":"#VALUE!"}},0,"F1\t0\t0\t-1E+300\t 1E+300\t 1\t0\t3\t 0\t1\t 1\t25\tBetaGeneral\tBinomial\tExpon\tExtValue\tExtValueMin\tGamma\tGeomet\tIntUniform\tInvGauss\tKumaraswamy\tLaplace\tLevy\tLogistic\tLogLogistic\tLognorm\tNegBin\tNormal\tPareto\tPearson5\tPearson6\tPoisson\tReciprocal\tTriang\tUniform\tWeibull\t0\t1\t-1\t1\t 0\t 1\t0\t0\t0","GF1_rK0qDwEAEACrAQwjACYANABnAHsAfACKAJgAhQGnAaEBKgD//wAAAAAAAQQAAAAAAAAAAAEcRml0IENvbXBhcmlzb24gZm9yIFJlc3BvbnMgNgERUmlza0V4cG9uKDIzLDc4NCkBARAAAgABClN0YXRpc3RpY3MDAQEA/wEBAQEBAAEBAQAEAAAAAQEBAQEAAQEBAAQAAAAKtwABxgAA1QAA6wAAAQEAFwEALQEAQwEAWQEAbwEADQAFSW5wdXQAACUBAQIADQAFRXhwb24AAS8BAAIAFAAMVW51c2VkIEN1cnZlAAJPAQACABQADFVudXNlZCBDdXJ2ZQADjAEAAgAUAAxVbnVzZWQgQ3VydmUABEwBAAIAFAAMVW51c2VkIEN1cnZlAAU5AQACABQADFVudXNlZCBDdXJ2ZQAGTgEAAgAUAAxVbnVzZWQgQ3VydmUAByMBAAIAFAAMVW51c2VkIEN1cnZlAAgpAQACABQADFVudXNlZCBDdXJ2ZQAJYAEAAgCNAZcBAQECAZqZmZmZmak/AABmZmZmZmbuPwAABQABAQEAAQEBAA==",null,null,null," 0\t 8\t\t\t\t\t\t\t\t","F1\t0\t 1000\t .95",null,null,null,4,true]
["FIT_44DC5_A76D","Total förberedelse 5",{"$f":"Office!$D$3:$D$47","v":{"$error":"#VALUE!"}},0,"F1\t0\t0\t-1E+300\t 1E+300\t 1\t0\t3\t 0\t1\t 1\t25\tBetaGeneral\tBinomial\tExpon\tExtValue\tExtValueMin\tGamma\tGeomet\tIntUniform\tInvGauss\tKumaraswamy\tLaplace\tLevy\tLogistic\tLogLogistic\tLognorm\tNegBin\tNormal\tPareto\tPearson5\tPearson6\tPoisson\tReciprocal\tTriang\tUniform\tWeibull\t0\t1\t-1\t1\t 0\t 1\t0\t0\t0","GF1_rK0qDwEAEADMAQwjACYANACCAJYAlwClALMApgHIAcIBKgD//wAAAAAAAQQAAAAAAAAAAAEoRml0IENvbXBhcmlzb24gZm9yIFRvdGFsIGbDtnJiZXJlZGVsc2UgNQEgUmlza0xvZ2xvZ2lzdGljKDA7NTIsNTM5OzIsOTc5MykBARAAAgABClN0YXRpc3RpY3MDAQEA/wEBAQEBAAEBAQAEAAAAAQEBAQEAAQEBAAQAAAAK0gAB4QAA9gAADAEAIgEAOAEATgEAZAEAegEAkAEADQAFSW5wdXQAACUBAQIAEwALTG9nbG9naXN0aWMAAS8BAAIAFAAMVW51c2VkIEN1cnZlAAJPAQACABQADFVudXNlZCBDdXJ2ZQADjAEAAgAUAAxVbnVzZWQgQ3VydmUABEwBAAIAFAAMVW51c2VkIEN1cnZlAAU5AQACABQADFVudXNlZCBDdXJ2ZQAGTgEAAgAUAAxVbnVzZWQgQ3VydmUAByMBAAIAFAAMVW51c2VkIEN1cnZlAAgpAQACABQADFVudXNlZCBDdXJ2ZQAJYAEAAgCuAbgBAQECAZqZmZmZmak/AABmZmZmZmbuPwAABQABAQEAAQEBAA==",null,null,null," 0\t 8\t\t\t\t\t\t\t\t","F1\t0\t 1000\t .95",null,null,null,4,true]
["FIT_39C56_EB920","Individ",{"$f":"'Cinema, voice alarm'!$A$3:$B$902","v":{"$error":"#VALUE!"}},0,"F1\t0\t0\t-1E+300\t 1E+300\t 1\t0\t3\t 0\t1\t 1\t25\tBetaGeneral\tBinomial\tExpon\tExtValue\tExtValueMin\tGamma\tGeomet\tIntUniform\tInvGauss\tKumaraswamy\tLaplace\tLevy\tLogistic\tLogLogistic\tLognorm\tNegBin\tNormal\tPareto\tPearson5\tPearson6\tPoisson\tReciprocal\tTriang\tUniform\tWeibull\t0\t1\t-1\t1\t 0\t 1\t0\t0\t0","GF1_rK0qDwEAEAC+AQwjACYANAB0AIgAiQCXAKUAmAG6AbQBKgD//wAAAAAAAQQAAAAAAAAAAAEaRml0IENvbXBhcmlzb24gZm9yIEluZGl2aWQBIFJpc2tMb2dsb2dpc3RpYygwOzI1LDU3MTs1LDMxMTEpAQEQAAIAAQpTdGF0aXN0aWNzAwEBAP8BAQEBAQABAQEABAAAAAEBAQEBAAEBAQAEAAAACsQAAdMAAOgAAP4AABQBACoBAEABAFYBAGwBAIIBAA0ABUlucHV0AAAlAQECABMAC0xvZ2xvZ2lzdGljAAEvAQACABQADFVudXNlZCBDdXJ2ZQACTwEAAgAUAAxVbnVzZWQgQ3VydmUAA4wBAAIAFAAMVW51c2VkIEN1cnZlAARMAQACABQADFVudXNlZCBDdXJ2ZQAFOQEAAgAUAAxVbnVzZWQgQ3VydmUABk4BAAIAFAAMVW51c2VkIEN1cnZlAAcjAQACABQADFVudXNlZCBDdXJ2ZQAIKQEAAgAUAAxVbnVzZWQgQ3VydmUACWABAAIAoAGqAQEBAgGamZmZmZmpPwAAZmZmZmZm7j8AAAUAAQEBAAEBAQA=",null,null,null," 0\t 8\t\t\t\t\t\t\t\t","F1\t0\t 1000\t .95",null,null,null,0,true]

{"sheet":"Night club, passive staff","index":7,"n_rows":86,"n_cols":2,"rows_kept":86,"cut":false,"hidden":false,"merged":[[0,0,0,1],[1,4,1,5]]}
["Nightclub - Passive staff"]
["Individual","Pre-movement time"]
["Person 1",74]
["Person 2",417]
["Person 3",66]
["Person 4",57]
["Person 5",80]
["Person 6",80]
["Person 7",71]
["Person 8",60]
["Person 9",71]
["Person 10",65]
["Person 11",114]
["Person 12",327]
["Person 13",327]
["Person 14",13]
["Person 15",30]
["Person 16",25]
["Person 17",25]
["Person 18",25]
["Person 19",20]
["Person 20",63]
["Person 21",61]
["Person 22",34]
["Person 23",28]
["Person 24",63]
["Person 25",63]
["Person 26",63]
["Person 27",70]
["Person 28",69]
["Person 29",66]
["Person 30",39]
["Person 31",39]
["Person 32",39]
["Person 33",8]
["Person 34",15]
["Person 35",34]
["Person 36",55]
["Person 37",52]
["Person 38",67]
["Person 39",41]
["Person 40",39]
["Person 41",86]
["Person 42",57]
["Person 43",53]
["Person 44",65]
["Person 45",40]
["Person 46",79]
["Person 47",79]
["Person 48",103]
["Person 49",103]
["Person 50",16]
["Person 51",16]
["Person 52",56]
["Person 53",56]
["Person 54",19]
["Person 55",52]
["Person 56",58]
["Person 57",58]
["Person 58",144]
["Person 59",105]
["Person 60",119]
["Person 61",56]
["Person 62",93]
["Person 63",92]
["Person 64",83]
["Person 65",83]
["Person 66",62]
["Person 67",62]
["Person 68",55]
["Person 69",25]
["Person 70",25]
["Person 71",11]
["Person 72",11]
["Person 73",89]
["Person 74",90]
["Person 75",83]
["Person 76",38]
["Person 77",5]
["Person 78",38]
["Person 79",10]
["Person 80",36]
["Person 81",14]
["Person 82",19]
["Person 83",11]
["Person 84",86]

{"sheet":"Department store","index":8,"n_rows":231,"n_cols":4,"rows_kept":231,"cut":false,"hidden":false,"merged":[[0,0,0,3],[1,8,1,9],[7,8,7,9],[13,8,13,9]]}
["Department store - Voice alarm"]
["Individual","Recognition","Response","Total pre-movement time"]
["Person 1",23,2,25]
["Person 2",24,1,25]
["Person 3",25,13,38]
["Person 4",24,14,38]
["Person 5",44,8,52]
["Person 6",23,24,47]
["Person 7",54,2,56]
["Person 8",23,14,37]
["Person 9",23,28,51]
["Person 10",49,6,55]
["Person 11",22,2,24]
["Person 12",38,30,68]
["Person 13",29,28,57]
["Person 14",23,7,30]
["Person 15",30,5,35]
["Person 16",25,9,34]
["Person 17",28,6,34]
["Person 18",25,22,47]
["Person 19",26,16,42]
["Person 20",49,3,52]
["Person 21",46,1,47]
["Person 22",22,24,46]
["Person 23",22,25,47]
["Person 24",22,1,23]
["Person 25",24,12,36]
["Person 26",21,14,35]
["Person 27",64,5,69]
["Person 28",37,6,43]
["Person 29",54,14,68]
["Person 30",29,41,70]
["Person 31",30,1,31]
["Person 32",22,8,30]
["Person 33",22,8,30]
["Person 34",24,9,33]
["Person 35",56,17,73]
["Person 36",48,23,71]
["Person 37",28,2,30]
["Person 38",28,1,29]
["Person 39",27,2,29]
["Person 40",27,3,30]
["Person 41",33,40,73]
["Person 42",23,8,31]
["Person 43",32,31,63]
["Person 44",40,20,60]
["Person 45",40,20,60]
["Person 46",56,9,65]
["Person 47",57,9,66]
["Person 48",21,15,36]
["Person 49",22,5,27]
["Person 50",25,2,27]
["Person 51",28,7,35]
["Person 52",28,8,36]
["Person 53",26,10,36]
["Person 54",21,17,38]
["Person 55",21,17,38]
["Person 56",32,32,64]
["Person 57",33,2,35]
["Person 58",37,20,57]
["Person 59",60,10,70]
["Person 60",24,1,25]
["Person 61",20,2,22]
["Person 62",34,1,35]
["Person 63",33,1,34]
["Person 64",33,3,36]
["Person 65",26,8,34]
["Person 66",32,7,39]
["Person 67",19,4,23]
["Person 68",45,1,46]
["Person 69",32,8,40]
["Person 70",18,11,29]
["Person 71",22,12,34]
["Person 72",25,2,27]
["Person 73",48,1,49]
["Person 74",22,1,23]
["Person 75",22,4,26]
["Person 76",37,15,52]
["Person 77",36,7,43]
["Person 78",34,10,44]
["Person 79",36,4,40]
["Person 80",34,3,37]
["Person 81",43,3,46]
["Person 82",40,3,43]
["Person 83",31,1,32]
["Person 84",26,16,42]
["Person 85",36,14,50]
["Person 86",33,10,43]
["Person 87",26,1,27]
["Person 88",26,1,27]
["Person 89",39,10,49]
["Person 90",39,10,49]
["Person 91",38,6,44]
["Person 92",32,1,33]
["Person 93",29,1,30]
["Person 94",29,2,31]
["Person 95",42,2,44]
["Person 96",42,2,44]
["Person 97",31,12,43]
["Person 98",31,11,42]
["Person 99",31,11,42]
["Person 100",28,38,66]
["Person 101",25,2,27]
["Person 102",14,10,24]
["Person 103",14,3,17]
["Person 104",14,3,17]
["Person 105",20,6,26]
["Person 106",14,19,33]
["Person 107",14,19,33]
["Person 108",13,3,16]
["Person 109",21,23,44]
["Person 110",21,6,27]
["Person 111",24,4,28]
["Person 112",34,3,37]
["Person 113",35,26,61]
["Person 114",35,26,61]
["Person 115",27,36,63]
["Person 116",58,5,63]
["Person 117",14,1,15]
["Person 118",14,1,15]
["Person 119",16,2,18]
["Person 120",10,2,12]
["Person 121",30,17,47]
["Person 122",33,14,47]
["Person 123",33,14,47]
["Person 124",14,1,15]
["Person 125",15,17,32]
["Person 126",15,17,32]
["Person 127",4,1,5]
["Person 128",25,20,45]
["Person 129",20,6,26]
["Person 130",16,60,76]
["Person 131",17,1,18]
["Person 132",34,14,48]
["Person 133",18,36,54]
["Person 134",18,36,54]
["Person 135",18,36,54]
["Person 136",15,9,24]
["Person 137",24,36,60]
["Person 138",28,1,29]
["Person 139",28,1,29]
["Person 140",14,21,35]
["Person 141",17,1,18]
["Person 142",16,1,17]
["Person 143",15,11,26]
["Person 144",17,10,27]
["Person 145",28,20,48]
["Person 146",28,20,48]
["Person 147",19,1,20]
["Person 148",19,1,20]
["Person 149",28,2,30]
["Person 150",28,2,30]
["Person 151",28,2,30]
["Person 152",26,8,34]
["Person 153",25,1,26]
["Person 154",25,1,26]
["Person 155",27,3,30]
["Person 156",19,1,20]
["Person 157",19,1,20]
["Person 158",19,1,20]
["Person 159",20,2,22]
["Person 160",19,2,21]
["Person 161",17,1,18]
["Person 162",19,10,29]
["Person 163",22,8,30]
["Person 164",24,7,31]
["Person 165",17,1,18]
["Person 166",17,5,22]
["Person 167",16,4,20]
["Person 168",17,37,54]
["Person 169",17,30,47]
["Person 170",17,30,47]
["Person 171",17,30,47]
["Person 172",20,6,26]
["Person 173",20,3,23]
["Person 174",20,4,24]
["Person 175",17,21,38]
["Person 176",16,3,19]
["Person 177",21,4,25]
["Person 178",21,4,25]
["Person 179",21,4,25]
["Person 180",21,4,25]
["Person 181",14,3,17]
["Person 182",13,1,14]
["Person 183",13,4,17]
["Person 184",14,1,15]
["Person 185",13,1,14]
["Person 186",16,2,18]
["Person 187",14,1,15]
["Person 188",13,2,15]
["Person 189",14,1,15]
["Person 190",32,9,41]
["Person 191",15,6,21]
["Person 192",15,2,17]
["Person 193",14,1,15]
["Person 194",14,5,19]
["Person 195",15,1,16]
["Person 196",15,1,16]
["Person 197",19,1,20]
["Person 198",14,1,15]
["Person 199",14,1,15]
["Person 200",15,1,16]
["Person 201",17,2,19]
["Person 202",20,3,23]
["Person 203",15,3,18]
["Person 204",14,16,30]
["Person 205",19,8,27]
["Person 206",19,8,27]
["Person 207",21,4,25]
["Person 208",19,2,21]
["Person 209",14,4,18]
["Person 210",18,5,23]
["Person 211",20,8,28]
["Person 212",16,1,17]
["Person 213",16,1,17]
["Person 214",14,1,15]
["Person 215",13,1,14]
["Person 216",14,1,15]
["Person 217",18,12,30]
["Person 218",18,12,30]
["Person 219",30,81,111]
["Person 220",30,81,111]
["Person 221",24,14,38]
["Person 222",38,14,52]
["Person 223",33,24,57]
["Person 224",20,30,50]
["Person 225",15,8,23]
["Person 226",19,78,97]
["Person 227",19,78,97]
["Person 228",30,16,46]
["Person 229",30,11,41]

{"sheet":"Restaurant, café","index":9,"n_rows":29,"n_cols":4,"rows_kept":29,"cut":false,"hidden":false,"merged":[[0,0,0,3],[1,9,1,10]]}
["Restaurant/Café - Voice alarm"]
["Individual","Recognition","Response","Total pre-movement time"]
["Person 1",22,7,29]
["Person 2",28,14,42]
["Person 3",28,14,42]
["Person 4",31,7,38]
["Person 5",33,6,39]
["Person 6",16,30,46]
["Person 7",28,26,54]
["Person 8",26,6,32]
["Person 9",49,8,57]
["Person 10",35,23,58]
["Person 11",35,24,59]
["Person 12",16,70,86]
["Person 13",18,54,72]
["Person 14",17,56,73]
["Person 15",14,38,52]
["Person 16",13,36,49]
["Person 17",27,48,75]
["Person 18",18,2,20]
["Person 19",56,18,74]
["Person 20",24,20,44]
["Person 21",22,44,66]
["Person 22",30,36,66]
["Person 23",30,11,41]
["Person 24",32,24,56]
["Person 25",32,24,56]
["Person 26",24,21,45]
["Person 27",34,12,46]