{"text_format":"2","workbook":"xlsx","n_sheets":16,"sheets":["Homepage - Intro & Index","ABCEPs - Summary","Avocados - Summary","Bananas - Summary","Cucumbers - Summary","Eggplants - Summary","Peppers - Summary","FFV Coefficients","Schemes","FFV Waste","Coefficient - Sources","Coefficient Calculations","FFV Data","FFV Coeffs for Calcs","SUA Data","Reference List"],"not_rendered":{"charts":29,"images":6,"macros":0,"external_links":0,"defined_names":7,"comments":0,"pivot_tables":0},"unopened":[],"bounds":{"document_bytes":16777216,"sheet_cells":100000,"run_cost":"one","rows_first":2000,"rows_last":500,"rows_between":2000,"halvings":0,"cell_chars":16384,"cell_head_chars":4096},"cells_cut":0,"cells_raw":0,"read":"whole","date_system":"1900"}

{"sheet":"Homepage - Intro & Index","index":0,"n_rows":34,"n_cols":3,"rows_kept":34,"cut":false,"hidden":false,"merged":[[0,0,5,4],[6,0,7,4],[33,0,33,1],[29,0,29,1]]}
[]
[]
[]
[]
[]
[]
["For easier navigation see below links to each relevant sheet, and note that on each sheet there is a link: Index, linking back here."]
[]
["Sheet","Table Name","Explaination"]
["Summary for ABCEPs","Table X.1","Summary of all five products (avocados, bananas, cucumbers, eggplants and peppers) from Table X.2-X.5"]
["Avocados - Summary","Table X.2","A more in depth breakdown of Avocado waste mass, costs and climate impacts"]
["Bananas - Summary","Table X.3","A more in depth breakdown of Banana waste mass, costs and climate impacts"]
["Cucumbers - Summary","Table X.4","A more in depth breakdown of Cucumber waste mass, costs and climate impacts"]
["Eggplants - Summary","Table X.5","A more in depth breakdown of Eggplant waste mass, costs and climate impacts"]
["Peppers - Summary","Table X.6","A more in depth breakdown of Pepper waste mass, costs and climate impacts"]
["ABCEPs - Coefficients","Table X.7"]
["Schemes","Table X.8","Illustrations depicting how the various coefficients have been applied in Table X.2-X.5"]
["FFV Waste","Table X.9","Calculated values for the food waste for all five FFVs with the help of Table X.13. Also includes a best case and worst case where the minimum and maximum coefficients identified were applied."]
["Coefficient - Sources","Table X.10","A table with the sources for the coefficients in Table X.7 to better illustrate where the coefficients are derived from"]
["Additional Coefficient Calculations","Table X.11","Additional calculations required regarding the estimation of household food waste, and CO2-eq also presented in Table X.7"]
["FFV Data","Table X.12","The adjusted SUA data (from Table. X14) which exclude processing"]
["FFV Coefficients for Calculations","Table X.13","An additional sheet filled with the same data as in Table X.7 required to perform the model-calculcations in Table X.2-X.5 more smoothly"]
["SUA Data","Table X.14","The original data collected from FAOSTAT "]
["Reference List","Table X.15","The references for the sources presented in Table X.10"]
{"$rows_empty":9}
["FFV Coefficients"]

{"sheet":"ABCEPs - Summary","index":1,"n_rows":161,"n_cols":35,"rows_kept":161,"cut":false,"hidden":false,"merged":[]}
["Homepage"]
[]
[]
[]
[]
[]
[{"$nulls":13},"Food Waste","Unit: Tonnes"]
[{"$nulls":13},"Country","Product","Food Availability","Food Supply Quantity","Food Waste - Pre R&D","Food Waste - R&D","Food Waste - Households","Food Waste - Food Service","Total Food Waste",null,null,"Country","Population","Total food waste","kg FW per Capita","Total Econcomic","Cost per Capita (EUR)","Total climate","kg CO2-eq per capita"]
[{"$nulls":13},"Austria","ABCEPs",{"$f":"Q9+R9","v":227952.12584151688},{"$f":"SUMPRODUCT(IF((('FFV Waste'!A4:A250=$N9)*(ISNUMBER('FFV Waste'!D4:D250))),'FFV Waste'!D4:D250,0))","v":207525.05084151687},{"$f":"SUMPRODUCT(IF((('FFV Waste'!A4:A250=$N9)*(ISNUMBER('FFV Waste'!C4:C250))),'FFV Waste'!C4:C250,0))","v":20427.075000000001},{"$f":"SUMPRODUCT(IF((('FFV Waste'!A4:A250=$N9)*(ISNUMBER('FFV Waste'!E4:E250))),'FFV Waste'!E4:E250,0))","v":5885.2629335701813},{"$f":"SUMPRODUCT(IF((('FFV Waste'!A4:A250=$N9)*(ISNUMBER('FFV Waste'!G4:G250))),'FFV Waste'!G4:G250,0))","v":66742.926002350723},{"$f":"SUMPRODUCT(IF((('FFV Waste'!A4:A250=$N9)*(ISNUMBER('FFV Waste'!I4:I250))),'FFV Waste'!I4:I250,0))","v":11423.173953880016},{"$f":"SUM(R9:U9)","v":104478.43788980092},null,null,"Austria",8978929,104590.26757089779,{"$f":"AA9/Z9*1000","v":11.648412363088937},439.7875427722293,{"$f":"AC9/Z9*10^6","v":48.97995549048548},120800.31280904028,{"$f":"AE9/Z9*1000","v":13.453755209450957}]
[{"$nulls":13},"Belgium","ABCEPs",239763.62356768121,{"$f":"SUMPRODUCT(IF((('FFV Waste'!A5:A251=$N10)*(ISNUMBER('FFV Waste'!D5:D251))),'FFV Waste'!D5:D251,0))","v":234398.33004999999},{"$f":"SUMPRODUCT(IF((('FFV Waste'!A5:A251=$N10)*(ISNUMBER('FFV Waste'!C5:C251))),'FFV Waste'!C5:C251,0))","v":5365.293517681228},{"$f":"SUMPRODUCT(IF((('FFV Waste'!A5:A251=$N10)*(ISNUMBER('FFV Waste'!E5:E251))),'FFV Waste'!E5:E251,0))","v":6224.4118607550008},{"$f":"SUMPRODUCT(IF((('FFV Waste'!A5:A251=$N10)*(ISNUMBER('FFV Waste'!G5:G251))),'FFV Waste'!G5:G251,0))","v":77858.29615277391},{"$f":"SUMPRODUCT(IF((('FFV Waste'!A5:A251=$N10)*(ISNUMBER('FFV Waste'!I5:I251))),'FFV Waste'!I5:I251,0))","v":13183.618323575183},102631.61985478533,null,null,"Belgium",11617623,102664.58089423025,{"$f":"AA10/Z10*1000","v":8.8369695672023667},412.98066623306835,{"$f":"AC10/Z10*10^6","v":35.547776531659565},118061.51757416413,{"$f":"AE10/Z10*1000","v":10.162278253835931}]
[{"$nulls":13},"Bulgaria","ABCEPs",182422.76775009627,{"$f":"SUMPRODUCT(IF((('FFV Waste'!A6:A252=$N11)*(ISNUMBER('FFV Waste'!D6:D252))),'FFV Waste'!D6:D252,0))","v":170030.30679},{"$f":"SUMPRODUCT(IF((('FFV Waste'!A6:A252=$N11)*(ISNUMBER('FFV Waste'!C6:C252))),'FFV Waste'!C6:C252,0))","v":12392.460960096278},{"$f":"SUMPRODUCT(IF((('FFV Waste'!A6:A252=$N11)*(ISNUMBER('FFV Waste'!E6:E252))),'FFV Waste'!E6:E252,0))","v":5689.1838059050006},{"$f":"SUMPRODUCT(IF((('FFV Waste'!A6:A252=$N11)*(ISNUMBER('FFV Waste'!G6:G252))),'FFV Waste'!G6:G252,0))","v":44355.29910114588},{"$f":"SUMPRODUCT(IF((('FFV Waste'!A6:A252=$N11)*(ISNUMBER('FFV Waste'!I6:I252))),'FFV Waste'!I6:I252,0))","v":7376.3055088121728},69813.249375959334,null,null,"Bulgaria",6482484,69823.492654084723,10.771101425639419,149.05133820401645,22.992935764132461,82075.509528772542,12.661120263277555]
[{"$nulls":13},"Croatia","ABCEPs",100218.23552410034,{"$f":"SUMPRODUCT(IF((('FFV Waste'!A7:A253=$N12)*(ISNUMBER('FFV Waste'!D7:D253))),'FFV Waste'!D7:D253,0))","v":93552.229924100335},{"$f":"SUMPRODUCT(IF((('FFV Waste'!A7:A253=$N12)*(ISNUMBER('FFV Waste'!C7:C253))),'FFV Waste'!C7:C253,0))","v":6666.0055999999995},{"$f":"SUMPRODUCT(IF((('FFV Waste'!A7:A253=$N12)*(ISNUMBER('FFV Waste'!E7:E253))),'FFV Waste'!E7:E253,0))","v":2391.5481917562633},{"$f":"SUMPRODUCT(IF((('FFV Waste'!A7:A253=$N12)*(ISNUMBER('FFV Waste'!G7:G253))),'FFV Waste'!G7:G253,0))","v":30611.990982816755},{"$f":"SUMPRODUCT(IF((('FFV Waste'!A7:A253=$N12)*(ISNUMBER('FFV Waste'!I7:I253))),'FFV Waste'!I7:I253,0))","v":5154.9205223574854},44824.465296930503,null,null,"Croatia",3862305,44831.646450668792,11.607484766394366,141.05112834836621,36.519935206661877,48502.684313270111,12.557963266306029]
[{"$nulls":13},"Cyprus","ABCEPs",20068.972481122146,{"$f":"SUMPRODUCT(IF((('FFV Waste'!A8:A254=$N13)*(ISNUMBER('FFV Waste'!D8:D254))),'FFV Waste'!D8:D254,0))","v":17804.856275321359},{"$f":"SUMPRODUCT(IF((('FFV Waste'!A8:A254=$N13)*(ISNUMBER('FFV Waste'!C8:C254))),'FFV Waste'!C8:C254,0))","v":2264.1162058007858},{"$f":"SUMPRODUCT(IF((('FFV Waste'!A8:A254=$N13)*(ISNUMBER('FFV Waste'!E8:E254))),'FFV Waste'!E8:E254,0))","v":492.74649147419677},{"$f":"SUMPRODUCT(IF((('FFV Waste'!A8:A254=$N13)*(ISNUMBER('FFV Waste'!G8:G254))),'FFV Waste'!G8:G254,0))","v":5373.3514982555653},{"$f":"SUMPRODUCT(IF((('FFV Waste'!A8:A254=$N13)*(ISNUMBER('FFV Waste'!I8:I254))),'FFV Waste'!I8:I254,0))","v":931.85887777619246},9062.0730733067394,null,null,"Cyprus",929764,9066.8623010547872,9.7517889497278727,26.049973990428128,28.017834623009847,12505.925117317964,13.450644590797195]
[{"$nulls":13},"Czechia","ABCEPs",200418.80533190843,{"$f":"SUMPRODUCT(IF((('FFV Waste'!A9:A255=$N14)*(ISNUMBER('FFV Waste'!D9:D255))),'FFV Waste'!D9:D255,0))","v":188440.44313190843},{"$f":"SUMPRODUCT(IF((('FFV Waste'!A9:A255=$N14)*(ISNUMBER('FFV Waste'!C9:C255))),'FFV Waste'!C9:C255,0))","v":11978.362200000001},{"$f":"SUMPRODUCT(IF((('FFV Waste'!A9:A255=$N14)*(ISNUMBER('FFV Waste'!E9:E255))),'FFV Waste'!E9:E255,0))","v":4796.8274030260691},{"$f":"SUMPRODUCT(IF((('FFV Waste'!A9:A255=$N14)*(ISNUMBER('FFV Waste'!G9:G255))),'FFV Waste'!G9:G255,0))","v":58111.74138482425},{"$f":"SUMPRODUCT(IF((('FFV Waste'!A9:A255=$N14)*(ISNUMBER('FFV Waste'!I9:I255))),'FFV Waste'!I9:I255,0))","v":9818.3567131531381},84705.287701003457,null,null,"Czechia",10516707,84727.73278014487,8.0564888591214796,350.71137971682487,33.348022315048318,87507.92810066689,8.3208487315151878]
[{"$nulls":13},"Denmark","ABCEPs",124319.83786692708,{"$f":"SUMPRODUCT(IF((('FFV Waste'!A10:A256=$N15)*(ISNUMBER('FFV Waste'!D10:D256))),'FFV Waste'!D10:D256,0))","v":117467.82984639928},{"$f":"SUMPRODUCT(IF((('FFV Waste'!A10:A256=$N15)*(ISNUMBER('FFV Waste'!C10:C256))),'FFV Waste'!C10:C256,0))","v":6852.0080205277864},{"$f":"SUMPRODUCT(IF((('FFV Waste'!A10:A256=$N15)*(ISNUMBER('FFV Waste'!E10:E256))),'FFV Waste'!E10:E256,0))","v":3076.2705853047828},{"$f":"SUMPRODUCT(IF((('FFV Waste'!A10:A256=$N15)*(ISNUMBER('FFV Waste'!G10:G256))),'FFV Waste'!G10:G256,0))","v":39308.818517801425},{"$f":"SUMPRODUCT(IF((('FFV Waste'!A10:A256=$N15)*(ISNUMBER('FFV Waste'!I10:I256))),'FFV Waste'!I10:I256,0))","v":6306.2736020732664},55543.370725707267,null,null,"Denmark",5873420,55582.819033126012,9.4634504314566321,277.18019370083232,47.192299154637723,66070.779118921506,11.249115356797487]
[{"$nulls":13},"Estonia","ABCEPs",28290.281268485662,{"$f":"SUMPRODUCT(IF((('FFV Waste'!A11:A257=$N16)*(ISNUMBER('FFV Waste'!D11:D257))),'FFV Waste'!D11:D257,0))","v":27734.111868485663},{"$f":"SUMPRODUCT(IF((('FFV Waste'!A11:A257=$N16)*(ISNUMBER('FFV Waste'!C11:C257))),'FFV Waste'!C11:C257,0))","v":556.16940000000011},{"$f":"SUMPRODUCT(IF((('FFV Waste'!A11:A257=$N16)*(ISNUMBER('FFV Waste'!E11:E257))),'FFV Waste'!E11:E257,0))","v":666.56914229989661},{"$f":"SUMPRODUCT(IF((('FFV Waste'!A11:A257=$N16)*(ISNUMBER('FFV Waste'!G11:G257))),'FFV Waste'!G11:G257,0))","v":8675.6599889513309},{"$f":"SUMPRODUCT(IF((('FFV Waste'!A11:A257=$N16)*(ISNUMBER('FFV Waste'!I11:I257))),'FFV Waste'!I11:I257,0))","v":1491.6649757118096},11390.063506963037,null,null,"Estonia",1331796,11395.453658351711,8.5564558373442416,54.130606459908591,40.644818320454931,13617.605990817687,10.224993911092755]
[{"$nulls":13},"Finland","ABCEPs",155033.2790490303,{"$f":"SUMPRODUCT(IF((('FFV Waste'!A12:A258=$N17)*(ISNUMBER('FFV Waste'!D12:D258))),'FFV Waste'!D12:D258,0))","v":144147.07621824506},{"$f":"SUMPRODUCT(IF((('FFV Waste'!A12:A258=$N17)*(ISNUMBER('FFV Waste'!C12:C258))),'FFV Waste'!C12:C258,0))","v":10886.202830785258},{"$f":"SUMPRODUCT(IF((('FFV Waste'!A12:A258=$N17)*(ISNUMBER('FFV Waste'!E12:E258))),'FFV Waste'!E12:E258,0))","v":3268.8536841213754},{"$f":"SUMPRODUCT(IF((('FFV Waste'!A12:A258=$N17)*(ISNUMBER('FFV Waste'!G12:G258))),'FFV Waste'!G12:G258,0))","v":41182.968656267272},{"$f":"SUMPRODUCT(IF((('FFV Waste'!A12:A258=$N17)*(ISNUMBER('FFV Waste'!I12:I258))),'FFV Waste'!I12:I258,0))","v":7951.1097927361106},63289.134963910015,null,null,"Finland",5548241,63308.025082437358,11.410467764907358,317.1253886252631,57.157825088215006,82173.680155948357,14.810762574291267]
[{"$nulls":13},"France","ABCEPs",1254281.1682648058,{"$f":"SUMPRODUCT(IF((('FFV Waste'!A13:A259=$N18)*(ISNUMBER('FFV Waste'!D13:D259))),'FFV Waste'!D13:D259,0))","v":1095546.7546648057},{"$f":"SUMPRODUCT(IF((('FFV Waste'!A13:A259=$N18)*(ISNUMBER('FFV Waste'!C13:C259))),'FFV Waste'!C13:C259,0))","v":158734.4136},{"$f":"SUMPRODUCT(IF((('FFV Waste'!A13:A259=$N18)*(ISNUMBER('FFV Waste'!E13:E259))),'FFV Waste'!E13:E259,0))","v":29007.33492931732},{"$f":"SUMPRODUCT(IF((('FFV Waste'!A13:A259=$N18)*(ISNUMBER('FFV Waste'!G13:G259))),'FFV Waste'!G13:G259,0))","v":361646.09142825578},{"$f":"SUMPRODUCT(IF((('FFV Waste'!A13:A259=$N18)*(ISNUMBER('FFV Waste'!I13:I259))),'FFV Waste'!I13:I259,0))","v":62626.880404929347},612014.7203625025,null,null,"France",68091703,612397.52327974036,8.9937172415814057,2348.1350111213874,34.484891810113595,783329.60831821291,11.504039020998093]
[{"$nulls":13},"Germany","ABCEPs",1785034.1816172586,{"$f":"SUMPRODUCT(IF((('FFV Waste'!A14:A260=$N19)*(ISNUMBER('FFV Waste'!D14:D260))),'FFV Waste'!D14:D260,0))","v":1594589.8012672586},{"$f":"SUMPRODUCT(IF((('FFV Waste'!A14:A260=$N19)*(ISNUMBER('FFV Waste'!C14:C260))),'FFV Waste'!C14:C260,0))","v":190444.38034999999},{"$f":"SUMPRODUCT(IF((('FFV Waste'!A14:A260=$N19)*(ISNUMBER('FFV Waste'!E14:E260))),'FFV Waste'!E14:E260,0))","v":41837.063410263829},{"$f":"SUMPRODUCT(IF((('FFV Waste'!A14:A260=$N19)*(ISNUMBER('FFV Waste'!G14:G260))),'FFV Waste'!G14:G260,0))","v":490121.3406734764},{"$f":"SUMPRODUCT(IF((('FFV Waste'!A14:A260=$N19)*(ISNUMBER('FFV Waste'!I14:I260))),'FFV Waste'!I14:I260,0))","v":82153.653416626752},804556.43785036693,null,null,"Germany",83237124,804839.01969479839,9.6692314801121491,3321.8475954366722,39.908245693792502,846878.11342962284,10.174283693771338]
[{"$nulls":13},"Greece","ABCEPs",347438.54651337437,{"$f":"SUMPRODUCT(IF((('FFV Waste'!A15:A261=$N20)*(ISNUMBER('FFV Waste'!D15:D261))),'FFV Waste'!D15:D261,0))","v":317437.33158453309},{"$f":"SUMPRODUCT(IF((('FFV Waste'!A15:A261=$N20)*(ISNUMBER('FFV Waste'!C15:C261))),'FFV Waste'!C15:C261,0))","v":30001.214928841273},{"$f":"SUMPRODUCT(IF((('FFV Waste'!A15:A261=$N20)*(ISNUMBER('FFV Waste'!E15:E261))),'FFV Waste'!E15:E261,0))","v":10889.513068487993},{"$f":"SUMPRODUCT(IF((('FFV Waste'!A15:A261=$N20)*(ISNUMBER('FFV Waste'!G15:G261))),'FFV Waste'!G15:G261,0))","v":91570.350334117466},{"$f":"SUMPRODUCT(IF((('FFV Waste'!A15:A261=$N20)*(ISNUMBER('FFV Waste'!I15:I261))),'FFV Waste'!I15:I261,0))","v":15528.056135446343},147989.1344668931,null,null,"Greece",10459782,148045.05622329385,14.153742040062962,412.91743428634635,39.476676883547512,201420.0713248571,19.256622301005613]
[{"$nulls":13},"Hungary","ABCEPs",101751.92692586235,{"$f":"SUMPRODUCT(IF((('FFV Waste'!A16:A262=$N21)*(ISNUMBER('FFV Waste'!D16:D262))),'FFV Waste'!D16:D262,0))","v":96275.595245804376},{"$f":"SUMPRODUCT(IF((('FFV Waste'!A16:A262=$N21)*(ISNUMBER('FFV Waste'!C16:C262))),'FFV Waste'!C16:C262,0))","v":5476.3316800579787},{"$f":"SUMPRODUCT(IF((('FFV Waste'!A16:A262=$N21)*(ISNUMBER('FFV Waste'!E16:E262))),'FFV Waste'!E16:E262,0))","v":3047.8888356694788},{"$f":"SUMPRODUCT(IF((('FFV Waste'!A16:A262=$N21)*(ISNUMBER('FFV Waste'!G16:G262))),'FFV Waste'!G16:G262,0))","v":26147.471795404257},{"$f":"SUMPRODUCT(IF((('FFV Waste'!A16:A262=$N21)*(ISNUMBER('FFV Waste'!I16:I262))),'FFV Waste'!I16:I262,0))","v":4301.095147497479},38972.787458629195,null,null,"Hungary",9610403,38987.143809174115,4.0567647172729506,83.223673729976056,8.6597485797396914,43791.261525874463,4.5566519453840248]
[{"$nulls":13},"Iceland","ABCEPs",7432.3381244035709,{"$f":"SUMPRODUCT(IF((('FFV Waste'!A17:A263=$N22)*(ISNUMBER('FFV Waste'!D17:D263))),'FFV Waste'!D17:D263,0))","v":7149.2642244035706},{"$f":"SUMPRODUCT(IF((('FFV Waste'!A17:A263=$N22)*(ISNUMBER('FFV Waste'!C17:C263))),'FFV Waste'!C17:C263,0))","v":283.07389999999998},{"$f":"SUMPRODUCT(IF((('FFV Waste'!A17:A263=$N22)*(ISNUMBER('FFV Waste'!E17:E263))),'FFV Waste'!E17:E263,0))","v":180.52539480078946},{"$f":"SUMPRODUCT(IF((('FFV Waste'!A17:A263=$N22)*(ISNUMBER('FFV Waste'!G17:G263))),'FFV Waste'!G17:G263,0))","v":2281.6415568367024},{"$f":"SUMPRODUCT(IF((('FFV Waste'!A17:A263=$N22)*(ISNUMBER('FFV Waste'!I17:I263))),'FFV Waste'!I17:I263,0))","v":393.13712122613816},3138.37797286363,null,null,"Iceland",376248,3141.152885971052,8.3486234769913779,21.124195557933081,56.144339791661565,4302.2956953830553,11.434733727177434]
[{"$nulls":13},"Ireland","ABCEPs",92624.216564947696,{"$f":"SUMPRODUCT(IF((('FFV Waste'!A18:A264=$N23)*(ISNUMBER('FFV Waste'!D18:D264))),'FFV Waste'!D18:D264,0))","v":85795.57954781779},{"$f":"SUMPRODUCT(IF((('FFV Waste'!A18:A264=$N23)*(ISNUMBER('FFV Waste'!C18:C264))),'FFV Waste'!C18:C264,0))","v":6828.6370171299113},{"$f":"SUMPRODUCT(IF((('FFV Waste'!A18:A264=$N23)*(ISNUMBER('FFV Waste'!E18:E264))),'FFV Waste'!E18:E264,0))","v":2084.8050359464264},{"$f":"SUMPRODUCT(IF((('FFV Waste'!A18:A264=$N23)*(ISNUMBER('FFV Waste'!G18:G264))),'FFV Waste'!G18:G264,0))","v":29108.203875593801},{"$f":"SUMPRODUCT(IF((('FFV Waste'!A18:A264=$N23)*(ISNUMBER('FFV Waste'!I18:I264))),'FFV Waste'!I18:I264,0))","v":4954.9354767509976},42976.581405421137,null,null,"Ireland",5154277,42999.39139747739,8.3424680896035248,211.45838200548022,41.025808664431544,47028.532591100367,9.1241764055560779]
[{"$nulls":13},"Italy","ABCEPs",1281645.8268694994,{"$f":"SUMPRODUCT(IF((('FFV Waste'!A19:A265=$N24)*(ISNUMBER('FFV Waste'!D19:D265))),'FFV Waste'!D19:D265,0))","v":1189331.0131694993},{"$f":"SUMPRODUCT(IF((('FFV Waste'!A19:A265=$N24)*(ISNUMBER('FFV Waste'!C19:C265))),'FFV Waste'!C19:C265,0))","v":92314.813699999999},{"$f":"SUMPRODUCT(IF((('FFV Waste'!A19:A265=$N24)*(ISNUMBER('FFV Waste'!E19:E265))),'FFV Waste'!E19:E265,0))","v":46094.398373257689},{"$f":"SUMPRODUCT(IF((('FFV Waste'!A19:A265=$N24)*(ISNUMBER('FFV Waste'!G19:G265))),'FFV Waste'!G19:G265,0))","v":367545.15860659484},{"$f":"SUMPRODUCT(IF((('FFV Waste'!A19:A265=$N24)*(ISNUMBER('FFV Waste'!I19:I265))),'FFV Waste'!I19:I265,0))","v":62666.812448951212},568621.18312880374,null,null,"Italy",59030133,568751.17305358383,9.6349295545985623,1745.0945237735236,29.562774723436988,677077.98839528789,11.470040028459497]
[{"$nulls":13},"Latvia","ABCEPs",33589.414150326993,{"$f":"SUMPRODUCT(IF((('FFV Waste'!A20:A266=$N25)*(ISNUMBER('FFV Waste'!D20:D266))),'FFV Waste'!D20:D266,0))","v":32879.476000326991},{"$f":"SUMPRODUCT(IF((('FFV Waste'!A20:A266=$N25)*(ISNUMBER('FFV Waste'!C20:C266))),'FFV Waste'!C20:C266,0))","v":709.93815000000006},{"$f":"SUMPRODUCT(IF((('FFV Waste'!A20:A266=$N25)*(ISNUMBER('FFV Waste'!E20:E266))),'FFV Waste'!E20:E266,0))","v":819.18522382897584},{"$f":"SUMPRODUCT(IF((('FFV Waste'!A20:A266=$N25)*(ISNUMBER('FFV Waste'!G20:G266))),'FFV Waste'!G20:G266,0))","v":10158.379226908588},{"$f":"SUMPRODUCT(IF((('FFV Waste'!A20:A266=$N25)*(ISNUMBER('FFV Waste'!I20:I266))),'FFV Waste'!I20:I266,0))","v":1753.8876577355543},13441.390258473119,null,null,"Latvia",1875757,13450.162377890696,7.1705249549332324,59.645052015569,31.797856553684191,16606.405369532269,8.8531752084797066]
[{"$nulls":13},"Lithuania","ABCEPs",61367.698463524299,{"$f":"SUMPRODUCT(IF((('FFV Waste'!A21:A267=$N26)*(ISNUMBER('FFV Waste'!D21:D267))),'FFV Waste'!D21:D267,0))","v":60801.718922282067},{"$f":"SUMPRODUCT(IF((('FFV Waste'!A21:A267=$N26)*(ISNUMBER('FFV Waste'!C21:C267))),'FFV Waste'!C21:C267,0))","v":565.97954124223463},{"$f":"SUMPRODUCT(IF((('FFV Waste'!A21:A267=$N26)*(ISNUMBER('FFV Waste'!E21:E267))),'FFV Waste'!E21:E267,0))","v":1484.4017911562828},{"$f":"SUMPRODUCT(IF((('FFV Waste'!A21:A267=$N26)*(ISNUMBER('FFV Waste'!G21:G267))),'FFV Waste'!G21:G267,0))","v":17617.315995694178},{"$f":"SUMPRODUCT(IF((('FFV Waste'!A21:A267=$N26)*(ISNUMBER('FFV Waste'!I21:I267))),'FFV Waste'!I21:I267,0))","v":3063.6299130871103},22731.327241179803,null,null,"Lithuania",2805998,22744.405147020039,8.1056384028142716,88.10087446225387,31.397340433690214,31488.218747492341,11.221753810049879]
[{"$nulls":13},"Luxembourg","ABCEPs",9859.7116599364308,{"$f":"SUMPRODUCT(IF((('FFV Waste'!A22:A268=$N27)*(ISNUMBER('FFV Waste'!D22:D268))),'FFV Waste'!D22:D268,0))","v":9369.0223099364302},{"$f":"SUMPRODUCT(IF((('FFV Waste'!A22:A268=$N27)*(ISNUMBER('FFV Waste'!C22:C268))),'FFV Waste'!C22:C268,0))","v":490.68934999999999},{"$f":"SUMPRODUCT(IF((('FFV Waste'!A22:A268=$N27)*(ISNUMBER('FFV Waste'!E22:E268))),'FFV Waste'!E22:E268,0))","v":262.86874298673689},{"$f":"SUMPRODUCT(IF((('FFV Waste'!A22:A268=$N27)*(ISNUMBER('FFV Waste'!G22:G268))),'FFV Waste'!G22:G268,0))","v":2921.8354973968867},{"$f":"SUMPRODUCT(IF((('FFV Waste'!A22:A268=$N27)*(ISNUMBER('FFV Waste'!I22:I268))),'FFV Waste'!I22:I268,0))","v":504.79790697943031},4180.1914973630537,null,null,"Luxembourg",645397,4183.3529717466472,6.4818289699931162,29.141359928117843,45.152611382014243,4659.7501386806425,7.2199748971263311]
[{"$nulls":13},"Malta","ABCEPs",10938.382124262676,{"$f":"SUMPRODUCT(IF((('FFV Waste'!A23:A269=$N28)*(ISNUMBER('FFV Waste'!D23:D269))),'FFV Waste'!D23:D269,0))","v":10302.574474262676},{"$f":"SUMPRODUCT(IF((('FFV Waste'!A23:A269=$N28)*(ISNUMBER('FFV Waste'!C23:C269))),'FFV Waste'!C23:C269,0))","v":635.80764999999997},{"$f":"SUMPRODUCT(IF((('FFV Waste'!A23:A269=$N28)*(ISNUMBER('FFV Waste'!E23:E269))),'FFV Waste'!E23:E269,0))","v":273.84777618495752},{"$f":"SUMPRODUCT(IF((('FFV Waste'!A23:A269=$N28)*(ISNUMBER('FFV Waste'!G23:G269))),'FFV Waste'!G23:G269,0))","v":3513.3853357694438},{"$f":"SUMPRODUCT(IF((('FFV Waste'!A23:A269=$N28)*(ISNUMBER('FFV Waste'!I23:I269))),'FFV Waste'!I23:I269,0))","v":603.58910467824467},5026.6298666326456,null,null,"Malta",520174,5028.4595454506152,9.6668798237716889,25.427829843014287,48.883315665554768,5912.5694179491411,11.366522390486915]
[{"$nulls":13},"Netherlands","ABCEPs",523348.59134306747,{"$f":"SUMPRODUCT(IF((('FFV Waste'!A24:A270=$N29)*(ISNUMBER('FFV Waste'!D24:D270))),'FFV Waste'!D24:D270,0))","v":477568.66710113554},{"$f":"SUMPRODUCT(IF((('FFV Waste'!A24:A270=$N29)*(ISNUMBER('FFV Waste'!C24:C270))),'FFV Waste'!C24:C270,0))","v":45779.924241931963},{"$f":"SUMPRODUCT(IF((('FFV Waste'!A24:A270=$N29)*(ISNUMBER('FFV Waste'!E24:E270))),'FFV Waste'!E24:E270,0))","v":11536.765311705423},{"$f":"SUMPRODUCT(IF((('FFV Waste'!A24:A270=$N29)*(ISNUMBER('FFV Waste'!G24:G270))),'FFV Waste'!G24:G270,0))","v":185068.23571171015},{"$f":"SUMPRODUCT(IF((('FFV Waste'!A24:A270=$N29)*(ISNUMBER('FFV Waste'!I24:I270))),'FFV Waste'!I24:I270,0))","v":28656.95183444838},271041.87709979591,null,null,"Netherlands",17590672,271139.49824917095,15.413822635608858,865.25848570949961,49.188483857211345,373719.38367902371,21.245315908285011]
[{"$nulls":13},"Norway","ABCEPs",116029.51357812512,{"$f":"SUMPRODUCT(IF((('FFV Waste'!A25:A271=$N30)*(ISNUMBER('FFV Waste'!D25:D271))),'FFV Waste'!D25:D271,0))","v":107615.07702812512},{"$f":"SUMPRODUCT(IF((('FFV Waste'!A25:A271=$N30)*(ISNUMBER('FFV Waste'!C25:C271))),'FFV Waste'!C25:C271,0))","v":8414.4365500000004},{"$f":"SUMPRODUCT(IF((('FFV Waste'!A25:A271=$N30)*(ISNUMBER('FFV Waste'!E25:E271))),'FFV Waste'!E25:E271,0))","v":2633.0324983642986},{"$f":"SUMPRODUCT(IF((('FFV Waste'!A25:A271=$N30)*(ISNUMBER('FFV Waste'!G25:G271))),'FFV Waste'!G25:G271,0))","v":34880.028623178885},{"$f":"SUMPRODUCT(IF((('FFV Waste'!A25:A271=$N30)*(ISNUMBER('FFV Waste'!I25:I271))),'FFV Waste'!I25:I271,0))","v":6025.4281916253358},51952.925863168522,null,null,"Norway",5425270,51994.004602238441,9.5836713384289514,339.4273760678675,62.564144469836059,84368.042972725336,15.550939026578463]
[{"$nulls":13},"Poland","ABCEPs",767909.05781969498,{"$f":"SUMPRODUCT(IF((('FFV Waste'!A26:A272=$N31)*(ISNUMBER('FFV Waste'!D26:D272))),'FFV Waste'!D26:D272,0))","v":667088.63042000006},{"$f":"SUMPRODUCT(IF((('FFV Waste'!A26:A272=$N31)*(ISNUMBER('FFV Waste'!C26:C272))),'FFV Waste'!C26:C272,0))","v":100820.42739969489},{"$f":"SUMPRODUCT(IF((('FFV Waste'!A26:A272=$N31)*(ISNUMBER('FFV Waste'!E26:E272))),'FFV Waste'!E26:E272,0))","v":17945.381933440003},{"$f":"SUMPRODUCT(IF((('FFV Waste'!A26:A272=$N31)*(ISNUMBER('FFV Waste'!G26:G272))),'FFV Waste'!G26:G272,0))","v":164613.70995839403},{"$f":"SUMPRODUCT(IF((('FFV Waste'!A26:A272=$N31)*(ISNUMBER('FFV Waste'!I26:I272))),'FFV Waste'!I26:I272,0))","v":28364.278702222298},311743.79799375118,null,null,"Poland",36889761,311816.94737080595,8.4526692208931884,678.72604185548698,18.398764954196558,484843.36554758146,13.143033524873783]
[{"$nulls":13},"Portugal","ABCEPs",293393.29838217999,{"$f":"SUMPRODUCT(IF((('FFV Waste'!A27:A273=$N32)*(ISNUMBER('FFV Waste'!D27:D273))),'FFV Waste'!D27:D273,0))","v":267607.27031136386},{"$f":"SUMPRODUCT(IF((('FFV Waste'!A27:A273=$N32)*(ISNUMBER('FFV Waste'!C27:C273))),'FFV Waste'!C27:C273,0))","v":25786.028070816126},{"$f":"SUMPRODUCT(IF((('FFV Waste'!A27:A273=$N32)*(ISNUMBER('FFV Waste'!E27:E273))),'FFV Waste'!E27:E273,0))","v":6823.3856002596112},{"$f":"SUMPRODUCT(IF((('FFV Waste'!A27:A273=$N32)*(ISNUMBER('FFV Waste'!G27:G273))),'FFV Waste'!G27:G273,0))","v":90579.257436351923},{"$f":"SUMPRODUCT(IF((('FFV Waste'!A27:A273=$N32)*(ISNUMBER('FFV Waste'!I27:I273))),'FFV Waste'!I27:I273,0))","v":15407.953153311679},138596.62426073934,null,null,"Portugal",10421117,138669.35130586982,13.3065727316822,570.67999499322457,54.761883490342214,158963.97976928196,15.254025050220811]
[{"$nulls":13},"Romania","ABCEPs",357522.32687387726,{"$f":"SUMPRODUCT(IF((('FFV Waste'!A28:A274=$N33)*(ISNUMBER('FFV Waste'!D28:D274))),'FFV Waste'!D28:D274,0))","v":328812.02472387726},{"$f":"SUMPRODUCT(IF((('FFV Waste'!A28:A274=$N33)*(ISNUMBER('FFV Waste'!C28:C274))),'FFV Waste'!C28:C274,0))","v":28710.302150000003},{"$f":"SUMPRODUCT(IF((('FFV Waste'!A28:A274=$N33)*(ISNUMBER('FFV Waste'!E28:E274))),'FFV Waste'!E28:E274,0))","v":13024.481470064424},{"$f":"SUMPRODUCT(IF((('FFV Waste'!A28:A274=$N33)*(ISNUMBER('FFV Waste'!G28:G274))),'FFV Waste'!G28:G274,0))","v":92655.643176368118},{"$f":"SUMPRODUCT(IF((('FFV Waste'!A28:A274=$N33)*(ISNUMBER('FFV Waste'!I28:I274))),'FFV Waste'!I28:I274,0))","v":15562.90982008573},149953.33661651827,null,null,"Romania",19042455,149991.26643434836,7.8766769533838135,477.57495558472772,25.07948452994783,178254.03491077508,9.3608746829531739]
[{"$nulls":13},"Slovakia","ABCEPs",86894.835285691282,{"$f":"SUMPRODUCT(IF((('FFV Waste'!A29:A275=$N34)*(ISNUMBER('FFV Waste'!D29:D275))),'FFV Waste'!D29:D275,0))","v":82713.526816390397},{"$f":"SUMPRODUCT(IF((('FFV Waste'!A29:A275=$N34)*(ISNUMBER('FFV Waste'!C29:C275))),'FFV Waste'!C29:C275,0))","v":4181.3084693008896},{"$f":"SUMPRODUCT(IF((('FFV Waste'!A29:A275=$N34)*(ISNUMBER('FFV Waste'!E29:E275))),'FFV Waste'!E29:E275,0))","v":2025.6223306131049},{"$f":"SUMPRODUCT(IF((('FFV Waste'!A29:A275=$N34)*(ISNUMBER('FFV Waste'!G29:G275))),'FFV Waste'!G29:G275,0))","v":26684.416599986696},{"$f":"SUMPRODUCT(IF((('FFV Waste'!A29:A275=$N34)*(ISNUMBER('FFV Waste'!I29:I275))),'FFV Waste'!I29:I275,0))","v":4498.688015105482},37390.035415006168,null,null,"Slovakia",5434712,37398.222040688983,6.8813622581452298,184.17147299749914,33.887991304322867,38387.315607014498,7.0633578388357092]
[{"$nulls":13},"Slovenia","ABCEPs",46094.443901413149,{"$f":"SUMPRODUCT(IF((('FFV Waste'!A30:A276=$N35)*(ISNUMBER('FFV Waste'!D30:D276))),'FFV Waste'!D30:D276,0))","v":30401.780001413146},{"$f":"SUMPRODUCT(IF((('FFV Waste'!A30:A276=$N35)*(ISNUMBER('FFV Waste'!C30:C276))),'FFV Waste'!C30:C276,0))","v":15692.663900000001},{"$f":"SUMPRODUCT(IF((('FFV Waste'!A30:A276=$N35)*(ISNUMBER('FFV Waste'!E30:E276))),'FFV Waste'!E30:E276,0))","v":753.66302950743489},{"$f":"SUMPRODUCT(IF((('FFV Waste'!A30:A276=$N35)*(ISNUMBER('FFV Waste'!G30:G276))),'FFV Waste'!G30:G276,0))","v":9983.1912550630859},{"$f":"SUMPRODUCT(IF((('FFV Waste'!A30:A276=$N35)*(ISNUMBER('FFV Waste'!I30:I276))),'FFV Waste'!I30:I276,0))","v":1687.1209712572022},28116.639155827725,null,null,"Slovenia",2107180,28123.676297111317,13.346594167138695,44.568153015758327,21.150615047484472,26980.286479245835,12.803978055622128]
[{"$nulls":13},"Spain","ABCEPs",1322586.4768441292,{"$f":"SUMPRODUCT(IF((('FFV Waste'!A31:A277=$N36)*(ISNUMBER('FFV Waste'!D31:D277))),'FFV Waste'!D31:D277,0))","v":967615.11109717214},{"$f":"SUMPRODUCT(IF((('FFV Waste'!A31:A277=$N36)*(ISNUMBER('FFV Waste'!C31:C277))),'FFV Waste'!C31:C277,0))","v":354971.3657469569},{"$f":"SUMPRODUCT(IF((('FFV Waste'!A31:A277=$N36)*(ISNUMBER('FFV Waste'!E31:E277))),'FFV Waste'!E31:E277,0))","v":35302.982322955453},{"$f":"SUMPRODUCT(IF((('FFV Waste'!A31:A277=$N36)*(ISNUMBER('FFV Waste'!G31:G277))),'FFV Waste'!G31:G277,0))","v":231938.04447304085},{"$f":"SUMPRODUCT(IF((('FFV Waste'!A31:A277=$N36)*(ISNUMBER('FFV Waste'!I31:I277))),'FFV Waste'!I31:I277,0))","v":46932.176363134568},669144.56890608766,null,null,"Spain",47486843,669529.42597089638,14.099261683302393,1392.5118189491454,29.324160777526217,830938.0381876399,17.498279222049778]
[{"$nulls":13},"Sweden","ABCEPs",177205.0312183777,{"$f":"SUMPRODUCT(IF((('FFV Waste'!A32:A278=$N37)*(ISNUMBER('FFV Waste'!D32:D278))),'FFV Waste'!D32:D278,0))","v":156639.56681155777},{"$f":"SUMPRODUCT(IF((('FFV Waste'!A32:A278=$N37)*(ISNUMBER('FFV Waste'!C32:C278))),'FFV Waste'!C32:C278,0))","v":20565.464406819938},{"$f":"SUMPRODUCT(IF((('FFV Waste'!A32:A278=$N37)*(ISNUMBER('FFV Waste'!E32:E278))),'FFV Waste'!E32:E278,0))","v":3311.4538352924828},{"$f":"SUMPRODUCT(IF((('FFV Waste'!A32:A278=$N37)*(ISNUMBER('FFV Waste'!G32:G278))),'FFV Waste'!G32:G278,0))","v":47358.041768895178},{"$f":"SUMPRODUCT(IF((('FFV Waste'!A32:A278=$N37)*(ISNUMBER('FFV Waste'!I32:I278))),'FFV Waste'!I32:I278,0))","v":8186.4806612671891},79421.440672274795,null,null,"Sweden",10452326,79421.440672274795,7.5984465727795705,303.42982070019622,29.0298848983658,95934.379350549818,9.178280446911991]
[{"$nulls":13},"Switzerland","ABCEPs",158161.71039918473,{"$f":"SUMPRODUCT(IF((('FFV Waste'!A33:A279=$N38)*(ISNUMBER('FFV Waste'!D33:D279))),'FFV Waste'!D33:D279,0))","v":151624.30914918473},{"$f":"SUMPRODUCT(IF((('FFV Waste'!A33:A279=$N38)*(ISNUMBER('FFV Waste'!C33:C279))),'FFV Waste'!C33:C279,0))","v":6537.401249999999},{"$f":"SUMPRODUCT(IF((('FFV Waste'!A33:A279=$N38)*(ISNUMBER('FFV Waste'!E33:E279))),'FFV Waste'!E33:E279,0))","v":4102.9936208893887},{"$f":"SUMPRODUCT(IF((('FFV Waste'!A33:A279=$N38)*(ISNUMBER('FFV Waste'!G33:G279))),'FFV Waste'!G33:G279,0))","v":47764.085229416647},{"$f":"SUMPRODUCT(IF((('FFV Waste'!A33:A279=$N38)*(ISNUMBER('FFV Waste'!I33:I279))),'FFV Waste'!I33:I279,0))","v":8210.8426960716752},66615.322796377703,null,null,"Switzerland",8738791,66668.332107195674,7.6290109360889478,363.71819221431559,41.621111228580197,59142.532094252805,6.7678162910925321]
[{"$nulls":13},"United Kingdom","ABCEPs",1184656.1317764584,{"$f":"SUMPRODUCT(IF((('FFV Waste'!A34:A280=$N39)*(ISNUMBER('FFV Waste'!D34:D280))),'FFV Waste'!D34:D280,0))","v":1130082.3346764583},{"$f":"SUMPRODUCT(IF((('FFV Waste'!A34:A280=$N39)*(ISNUMBER('FFV Waste'!C34:C280))),'FFV Waste'!C34:C280,0))","v":54573.797099999996},{"$f":"SUMPRODUCT(IF((('FFV Waste'!A34:A280=$N39)*(ISNUMBER('FFV Waste'!E34:E280))),'FFV Waste'!E34:E280,0))","v":29567.981161155436},{"$f":"SUMPRODUCT(IF((('FFV Waste'!A34:A280=$N39)*(ISNUMBER('FFV Waste'!G34:G280))),'FFV Waste'!G34:G280,0))","v":379857.58776418527},{"$f":"SUMPRODUCT(IF((('FFV Waste'!A34:A280=$N39)*(ISNUMBER('FFV Waste'!I34:I280))),'FFV Waste'!I34:I280,0))","v":62457.647856683907},526457.01388202456,null,null,"United Kingdom",67602800,526457.01388202456,7.7875030898427955,2028.1110998163315,30.000400868252964,600522.09219626139,8.8830949634669185]
[{"$nulls":13},"EU+","ABCEPs",{"$f":"SUM(P9:P39)","v":11298252.757381272},10068346.664493587,1229906.0928876838,295501.24979436031,3086234.4686078262,528178.2352691975,5139820.0465590674,null,null,"EU+",{"$f":"SUM(Z9:Z39)","v":528140192},5141766.8997437684,9.7356099339316486,17762.361562115264,{"$f":"AC40/Z40*10^6","v":33.631906511131923},6225864.2084572632,11.788279518891953]
[{"$nulls":17},{"$f":"R40/$V$40","v":0.23928971865679685},{"$f":"S40/$V$40","v":5.7492528360440991E-2},{"$f":"T40/$V$40","v":0.60045574371304189},{"$f":"U40/$V$40","v":0.10276200926972037}]
[{"$nulls":13},"Climate Impact","Unit: Tonnes CO2-eq"]
[{"$nulls":13},"Country","Product","Pre R&D","R&D","Households","Food Service","Total"]
[{"$nulls":13},"Austria","ABCEPs",{"$f":"SUM(IF(_xlfn.IFNA('Avocados - Summary'!P44,),'Avocados - Summary'!P44,0),IF(_xlfn.IFNA('Bananas - Summary'!P44,),'Bananas - Summary'!P44,0),IF(_xlfn.IFNA('Cucumbers - Summary'!P44,),'Cucumbers - Summary'!P44,0),IF(_xlfn.IFNA('Eggplants - Summary'!P44,),'Eggplants - Summary'!P44,0),IF(_xlfn.IFNA('Peppers - Summary'!P44,),'Peppers - Summary'!P44),0)","v":17429.454046686875},{"$f":"SUM(IF(_xlfn.IFNA('Avocados - Summary'!Q44,),'Avocados - Summary'!Q44,0),IF(_xlfn.IFNA('Bananas - Summary'!Q44,),'Bananas - Summary'!Q44,0),IF(_xlfn.IFNA('Cucumbers - Summary'!Q44,),'Cucumbers - Summary'!Q44,0),IF(_xlfn.IFNA('Eggplants - Summary'!Q44,),'Eggplants - Summary'!Q44,0),IF(_xlfn.IFNA('Peppers - Summary'!Q44,),'Peppers - Summary'!Q44),0)","v":6576.7893915045643},{"$f":"SUM(IF(_xlfn.IFNA('Avocados - Summary'!R44,),'Avocados - Summary'!R44,0),IF(_xlfn.IFNA('Bananas - Summary'!R44,),'Bananas - Summary'!R44,0),IF(_xlfn.IFNA('Cucumbers - Summary'!R44,),'Cucumbers - Summary'!R44,0),IF(_xlfn.IFNA('Eggplants - Summary'!R44,),'Eggplants - Summary'!R44,0),IF(_xlfn.IFNA('Peppers - Summary'!R44,),'Peppers - Summary'!R44),0)","v":82187.839914851953},{"$f":"SUM(IF(_xlfn.IFNA('Avocados - Summary'!S44,),'Avocados - Summary'!S44,0),IF(_xlfn.IFNA('Bananas - Summary'!S44,),'Bananas - Summary'!S44,0),IF(_xlfn.IFNA('Cucumbers - Summary'!S44,),'Cucumbers - Summary'!S44,0),IF(_xlfn.IFNA('Eggplants - Summary'!S44,),'Eggplants - Summary'!S44,0),IF(_xlfn.IFNA('Peppers - Summary'!S44,),'Peppers - Summary'!S44),0)","v":14336.687317773063},{"$f":"SUM(P44:S44)","v":120530.77067081645}]
[{"$nulls":13},"Belgium","ABCEPs",{"$f":"SUM(IF(_xlfn.IFNA('Avocados - Summary'!P45,),'Avocados - Summary'!P45,0),IF(_xlfn.IFNA('Bananas - Summary'!P45,),'Bananas - Summary'!P45,0),IF(_xlfn.IFNA('Cucumbers - Summary'!P45,),'Cucumbers - Summary'!P45,0),IF(_xlfn.IFNA('Eggplants - Summary'!P45,),'Eggplants - Summary'!P45,0),IF(_xlfn.IFNA('Peppers - Summary'!P45,),'Peppers - Summary'!P45),0)","v":6583.9148612192685},{"$f":"SUM(IF(_xlfn.IFNA('Avocados - Summary'!Q45,),'Avocados - Summary'!Q45,0),IF(_xlfn.IFNA('Bananas - Summary'!Q45,),'Bananas - Summary'!Q45,0),IF(_xlfn.IFNA('Cucumbers - Summary'!Q45,),'Cucumbers - Summary'!Q45,0),IF(_xlfn.IFNA('Eggplants - Summary'!Q45,),'Eggplants - Summary'!Q45,0),IF(_xlfn.IFNA('Peppers - Summary'!Q45,),'Peppers - Summary'!Q45),0)","v":6298.729659922431},{"$f":"SUM(IF(_xlfn.IFNA('Avocados - Summary'!R45,),'Avocados - Summary'!R45,0),IF(_xlfn.IFNA('Bananas - Summary'!R45,),'Bananas - Summary'!R45,0),IF(_xlfn.IFNA('Cucumbers - Summary'!R45,),'Cucumbers - Summary'!R45,0),IF(_xlfn.IFNA('Eggplants - Summary'!R45,),'Eggplants - Summary'!R45,0),IF(_xlfn.IFNA('Peppers - Summary'!R45,),'Peppers - Summary'!R45),0)","v":89665.323329865321},{"$f":"SUM(IF(_xlfn.IFNA('Avocados - Summary'!S45,),'Avocados - Summary'!S45,0),IF(_xlfn.IFNA('Bananas - Summary'!S45,),'Bananas - Summary'!S45,0),IF(_xlfn.IFNA('Cucumbers - Summary'!S45,),'Cucumbers - Summary'!S45,0),IF(_xlfn.IFNA('Eggplants - Summary'!S45,),'Eggplants - Summary'!S45,0),IF(_xlfn.IFNA('Peppers - Summary'!S45,),'Peppers - Summary'!S45),0)","v":15434.104007467658},{"$f":"SUM(P45:S45)","v":117982.07185847468},null," "]
[{"$nulls":13},"Bulgaria","ABCEPs",{"$f":"SUM(IF(_xlfn.IFNA('Avocados - Summary'!P46,),'Avocados - Summary'!P46,0),IF(_xlfn.IFNA('Bananas - Summary'!P46,),'Bananas - Summary'!P46,0),IF(_xlfn.IFNA('Cucumbers - Summary'!P46,),'Cucumbers - Summary'!P46,0),IF(_xlfn.IFNA('Eggplants - Summary'!P46,),'Eggplants - Summary'!P46,0),IF(_xlfn.IFNA('Peppers - Summary'!P46,),'Peppers - Summary'!P46),0)","v":11893.275478457872},{"$f":"SUM(IF(_xlfn.IFNA('Avocados - Summary'!Q46,),'Avocados - Summary'!Q46,0),IF(_xlfn.IFNA('Bananas - Summary'!Q46,),'Bananas - Summary'!Q46,0),IF(_xlfn.IFNA('Cucumbers - Summary'!Q46,),'Cucumbers - Summary'!Q46,0),IF(_xlfn.IFNA('Eggplants - Summary'!Q46,),'Eggplants - Summary'!Q46,0),IF(_xlfn.IFNA('Peppers - Summary'!Q46,),'Peppers - Summary'!Q46),0)","v":6176.9657178590123},{"$f":"SUM(IF(_xlfn.IFNA('Avocados - Summary'!R46,),'Avocados - Summary'!R46,0),IF(_xlfn.IFNA('Bananas - Summary'!R46,),'Bananas - Summary'!R46,0),IF(_xlfn.IFNA('Cucumbers - Summary'!R46,),'Cucumbers - Summary'!R46,0),IF(_xlfn.IFNA('Eggplants - Summary'!R46,),'Eggplants - Summary'!R46,0),IF(_xlfn.IFNA('Peppers - Summary'!R46,),'Peppers - Summary'!R46),0)","v":54663.742821198073},{"$f":"SUM(IF(_xlfn.IFNA('Avocados - Summary'!S46,),'Avocados - Summary'!S46,0),IF(_xlfn.IFNA('Bananas - Summary'!S46,),'Bananas - Summary'!S46,0),IF(_xlfn.IFNA('Cucumbers - Summary'!S46,),'Cucumbers - Summary'!S46,0),IF(_xlfn.IFNA('Eggplants - Summary'!S46,),'Eggplants - Summary'!S46,0),IF(_xlfn.IFNA('Peppers - Summary'!S46,),'Peppers - Summary'!S46),0)","v":9316.8362242878065},82050.820241802765]
[{"$nulls":13},"Croatia","ABCEPs",{"$f":"SUM(IF(_xlfn.IFNA('Avocados - Summary'!P47,),'Avocados - Summary'!P47,0),IF(_xlfn.IFNA('Bananas - Summary'!P47,),'Bananas - Summary'!P47,0),IF(_xlfn.IFNA('Cucumbers - Summary'!P47,),'Cucumbers - Summary'!P47,0),IF(_xlfn.IFNA('Eggplants - Summary'!P47,),'Eggplants - Summary'!P47,0),IF(_xlfn.IFNA('Peppers - Summary'!P47,),'Peppers - Summary'!P47),0)","v":5412.2023268417233},{"$f":"SUM(IF(_xlfn.IFNA('Avocados - Summary'!Q47,),'Avocados - Summary'!Q47,0),IF(_xlfn.IFNA('Bananas - Summary'!Q47,),'Bananas - Summary'!Q47,0),IF(_xlfn.IFNA('Cucumbers - Summary'!Q47,),'Cucumbers - Summary'!Q47,0),IF(_xlfn.IFNA('Eggplants - Summary'!Q47,),'Eggplants - Summary'!Q47,0),IF(_xlfn.IFNA('Peppers - Summary'!Q47,),'Peppers - Summary'!Q47),0)","v":2309.2973980683018},{"$f":"SUM(IF(_xlfn.IFNA('Avocados - Summary'!R47,),'Avocados - Summary'!R47,0),IF(_xlfn.IFNA('Bananas - Summary'!R47,),'Bananas - Summary'!R47,0),IF(_xlfn.IFNA('Cucumbers - Summary'!R47,),'Cucumbers - Summary'!R47,0),IF(_xlfn.IFNA('Eggplants - Summary'!R47,),'Eggplants - Summary'!R47,0),IF(_xlfn.IFNA('Peppers - Summary'!R47,),'Peppers - Summary'!R47),0)","v":34817.749800787831},{"$f":"SUM(IF(_xlfn.IFNA('Avocados - Summary'!S47,),'Avocados - Summary'!S47,0),IF(_xlfn.IFNA('Bananas - Summary'!S47,),'Bananas - Summary'!S47,0),IF(_xlfn.IFNA('Cucumbers - Summary'!S47,),'Cucumbers - Summary'!S47,0),IF(_xlfn.IFNA('Eggplants - Summary'!S47,),'Eggplants - Summary'!S47,0),IF(_xlfn.IFNA('Peppers - Summary'!S47,),'Peppers - Summary'!S47),0)","v":5946.1261132154514},48485.375638913312,null,{"$f":"V40*1000/(530*10^6)","v":9.6977736727529571}]
[{"$nulls":13},"Cyprus","ABCEPs",{"$f":"SUM(IF(_xlfn.IFNA('Avocados - Summary'!P48,),'Avocados - Summary'!P48,0),IF(_xlfn.IFNA('Bananas - Summary'!P48,),'Bananas - Summary'!P48,0),IF(_xlfn.IFNA('Cucumbers - Summary'!P48,),'Cucumbers - Summary'!P48,0),IF(_xlfn.IFNA('Eggplants - Summary'!P48,),'Eggplants - Summary'!P48,0),IF(_xlfn.IFNA('Peppers - Summary'!P48,),'Peppers - Summary'!P48),0)","v":2585.8187038636979},{"$f":"SUM(IF(_xlfn.IFNA('Avocados - Summary'!Q48,),'Avocados - Summary'!Q48,0),IF(_xlfn.IFNA('Bananas - Summary'!Q48,),'Bananas - Summary'!Q48,0),IF(_xlfn.IFNA('Cucumbers - Summary'!Q48,),'Cucumbers - Summary'!Q48,0),IF(_xlfn.IFNA('Eggplants - Summary'!Q48,),'Eggplants - Summary'!Q48,0),IF(_xlfn.IFNA('Peppers - Summary'!Q48,),'Peppers - Summary'!Q48),0)","v":669.7479640540306},{"$f":"SUM(IF(_xlfn.IFNA('Avocados - Summary'!R48,),'Avocados - Summary'!R48,0),IF(_xlfn.IFNA('Bananas - Summary'!R48,),'Bananas - Summary'!R48,0),IF(_xlfn.IFNA('Cucumbers - Summary'!R48,),'Cucumbers - Summary'!R48,0),IF(_xlfn.IFNA('Eggplants - Summary'!R48,),'Eggplants - Summary'!R48,0),IF(_xlfn.IFNA('Peppers - Summary'!R48,),'Peppers - Summary'!R48),0)","v":7844.9148311016925},{"$f":"SUM(IF(_xlfn.IFNA('Avocados - Summary'!S48,),'Avocados - Summary'!S48,0),IF(_xlfn.IFNA('Bananas - Summary'!S48,),'Bananas - Summary'!S48,0),IF(_xlfn.IFNA('Cucumbers - Summary'!S48,),'Cucumbers - Summary'!S48,0),IF(_xlfn.IFNA('Eggplants - Summary'!S48,),'Eggplants - Summary'!S48,0),IF(_xlfn.IFNA('Peppers - Summary'!S48,),'Peppers - Summary'!S48),0)","v":1393.9001830049103},12494.381682024332]
[{"$nulls":13},"Czechia","ABCEPs",{"$f":"SUM(IF(_xlfn.IFNA('Avocados - Summary'!P49,),'Avocados - Summary'!P49,0),IF(_xlfn.IFNA('Bananas - Summary'!P49,),'Bananas - Summary'!P49,0),IF(_xlfn.IFNA('Cucumbers - Summary'!P49,),'Cucumbers - Summary'!P49,0),IF(_xlfn.IFNA('Eggplants - Summary'!P49,),'Eggplants - Summary'!P49,0),IF(_xlfn.IFNA('Peppers - Summary'!P49,),'Peppers - Summary'!P49),0)","v":9755.1027480192297},{"$f":"SUM(IF(_xlfn.IFNA('Avocados - Summary'!Q49,),'Avocados - Summary'!Q49,0),IF(_xlfn.IFNA('Bananas - Summary'!Q49,),'Bananas - Summary'!Q49,0),IF(_xlfn.IFNA('Cucumbers - Summary'!Q49,),'Cucumbers - Summary'!Q49,0),IF(_xlfn.IFNA('Eggplants - Summary'!Q49,),'Eggplants - Summary'!Q49,0),IF(_xlfn.IFNA('Peppers - Summary'!Q49,),'Peppers - Summary'!Q49),0)","v":4178.9568380825949},{"$f":"SUM(IF(_xlfn.IFNA('Avocados - Summary'!R49,),'Avocados - Summary'!R49,0),IF(_xlfn.IFNA('Bananas - Summary'!R49,),'Bananas - Summary'!R49,0),IF(_xlfn.IFNA('Cucumbers - Summary'!R49,),'Cucumbers - Summary'!R49,0),IF(_xlfn.IFNA('Eggplants - Summary'!R49,),'Eggplants - Summary'!R49,0),IF(_xlfn.IFNA('Peppers - Summary'!R49,),'Peppers - Summary'!R49),0)","v":62740.548497919095},{"$f":"SUM(IF(_xlfn.IFNA('Avocados - Summary'!S49,),'Avocados - Summary'!S49,0),IF(_xlfn.IFNA('Bananas - Summary'!S49,),'Bananas - Summary'!S49,0),IF(_xlfn.IFNA('Cucumbers - Summary'!S49,),'Cucumbers - Summary'!S49,0),IF(_xlfn.IFNA('Eggplants - Summary'!S49,),'Eggplants - Summary'!S49,0),IF(_xlfn.IFNA('Peppers - Summary'!S49,),'Peppers - Summary'!S49),0)","v":10779.220831482973},87453.828915503895]
[{"$nulls":13},"Denmark","ABCEPs",{"$f":"SUM(IF(_xlfn.IFNA('Avocados - Summary'!P50,),'Avocados - Summary'!P50,0),IF(_xlfn.IFNA('Bananas - Summary'!P50,),'Bananas - Summary'!P50,0),IF(_xlfn.IFNA('Cucumbers - Summary'!P50,),'Cucumbers - Summary'!P50,0),IF(_xlfn.IFNA('Eggplants - Summary'!P50,),'Eggplants - Summary'!P50,0),IF(_xlfn.IFNA('Peppers - Summary'!P50,),'Peppers - Summary'!P50),0)","v":6958.0203697139405},{"$f":"SUM(IF(_xlfn.IFNA('Avocados - Summary'!Q50,),'Avocados - Summary'!Q50,0),IF(_xlfn.IFNA('Bananas - Summary'!Q50,),'Bananas - Summary'!Q50,0),IF(_xlfn.IFNA('Cucumbers - Summary'!Q50,),'Cucumbers - Summary'!Q50,0),IF(_xlfn.IFNA('Eggplants - Summary'!Q50,),'Eggplants - Summary'!Q50,0),IF(_xlfn.IFNA('Peppers - Summary'!Q50,),'Peppers - Summary'!Q50),0)","v":3335.8405131569061},{"$f":"SUM(IF(_xlfn.IFNA('Avocados - Summary'!R50,),'Avocados - Summary'!R50,0),IF(_xlfn.IFNA('Bananas - Summary'!R50,),'Bananas - Summary'!R50,0),IF(_xlfn.IFNA('Cucumbers - Summary'!R50,),'Cucumbers - Summary'!R50,0),IF(_xlfn.IFNA('Eggplants - Summary'!R50,),'Eggplants - Summary'!R50,0),IF(_xlfn.IFNA('Peppers - Summary'!R50,),'Peppers - Summary'!R50),0)","v":47702.593153432405},{"$f":"SUM(IF(_xlfn.IFNA('Avocados - Summary'!S50,),'Avocados - Summary'!S50,0),IF(_xlfn.IFNA('Bananas - Summary'!S50,),'Bananas - Summary'!S50,0),IF(_xlfn.IFNA('Cucumbers - Summary'!S50,),'Cucumbers - Summary'!S50,0),IF(_xlfn.IFNA('Eggplants - Summary'!S50,),'Eggplants - Summary'!S50,0),IF(_xlfn.IFNA('Peppers - Summary'!S50,),'Peppers - Summary'!S50),0)","v":7979.1849653061345},65975.639001609379,null,null,null,"Country","Total food waste","Waste %","Total Econcomic","Economic %","Total climate","Climate %"]
[{"$nulls":13},"Estonia","ABCEPs",{"$f":"SUM(IF(_xlfn.IFNA('Avocados - Summary'!P51,),'Avocados - Summary'!P51,0),IF(_xlfn.IFNA('Bananas - Summary'!P51,),'Bananas - Summary'!P51,0),IF(_xlfn.IFNA('Cucumbers - Summary'!P51,),'Cucumbers - Summary'!P51,0),IF(_xlfn.IFNA('Eggplants - Summary'!P51,),'Eggplants - Summary'!P51,0),IF(_xlfn.IFNA('Peppers - Summary'!P51,),'Peppers - Summary'!P51),0)","v":552.78789890616213},{"$f":"SUM(IF(_xlfn.IFNA('Avocados - Summary'!Q51,),'Avocados - Summary'!Q51,0),IF(_xlfn.IFNA('Bananas - Summary'!Q51,),'Bananas - Summary'!Q51,0),IF(_xlfn.IFNA('Cucumbers - Summary'!Q51,),'Cucumbers - Summary'!Q51,0),IF(_xlfn.IFNA('Eggplants - Summary'!Q51,),'Eggplants - Summary'!Q51,0),IF(_xlfn.IFNA('Peppers - Summary'!Q51,),'Peppers - Summary'!Q51),0)","v":696.3516671887885},{"$f":"SUM(IF(_xlfn.IFNA('Avocados - Summary'!R51,),'Avocados - Summary'!R51,0),IF(_xlfn.IFNA('Bananas - Summary'!R51,),'Bananas - Summary'!R51,0),IF(_xlfn.IFNA('Cucumbers - Summary'!R51,),'Cucumbers - Summary'!R51,0),IF(_xlfn.IFNA('Eggplants - Summary'!R51,),'Eggplants - Summary'!R51,0),IF(_xlfn.IFNA('Peppers - Summary'!R51,),'Peppers - Summary'!R51),0)","v":10512.258716404112},{"$f":"SUM(IF(_xlfn.IFNA('Avocados - Summary'!S51,),'Avocados - Summary'!S51,0),IF(_xlfn.IFNA('Bananas - Summary'!S51,),'Bananas - Summary'!S51,0),IF(_xlfn.IFNA('Cucumbers - Summary'!S51,),'Cucumbers - Summary'!S51,0),IF(_xlfn.IFNA('Eggplants - Summary'!S51,),'Eggplants - Summary'!S51,0),IF(_xlfn.IFNA('Peppers - Summary'!S51,),'Peppers - Summary'!S51),0)","v":1843.2158718365538},13604.614154335617,null,null,null,"Austria",104590.26757089779,{"$f":"Y51/$Y$82","v":2.0341308661057714E-2},439.7875427722293,{"$f":"AA51/$AA$82","v":2.4759519798889646E-2},120800.31280904028,{"$f":"AC51/$AC$82","v":1.9402979050674472E-2}]
[{"$nulls":13},"Finland","ABCEPs",{"$f":"SUM(IF(_xlfn.IFNA('Avocados - Summary'!P52,),'Avocados - Summary'!P52,0),IF(_xlfn.IFNA('Bananas - Summary'!P52,),'Bananas - Summary'!P52,0),IF(_xlfn.IFNA('Cucumbers - Summary'!P52,),'Cucumbers - Summary'!P52,0),IF(_xlfn.IFNA('Eggplants - Summary'!P52,),'Eggplants - Summary'!P52,0),IF(_xlfn.IFNA('Peppers - Summary'!P52,),'Peppers - Summary'!P52),0)","v":12519.982332961668},{"$f":"SUM(IF(_xlfn.IFNA('Avocados - Summary'!Q52,),'Avocados - Summary'!Q52,0),IF(_xlfn.IFNA('Bananas - Summary'!Q52,),'Bananas - Summary'!Q52,0),IF(_xlfn.IFNA('Cucumbers - Summary'!Q52,),'Cucumbers - Summary'!Q52,0),IF(_xlfn.IFNA('Eggplants - Summary'!Q52,),'Eggplants - Summary'!Q52,0),IF(_xlfn.IFNA('Peppers - Summary'!Q52,),'Peppers - Summary'!Q52),0)","v":4028.2939616862791},{"$f":"SUM(IF(_xlfn.IFNA('Avocados - Summary'!R52,),'Avocados - Summary'!R52,0),IF(_xlfn.IFNA('Bananas - Summary'!R52,),'Bananas - Summary'!R52,0),IF(_xlfn.IFNA('Cucumbers - Summary'!R52,),'Cucumbers - Summary'!R52,0),IF(_xlfn.IFNA('Eggplants - Summary'!R52,),'Eggplants - Summary'!R52,0),IF(_xlfn.IFNA('Peppers - Summary'!R52,),'Peppers - Summary'!R52),0)","v":54724.198384169693},{"$f":"SUM(IF(_xlfn.IFNA('Avocados - Summary'!S52,),'Avocados - Summary'!S52,0),IF(_xlfn.IFNA('Bananas - Summary'!S52,),'Bananas - Summary'!S52,0),IF(_xlfn.IFNA('Cucumbers - Summary'!S52,),'Cucumbers - Summary'!S52,0),IF(_xlfn.IFNA('Eggplants - Summary'!S52,),'Eggplants - Summary'!S52,0),IF(_xlfn.IFNA('Peppers - Summary'!S52,),'Peppers - Summary'!S52),0)","v":10855.458262370325},82127.932941187959,null,null,null,"Belgium",102664.58089423025,{"$f":"Y52/$Y$82","v":1.9966790190225538E-2},412.98066623306835,{"$f":"AA52/$AA$82","v":2.3250324276356402E-2},118061.51757416413,{"$f":"AC52/$AC$82","v":1.8963073016239004E-2}]
[{"$nulls":13},"France","ABCEPs",{"$f":"SUM(IF(_xlfn.IFNA('Avocados - Summary'!P53,),'Avocados - Summary'!P53,0),IF(_xlfn.IFNA('Bananas - Summary'!P53,),'Bananas - Summary'!P53,0),IF(_xlfn.IFNA('Cucumbers - Summary'!P53,),'Cucumbers - Summary'!P53,0),IF(_xlfn.IFNA('Eggplants - Summary'!P53,),'Eggplants - Summary'!P53,0),IF(_xlfn.IFNA('Peppers - Summary'!P53,),'Peppers - Summary'!P53),0)","v":193887.59708592048},{"$f":"SUM(IF(_xlfn.IFNA('Avocados - Summary'!Q53,),'Avocados - Summary'!Q53,0),IF(_xlfn.IFNA('Bananas - Summary'!Q53,),'Bananas - Summary'!Q53,0),IF(_xlfn.IFNA('Cucumbers - Summary'!Q53,),'Cucumbers - Summary'!Q53,0),IF(_xlfn.IFNA('Eggplants - Summary'!Q53,),'Eggplants - Summary'!Q53,0),IF(_xlfn.IFNA('Peppers - Summary'!Q53,),'Peppers - Summary'!Q53),0)","v":35125.458170177531},{"$f":"SUM(IF(_xlfn.IFNA('Avocados - Summary'!R53,),'Avocados - Summary'!R53,0),IF(_xlfn.IFNA('Bananas - Summary'!R53,),'Bananas - Summary'!R53,0),IF(_xlfn.IFNA('Cucumbers - Summary'!R53,),'Cucumbers - Summary'!R53,0),IF(_xlfn.IFNA('Eggplants - Summary'!R53,),'Eggplants - Summary'!R53,0),IF(_xlfn.IFNA('Peppers - Summary'!R53,),'Peppers - Summary'!R53),0)","v":469884.45972473011},{"$f":"SUM(IF(_xlfn.IFNA('Avocados - Summary'!S53,),'Avocados - Summary'!S53,0),IF(_xlfn.IFNA('Bananas - Summary'!S53,),'Bananas - Summary'!S53,0),IF(_xlfn.IFNA('Cucumbers - Summary'!S53,),'Cucumbers - Summary'!S53,0),IF(_xlfn.IFNA('Eggplants - Summary'!S53,),'Eggplants - Summary'!S53,0),IF(_xlfn.IFNA('Peppers - Summary'!S53,),'Peppers - Summary'!S53),0)","v":83509.426690940236},782406.94167176844,null,null,null,"Bulgaria",69823.492654084723,1.3579669015638236E-2,149.05133820401645,8.3914144908480513E-3,82075.509528772542,1.3182990630807611E-2]
[{"$nulls":13},"Germany","ABCEPs",{"$f":"SUM(IF(_xlfn.IFNA('Avocados - Summary'!P54,),'Avocados - Summary'!P54,0),IF(_xlfn.IFNA('Bananas - Summary'!P54,),'Bananas - Summary'!P54,0),IF(_xlfn.IFNA('Cucumbers - Summary'!P54,),'Cucumbers - Summary'!P54,0),IF(_xlfn.IFNA('Eggplants - Summary'!P54,),'Eggplants - Summary'!P54,0),IF(_xlfn.IFNA('Peppers - Summary'!P54,),'Peppers - Summary'!P54),0)","v":158326.87118631502},{"$f":"SUM(IF(_xlfn.IFNA('Avocados - Summary'!Q54,),'Avocados - Summary'!Q54,0),IF(_xlfn.IFNA('Bananas - Summary'!Q54,),'Bananas - Summary'!Q54,0),IF(_xlfn.IFNA('Cucumbers - Summary'!Q54,),'Cucumbers - Summary'!Q54,0),IF(_xlfn.IFNA('Eggplants - Summary'!Q54,),'Eggplants - Summary'!Q54,0),IF(_xlfn.IFNA('Peppers - Summary'!Q54,),'Peppers - Summary'!Q54),0)","v":39671.736813833253},{"$f":"SUM(IF(_xlfn.IFNA('Avocados - Summary'!R54,),'Avocados - Summary'!R54,0),IF(_xlfn.IFNA('Bananas - Summary'!R54,),'Bananas - Summary'!R54,0),IF(_xlfn.IFNA('Cucumbers - Summary'!R54,),'Cucumbers - Summary'!R54,0),IF(_xlfn.IFNA('Eggplants - Summary'!R54,),'Eggplants - Summary'!R54,0),IF(_xlfn.IFNA('Peppers - Summary'!R54,),'Peppers - Summary'!R54),0)","v":553521.13451292785},{"$f":"SUM(IF(_xlfn.IFNA('Avocados - Summary'!S54,),'Avocados - Summary'!S54,0),IF(_xlfn.IFNA('Bananas - Summary'!S54,),'Bananas - Summary'!S54,0),IF(_xlfn.IFNA('Cucumbers - Summary'!S54,),'Cucumbers - Summary'!S54,0),IF(_xlfn.IFNA('Eggplants - Summary'!S54,),'Eggplants - Summary'!S54,0),IF(_xlfn.IFNA('Peppers - Summary'!S54,),'Peppers - Summary'!S54),0)","v":94678.159816011917},846197.90232908807,null,null,null,"Croatia",44831.646450668792,8.7191129673542585E-3,141.05112834836621,7.9410121145833089E-3,48502.684313270111,7.7905143268919485E-3]
[{"$nulls":13},"Greece","ABCEPs",{"$f":"SUM(IF(_xlfn.IFNA('Avocados - Summary'!P55,),'Avocados - Summary'!P55,0),IF(_xlfn.IFNA('Bananas - Summary'!P55,),'Bananas - Summary'!P55,0),IF(_xlfn.IFNA('Cucumbers - Summary'!P55,),'Cucumbers - Summary'!P55,0),IF(_xlfn.IFNA('Eggplants - Summary'!P55,),'Eggplants - Summary'!P55,0),IF(_xlfn.IFNA('Peppers - Summary'!P55,),'Peppers - Summary'!P55),0)","v":39860.375719618649},{"$f":"SUM(IF(_xlfn.IFNA('Avocados - Summary'!Q55,),'Avocados - Summary'!Q55,0),IF(_xlfn.IFNA('Bananas - Summary'!Q55,),'Bananas - Summary'!Q55,0),IF(_xlfn.IFNA('Cucumbers - Summary'!Q55,),'Cucumbers - Summary'!Q55,0),IF(_xlfn.IFNA('Eggplants - Summary'!Q55,),'Eggplants - Summary'!Q55,0),IF(_xlfn.IFNA('Peppers - Summary'!Q55,),'Peppers - Summary'!Q55),0)","v":13776.0792554786},{"$f":"SUM(IF(_xlfn.IFNA('Avocados - Summary'!R55,),'Avocados - Summary'!R55,0),IF(_xlfn.IFNA('Bananas - Summary'!R55,),'Bananas - Summary'!R55,0),IF(_xlfn.IFNA('Cucumbers - Summary'!R55,),'Cucumbers - Summary'!R55,0),IF(_xlfn.IFNA('Eggplants - Summary'!R55,),'Eggplants - Summary'!R55,0),IF(_xlfn.IFNA('Peppers - Summary'!R55,),'Peppers - Summary'!R55),0)","v":125788.69032501367},{"$f":"SUM(IF(_xlfn.IFNA('Avocados - Summary'!S55,),'Avocados - Summary'!S55,0),IF(_xlfn.IFNA('Bananas - Summary'!S55,),'Bananas - Summary'!S55,0),IF(_xlfn.IFNA('Cucumbers - Summary'!S55,),'Cucumbers - Summary'!S55,0),IF(_xlfn.IFNA('Eggplants - Summary'!S55,),'Eggplants - Summary'!S55,0),IF(_xlfn.IFNA('Peppers - Summary'!S55,),'Peppers - Summary'!S55),0)","v":21860.138286413621},201285.28358652454,null,null,null,"Cyprus",9066.8623010547872,1.7633748238385951E-3,26.049973990428128,1.4665828020295022E-3,12505.925117317964,2.0087050887376912E-3]
[{"$nulls":13},"Hungary","ABCEPs",{"$f":"SUM(IF(_xlfn.IFNA('Avocados - Summary'!P56,),'Avocados - Summary'!P56,0),IF(_xlfn.IFNA('Bananas - Summary'!P56,),'Bananas - Summary'!P56,0),IF(_xlfn.IFNA('Cucumbers - Summary'!P56,),'Cucumbers - Summary'!P56,0),IF(_xlfn.IFNA('Eggplants - Summary'!P56,),'Eggplants - Summary'!P56,0),IF(_xlfn.IFNA('Peppers - Summary'!P56,),'Peppers - Summary'!P56),0)","v":4620.1224285930521},{"$f":"SUM(IF(_xlfn.IFNA('Avocados - Summary'!Q56,),'Avocados - Summary'!Q56,0),IF(_xlfn.IFNA('Bananas - Summary'!Q56,),'Bananas - Summary'!Q56,0),IF(_xlfn.IFNA('Cucumbers - Summary'!Q56,),'Cucumbers - Summary'!Q56,0),IF(_xlfn.IFNA('Eggplants - Summary'!Q56,),'Eggplants - Summary'!Q56,0),IF(_xlfn.IFNA('Peppers - Summary'!Q56,),'Peppers - Summary'!Q56),0)","v":3137.2305698811433},{"$f":"SUM(IF(_xlfn.IFNA('Avocados - Summary'!R56,),'Avocados - Summary'!R56,0),IF(_xlfn.IFNA('Bananas - Summary'!R56,),'Bananas - Summary'!R56,0),IF(_xlfn.IFNA('Cucumbers - Summary'!R56,),'Cucumbers - Summary'!R56,0),IF(_xlfn.IFNA('Eggplants - Summary'!R56,),'Eggplants - Summary'!R56,0),IF(_xlfn.IFNA('Peppers - Summary'!R56,),'Peppers - Summary'!R56),0)","v":30802.32801815293},{"$f":"SUM(IF(_xlfn.IFNA('Avocados - Summary'!S56,),'Avocados - Summary'!S56,0),IF(_xlfn.IFNA('Bananas - Summary'!S56,),'Bananas - Summary'!S56,0),IF(_xlfn.IFNA('Cucumbers - Summary'!S56,),'Cucumbers - Summary'!S56,0),IF(_xlfn.IFNA('Eggplants - Summary'!S56,),'Eggplants - Summary'!S56,0),IF(_xlfn.IFNA('Peppers - Summary'!S56,),'Peppers - Summary'!S56),0)","v":5196.9775184758901},43756.658535103015,null,null,null,"Czechia",84727.73278014487,1.6478330198976376E-2,350.71137971682487,1.9744636910490845E-2,87507.92810066689,1.4055547177176693E-2]
[{"$nulls":13},"Iceland","ABCEPs",{"$f":"SUM(IF(_xlfn.IFNA('Avocados - Summary'!P57,),'Avocados - Summary'!P57,0),IF(_xlfn.IFNA('Bananas - Summary'!P57,),'Bananas - Summary'!P57,0),IF(_xlfn.IFNA('Cucumbers - Summary'!P57,),'Cucumbers - Summary'!P57,0),IF(_xlfn.IFNA('Eggplants - Summary'!P57,),'Eggplants - Summary'!P57,0),IF(_xlfn.IFNA('Peppers - Summary'!P57,),'Peppers - Summary'!P57),0)","v":421.69088848917863},{"$f":"SUM(IF(_xlfn.IFNA('Avocados - Summary'!Q57,),'Avocados - Summary'!Q57,0),IF(_xlfn.IFNA('Bananas - Summary'!Q57,),'Bananas - Summary'!Q57,0),IF(_xlfn.IFNA('Cucumbers - Summary'!Q57,),'Cucumbers - Summary'!Q57,0),IF(_xlfn.IFNA('Eggplants - Summary'!Q57,),'Eggplants - Summary'!Q57,0),IF(_xlfn.IFNA('Peppers - Summary'!Q57,),'Peppers - Summary'!Q57),0)","v":222.45965652903533},{"$f":"SUM(IF(_xlfn.IFNA('Avocados - Summary'!R57,),'Avocados - Summary'!R57,0),IF(_xlfn.IFNA('Bananas - Summary'!R57,),'Bananas - Summary'!R57,0),IF(_xlfn.IFNA('Cucumbers - Summary'!R57,),'Cucumbers - Summary'!R57,0),IF(_xlfn.IFNA('Eggplants - Summary'!R57,),'Eggplants - Summary'!R57,0),IF(_xlfn.IFNA('Peppers - Summary'!R57,),'Peppers - Summary'!R57),0)","v":3099.2393895986747},{"$f":"SUM(IF(_xlfn.IFNA('Avocados - Summary'!S57,),'Avocados - Summary'!S57,0),IF(_xlfn.IFNA('Bananas - Summary'!S57,),'Bananas - Summary'!S57,0),IF(_xlfn.IFNA('Cucumbers - Summary'!S57,),'Cucumbers - Summary'!S57,0),IF(_xlfn.IFNA('Eggplants - Summary'!S57,),'Eggplants - Summary'!S57,0),IF(_xlfn.IFNA('Peppers - Summary'!S57,),'Peppers - Summary'!S57),0)","v":552.21741108097103},4295.6073456978593,null,null,null,"Denmark",55582.819033126012,1.0810062011153383E-2,277.18019370083232,1.5604917889523232E-2,66070.779118921506,1.0612306485767942E-2]
[{"$nulls":13},"Ireland","ABCEPs",{"$f":"SUM(IF(_xlfn.IFNA('Avocados - Summary'!P58,),'Avocados - Summary'!P58,0),IF(_xlfn.IFNA('Bananas - Summary'!P58,),'Bananas - Summary'!P58,0),IF(_xlfn.IFNA('Cucumbers - Summary'!P58,),'Cucumbers - Summary'!P58,0),IF(_xlfn.IFNA('Eggplants - Summary'!P58,),'Eggplants - Summary'!P58,0),IF(_xlfn.IFNA('Peppers - Summary'!P58,),'Peppers - Summary'!P58),0)","v":5318.796694158118},{"$f":"SUM(IF(_xlfn.IFNA('Avocados - Summary'!Q58,),'Avocados - Summary'!Q58,0),IF(_xlfn.IFNA('Bananas - Summary'!Q58,),'Bananas - Summary'!Q58,0),IF(_xlfn.IFNA('Cucumbers - Summary'!Q58,),'Cucumbers - Summary'!Q58,0),IF(_xlfn.IFNA('Eggplants - Summary'!Q58,),'Eggplants - Summary'!Q58,0),IF(_xlfn.IFNA('Peppers - Summary'!Q58,),'Peppers - Summary'!Q58),0)","v":2039.827467447979},{"$f":"SUM(IF(_xlfn.IFNA('Avocados - Summary'!R58,),'Avocados - Summary'!R58,0),IF(_xlfn.IFNA('Bananas - Summary'!R58,),'Bananas - Summary'!R58,0),IF(_xlfn.IFNA('Cucumbers - Summary'!R58,),'Cucumbers - Summary'!R58,0),IF(_xlfn.IFNA('Eggplants - Summary'!R58,),'Eggplants - Summary'!R58,0),IF(_xlfn.IFNA('Peppers - Summary'!R58,),'Peppers - Summary'!R58),0)","v":33727.2856259408},{"$f":"SUM(IF(_xlfn.IFNA('Avocados - Summary'!S58,),'Avocados - Summary'!S58,0),IF(_xlfn.IFNA('Bananas - Summary'!S58,),'Bananas - Summary'!S58,0),IF(_xlfn.IFNA('Cucumbers - Summary'!S58,),'Cucumbers - Summary'!S58,0),IF(_xlfn.IFNA('Eggplants - Summary'!S58,),'Eggplants - Summary'!S58,0),IF(_xlfn.IFNA('Peppers - Summary'!S58,),'Peppers - Summary'!S58),0)","v":5887.6440718661024},46973.553859412998,null,null,null,"Estonia",11395.453658351711,2.2162524829586468E-3,54.130606459908591,3.0474892806687326E-3,13617.605990817687,2.1872635725526143E-3]
[{"$nulls":13},"Italy","ABCEPs",{"$f":"SUM(IF(_xlfn.IFNA('Avocados - Summary'!P59,),'Avocados - Summary'!P59,0),IF(_xlfn.IFNA('Bananas - Summary'!P59,),'Bananas - Summary'!P59,0),IF(_xlfn.IFNA('Cucumbers - Summary'!P59,),'Cucumbers - Summary'!P59,0),IF(_xlfn.IFNA('Eggplants - Summary'!P59,),'Eggplants - Summary'!P59,0),IF(_xlfn.IFNA('Peppers - Summary'!P59,),'Peppers - Summary'!P59),0)","v":97822.900201368248},{"$f":"SUM(IF(_xlfn.IFNA('Avocados - Summary'!Q59,),'Avocados - Summary'!Q59,0),IF(_xlfn.IFNA('Bananas - Summary'!Q59,),'Bananas - Summary'!Q59,0),IF(_xlfn.IFNA('Cucumbers - Summary'!Q59,),'Cucumbers - Summary'!Q59,0),IF(_xlfn.IFNA('Eggplants - Summary'!Q59,),'Eggplants - Summary'!Q59,0),IF(_xlfn.IFNA('Peppers - Summary'!Q59,),'Peppers - Summary'!Q59),0)","v":54598.754294945073},{"$f":"SUM(IF(_xlfn.IFNA('Avocados - Summary'!R59,),'Avocados - Summary'!R59,0),IF(_xlfn.IFNA('Bananas - Summary'!R59,),'Bananas - Summary'!R59,0),IF(_xlfn.IFNA('Cucumbers - Summary'!R59,),'Cucumbers - Summary'!R59,0),IF(_xlfn.IFNA('Eggplants - Summary'!R59,),'Eggplants - Summary'!R59,0),IF(_xlfn.IFNA('Peppers - Summary'!R59,),'Peppers - Summary'!R59),0)","v":446918.42664725718},{"$f":"SUM(IF(_xlfn.IFNA('Avocados - Summary'!S59,),'Avocados - Summary'!S59,0),IF(_xlfn.IFNA('Bananas - Summary'!S59,),'Bananas - Summary'!S59,0),IF(_xlfn.IFNA('Cucumbers - Summary'!S59,),'Cucumbers - Summary'!S59,0),IF(_xlfn.IFNA('Eggplants - Summary'!S59,),'Eggplants - Summary'!S59,0),IF(_xlfn.IFNA('Peppers - Summary'!S59,),'Peppers - Summary'!S59),0)","v":77424.593631137337},676764.67477470776,null,null,null,"Finland",63308.025082437358,1.2312503914868683E-2,317.1253886252631,1.7853785236623548E-2,82173.680155948357,1.3198758823606044E-2]
[{"$nulls":13},"Latvia","ABCEPs",{"$f":"SUM(IF(_xlfn.IFNA('Avocados - Summary'!P60,),'Avocados - Summary'!P60,0),IF(_xlfn.IFNA('Bananas - Summary'!P60,),'Bananas - Summary'!P60,0),IF(_xlfn.IFNA('Cucumbers - Summary'!P60,),'Cucumbers - Summary'!P60,0),IF(_xlfn.IFNA('Eggplants - Summary'!P60,),'Eggplants - Summary'!P60,0),IF(_xlfn.IFNA('Peppers - Summary'!P60,),'Peppers - Summary'!P60),0)","v":742.6098954039079},{"$f":"SUM(IF(_xlfn.IFNA('Avocados - Summary'!Q60,),'Avocados - Summary'!Q60,0),IF(_xlfn.IFNA('Bananas - Summary'!Q60,),'Bananas - Summary'!Q60,0),IF(_xlfn.IFNA('Cucumbers - Summary'!Q60,),'Cucumbers - Summary'!Q60,0),IF(_xlfn.IFNA('Eggplants - Summary'!Q60,),'Eggplants - Summary'!Q60,0),IF(_xlfn.IFNA('Peppers - Summary'!Q60,),'Peppers - Summary'!Q60),0)","v":898.92523169487652},{"$f":"SUM(IF(_xlfn.IFNA('Avocados - Summary'!R60,),'Avocados - Summary'!R60,0),IF(_xlfn.IFNA('Bananas - Summary'!R60,),'Bananas - Summary'!R60,0),IF(_xlfn.IFNA('Cucumbers - Summary'!R60,),'Cucumbers - Summary'!R60,0),IF(_xlfn.IFNA('Eggplants - Summary'!R60,),'Eggplants - Summary'!R60,0),IF(_xlfn.IFNA('Peppers - Summary'!R60,),'Peppers - Summary'!R60),0)","v":12697.202926441534},{"$f":"SUM(IF(_xlfn.IFNA('Avocados - Summary'!S60,),'Avocados - Summary'!S60,0),IF(_xlfn.IFNA('Bananas - Summary'!S60,),'Bananas - Summary'!S60,0),IF(_xlfn.IFNA('Cucumbers - Summary'!S60,),'Cucumbers - Summary'!S60,0),IF(_xlfn.IFNA('Eggplants - Summary'!S60,),'Eggplants - Summary'!S60,0),IF(_xlfn.IFNA('Peppers - Summary'!S60,),'Peppers - Summary'!S60),0)","v":2246.5239504616452},16585.262004001965,null,null,null,"France",612397.52327974036,0.11910254494622426,2348.1350111213874,0.13219723080795995,783329.60831821291,0.12581861442691469]
[{"$nulls":13},"Lithuania","ABCEPs",{"$f":"SUM(IF(_xlfn.IFNA('Avocados - Summary'!P61,),'Avocados - Summary'!P61,0),IF(_xlfn.IFNA('Bananas - Summary'!P61,),'Bananas - Summary'!P61,0),IF(_xlfn.IFNA('Cucumbers - Summary'!P61,),'Cucumbers - Summary'!P61,0),IF(_xlfn.IFNA('Eggplants - Summary'!P61,),'Eggplants - Summary'!P61,0),IF(_xlfn.IFNA('Peppers - Summary'!P61,),'Peppers - Summary'!P61),0)","v":757.26764619344056},{"$f":"SUM(IF(_xlfn.IFNA('Avocados - Summary'!Q61,),'Avocados - Summary'!Q61,0),IF(_xlfn.IFNA('Bananas - Summary'!Q61,),'Bananas - Summary'!Q61,0),IF(_xlfn.IFNA('Cucumbers - Summary'!Q61,),'Cucumbers - Summary'!Q61,0),IF(_xlfn.IFNA('Eggplants - Summary'!Q61,),'Eggplants - Summary'!Q61,0),IF(_xlfn.IFNA('Peppers - Summary'!Q61,),'Peppers - Summary'!Q61),0)","v":1853.0879930329334},{"$f":"SUM(IF(_xlfn.IFNA('Avocados - Summary'!R61,),'Avocados - Summary'!R61,0),IF(_xlfn.IFNA('Bananas - Summary'!R61,),'Bananas - Summary'!R61,0),IF(_xlfn.IFNA('Cucumbers - Summary'!R61,),'Cucumbers - Summary'!R61,0),IF(_xlfn.IFNA('Eggplants - Summary'!R61,),'Eggplants - Summary'!R61,0),IF(_xlfn.IFNA('Peppers - Summary'!R61,),'Peppers - Summary'!R61),0)","v":24496.963775742432},{"$f":"SUM(IF(_xlfn.IFNA('Avocados - Summary'!S61,),'Avocados - Summary'!S61,0),IF(_xlfn.IFNA('Bananas - Summary'!S61,),'Bananas - Summary'!S61,0),IF(_xlfn.IFNA('Cucumbers - Summary'!S61,),'Cucumbers - Summary'!S61,0),IF(_xlfn.IFNA('Eggplants - Summary'!S61,),'Eggplants - Summary'!S61,0),IF(_xlfn.IFNA('Peppers - Summary'!S61,),'Peppers - Summary'!S61),0)","v":4349.3777662533766},31456.697181222182,null,null,null,"Germany",804839.01969479839,0.15652965904286836,3321.8475954366722,0.18701610052357723,846878.11342962284,0.13602579257658992]
[{"$nulls":13},"Luxembourg","ABCEPs",{"$f":"SUM(IF(_xlfn.IFNA('Avocados - Summary'!P62,),'Avocados - Summary'!P62,0),IF(_xlfn.IFNA('Bananas - Summary'!P62,),'Bananas - Summary'!P62,0),IF(_xlfn.IFNA('Cucumbers - Summary'!P62,),'Cucumbers - Summary'!P62,0),IF(_xlfn.IFNA('Eggplants - Summary'!P62,),'Eggplants - Summary'!P62,0),IF(_xlfn.IFNA('Peppers - Summary'!P62,),'Peppers - Summary'!P62),0)","v":476.88267606550932},{"$f":"SUM(IF(_xlfn.IFNA('Avocados - Summary'!Q62,),'Avocados - Summary'!Q62,0),IF(_xlfn.IFNA('Bananas - Summary'!Q62,),'Bananas - Summary'!Q62,0),IF(_xlfn.IFNA('Cucumbers - Summary'!Q62,),'Cucumbers - Summary'!Q62,0),IF(_xlfn.IFNA('Eggplants - Summary'!Q62,),'Eggplants - Summary'!Q62,0),IF(_xlfn.IFNA('Peppers - Summary'!Q62,),'Peppers - Summary'!Q62),0)","v":263.09699284329412},{"$f":"SUM(IF(_xlfn.IFNA('Avocados - Summary'!R62,),'Avocados - Summary'!R62,0),IF(_xlfn.IFNA('Bananas - Summary'!R62,),'Bananas - Summary'!R62,0),IF(_xlfn.IFNA('Cucumbers - Summary'!R62,),'Cucumbers - Summary'!R62,0),IF(_xlfn.IFNA('Eggplants - Summary'!R62,),'Eggplants - Summary'!R62,0),IF(_xlfn.IFNA('Peppers - Summary'!R62,),'Peppers - Summary'!R62),0)","v":3321.4208357636453},{"$f":"SUM(IF(_xlfn.IFNA('Avocados - Summary'!S62,),'Avocados - Summary'!S62,0),IF(_xlfn.IFNA('Bananas - Summary'!S62,),'Bananas - Summary'!S62,0),IF(_xlfn.IFNA('Cucumbers - Summary'!S62,),'Cucumbers - Summary'!S62,0),IF(_xlfn.IFNA('Eggplants - Summary'!S62,),'Eggplants - Summary'!S62,0),IF(_xlfn.IFNA('Peppers - Summary'!S62,),'Peppers - Summary'!S62),0)","v":590.72955893567791},4652.1300636081269,null,null,null,"Greece",148045.05622329385,2.8792642511793257E-2,412.91743428634635,2.3246764392356695E-2,201420.0713248571,3.2352146558424208E-2]
[{"$nulls":13},"Malta","ABCEPs",{"$f":"SUM(IF(_xlfn.IFNA('Avocados - Summary'!P63,),'Avocados - Summary'!P63,0),IF(_xlfn.IFNA('Bananas - Summary'!P63,),'Bananas - Summary'!P63,0),IF(_xlfn.IFNA('Cucumbers - Summary'!P63,),'Cucumbers - Summary'!P63,0),IF(_xlfn.IFNA('Eggplants - Summary'!P63,),'Eggplants - Summary'!P63,0),IF(_xlfn.IFNA('Peppers - Summary'!P63,),'Peppers - Summary'!P63),0)","v":582.42502814099453},{"$f":"SUM(IF(_xlfn.IFNA('Avocados - Summary'!Q63,),'Avocados - Summary'!Q63,0),IF(_xlfn.IFNA('Bananas - Summary'!Q63,),'Bananas - Summary'!Q63,0),IF(_xlfn.IFNA('Cucumbers - Summary'!Q63,),'Cucumbers - Summary'!Q63,0),IF(_xlfn.IFNA('Eggplants - Summary'!Q63,),'Eggplants - Summary'!Q63,0),IF(_xlfn.IFNA('Peppers - Summary'!Q63,),'Peppers - Summary'!Q63),0)","v":308.86188195818988},{"$f":"SUM(IF(_xlfn.IFNA('Avocados - Summary'!R63,),'Avocados - Summary'!R63,0),IF(_xlfn.IFNA('Bananas - Summary'!R63,),'Bananas - Summary'!R63,0),IF(_xlfn.IFNA('Cucumbers - Summary'!R63,),'Cucumbers - Summary'!R63,0),IF(_xlfn.IFNA('Eggplants - Summary'!R63,),'Eggplants - Summary'!R63,0),IF(_xlfn.IFNA('Peppers - Summary'!R63,),'Peppers - Summary'!R63),0)","v":4271.4614745334002},{"$f":"SUM(IF(_xlfn.IFNA('Avocados - Summary'!S63,),'Avocados - Summary'!S63,0),IF(_xlfn.IFNA('Bananas - Summary'!S63,),'Bananas - Summary'!S63,0),IF(_xlfn.IFNA('Cucumbers - Summary'!S63,),'Cucumbers - Summary'!S63,0),IF(_xlfn.IFNA('Eggplants - Summary'!S63,),'Eggplants - Summary'!S63,0),IF(_xlfn.IFNA('Peppers - Summary'!S63,),'Peppers - Summary'!S63),0)","v":745.41097387597858},5908.1593585085639,null,null,null,"Hungary",38987.143809174115,7.5824409331191143E-3,83.223673729976056,4.6853946441153971E-3,43791.261525874463,7.0337643192390975E-3]
[{"$nulls":13},"Netherlands","ABCEPs",{"$f":"SUM(IF(_xlfn.IFNA('Avocados - Summary'!P64,),'Avocados - Summary'!P64,0),IF(_xlfn.IFNA('Bananas - Summary'!P64,),'Bananas - Summary'!P64,0),IF(_xlfn.IFNA('Cucumbers - Summary'!P64,),'Cucumbers - Summary'!P64,0),IF(_xlfn.IFNA('Eggplants - Summary'!P64,),'Eggplants - Summary'!P64,0),IF(_xlfn.IFNA('Peppers - Summary'!P64,),'Peppers - Summary'!P64),0)","v":59000.523055660393},{"$f":"SUM(IF(_xlfn.IFNA('Avocados - Summary'!Q64,),'Avocados - Summary'!Q64,0),IF(_xlfn.IFNA('Bananas - Summary'!Q64,),'Bananas - Summary'!Q64,0),IF(_xlfn.IFNA('Cucumbers - Summary'!Q64,),'Cucumbers - Summary'!Q64,0),IF(_xlfn.IFNA('Eggplants - Summary'!Q64,),'Eggplants - Summary'!Q64,0),IF(_xlfn.IFNA('Peppers - Summary'!Q64,),'Peppers - Summary'!Q64),0)","v":13687.369110029622},{"$f":"SUM(IF(_xlfn.IFNA('Avocados - Summary'!R64,),'Avocados - Summary'!R64,0),IF(_xlfn.IFNA('Bananas - Summary'!R64,),'Bananas - Summary'!R64,0),IF(_xlfn.IFNA('Cucumbers - Summary'!R64,),'Cucumbers - Summary'!R64,0),IF(_xlfn.IFNA('Eggplants - Summary'!R64,),'Eggplants - Summary'!R64,0),IF(_xlfn.IFNA('Peppers - Summary'!R64,),'Peppers - Summary'!R64),0)","v":259848.70641487607},{"$f":"SUM(IF(_xlfn.IFNA('Avocados - Summary'!S64,),'Avocados - Summary'!S64,0),IF(_xlfn.IFNA('Bananas - Summary'!S64,),'Bananas - Summary'!S64,0),IF(_xlfn.IFNA('Cucumbers - Summary'!S64,),'Cucumbers - Summary'!S64,0),IF(_xlfn.IFNA('Eggplants - Summary'!S64,),'Eggplants - Summary'!S64,0),IF(_xlfn.IFNA('Peppers - Summary'!S64,),'Peppers - Summary'!S64),0)","v":40948.578593345184},373485.1771739113,null,null,null,"Iceland",3141.152885971052,6.1090923552516282E-4,21.124195557933081,1.1892672876892766E-3,4302.2956953830553,6.9103590302191029E-4]
[{"$nulls":13},"Norway","ABCEPs",{"$f":"SUM(IF(_xlfn.IFNA('Avocados - Summary'!P65,),'Avocados - Summary'!P65,0),IF(_xlfn.IFNA('Bananas - Summary'!P65,),'Bananas - Summary'!P65,0),IF(_xlfn.IFNA('Cucumbers - Summary'!P65,),'Cucumbers - Summary'!P65,0),IF(_xlfn.IFNA('Eggplants - Summary'!P65,),'Eggplants - Summary'!P65,0),IF(_xlfn.IFNA('Peppers - Summary'!P65,),'Peppers - Summary'!P65),0)","v":10219.487568510684},{"$f":"SUM(IF(_xlfn.IFNA('Avocados - Summary'!Q65,),'Avocados - Summary'!Q65,0),IF(_xlfn.IFNA('Bananas - Summary'!Q65,),'Bananas - Summary'!Q65,0),IF(_xlfn.IFNA('Cucumbers - Summary'!Q65,),'Cucumbers - Summary'!Q65,0),IF(_xlfn.IFNA('Eggplants - Summary'!Q65,),'Eggplants - Summary'!Q65,0),IF(_xlfn.IFNA('Peppers - Summary'!Q65,),'Peppers - Summary'!Q65),0)","v":3663.9004994317429},{"$f":"SUM(IF(_xlfn.IFNA('Avocados - Summary'!R65,),'Avocados - Summary'!R65,0),IF(_xlfn.IFNA('Bananas - Summary'!R65,),'Bananas - Summary'!R65,0),IF(_xlfn.IFNA('Cucumbers - Summary'!R65,),'Cucumbers - Summary'!R65,0),IF(_xlfn.IFNA('Eggplants - Summary'!R65,),'Eggplants - Summary'!R65,0),IF(_xlfn.IFNA('Peppers - Summary'!R65,),'Peppers - Summary'!R65),0)","v":59840.785651740596},{"$f":"SUM(IF(_xlfn.IFNA('Avocados - Summary'!S65,),'Avocados - Summary'!S65,0),IF(_xlfn.IFNA('Bananas - Summary'!S65,),'Bananas - Summary'!S65,0),IF(_xlfn.IFNA('Cucumbers - Summary'!S65,),'Cucumbers - Summary'!S65,0),IF(_xlfn.IFNA('Eggplants - Summary'!S65,),'Eggplants - Summary'!S65,0),IF(_xlfn.IFNA('Peppers - Summary'!S65,),'Peppers - Summary'!S65),0)","v":10544.857514335359},84269.031234018388,null,null,null,"Ireland",42999.39139747739,8.3627656087677162E-3,211.45838200548022,1.190485742934614E-2,47028.532591100367,7.5537356769228015E-3]
[{"$nulls":13},"Poland","ABCEPs",{"$f":"SUM(IF(_xlfn.IFNA('Avocados - Summary'!P66,),'Avocados - Summary'!P66,0),IF(_xlfn.IFNA('Bananas - Summary'!P66,),'Bananas - Summary'!P66,0),IF(_xlfn.IFNA('Cucumbers - Summary'!P66,),'Cucumbers - Summary'!P66,0),IF(_xlfn.IFNA('Eggplants - Summary'!P66,),'Eggplants - Summary'!P66,0),IF(_xlfn.IFNA('Peppers - Summary'!P66,),'Peppers - Summary'!P66),0)","v":135933.73150285726},{"$f":"SUM(IF(_xlfn.IFNA('Avocados - Summary'!Q66,),'Avocados - Summary'!Q66,0),IF(_xlfn.IFNA('Bananas - Summary'!Q66,),'Bananas - Summary'!Q66,0),IF(_xlfn.IFNA('Cucumbers - Summary'!Q66,),'Cucumbers - Summary'!Q66,0),IF(_xlfn.IFNA('Eggplants - Summary'!Q66,),'Eggplants - Summary'!Q66,0),IF(_xlfn.IFNA('Peppers - Summary'!Q66,),'Peppers - Summary'!Q66),0)","v":25827.66656041782},{"$f":"SUM(IF(_xlfn.IFNA('Avocados - Summary'!R66,),'Avocados - Summary'!R66,0),IF(_xlfn.IFNA('Bananas - Summary'!R66,),'Bananas - Summary'!R66,0),IF(_xlfn.IFNA('Cucumbers - Summary'!R66,),'Cucumbers - Summary'!R66,0),IF(_xlfn.IFNA('Eggplants - Summary'!R66,),'Eggplants - Summary'!R66,0),IF(_xlfn.IFNA('Peppers - Summary'!R66,),'Peppers - Summary'!R66),0)","v":274551.36383574473},{"$f":"SUM(IF(_xlfn.IFNA('Avocados - Summary'!S66,),'Avocados - Summary'!S66,0),IF(_xlfn.IFNA('Bananas - Summary'!S66,),'Bananas - Summary'!S66,0),IF(_xlfn.IFNA('Cucumbers - Summary'!S66,),'Cucumbers - Summary'!S66,0),IF(_xlfn.IFNA('Eggplants - Summary'!S66,),'Eggplants - Summary'!S66,0),IF(_xlfn.IFNA('Peppers - Summary'!S66,),'Peppers - Summary'!S66),0)","v":48354.292321303357},484667.05422032316,null,null,null,"Italy",568751.17305358383,0.11061395511374245,1745.0945237735236,9.8246762834485718E-2,677077.98839528789,0.10875245037878273]
[{"$nulls":13},"Portugal","ABCEPs",{"$f":"SUM(IF(_xlfn.IFNA('Avocados - Summary'!P67,),'Avocados - Summary'!P67,0),IF(_xlfn.IFNA('Bananas - Summary'!P67,),'Bananas - Summary'!P67,0),IF(_xlfn.IFNA('Cucumbers - Summary'!P67,),'Cucumbers - Summary'!P67,0),IF(_xlfn.IFNA('Eggplants - Summary'!P67,),'Eggplants - Summary'!P67,0),IF(_xlfn.IFNA('Peppers - Summary'!P67,),'Peppers - Summary'!P67),0)","v":21919.065963823319},{"$f":"SUM(IF(_xlfn.IFNA('Avocados - Summary'!Q67,),'Avocados - Summary'!Q67,0),IF(_xlfn.IFNA('Bananas - Summary'!Q67,),'Bananas - Summary'!Q67,0),IF(_xlfn.IFNA('Cucumbers - Summary'!Q67,),'Cucumbers - Summary'!Q67,0),IF(_xlfn.IFNA('Eggplants - Summary'!Q67,),'Eggplants - Summary'!Q67,0),IF(_xlfn.IFNA('Peppers - Summary'!Q67,),'Peppers - Summary'!Q67),0)","v":7449.8529383466266},{"$f":"SUM(IF(_xlfn.IFNA('Avocados - Summary'!R67,),'Avocados - Summary'!R67,0),IF(_xlfn.IFNA('Bananas - Summary'!R67,),'Bananas - Summary'!R67,0),IF(_xlfn.IFNA('Cucumbers - Summary'!R67,),'Cucumbers - Summary'!R67,0),IF(_xlfn.IFNA('Eggplants - Summary'!R67,),'Eggplants - Summary'!R67,0),IF(_xlfn.IFNA('Peppers - Summary'!R67,),'Peppers - Summary'!R67),0)","v":110228.02169514101},{"$f":"SUM(IF(_xlfn.IFNA('Avocados - Summary'!S67,),'Avocados - Summary'!S67,0),IF(_xlfn.IFNA('Bananas - Summary'!S67,),'Bananas - Summary'!S67,0),IF(_xlfn.IFNA('Cucumbers - Summary'!S67,),'Cucumbers - Summary'!S67,0),IF(_xlfn.IFNA('Eggplants - Summary'!S67,),'Eggplants - Summary'!S67,0),IF(_xlfn.IFNA('Peppers - Summary'!S67,),'Peppers - Summary'!S67),0)","v":19191.745787791653},158788.6863851026,null,null,null,"Latvia",13450.162377890696,2.6158638927332475E-3,59.645052015569,3.3579460595365819E-3,16606.405369532269,2.6673253404682351E-3]
[{"$nulls":13},"Romania","ABCEPs",{"$f":"SUM(IF(_xlfn.IFNA('Avocados - Summary'!P68,),'Avocados - Summary'!P68,0),IF(_xlfn.IFNA('Bananas - Summary'!P68,),'Bananas - Summary'!P68,0),IF(_xlfn.IFNA('Cucumbers - Summary'!P68,),'Cucumbers - Summary'!P68,0),IF(_xlfn.IFNA('Eggplants - Summary'!P68,),'Eggplants - Summary'!P68,0),IF(_xlfn.IFNA('Peppers - Summary'!P68,),'Peppers - Summary'!P68),0)","v":29503.611273611532},{"$f":"SUM(IF(_xlfn.IFNA('Avocados - Summary'!Q68,),'Avocados - Summary'!Q68,0),IF(_xlfn.IFNA('Bananas - Summary'!Q68,),'Bananas - Summary'!Q68,0),IF(_xlfn.IFNA('Cucumbers - Summary'!Q68,),'Cucumbers - Summary'!Q68,0),IF(_xlfn.IFNA('Eggplants - Summary'!Q68,),'Eggplants - Summary'!Q68,0),IF(_xlfn.IFNA('Peppers - Summary'!Q68,),'Peppers - Summary'!Q68),0)","v":15100.302022642678},{"$f":"SUM(IF(_xlfn.IFNA('Avocados - Summary'!R68,),'Avocados - Summary'!R68,0),IF(_xlfn.IFNA('Bananas - Summary'!R68,),'Bananas - Summary'!R68,0),IF(_xlfn.IFNA('Cucumbers - Summary'!R68,),'Cucumbers - Summary'!R68,0),IF(_xlfn.IFNA('Eggplants - Summary'!R68,),'Eggplants - Summary'!R68,0),IF(_xlfn.IFNA('Peppers - Summary'!R68,),'Peppers - Summary'!R68),0)","v":113958.11176049663},{"$f":"SUM(IF(_xlfn.IFNA('Avocados - Summary'!S68,),'Avocados - Summary'!S68,0),IF(_xlfn.IFNA('Bananas - Summary'!S68,),'Bananas - Summary'!S68,0),IF(_xlfn.IFNA('Cucumbers - Summary'!S68,),'Cucumbers - Summary'!S68,0),IF(_xlfn.IFNA('Eggplants - Summary'!S68,),'Eggplants - Summary'!S68,0),IF(_xlfn.IFNA('Peppers - Summary'!S68,),'Peppers - Summary'!S68),0)","v":19600.587933653194},178162.61299040401,null,null,null,"Lithuania",22744.405147020039,4.4234609601134329E-3,88.10087446225387,4.9599752912451254E-3,31488.218747492341,5.057646246880633E-3]
[{"$nulls":13},"Slovakia","ABCEPs",{"$f":"SUM(IF(_xlfn.IFNA('Avocados - Summary'!P69,),'Avocados - Summary'!P69,0),IF(_xlfn.IFNA('Bananas - Summary'!P69,),'Bananas - Summary'!P69,0),IF(_xlfn.IFNA('Cucumbers - Summary'!P69,),'Cucumbers - Summary'!P69,0),IF(_xlfn.IFNA('Eggplants - Summary'!P69,),'Eggplants - Summary'!P69,0),IF(_xlfn.IFNA('Peppers - Summary'!P69,),'Peppers - Summary'!P69),0)","v":3246.4562450070139},{"$f":"SUM(IF(_xlfn.IFNA('Avocados - Summary'!Q69,),'Avocados - Summary'!Q69,0),IF(_xlfn.IFNA('Bananas - Summary'!Q69,),'Bananas - Summary'!Q69,0),IF(_xlfn.IFNA('Cucumbers - Summary'!Q69,),'Cucumbers - Summary'!Q69,0),IF(_xlfn.IFNA('Eggplants - Summary'!Q69,),'Eggplants - Summary'!Q69,0),IF(_xlfn.IFNA('Peppers - Summary'!Q69,),'Peppers - Summary'!Q69),0)","v":1708.9012214437246},{"$f":"SUM(IF(_xlfn.IFNA('Avocados - Summary'!R69,),'Avocados - Summary'!R69,0),IF(_xlfn.IFNA('Bananas - Summary'!R69,),'Bananas - Summary'!R69,0),IF(_xlfn.IFNA('Cucumbers - Summary'!R69,),'Cucumbers - Summary'!R69,0),IF(_xlfn.IFNA('Eggplants - Summary'!R69,),'Eggplants - Summary'!R69,0),IF(_xlfn.IFNA('Peppers - Summary'!R69,),'Peppers - Summary'!R69),0)","v":28531.900209206335},{"$f":"SUM(IF(_xlfn.IFNA('Avocados - Summary'!S69,),'Avocados - Summary'!S69,0),IF(_xlfn.IFNA('Bananas - Summary'!S69,),'Bananas - Summary'!S69,0),IF(_xlfn.IFNA('Cucumbers - Summary'!S69,),'Cucumbers - Summary'!S69,0),IF(_xlfn.IFNA('Eggplants - Summary'!S69,),'Eggplants - Summary'!S69,0),IF(_xlfn.IFNA('Peppers - Summary'!S69,),'Peppers - Summary'!S69),0)","v":4880.3257764434557},38367.583452100524,null,null,null,"Luxembourg",4183.3529717466472,8.1360222143775471E-4,29.141359928117843,1.6406241831194595E-3,4659.7501386806425,7.4845033278284501E-4]
[{"$nulls":13},"Slovenia","ABCEPs",{"$f":"SUM(IF(_xlfn.IFNA('Avocados - Summary'!P70,),'Avocados - Summary'!P70,0),IF(_xlfn.IFNA('Bananas - Summary'!P70,),'Bananas - Summary'!P70,0),IF(_xlfn.IFNA('Cucumbers - Summary'!P70,),'Cucumbers - Summary'!P70,0),IF(_xlfn.IFNA('Eggplants - Summary'!P70,),'Eggplants - Summary'!P70,0),IF(_xlfn.IFNA('Peppers - Summary'!P70,),'Peppers - Summary'!P70),0)","v":13022.402743616904},{"$f":"SUM(IF(_xlfn.IFNA('Avocados - Summary'!Q70,),'Avocados - Summary'!Q70,0),IF(_xlfn.IFNA('Bananas - Summary'!Q70,),'Bananas - Summary'!Q70,0),IF(_xlfn.IFNA('Cucumbers - Summary'!Q70,),'Cucumbers - Summary'!Q70,0),IF(_xlfn.IFNA('Eggplants - Summary'!Q70,),'Eggplants - Summary'!Q70,0),IF(_xlfn.IFNA('Peppers - Summary'!Q70,),'Peppers - Summary'!Q70),0)","v":699.30367746978175},{"$f":"SUM(IF(_xlfn.IFNA('Avocados - Summary'!R70,),'Avocados - Summary'!R70,0),IF(_xlfn.IFNA('Bananas - Summary'!R70,),'Bananas - Summary'!R70,0),IF(_xlfn.IFNA('Cucumbers - Summary'!R70,),'Cucumbers - Summary'!R70,0),IF(_xlfn.IFNA('Eggplants - Summary'!R70,),'Eggplants - Summary'!R70,0),IF(_xlfn.IFNA('Peppers - Summary'!R70,),'Peppers - Summary'!R70),0)","v":11286.143370787615},{"$f":"SUM(IF(_xlfn.IFNA('Avocados - Summary'!S70,),'Avocados - Summary'!S70,0),IF(_xlfn.IFNA('Bananas - Summary'!S70,),'Bananas - Summary'!S70,0),IF(_xlfn.IFNA('Cucumbers - Summary'!S70,),'Cucumbers - Summary'!S70,0),IF(_xlfn.IFNA('Eggplants - Summary'!S70,),'Eggplants - Summary'!S70,0),IF(_xlfn.IFNA('Peppers - Summary'!S70,),'Peppers - Summary'!S70),0)","v":1955.4751250210224},26963.324916895323,null,null,null,"Malta",5028.4595454506152,9.7796334285422406E-4,25.427829843014287,1.4315568205327178E-3,5912.5694179491411,9.4967850566311102E-4]
[{"$nulls":13},"Spain","ABCEPs",{"$f":"SUM(IF(_xlfn.IFNA('Avocados - Summary'!P71,),'Avocados - Summary'!P71,0),IF(_xlfn.IFNA('Bananas - Summary'!P71,),'Bananas - Summary'!P71,0),IF(_xlfn.IFNA('Cucumbers - Summary'!P71,),'Cucumbers - Summary'!P71,0),IF(_xlfn.IFNA('Eggplants - Summary'!P71,),'Eggplants - Summary'!P71,0),IF(_xlfn.IFNA('Peppers - Summary'!P71,),'Peppers - Summary'!P71),0)","v":432358.79477980221},{"$f":"SUM(IF(_xlfn.IFNA('Avocados - Summary'!Q71,),'Avocados - Summary'!Q71,0),IF(_xlfn.IFNA('Bananas - Summary'!Q71,),'Bananas - Summary'!Q71,0),IF(_xlfn.IFNA('Cucumbers - Summary'!Q71,),'Cucumbers - Summary'!Q71,0),IF(_xlfn.IFNA('Eggplants - Summary'!Q71,),'Eggplants - Summary'!Q71,0),IF(_xlfn.IFNA('Peppers - Summary'!Q71,),'Peppers - Summary'!Q71),0)","v":40753.264720553809},{"$f":"SUM(IF(_xlfn.IFNA('Avocados - Summary'!R71,),'Avocados - Summary'!R71,0),IF(_xlfn.IFNA('Bananas - Summary'!R71,),'Bananas - Summary'!R71,0),IF(_xlfn.IFNA('Cucumbers - Summary'!R71,),'Cucumbers - Summary'!R71,0),IF(_xlfn.IFNA('Eggplants - Summary'!R71,),'Eggplants - Summary'!R71,0),IF(_xlfn.IFNA('Peppers - Summary'!R71,),'Peppers - Summary'!R71),0)","v":295609.7272161505},{"$f":"SUM(IF(_xlfn.IFNA('Avocados - Summary'!S71,),'Avocados - Summary'!S71,0),IF(_xlfn.IFNA('Bananas - Summary'!S71,),'Bananas - Summary'!S71,0),IF(_xlfn.IFNA('Cucumbers - Summary'!S71,),'Cucumbers - Summary'!S71,0),IF(_xlfn.IFNA('Eggplants - Summary'!S71,),'Eggplants - Summary'!S71,0),IF(_xlfn.IFNA('Peppers - Summary'!S71,),'Peppers - Summary'!S71),0)","v":61285.22440617859},830007.01112268516,null,null,null,"Netherlands",271139.49824917095,5.2732748009771263E-2,865.25848570949961,4.87130319177254E-2,373719.38367902371,6.0026908902279033E-2]
[{"$nulls":13},"Sweden","ABCEPs",{"$f":"SUM(IF(_xlfn.IFNA('Avocados - Summary'!P72,),'Avocados - Summary'!P72,0),IF(_xlfn.IFNA('Bananas - Summary'!P72,),'Bananas - Summary'!P72,0),IF(_xlfn.IFNA('Cucumbers - Summary'!P72,),'Cucumbers - Summary'!P72,0),IF(_xlfn.IFNA('Eggplants - Summary'!P72,),'Eggplants - Summary'!P72,0),IF(_xlfn.IFNA('Peppers - Summary'!P72,),'Peppers - Summary'!P72),0)","v":21511.747198719157},{"$f":"SUM(IF(_xlfn.IFNA('Avocados - Summary'!Q72,),'Avocados - Summary'!Q72,0),IF(_xlfn.IFNA('Bananas - Summary'!Q72,),'Bananas - Summary'!Q72,0),IF(_xlfn.IFNA('Cucumbers - Summary'!Q72,),'Cucumbers - Summary'!Q72,0),IF(_xlfn.IFNA('Eggplants - Summary'!Q72,),'Eggplants - Summary'!Q72,0),IF(_xlfn.IFNA('Peppers - Summary'!Q72,),'Peppers - Summary'!Q72),0)","v":3592.0681555644142},{"$f":"SUM(IF(_xlfn.IFNA('Avocados - Summary'!R72,),'Avocados - Summary'!R72,0),IF(_xlfn.IFNA('Bananas - Summary'!R72,),'Bananas - Summary'!R72,0),IF(_xlfn.IFNA('Cucumbers - Summary'!R72,),'Cucumbers - Summary'!R72,0),IF(_xlfn.IFNA('Eggplants - Summary'!R72,),'Eggplants - Summary'!R72,0),IF(_xlfn.IFNA('Peppers - Summary'!R72,),'Peppers - Summary'!R72),0)","v":60121.091773103282},{"$f":"SUM(IF(_xlfn.IFNA('Avocados - Summary'!S72,),'Avocados - Summary'!S72,0),IF(_xlfn.IFNA('Bananas - Summary'!S72,),'Bananas - Summary'!S72,0),IF(_xlfn.IFNA('Cucumbers - Summary'!S72,),'Cucumbers - Summary'!S72,0),IF(_xlfn.IFNA('Eggplants - Summary'!S72,),'Eggplants - Summary'!S72,0),IF(_xlfn.IFNA('Peppers - Summary'!S72,),'Peppers - Summary'!S72),0)","v":10709.472223162958},95934.379350549818,null,null,null,"Norway",51994.004602238441,1.0112089018432453E-2,339.4273760678675,1.9109360817866728E-2,84368.042972725336,1.3551217975187945E-2]
[{"$nulls":13},"Switzerland","ABCEPs",{"$f":"SUM(IF(_xlfn.IFNA('Avocados - Summary'!P73,),'Avocados - Summary'!P73,0),IF(_xlfn.IFNA('Bananas - Summary'!P73,),'Bananas - Summary'!P73,0),IF(_xlfn.IFNA('Cucumbers - Summary'!P73,),'Cucumbers - Summary'!P73,0),IF(_xlfn.IFNA('Eggplants - Summary'!P73,),'Eggplants - Summary'!P73,0),IF(_xlfn.IFNA('Peppers - Summary'!P73,),'Peppers - Summary'!P73),0)","v":6056.7659443274069},{"$f":"SUM(IF(_xlfn.IFNA('Avocados - Summary'!Q73,),'Avocados - Summary'!Q73,0),IF(_xlfn.IFNA('Bananas - Summary'!Q73,),'Bananas - Summary'!Q73,0),IF(_xlfn.IFNA('Cucumbers - Summary'!Q73,),'Cucumbers - Summary'!Q73,0),IF(_xlfn.IFNA('Eggplants - Summary'!Q73,),'Eggplants - Summary'!Q73,0),IF(_xlfn.IFNA('Peppers - Summary'!Q73,),'Peppers - Summary'!Q73),0)","v":3778.5574314392261},{"$f":"SUM(IF(_xlfn.IFNA('Avocados - Summary'!R73,),'Avocados - Summary'!R73,0),IF(_xlfn.IFNA('Bananas - Summary'!R73,),'Bananas - Summary'!R73,0),IF(_xlfn.IFNA('Cucumbers - Summary'!R73,),'Cucumbers - Summary'!R73,0),IF(_xlfn.IFNA('Eggplants - Summary'!R73,),'Eggplants - Summary'!R73,0),IF(_xlfn.IFNA('Peppers - Summary'!R73,),'Peppers - Summary'!R73),0)","v":41655.865789119707},{"$f":"SUM(IF(_xlfn.IFNA('Avocados - Summary'!S73,),'Avocados - Summary'!S73,0),IF(_xlfn.IFNA('Bananas - Summary'!S73,),'Bananas - Summary'!S73,0),IF(_xlfn.IFNA('Cucumbers - Summary'!S73,),'Cucumbers - Summary'!S73,0),IF(_xlfn.IFNA('Eggplants - Summary'!S73,),'Eggplants - Summary'!S73,0),IF(_xlfn.IFNA('Peppers - Summary'!S73,),'Peppers - Summary'!S73),0)","v":7523.5750340858904},59014.764198972232,null,null,null,"Poland",311816.94737080595,6.0643929110505736E-2,678.72604185548698,3.8211475398807253E-2,484843.36554758146,7.787567304936821E-2]
[{"$nulls":13},"United Kingdom","ABCEPs",{"$f":"SUM(IF(_xlfn.IFNA('Avocados - Summary'!P74,),'Avocados - Summary'!P74,0),IF(_xlfn.IFNA('Bananas - Summary'!P74,),'Bananas - Summary'!P74,0),IF(_xlfn.IFNA('Cucumbers - Summary'!P74,),'Cucumbers - Summary'!P74,0),IF(_xlfn.IFNA('Eggplants - Summary'!P74,),'Eggplants - Summary'!P74,0),IF(_xlfn.IFNA('Peppers - Summary'!P74,),'Peppers - Summary'!P74),0)","v":47214.311343000001},{"$f":"SUM(IF(_xlfn.IFNA('Avocados - Summary'!Q74,),'Avocados - Summary'!Q74,0),IF(_xlfn.IFNA('Bananas - Summary'!Q74,),'Bananas - Summary'!Q74,0),IF(_xlfn.IFNA('Cucumbers - Summary'!Q74,),'Cucumbers - Summary'!Q74,0),IF(_xlfn.IFNA('Eggplants - Summary'!Q74,),'Eggplants - Summary'!Q74,0),IF(_xlfn.IFNA('Peppers - Summary'!Q74,),'Peppers - Summary'!Q74),0)","v":39984.153425785611},{"$f":"SUM(IF(_xlfn.IFNA('Avocados - Summary'!R74,),'Avocados - Summary'!R74,0),IF(_xlfn.IFNA('Bananas - Summary'!R74,),'Bananas - Summary'!R74,0),IF(_xlfn.IFNA('Cucumbers - Summary'!R74,),'Cucumbers - Summary'!R74,0),IF(_xlfn.IFNA('Eggplants - Summary'!R74,),'Eggplants - Summary'!R74,0),IF(_xlfn.IFNA('Peppers - Summary'!R74,),'Peppers - Summary'!R74),0)","v":440306.31364214752},{"$f":"SUM(IF(_xlfn.IFNA('Avocados - Summary'!S74,),'Avocados - Summary'!S74,0),IF(_xlfn.IFNA('Bananas - Summary'!S74,),'Bananas - Summary'!S74,0),IF(_xlfn.IFNA('Cucumbers - Summary'!S74,),'Cucumbers - Summary'!S74,0),IF(_xlfn.IFNA('Eggplants - Summary'!S74,),'Eggplants - Summary'!S74,0),IF(_xlfn.IFNA('Peppers - Summary'!S74,),'Peppers - Summary'!S74),0)","v":73017.313785328341},600522.09219626139,null,null,null,"Portugal",138669.35130586982,2.6969202223613088E-2,570.67999499322457,3.2128610432658258E-2,158963.97976928196,2.5532837602423777E-2]
[{"$nulls":13},"EU+","ABCEPs",{"$f":"SUM(P44:P74)","v":1356494.9958358731},{"$f":"SUM(Q44:Q74)","v":342411.83120246994},3849325.8140643458,672937.38195284666,6221170.0230555348,null,null,null,"Romania",149991.26643434836,2.9171152516039366E-2,477.57495558472772,2.6886906558828926E-2,178254.03491077508,2.8631211498097466E-2]
[{"$nulls":23},"Slovakia",37398.222040688983,7.2734184123657303E-3,184.17147299749914,1.0368636645158276E-2,38387.315607014498,6.1657810581330803E-3]
[{"$nulls":13},"Economic Cost","Unit: Million EUR",{"$nulls":8},"Slovenia",28123.676297111317,5.469652134271745E-3,44.568153015758327,2.5091344334987652E-3,26980.286479245835,4.3335809416780403E-3]
[{"$nulls":13},"Country","Product","Pre R&D","R&D","Households","Food Service","Total",null,null,null,"Spain",669529.42597089638,0.13021388153637639,1392.5118189491454,7.8396772528219805E-2,830938.0381876399,0.13346549336217245]
[{"$nulls":13},"Austria","ABCEPs",{"$f":"SUM(IF(_xlfn.IFNA('Avocados - Summary'!AA44,),'Avocados - Summary'!AA44,0),IF(_xlfn.IFNA('Bananas - Summary'!AA44,),'Bananas - Summary'!AA44,0),IF(_xlfn.IFNA('Cucumbers - Summary'!AA44,),'Cucumbers - Summary'!AA44,0),IF(_xlfn.IFNA('Eggplants - Summary'!AA44,),'Eggplants - Summary'!AA44,0),IF(_xlfn.IFNA('Peppers - Summary'!AA44,),'Peppers - Summary'!AA44),0)","v":39.149522588544997},{"$f":"SUM(IF(_xlfn.IFNA('Avocados - Summary'!AB44,),'Avocados - Summary'!AB44,0),IF(_xlfn.IFNA('Bananas - Summary'!AB44,),'Bananas - Summary'!AB44,0),IF(_xlfn.IFNA('Cucumbers - Summary'!AB44,),'Cucumbers - Summary'!AB44,0),IF(_xlfn.IFNA('Eggplants - Summary'!AB44,),'Eggplants - Summary'!AB44,0),IF(_xlfn.IFNA('Peppers - Summary'!AB44,),'Peppers - Summary'!AB44),0)","v":15.972664297341115},{"$f":"SUM(IF(_xlfn.IFNA('Avocados - Summary'!AC44,),'Avocados - Summary'!AC44,0),IF(_xlfn.IFNA('Bananas - Summary'!AC44,),'Bananas - Summary'!AC44,0),IF(_xlfn.IFNA('Cucumbers - Summary'!AC44,),'Cucumbers - Summary'!AC44,0),IF(_xlfn.IFNA('Eggplants - Summary'!AC44,),'Eggplants - Summary'!AC44,0),IF(_xlfn.IFNA('Peppers - Summary'!AC44,),'Peppers - Summary'!AC44),0)","v":343.50109420668099},{"$f":"SUM(IF(_xlfn.IFNA('Avocados - Summary'!AD44,),'Avocados - Summary'!AD44,0),IF(_xlfn.IFNA('Bananas - Summary'!AD44,),'Bananas - Summary'!AD44,0),IF(_xlfn.IFNA('Cucumbers - Summary'!AD44,),'Cucumbers - Summary'!AD44,0),IF(_xlfn.IFNA('Eggplants - Summary'!AD44,),'Eggplants - Summary'!AD44,0),IF(_xlfn.IFNA('Peppers - Summary'!AD44,),'Peppers - Summary'!AD44),0)","v":40.806859811366103},{"$f":"SUM(P79:S79)","v":439.43014090393319},null,null,null,"Sweden",79421.440672274795,1.544633240301746E-2,303.42982070019622,1.7082740920406177E-2,95934.379350549818,1.5409006065412059E-2]
[{"$nulls":13},"Belgium","ABCEPs",{"$f":"SUM(IF(_xlfn.IFNA('Avocados - Summary'!AA45,),'Avocados - Summary'!AA45,0),IF(_xlfn.IFNA('Bananas - Summary'!AA45,),'Bananas - Summary'!AA45,0),IF(_xlfn.IFNA('Cucumbers - Summary'!AA45,),'Cucumbers - Summary'!AA45,0),IF(_xlfn.IFNA('Eggplants - Summary'!AA45,),'Eggplants - Summary'!AA45,0),IF(_xlfn.IFNA('Peppers - Summary'!AA45,),'Peppers - Summary'!AA45),0)","v":8.4818315335210137},{"$f":"SUM(IF(_xlfn.IFNA('Avocados - Summary'!AB45,),'Avocados - Summary'!AB45,0),IF(_xlfn.IFNA('Bananas - Summary'!AB45,),'Bananas - Summary'!AB45,0),IF(_xlfn.IFNA('Cucumbers - Summary'!AB45,),'Cucumbers - Summary'!AB45,0),IF(_xlfn.IFNA('Eggplants - Summary'!AB45,),'Eggplants - Summary'!AB45,0),IF(_xlfn.IFNA('Peppers - Summary'!AB45,),'Peppers - Summary'!AB45),0)","v":16.167232119555951},{"$f":"SUM(IF(_xlfn.IFNA('Avocados - Summary'!AC45,),'Avocados - Summary'!AC45,0),IF(_xlfn.IFNA('Bananas - Summary'!AC45,),'Bananas - Summary'!AC45,0),IF(_xlfn.IFNA('Cucumbers - Summary'!AC45,),'Cucumbers - Summary'!AC45,0),IF(_xlfn.IFNA('Eggplants - Summary'!AC45,),'Eggplants - Summary'!AC45,0),IF(_xlfn.IFNA('Peppers - Summary'!AC45,),'Peppers - Summary'!AC45),0)","v":347.40020583862685},{"$f":"SUM(IF(_xlfn.IFNA('Avocados - Summary'!AD45,),'Avocados - Summary'!AD45,0),IF(_xlfn.IFNA('Bananas - Summary'!AD45,),'Bananas - Summary'!AD45,0),IF(_xlfn.IFNA('Cucumbers - Summary'!AD45,),'Cucumbers - Summary'!AD45,0),IF(_xlfn.IFNA('Eggplants - Summary'!AD45,),'Eggplants - Summary'!AD45,0),IF(_xlfn.IFNA('Peppers - Summary'!AD45,),'Peppers - Summary'!AD45),0)","v":40.844706909147568},{"$f":"SUM(P80:S80)","v":412.89397640085139},null,null,null,"Switzerland",66668.332107195674,1.2966035490741127E-2,363.71819221431559,2.0476905108725955E-2,59142.532094252805,9.4994895670729735E-3]
[{"$nulls":13},"Bulgaria","ABCEPs",{"$f":"SUM(IF(_xlfn.IFNA('Avocados - Summary'!AA46,),'Avocados - Summary'!AA46,0),IF(_xlfn.IFNA('Bananas - Summary'!AA46,),'Bananas - Summary'!AA46,0),IF(_xlfn.IFNA('Cucumbers - Summary'!AA46,),'Cucumbers - Summary'!AA46,0),IF(_xlfn.IFNA('Eggplants - Summary'!AA46,),'Eggplants - Summary'!AA46,0),IF(_xlfn.IFNA('Peppers - Summary'!AA46,),'Peppers - Summary'!AA46),0)","v":11.292918043527608},{"$f":"SUM(IF(_xlfn.IFNA('Avocados - Summary'!AB46,),'Avocados - Summary'!AB46,0),IF(_xlfn.IFNA('Bananas - Summary'!AB46,),'Bananas - Summary'!AB46,0),IF(_xlfn.IFNA('Cucumbers - Summary'!AB46,),'Cucumbers - Summary'!AB46,0),IF(_xlfn.IFNA('Eggplants - Summary'!AB46,),'Eggplants - Summary'!AB46,0),IF(_xlfn.IFNA('Peppers - Summary'!AB46,),'Peppers - Summary'!AB46),0)","v":6.728793616459761},{"$f":"SUM(IF(_xlfn.IFNA('Avocados - Summary'!AC46,),'Avocados - Summary'!AC46,0),IF(_xlfn.IFNA('Bananas - Summary'!AC46,),'Bananas - Summary'!AC46,0),IF(_xlfn.IFNA('Cucumbers - Summary'!AC46,),'Cucumbers - Summary'!AC46,0),IF(_xlfn.IFNA('Eggplants - Summary'!AC46,),'Eggplants - Summary'!AC46,0),IF(_xlfn.IFNA('Peppers - Summary'!AC46,),'Peppers - Summary'!AC46),0)","v":117.2355947717828},{"$f":"SUM(IF(_xlfn.IFNA('Avocados - Summary'!AD46,),'Avocados - Summary'!AD46,0),IF(_xlfn.IFNA('Bananas - Summary'!AD46,),'Bananas - Summary'!AD46,0),IF(_xlfn.IFNA('Cucumbers - Summary'!AD46,),'Cucumbers - Summary'!AD46,0),IF(_xlfn.IFNA('Eggplants - Summary'!AD46,),'Eggplants - Summary'!AD46,0),IF(_xlfn.IFNA('Peppers - Summary'!AD46,),'Peppers - Summary'!AD46),0)","v":13.766241180864881},149.02354761263504,null,null,null,"United Kingdom",526457.01388202456,0.10238834706961525,2028.1110998163315,0.1141802621641269,600522.09219626139,9.6456021540030926E-2]
[{"$nulls":13},"Croatia","ABCEPs",{"$f":"SUM(IF(_xlfn.IFNA('Avocados - Summary'!AA47,),'Avocados - Summary'!AA47,0),IF(_xlfn.IFNA('Bananas - Summary'!AA47,),'Bananas - Summary'!AA47,0),IF(_xlfn.IFNA('Cucumbers - Summary'!AA47,),'Cucumbers - Summary'!AA47,0),IF(_xlfn.IFNA('Eggplants - Summary'!AA47,),'Eggplants - Summary'!AA47,0),IF(_xlfn.IFNA('Peppers - Summary'!AA47,),'Peppers - Summary'!AA47),0)","v":10.9231280652062},{"$f":"SUM(IF(_xlfn.IFNA('Avocados - Summary'!AB47,),'Avocados - Summary'!AB47,0),IF(_xlfn.IFNA('Bananas - Summary'!AB47,),'Bananas - Summary'!AB47,0),IF(_xlfn.IFNA('Cucumbers - Summary'!AB47,),'Cucumbers - Summary'!AB47,0),IF(_xlfn.IFNA('Eggplants - Summary'!AB47,),'Eggplants - Summary'!AB47,0),IF(_xlfn.IFNA('Peppers - Summary'!AB47,),'Peppers - Summary'!AB47),0)","v":5.0684670605886026},{"$f":"SUM(IF(_xlfn.IFNA('Avocados - Summary'!AC47,),'Avocados - Summary'!AC47,0),IF(_xlfn.IFNA('Bananas - Summary'!AC47,),'Bananas - Summary'!AC47,0),IF(_xlfn.IFNA('Cucumbers - Summary'!AC47,),'Cucumbers - Summary'!AC47,0),IF(_xlfn.IFNA('Eggplants - Summary'!AC47,),'Eggplants - Summary'!AC47,0),IF(_xlfn.IFNA('Peppers - Summary'!AC47,),'Peppers - Summary'!AC47),0)","v":111.93746188807721},{"$f":"SUM(IF(_xlfn.IFNA('Avocados - Summary'!AD47,),'Avocados - Summary'!AD47,0),IF(_xlfn.IFNA('Bananas - Summary'!AD47,),'Bananas - Summary'!AD47,0),IF(_xlfn.IFNA('Cucumbers - Summary'!AD47,),'Cucumbers - Summary'!AD47,0),IF(_xlfn.IFNA('Eggplants - Summary'!AD47,),'Eggplants - Summary'!AD47,0),IF(_xlfn.IFNA('Peppers - Summary'!AD47,),'Peppers - Summary'!AD47),0)","v":13.106126001326292},141.0351830151983,null,null,null,"EU+",5141766.8997437684,1,17762.361562115264,1,6225864.2084572632,1]
[{"$nulls":13},"Cyprus","ABCEPs",{"$f":"SUM(IF(_xlfn.IFNA('Avocados - Summary'!AA48,),'Avocados - Summary'!AA48,0),IF(_xlfn.IFNA('Bananas - Summary'!AA48,),'Bananas - Summary'!AA48,0),IF(_xlfn.IFNA('Cucumbers - Summary'!AA48,),'Cucumbers - Summary'!AA48,0),IF(_xlfn.IFNA('Eggplants - Summary'!AA48,),'Eggplants - Summary'!AA48,0),IF(_xlfn.IFNA('Peppers - Summary'!AA48,),'Peppers - Summary'!AA48),0)","v":3.7465651909324489},{"$f":"SUM(IF(_xlfn.IFNA('Avocados - Summary'!AB48,),'Avocados - Summary'!AB48,0),IF(_xlfn.IFNA('Bananas - Summary'!AB48,),'Bananas - Summary'!AB48,0),IF(_xlfn.IFNA('Cucumbers - Summary'!AB48,),'Cucumbers - Summary'!AB48,0),IF(_xlfn.IFNA('Eggplants - Summary'!AB48,),'Eggplants - Summary'!AB48,0),IF(_xlfn.IFNA('Peppers - Summary'!AB48,),'Peppers - Summary'!AB48),0)","v":1.0184611315318639},{"$f":"SUM(IF(_xlfn.IFNA('Avocados - Summary'!AC48,),'Avocados - Summary'!AC48,0),IF(_xlfn.IFNA('Bananas - Summary'!AC48,),'Bananas - Summary'!AC48,0),IF(_xlfn.IFNA('Cucumbers - Summary'!AC48,),'Cucumbers - Summary'!AC48,0),IF(_xlfn.IFNA('Eggplants - Summary'!AC48,),'Eggplants - Summary'!AC48,0),IF(_xlfn.IFNA('Peppers - Summary'!AC48,),'Peppers - Summary'!AC48),0)","v":19.003332871305222},{"$f":"SUM(IF(_xlfn.IFNA('Avocados - Summary'!AD48,),'Avocados - Summary'!AD48,0),IF(_xlfn.IFNA('Bananas - Summary'!AD48,),'Bananas - Summary'!AD48,0),IF(_xlfn.IFNA('Cucumbers - Summary'!AD48,),'Cucumbers - Summary'!AD48,0),IF(_xlfn.IFNA('Eggplants - Summary'!AD48,),'Eggplants - Summary'!AD48,0),IF(_xlfn.IFNA('Peppers - Summary'!AD48,),'Peppers - Summary'!AD48),0)","v":2.2713744734640691},26.039733667233602]
[{"$nulls":13},"Czechia","ABCEPs",{"$f":"SUM(IF(_xlfn.IFNA('Avocados - Summary'!AA49,),'Avocados - Summary'!AA49,0),IF(_xlfn.IFNA('Bananas - Summary'!AA49,),'Bananas - Summary'!AA49,0),IF(_xlfn.IFNA('Cucumbers - Summary'!AA49,),'Cucumbers - Summary'!AA49,0),IF(_xlfn.IFNA('Eggplants - Summary'!AA49,),'Eggplants - Summary'!AA49,0),IF(_xlfn.IFNA('Peppers - Summary'!AA49,),'Peppers - Summary'!AA49),0)","v":31.159529057441677},{"$f":"SUM(IF(_xlfn.IFNA('Avocados - Summary'!AB49,),'Avocados - Summary'!AB49,0),IF(_xlfn.IFNA('Bananas - Summary'!AB49,),'Bananas - Summary'!AB49,0),IF(_xlfn.IFNA('Cucumbers - Summary'!AB49,),'Cucumbers - Summary'!AB49,0),IF(_xlfn.IFNA('Eggplants - Summary'!AB49,),'Eggplants - Summary'!AB49,0),IF(_xlfn.IFNA('Peppers - Summary'!AB49,),'Peppers - Summary'!AB49),0)","v":13.411030039998799},{"$f":"SUM(IF(_xlfn.IFNA('Avocados - Summary'!AC49,),'Avocados - Summary'!AC49,0),IF(_xlfn.IFNA('Bananas - Summary'!AC49,),'Bananas - Summary'!AC49,0),IF(_xlfn.IFNA('Cucumbers - Summary'!AC49,),'Cucumbers - Summary'!AC49,0),IF(_xlfn.IFNA('Eggplants - Summary'!AC49,),'Eggplants - Summary'!AC49,0),IF(_xlfn.IFNA('Peppers - Summary'!AC49,),'Peppers - Summary'!AC49),0)","v":273.93312224288002},{"$f":"SUM(IF(_xlfn.IFNA('Avocados - Summary'!AD49,),'Avocados - Summary'!AD49,0),IF(_xlfn.IFNA('Bananas - Summary'!AD49,),'Bananas - Summary'!AD49,0),IF(_xlfn.IFNA('Cucumbers - Summary'!AD49,),'Cucumbers - Summary'!AD49,0),IF(_xlfn.IFNA('Eggplants - Summary'!AD49,),'Eggplants - Summary'!AD49,0),IF(_xlfn.IFNA('Peppers - Summary'!AD49,),'Peppers - Summary'!AD49),0)","v":32.140735358280921},350.64441669860139]
[{"$nulls":13},"Denmark","ABCEPs",{"$f":"SUM(IF(_xlfn.IFNA('Avocados - Summary'!AA50,),'Avocados - Summary'!AA50,0),IF(_xlfn.IFNA('Bananas - Summary'!AA50,),'Bananas - Summary'!AA50,0),IF(_xlfn.IFNA('Cucumbers - Summary'!AA50,),'Cucumbers - Summary'!AA50,0),IF(_xlfn.IFNA('Eggplants - Summary'!AA50,),'Eggplants - Summary'!AA50,0),IF(_xlfn.IFNA('Peppers - Summary'!AA50,),'Peppers - Summary'!AA50),0)","v":18.914046838335889},{"$f":"SUM(IF(_xlfn.IFNA('Avocados - Summary'!AB50,),'Avocados - Summary'!AB50,0),IF(_xlfn.IFNA('Bananas - Summary'!AB50,),'Bananas - Summary'!AB50,0),IF(_xlfn.IFNA('Cucumbers - Summary'!AB50,),'Cucumbers - Summary'!AB50,0),IF(_xlfn.IFNA('Eggplants - Summary'!AB50,),'Eggplants - Summary'!AB50,0),IF(_xlfn.IFNA('Peppers - Summary'!AB50,),'Peppers - Summary'!AB50),0)","v":10.836180894671104},{"$f":"SUM(IF(_xlfn.IFNA('Avocados - Summary'!AC50,),'Avocados - Summary'!AC50,0),IF(_xlfn.IFNA('Bananas - Summary'!AC50,),'Bananas - Summary'!AC50,0),IF(_xlfn.IFNA('Cucumbers - Summary'!AC50,),'Cucumbers - Summary'!AC50,0),IF(_xlfn.IFNA('Eggplants - Summary'!AC50,),'Eggplants - Summary'!AC50,0),IF(_xlfn.IFNA('Peppers - Summary'!AC50,),'Peppers - Summary'!AC50),0)","v":222.11121961625943},{"$f":"SUM(IF(_xlfn.IFNA('Avocados - Summary'!AD50,),'Avocados - Summary'!AD50,0),IF(_xlfn.IFNA('Bananas - Summary'!AD50,),'Bananas - Summary'!AD50,0),IF(_xlfn.IFNA('Cucumbers - Summary'!AD50,),'Cucumbers - Summary'!AD50,0),IF(_xlfn.IFNA('Eggplants - Summary'!AD50,),'Eggplants - Summary'!AD50,0),IF(_xlfn.IFNA('Peppers - Summary'!AD50,),'Peppers - Summary'!AD50),0)","v":25.184606621101274},277.04605397036772]
[{"$nulls":13},"Estonia","ABCEPs",{"$f":"SUM(IF(_xlfn.IFNA('Avocados - Summary'!AA51,),'Avocados - Summary'!AA51,0),IF(_xlfn.IFNA('Bananas - Summary'!AA51,),'Bananas - Summary'!AA51,0),IF(_xlfn.IFNA('Cucumbers - Summary'!AA51,),'Cucumbers - Summary'!AA51,0),IF(_xlfn.IFNA('Eggplants - Summary'!AA51,),'Eggplants - Summary'!AA51,0),IF(_xlfn.IFNA('Peppers - Summary'!AA51,),'Peppers - Summary'!AA51),0)","v":0.70249812530940015},{"$f":"SUM(IF(_xlfn.IFNA('Avocados - Summary'!AB51,),'Avocados - Summary'!AB51,0),IF(_xlfn.IFNA('Bananas - Summary'!AB51,),'Bananas - Summary'!AB51,0),IF(_xlfn.IFNA('Cucumbers - Summary'!AB51,),'Cucumbers - Summary'!AB51,0),IF(_xlfn.IFNA('Eggplants - Summary'!AB51,),'Eggplants - Summary'!AB51,0),IF(_xlfn.IFNA('Peppers - Summary'!AB51,),'Peppers - Summary'!AB51),0)","v":2.1001264715114445},{"$f":"SUM(IF(_xlfn.IFNA('Avocados - Summary'!AC51,),'Avocados - Summary'!AC51,0),IF(_xlfn.IFNA('Bananas - Summary'!AC51,),'Bananas - Summary'!AC51,0),IF(_xlfn.IFNA('Cucumbers - Summary'!AC51,),'Cucumbers - Summary'!AC51,0),IF(_xlfn.IFNA('Eggplants - Summary'!AC51,),'Eggplants - Summary'!AC51,0),IF(_xlfn.IFNA('Peppers - Summary'!AC51,),'Peppers - Summary'!AC51),0)","v":45.858741249590359},{"$f":"SUM(IF(_xlfn.IFNA('Avocados - Summary'!AD51,),'Avocados - Summary'!AD51,0),IF(_xlfn.IFNA('Bananas - Summary'!AD51,),'Bananas - Summary'!AD51,0),IF(_xlfn.IFNA('Cucumbers - Summary'!AD51,),'Cucumbers - Summary'!AD51,0),IF(_xlfn.IFNA('Eggplants - Summary'!AD51,),'Eggplants - Summary'!AD51,0),IF(_xlfn.IFNA('Peppers - Summary'!AD51,),'Peppers - Summary'!AD51),0)","v":5.4516011918167395},54.112967038227943,null,null,null,"Country","Population","FW Avocados","Avocados","FW Bananas","Bananas","FW Cucumbers","Cucumbers","FW Eggplants","Eggplants","FW Peppers","Peppers"]
[{"$nulls":13},"Finland","ABCEPs",{"$f":"SUM(IF(_xlfn.IFNA('Avocados - Summary'!AA52,),'Avocados - Summary'!AA52,0),IF(_xlfn.IFNA('Bananas - Summary'!AA52,),'Bananas - Summary'!AA52,0),IF(_xlfn.IFNA('Cucumbers - Summary'!AA52,),'Cucumbers - Summary'!AA52,0),IF(_xlfn.IFNA('Eggplants - Summary'!AA52,),'Eggplants - Summary'!AA52,0),IF(_xlfn.IFNA('Peppers - Summary'!AA52,),'Peppers - Summary'!AA52),0)","v":26.528703496420349},{"$f":"SUM(IF(_xlfn.IFNA('Avocados - Summary'!AB52,),'Avocados - Summary'!AB52,0),IF(_xlfn.IFNA('Bananas - Summary'!AB52,),'Bananas - Summary'!AB52,0),IF(_xlfn.IFNA('Cucumbers - Summary'!AB52,),'Cucumbers - Summary'!AB52,0),IF(_xlfn.IFNA('Eggplants - Summary'!AB52,),'Eggplants - Summary'!AB52,0),IF(_xlfn.IFNA('Peppers - Summary'!AB52,),'Peppers - Summary'!AB52),0)","v":11.893557920300221},{"$f":"SUM(IF(_xlfn.IFNA('Avocados - Summary'!AC52,),'Avocados - Summary'!AC52,0),IF(_xlfn.IFNA('Bananas - Summary'!AC52,),'Bananas - Summary'!AC52,0),IF(_xlfn.IFNA('Cucumbers - Summary'!AC52,),'Cucumbers - Summary'!AC52,0),IF(_xlfn.IFNA('Eggplants - Summary'!AC52,),'Eggplants - Summary'!AC52,0),IF(_xlfn.IFNA('Peppers - Summary'!AC52,),'Peppers - Summary'!AC52),0)","v":246.15752540726689},{"$f":"SUM(IF(_xlfn.IFNA('Avocados - Summary'!AD52,),'Avocados - Summary'!AD52,0),IF(_xlfn.IFNA('Bananas - Summary'!AD52,),'Bananas - Summary'!AD52,0),IF(_xlfn.IFNA('Cucumbers - Summary'!AD52,),'Cucumbers - Summary'!AD52,0),IF(_xlfn.IFNA('Eggplants - Summary'!AD52,),'Eggplants - Summary'!AD52,0),IF(_xlfn.IFNA('Peppers - Summary'!AD52,),'Peppers - Summary'!AD52),0)","v":32.475249032744287},317.05503585673171,null,null,null,"Austria",8978929,{"$f":"'Avocados - Summary'!W9","v":4584.2531433281256},{"$f":"Z87/$Y87*1000","v":0.51055678726584486},{"$f":"'Bananas - Summary'!W9","v":67734.763507980286},{"$f":"AB87/$Y87*1000","v":7.5437464209796392},{"$f":"'Cucumbers - Summary'!W9","v":14934.326633196044},{"$f":"AD87/$Y87*1000","v":1.6632636958367799},{"$f":"'Eggplants - Summary'!W9","v":2064.12649792814},{"$f":"AF87/$Y87*1000","v":0.2298856019385096},{"$f":"'Peppers - Summary'!W9","v":15160.968107368315},{"$f":"AH87/$Y87*1000","v":1.6885051777743554}]
[{"$nulls":13},"France","ABCEPs",{"$f":"SUM(IF(_xlfn.IFNA('Avocados - Summary'!AA53,),'Avocados - Summary'!AA53,0),IF(_xlfn.IFNA('Bananas - Summary'!AA53,),'Bananas - Summary'!AA53,0),IF(_xlfn.IFNA('Cucumbers - Summary'!AA53,),'Cucumbers - Summary'!AA53,0),IF(_xlfn.IFNA('Eggplants - Summary'!AA53,),'Eggplants - Summary'!AA53,0),IF(_xlfn.IFNA('Peppers - Summary'!AA53,),'Peppers - Summary'!AA53),0)","v":307.76677080507176},{"$f":"SUM(IF(_xlfn.IFNA('Avocados - Summary'!AB53,),'Avocados - Summary'!AB53,0),IF(_xlfn.IFNA('Bananas - Summary'!AB53,),'Bananas - Summary'!AB53,0),IF(_xlfn.IFNA('Cucumbers - Summary'!AB53,),'Cucumbers - Summary'!AB53,0),IF(_xlfn.IFNA('Eggplants - Summary'!AB53,),'Eggplants - Summary'!AB53,0),IF(_xlfn.IFNA('Peppers - Summary'!AB53,),'Peppers - Summary'!AB53),0)","v":81.681518595673893},{"$f":"SUM(IF(_xlfn.IFNA('Avocados - Summary'!AC53,),'Avocados - Summary'!AC53,0),IF(_xlfn.IFNA('Bananas - Summary'!AC53,),'Bananas - Summary'!AC53,0),IF(_xlfn.IFNA('Cucumbers - Summary'!AC53,),'Cucumbers - Summary'!AC53,0),IF(_xlfn.IFNA('Eggplants - Summary'!AC53,),'Eggplants - Summary'!AC53,0),IF(_xlfn.IFNA('Peppers - Summary'!AC53,),'Peppers - Summary'!AC53),0)","v":1747.9491805165615},{"$f":"SUM(IF(_xlfn.IFNA('Avocados - Summary'!AD53,),'Avocados - Summary'!AD53,0),IF(_xlfn.IFNA('Bananas - Summary'!AD53,),'Bananas - Summary'!AD53,0),IF(_xlfn.IFNA('Cucumbers - Summary'!AD53,),'Cucumbers - Summary'!AD53,0),IF(_xlfn.IFNA('Eggplants - Summary'!AD53,),'Eggplants - Summary'!AD53,0),IF(_xlfn.IFNA('Peppers - Summary'!AD53,),'Peppers - Summary'!AD53),0)","v":209.65920135926777},2347.0566712765749,null,null,null,"Belgium",11617623,{"$f":"'Avocados - Summary'!W10","v":4832.9213860371101},{"$f":"Z88/$Y88*1000","v":0.41599915800651394},{"$f":"'Bananas - Summary'!W10","v":72377.169989596499},{"$f":"AB88/$Y88*1000","v":6.2299465208671778},{"$f":"'Cucumbers - Summary'!W10","v":5665.7606176578638},{"$f":"AD88/$Y88*1000","v":0.48768673399522983},{"$f":"'Eggplants - Summary'!W10","v":4298.6887462971199},{"$f":"AF88/$Y88*1000","v":0.37001448112898139},{"$f":"'Peppers - Summary'!W10","v":15457.079115196735},{"$f":"AH88/$Y88*1000","v":1.3304855145666832}]
[{"$nulls":13},"Germany","ABCEPs",{"$f":"SUM(IF(_xlfn.IFNA('Avocados - Summary'!AA54,),'Avocados - Summary'!AA54,0),IF(_xlfn.IFNA('Bananas - Summary'!AA54,),'Bananas - Summary'!AA54,0),IF(_xlfn.IFNA('Cucumbers - Summary'!AA54,),'Cucumbers - Summary'!AA54,0),IF(_xlfn.IFNA('Eggplants - Summary'!AA54,),'Eggplants - Summary'!AA54,0),IF(_xlfn.IFNA('Peppers - Summary'!AA54,),'Peppers - Summary'!AA54),0)","v":383.82120708972434},{"$f":"SUM(IF(_xlfn.IFNA('Avocados - Summary'!AB54,),'Avocados - Summary'!AB54,0),IF(_xlfn.IFNA('Bananas - Summary'!AB54,),'Bananas - Summary'!AB54,0),IF(_xlfn.IFNA('Cucumbers - Summary'!AB54,),'Cucumbers - Summary'!AB54,0),IF(_xlfn.IFNA('Eggplants - Summary'!AB54,),'Eggplants - Summary'!AB54,0),IF(_xlfn.IFNA('Peppers - Summary'!AB54,),'Peppers - Summary'!AB54),0)","v":129.82331471909646},{"$f":"SUM(IF(_xlfn.IFNA('Avocados - Summary'!AC54,),'Avocados - Summary'!AC54,0),IF(_xlfn.IFNA('Bananas - Summary'!AC54,),'Bananas - Summary'!AC54,0),IF(_xlfn.IFNA('Cucumbers - Summary'!AC54,),'Cucumbers - Summary'!AC54,0),IF(_xlfn.IFNA('Eggplants - Summary'!AC54,),'Eggplants - Summary'!AC54,0),IF(_xlfn.IFNA('Peppers - Summary'!AC54,),'Peppers - Summary'!AC54),0)","v":2516.0305525312674},{"$f":"SUM(IF(_xlfn.IFNA('Avocados - Summary'!AD54,),'Avocados - Summary'!AD54,0),IF(_xlfn.IFNA('Bananas - Summary'!AD54,),'Bananas - Summary'!AD54,0),IF(_xlfn.IFNA('Cucumbers - Summary'!AD54,),'Cucumbers - Summary'!AD54,0),IF(_xlfn.IFNA('Eggplants - Summary'!AD54,),'Eggplants - Summary'!AD54,0),IF(_xlfn.IFNA('Peppers - Summary'!AD54,),'Peppers - Summary'!AD54),0)","v":291.28132886041612},3320.9564032005042,null,null,null,"Bulgaria",6482484,{"$f":"'Avocados - Summary'!W11","v":1056.1093905644532},0.16291739255576307,{"$f":"'Bananas - Summary'!W11","v":20907.613239727667},3.2252471798970377,{"$f":"'Cucumbers - Summary'!W11","v":18804.251881400953},2.90077875724814,{"$f":"'Eggplants - Summary'!W11","v":4221.2658000691235},0.65118028830755681,{"$f":"'Peppers - Summary'!W11","v":24824.00906419714},3.8293976605568387]
[{"$nulls":13},"Greece","ABCEPs",{"$f":"SUM(IF(_xlfn.IFNA('Avocados - Summary'!AA55,),'Avocados - Summary'!AA55,0),IF(_xlfn.IFNA('Bananas - Summary'!AA55,),'Bananas - Summary'!AA55,0),IF(_xlfn.IFNA('Cucumbers - Summary'!AA55,),'Cucumbers - Summary'!AA55,0),IF(_xlfn.IFNA('Eggplants - Summary'!AA55,),'Eggplants - Summary'!AA55,0),IF(_xlfn.IFNA('Peppers - Summary'!AA55,),'Peppers - Summary'!AA55),0)","v":22.987869364506356},{"$f":"SUM(IF(_xlfn.IFNA('Avocados - Summary'!AB55,),'Avocados - Summary'!AB55,0),IF(_xlfn.IFNA('Bananas - Summary'!AB55,),'Bananas - Summary'!AB55,0),IF(_xlfn.IFNA('Cucumbers - Summary'!AB55,),'Cucumbers - Summary'!AB55,0),IF(_xlfn.IFNA('Eggplants - Summary'!AB55,),'Eggplants - Summary'!AB55,0),IF(_xlfn.IFNA('Peppers - Summary'!AB55,),'Peppers - Summary'!AB55),0)","v":17.84496935899007},{"$f":"SUM(IF(_xlfn.IFNA('Avocados - Summary'!AC55,),'Avocados - Summary'!AC55,0),IF(_xlfn.IFNA('Bananas - Summary'!AC55,),'Bananas - Summary'!AC55,0),IF(_xlfn.IFNA('Cucumbers - Summary'!AC55,),'Cucumbers - Summary'!AC55,0),IF(_xlfn.IFNA('Eggplants - Summary'!AC55,),'Eggplants - Summary'!AC55,0),IF(_xlfn.IFNA('Peppers - Summary'!AC55,),'Peppers - Summary'!AC55),0)","v":332.36070699798154},{"$f":"SUM(IF(_xlfn.IFNA('Avocados - Summary'!AD55,),'Avocados - Summary'!AD55,0),IF(_xlfn.IFNA('Bananas - Summary'!AD55,),'Bananas - Summary'!AD55,0),IF(_xlfn.IFNA('Cucumbers - Summary'!AD55,),'Cucumbers - Summary'!AD55,0),IF(_xlfn.IFNA('Eggplants - Summary'!AD55,),'Eggplants - Summary'!AD55,0),IF(_xlfn.IFNA('Peppers - Summary'!AD55,),'Peppers - Summary'!AD55),0)","v":39.568164982274602},412.76171070375256,null,null,null,"Croatia",3862305,{"$f":"'Avocados - Summary'!W12","v":740.39617056640634},0.19169800690686165,{"$f":"'Bananas - Summary'!W12","v":32136.392436813654},8.320521666935587,{"$f":"'Cucumbers - Summary'!W12","v":3948.749077046652},1.0223814735104173,{"$f":"'Eggplants - Summary'!W12","v":791.80276954042597},0.20500783069706457,{"$f":"'Peppers - Summary'!W12","v":7207.1248429633642},1.8660164960984087]
[{"$nulls":13},"Hungary","ABCEPs",{"$f":"SUM(IF(_xlfn.IFNA('Avocados - Summary'!AA56,),'Avocados - Summary'!AA56,0),IF(_xlfn.IFNA('Bananas - Summary'!AA56,),'Bananas - Summary'!AA56,0),IF(_xlfn.IFNA('Cucumbers - Summary'!AA56,),'Cucumbers - Summary'!AA56,0),IF(_xlfn.IFNA('Eggplants - Summary'!AA56,),'Eggplants - Summary'!AA56,0),IF(_xlfn.IFNA('Peppers - Summary'!AA56,),'Peppers - Summary'!AA56),0)","v":6.7099553193085262},{"$f":"SUM(IF(_xlfn.IFNA('Avocados - Summary'!AB56,),'Avocados - Summary'!AB56,0),IF(_xlfn.IFNA('Bananas - Summary'!AB56,),'Bananas - Summary'!AB56,0),IF(_xlfn.IFNA('Cucumbers - Summary'!AB56,),'Cucumbers - Summary'!AB56,0),IF(_xlfn.IFNA('Eggplants - Summary'!AB56,),'Eggplants - Summary'!AB56,0),IF(_xlfn.IFNA('Peppers - Summary'!AB56,),'Peppers - Summary'!AB56),0)","v":4.3265381447596454},{"$f":"SUM(IF(_xlfn.IFNA('Avocados - Summary'!AC56,),'Avocados - Summary'!AC56,0),IF(_xlfn.IFNA('Bananas - Summary'!AC56,),'Bananas - Summary'!AC56,0),IF(_xlfn.IFNA('Cucumbers - Summary'!AC56,),'Cucumbers - Summary'!AC56,0),IF(_xlfn.IFNA('Eggplants - Summary'!AC56,),'Eggplants - Summary'!AC56,0),IF(_xlfn.IFNA('Peppers - Summary'!AC56,),'Peppers - Summary'!AC56),0)","v":64.643073752469547},{"$f":"SUM(IF(_xlfn.IFNA('Avocados - Summary'!AD56,),'Avocados - Summary'!AD56,0),IF(_xlfn.IFNA('Bananas - Summary'!AD56,),'Bananas - Summary'!AD56,0),IF(_xlfn.IFNA('Cucumbers - Summary'!AD56,),'Cucumbers - Summary'!AD56,0),IF(_xlfn.IFNA('Eggplants - Summary'!AD56,),'Eggplants - Summary'!AD56,0),IF(_xlfn.IFNA('Peppers - Summary'!AD56,),'Peppers - Summary'!AD56),0)","v":7.5159122290491487},83.195479445586869,null,null,null,"Cyprus",929764,{"$f":"'Avocados - Summary'!W13","v":661.47219905273448},0.71144096679666502,{"$f":"'Bananas - Summary'!W13","v":5321.2934367622611},5.7232732572591116,{"$f":"'Cucumbers - Summary'!W13","v":1806.891898173935},1.9433876749088317,{"$f":"'Eggplants - Summary'!W13","v":435.67647871041606},0.46858824251145031,{"$f":"'Peppers - Summary'!W13","v":836.73906060739341},0.89994779385671353]
[{"$nulls":13},"Iceland","ABCEPs",{"$f":"SUM(IF(_xlfn.IFNA('Avocados - Summary'!AA57,),'Avocados - Summary'!AA57,0),IF(_xlfn.IFNA('Bananas - Summary'!AA57,),'Bananas - Summary'!AA57,0),IF(_xlfn.IFNA('Cucumbers - Summary'!AA57,),'Cucumbers - Summary'!AA57,0),IF(_xlfn.IFNA('Eggplants - Summary'!AA57,),'Eggplants - Summary'!AA57,0),IF(_xlfn.IFNA('Peppers - Summary'!AA57,),'Peppers - Summary'!AA57),0)","v":0.93904392389565605},{"$f":"SUM(IF(_xlfn.IFNA('Avocados - Summary'!AB57,),'Avocados - Summary'!AB57,0),IF(_xlfn.IFNA('Bananas - Summary'!AB57,),'Bananas - Summary'!AB57,0),IF(_xlfn.IFNA('Cucumbers - Summary'!AB57,),'Cucumbers - Summary'!AB57,0),IF(_xlfn.IFNA('Eggplants - Summary'!AB57,),'Eggplants - Summary'!AB57,0),IF(_xlfn.IFNA('Peppers - Summary'!AB57,),'Peppers - Summary'!AB57),0)","v":0.86298423482439235},{"$f":"SUM(IF(_xlfn.IFNA('Avocados - Summary'!AC57,),'Avocados - Summary'!AC57,0),IF(_xlfn.IFNA('Bananas - Summary'!AC57,),'Bananas - Summary'!AC57,0),IF(_xlfn.IFNA('Cucumbers - Summary'!AC57,),'Cucumbers - Summary'!AC57,0),IF(_xlfn.IFNA('Eggplants - Summary'!AC57,),'Eggplants - Summary'!AC57,0),IF(_xlfn.IFNA('Peppers - Summary'!AC57,),'Peppers - Summary'!AC57),0)","v":17.243467504997838},{"$f":"SUM(IF(_xlfn.IFNA('Avocados - Summary'!AD57,),'Avocados - Summary'!AD57,0),IF(_xlfn.IFNA('Bananas - Summary'!AD57,),'Bananas - Summary'!AD57,0),IF(_xlfn.IFNA('Cucumbers - Summary'!AD57,),'Cucumbers - Summary'!AD57,0),IF(_xlfn.IFNA('Eggplants - Summary'!AD57,),'Eggplants - Summary'!AD57,0),IF(_xlfn.IFNA('Peppers - Summary'!AD57,),'Peppers - Summary'!AD57),0)","v":2.0665291396286554},21.112024803346543,null,null,null,"Czechia",10516707,{"$f":"'Avocados - Summary'!W14","v":2314.1477330820312},0.22004489932847146,{"$f":"'Bananas - Summary'!W14","v":57061.620156680627},5.4258067812177924,{"$f":"'Cucumbers - Summary'!W14","v":11795.917361925272},1.1216360179973894,{"$f":"'Eggplants - Summary'!W14","v":572.87437365176004},5.4472790166328687E-2,{"$f":"'Peppers - Summary'!W14","v":12960.728075663763},1.2323941396925637]
[{"$nulls":13},"Ireland","ABCEPs",{"$f":"SUM(IF(_xlfn.IFNA('Avocados - Summary'!AA58,),'Avocados - Summary'!AA58,0),IF(_xlfn.IFNA('Bananas - Summary'!AA58,),'Bananas - Summary'!AA58,0),IF(_xlfn.IFNA('Cucumbers - Summary'!AA58,),'Cucumbers - Summary'!AA58,0),IF(_xlfn.IFNA('Eggplants - Summary'!AA58,),'Eggplants - Summary'!AA58,0),IF(_xlfn.IFNA('Peppers - Summary'!AA58,),'Peppers - Summary'!AA58),0)","v":16.995416231263434},{"$f":"SUM(IF(_xlfn.IFNA('Avocados - Summary'!AB58,),'Avocados - Summary'!AB58,0),IF(_xlfn.IFNA('Bananas - Summary'!AB58,),'Bananas - Summary'!AB58,0),IF(_xlfn.IFNA('Cucumbers - Summary'!AB58,),'Cucumbers - Summary'!AB58,0),IF(_xlfn.IFNA('Eggplants - Summary'!AB58,),'Eggplants - Summary'!AB58,0),IF(_xlfn.IFNA('Peppers - Summary'!AB58,),'Peppers - Summary'!AB58),0)","v":7.6144034464467634},{"$f":"SUM(IF(_xlfn.IFNA('Avocados - Summary'!AC58,),'Avocados - Summary'!AC58,0),IF(_xlfn.IFNA('Bananas - Summary'!AC58,),'Bananas - Summary'!AC58,0),IF(_xlfn.IFNA('Cucumbers - Summary'!AC58,),'Cucumbers - Summary'!AC58,0),IF(_xlfn.IFNA('Eggplants - Summary'!AC58,),'Eggplants - Summary'!AC58,0),IF(_xlfn.IFNA('Peppers - Summary'!AC58,),'Peppers - Summary'!AC58),0)","v":167.02390788297089},{"$f":"SUM(IF(_xlfn.IFNA('Avocados - Summary'!AD58,),'Avocados - Summary'!AD58,0),IF(_xlfn.IFNA('Bananas - Summary'!AD58,),'Bananas - Summary'!AD58,0),IF(_xlfn.IFNA('Cucumbers - Summary'!AD58,),'Cucumbers - Summary'!AD58,0),IF(_xlfn.IFNA('Eggplants - Summary'!AD58,),'Eggplants - Summary'!AD58,0),IF(_xlfn.IFNA('Peppers - Summary'!AD58,),'Peppers - Summary'!AD58),0)","v":19.750530458435261},211.38425801911634,null,null,null,"Denmark",5873420,{"$f":"'Avocados - Summary'!W15","v":4902.4923500937493},0.83469126166590324,{"$f":"'Bananas - Summary'!W15","v":32397.964723497989},5.5160306471353984,{"$f":"'Cucumbers - Summary'!W15","v":10248.621037619645},1.7449154049292652,{"$f":"'Eggplants - Summary'!W15","v":1604.1886966260095},0.27312684885909905,{"$f":"'Peppers - Summary'!W15","v":6390.1039178698647},1.0879698570628127]
[{"$nulls":13},"Italy","ABCEPs",{"$f":"SUM(IF(_xlfn.IFNA('Avocados - Summary'!AA59,),'Avocados - Summary'!AA59,0),IF(_xlfn.IFNA('Bananas - Summary'!AA59,),'Bananas - Summary'!AA59,0),IF(_xlfn.IFNA('Cucumbers - Summary'!AA59,),'Cucumbers - Summary'!AA59,0),IF(_xlfn.IFNA('Eggplants - Summary'!AA59,),'Eggplants - Summary'!AA59,0),IF(_xlfn.IFNA('Peppers - Summary'!AA59,),'Peppers - Summary'!AA59),0)","v":89.947406533142697},{"$f":"SUM(IF(_xlfn.IFNA('Avocados - Summary'!AB59,),'Avocados - Summary'!AB59,0),IF(_xlfn.IFNA('Bananas - Summary'!AB59,),'Bananas - Summary'!AB59,0),IF(_xlfn.IFNA('Cucumbers - Summary'!AB59,),'Cucumbers - Summary'!AB59,0),IF(_xlfn.IFNA('Eggplants - Summary'!AB59,),'Eggplants - Summary'!AB59,0),IF(_xlfn.IFNA('Peppers - Summary'!AB59,),'Peppers - Summary'!AB59),0)","v":84.053936948758547},{"$f":"SUM(IF(_xlfn.IFNA('Avocados - Summary'!AC59,),'Avocados - Summary'!AC59,0),IF(_xlfn.IFNA('Bananas - Summary'!AC59,),'Bananas - Summary'!AC59,0),IF(_xlfn.IFNA('Cucumbers - Summary'!AC59,),'Cucumbers - Summary'!AC59,0),IF(_xlfn.IFNA('Eggplants - Summary'!AC59,),'Eggplants - Summary'!AC59,0),IF(_xlfn.IFNA('Peppers - Summary'!AC59,),'Peppers - Summary'!AC59),0)","v":1404.9437618209181},{"$f":"SUM(IF(_xlfn.IFNA('Avocados - Summary'!AD59,),'Avocados - Summary'!AD59,0),IF(_xlfn.IFNA('Bananas - Summary'!AD59,),'Bananas - Summary'!AD59,0),IF(_xlfn.IFNA('Cucumbers - Summary'!AD59,),'Cucumbers - Summary'!AD59,0),IF(_xlfn.IFNA('Eggplants - Summary'!AD59,),'Eggplants - Summary'!AD59,0),IF(_xlfn.IFNA('Peppers - Summary'!AD59,),'Peppers - Summary'!AD59),0)","v":165.83587865337913},1744.7809839561983,null,null,null,"Estonia",1331796,{"$f":"'Avocados - Summary'!W16","v":555.73903475585939},0.41728540614017418,{"$f":"'Bananas - Summary'!W16","v":7218.0181884076765},5.4197626276153983,{"$f":"'Cucumbers - Summary'!W16","v":2577.3404363180998},1.9352366551019073,{"$f":"'Eggplants - Summary'!W16","v":125.51952706540202},9.424831360463766E-2,{"$f":"'Peppers - Summary'!W16","v":913.44632041599925},0.68587555482671458]
[{"$nulls":13},"Latvia","ABCEPs",{"$f":"SUM(IF(_xlfn.IFNA('Avocados - Summary'!AA60,),'Avocados - Summary'!AA60,0),IF(_xlfn.IFNA('Bananas - Summary'!AA60,),'Bananas - Summary'!AA60,0),IF(_xlfn.IFNA('Cucumbers - Summary'!AA60,),'Cucumbers - Summary'!AA60,0),IF(_xlfn.IFNA('Eggplants - Summary'!AA60,),'Eggplants - Summary'!AA60,0),IF(_xlfn.IFNA('Peppers - Summary'!AA60,),'Peppers - Summary'!AA60),0)","v":1.4158793482155001},{"$f":"SUM(IF(_xlfn.IFNA('Avocados - Summary'!AB60,),'Avocados - Summary'!AB60,0),IF(_xlfn.IFNA('Bananas - Summary'!AB60,),'Bananas - Summary'!AB60,0),IF(_xlfn.IFNA('Cucumbers - Summary'!AB60,),'Cucumbers - Summary'!AB60,0),IF(_xlfn.IFNA('Eggplants - Summary'!AB60,),'Eggplants - Summary'!AB60,0),IF(_xlfn.IFNA('Peppers - Summary'!AB60,),'Peppers - Summary'!AB60),0)","v":2.5419413609899086},{"$f":"SUM(IF(_xlfn.IFNA('Avocados - Summary'!AC60,),'Avocados - Summary'!AC60,0),IF(_xlfn.IFNA('Bananas - Summary'!AC60,),'Bananas - Summary'!AC60,0),IF(_xlfn.IFNA('Cucumbers - Summary'!AC60,),'Cucumbers - Summary'!AC60,0),IF(_xlfn.IFNA('Eggplants - Summary'!AC60,),'Eggplants - Summary'!AC60,0),IF(_xlfn.IFNA('Peppers - Summary'!AC60,),'Peppers - Summary'!AC60),0)","v":49.710026779726974},{"$f":"SUM(IF(_xlfn.IFNA('Avocados - Summary'!AD60,),'Avocados - Summary'!AD60,0),IF(_xlfn.IFNA('Bananas - Summary'!AD60,),'Bananas - Summary'!AD60,0),IF(_xlfn.IFNA('Cucumbers - Summary'!AD60,),'Cucumbers - Summary'!AD60,0),IF(_xlfn.IFNA('Eggplants - Summary'!AD60,),'Eggplants - Summary'!AD60,0),IF(_xlfn.IFNA('Peppers - Summary'!AD60,),'Peppers - Summary'!AD60),0)","v":5.9524489532475373},59.620296442179921,null,null,null,"Finland",5548241,{"$f":"'Avocados - Summary'!W17","v":2008.9741282617185},0.36209208076248284,{"$f":"'Bananas - Summary'!W17","v":43695.58193311526},7.8755738860505993,{"$f":"'Cucumbers - Summary'!W17","v":12511.733095452593},2.2550810419829626,{"$f":"'Eggplants - Summary'!W17","v":380.30434948245119},6.8545030665115525E-2,{"$f":"'Peppers - Summary'!W17","v":4692.5414575979994},0.8457710214098485]
[{"$nulls":13},"Lithuania","ABCEPs",{"$f":"SUM(IF(_xlfn.IFNA('Avocados - Summary'!AA61,),'Avocados - Summary'!AA61,0),IF(_xlfn.IFNA('Bananas - Summary'!AA61,),'Bananas - Summary'!AA61,0),IF(_xlfn.IFNA('Cucumbers - Summary'!AA61,),'Cucumbers - Summary'!AA61,0),IF(_xlfn.IFNA('Eggplants - Summary'!AA61,),'Eggplants - Summary'!AA61,0),IF(_xlfn.IFNA('Peppers - Summary'!AA61,),'Peppers - Summary'!AA61),0)","v":0.97858688367783786},{"$f":"SUM(IF(_xlfn.IFNA('Avocados - Summary'!AB61,),'Avocados - Summary'!AB61,0),IF(_xlfn.IFNA('Bananas - Summary'!AB61,),'Bananas - Summary'!AB61,0),IF(_xlfn.IFNA('Cucumbers - Summary'!AB61,),'Cucumbers - Summary'!AB61,0),IF(_xlfn.IFNA('Eggplants - Summary'!AB61,),'Eggplants - Summary'!AB61,0),IF(_xlfn.IFNA('Peppers - Summary'!AB61,),'Peppers - Summary'!AB61),0)","v":4.0779271486102697},{"$f":"SUM(IF(_xlfn.IFNA('Avocados - Summary'!AC61,),'Avocados - Summary'!AC61,0),IF(_xlfn.IFNA('Bananas - Summary'!AC61,),'Bananas - Summary'!AC61,0),IF(_xlfn.IFNA('Cucumbers - Summary'!AC61,),'Cucumbers - Summary'!AC61,0),IF(_xlfn.IFNA('Eggplants - Summary'!AC61,),'Eggplants - Summary'!AC61,0),IF(_xlfn.IFNA('Peppers - Summary'!AC61,),'Peppers - Summary'!AC61),0)","v":74.099881979121449},{"$f":"SUM(IF(_xlfn.IFNA('Avocados - Summary'!AD61,),'Avocados - Summary'!AD61,0),IF(_xlfn.IFNA('Bananas - Summary'!AD61,),'Bananas - Summary'!AD61,0),IF(_xlfn.IFNA('Cucumbers - Summary'!AD61,),'Cucumbers - Summary'!AD61,0),IF(_xlfn.IFNA('Eggplants - Summary'!AD61,),'Eggplants - Summary'!AD61,0),IF(_xlfn.IFNA('Peppers - Summary'!AD61,),'Peppers - Summary'!AD61),0)","v":8.9127841411072755},88.069180152516836,null,null,null,"France",68091703,{"$f":"'Avocados - Summary'!W18","v":69740.485328126961},1.0242141443888833,{"$f":"'Bananas - Summary'!W18","v":376994.23019631481},5.5365663302078794,{"$f":"'Cucumbers - Summary'!W18","v":69531.555825285483},1.0211457896020826,{"$f":"'Eggplants - Summary'!W18","v":33329.614001540162},0.48948128087705722,{"$f":"'Peppers - Summary'!W18","v":62418.83501123506},0.91668782334956522]
[{"$nulls":13},"Luxembourg","ABCEPs",{"$f":"SUM(IF(_xlfn.IFNA('Avocados - Summary'!AA62,),'Avocados - Summary'!AA62,0),IF(_xlfn.IFNA('Bananas - Summary'!AA62,),'Bananas - Summary'!AA62,0),IF(_xlfn.IFNA('Cucumbers - Summary'!AA62,),'Cucumbers - Summary'!AA62,0),IF(_xlfn.IFNA('Eggplants - Summary'!AA62,),'Eggplants - Summary'!AA62,0),IF(_xlfn.IFNA('Peppers - Summary'!AA62,),'Peppers - Summary'!AA62),0)","v":1.95159132429785},{"$f":"SUM(IF(_xlfn.IFNA('Avocados - Summary'!AB62,),'Avocados - Summary'!AB62,0),IF(_xlfn.IFNA('Bananas - Summary'!AB62,),'Bananas - Summary'!AB62,0),IF(_xlfn.IFNA('Cucumbers - Summary'!AB62,),'Cucumbers - Summary'!AB62,0),IF(_xlfn.IFNA('Eggplants - Summary'!AB62,),'Eggplants - Summary'!AB62,0),IF(_xlfn.IFNA('Peppers - Summary'!AB62,),'Peppers - Summary'!AB62),0)","v":1.1981933632814343},{"$f":"SUM(IF(_xlfn.IFNA('Avocados - Summary'!AC62,),'Avocados - Summary'!AC62,0),IF(_xlfn.IFNA('Bananas - Summary'!AC62,),'Bananas - Summary'!AC62,0),IF(_xlfn.IFNA('Cucumbers - Summary'!AC62,),'Cucumbers - Summary'!AC62,0),IF(_xlfn.IFNA('Eggplants - Summary'!AC62,),'Eggplants - Summary'!AC62,0),IF(_xlfn.IFNA('Peppers - Summary'!AC62,),'Peppers - Summary'!AC62),0)","v":23.195165643883207},{"$f":"SUM(IF(_xlfn.IFNA('Avocados - Summary'!AD62,),'Avocados - Summary'!AD62,0),IF(_xlfn.IFNA('Bananas - Summary'!AD62,),'Bananas - Summary'!AD62,0),IF(_xlfn.IFNA('Cucumbers - Summary'!AD62,),'Cucumbers - Summary'!AD62,0),IF(_xlfn.IFNA('Eggplants - Summary'!AD62,),'Eggplants - Summary'!AD62,0),IF(_xlfn.IFNA('Peppers - Summary'!AD62,),'Peppers - Summary'!AD62),0)","v":2.7809651677303258},29.125915499192818,null,null,null,"Germany",83237124,{"$f":"'Avocados - Summary'!W19","v":42970.434113156247},0.51624121603668394,{"$f":"'Bananas - Summary'!W19","v":415437.83616052254},4.9910162220468184,{"$f":"'Cucumbers - Summary'!W19","v":201748.4702033815},2.4237799254498693,{"$f":"'Eggplants - Summary'!W19","v":18158.424786161439},0.21815295764136972,{"$f":"'Peppers - Summary'!W19","v":126241.27258714529},1.5166462573496087]
[{"$nulls":13},"Malta","ABCEPs",{"$f":"SUM(IF(_xlfn.IFNA('Avocados - Summary'!AA63,),'Avocados - Summary'!AA63,0),IF(_xlfn.IFNA('Bananas - Summary'!AA63,),'Bananas - Summary'!AA63,0),IF(_xlfn.IFNA('Cucumbers - Summary'!AA63,),'Cucumbers - Summary'!AA63,0),IF(_xlfn.IFNA('Eggplants - Summary'!AA63,),'Eggplants - Summary'!AA63,0),IF(_xlfn.IFNA('Peppers - Summary'!AA63,),'Peppers - Summary'!AA63),0)","v":1.6400696416092548},{"$f":"SUM(IF(_xlfn.IFNA('Avocados - Summary'!AB63,),'Avocados - Summary'!AB63,0),IF(_xlfn.IFNA('Bananas - Summary'!AB63,),'Bananas - Summary'!AB63,0),IF(_xlfn.IFNA('Cucumbers - Summary'!AB63,),'Cucumbers - Summary'!AB63,0),IF(_xlfn.IFNA('Eggplants - Summary'!AB63,),'Eggplants - Summary'!AB63,0),IF(_xlfn.IFNA('Peppers - Summary'!AB63,),'Peppers - Summary'!AB63),0)","v":0.86378674701466573},{"$f":"SUM(IF(_xlfn.IFNA('Avocados - Summary'!AC63,),'Avocados - Summary'!AC63,0),IF(_xlfn.IFNA('Bananas - Summary'!AC63,),'Bananas - Summary'!AC63,0),IF(_xlfn.IFNA('Cucumbers - Summary'!AC63,),'Cucumbers - Summary'!AC63,0),IF(_xlfn.IFNA('Eggplants - Summary'!AC63,),'Eggplants - Summary'!AC63,0),IF(_xlfn.IFNA('Peppers - Summary'!AC63,),'Peppers - Summary'!AC63),0)","v":20.486722694243774},{"$f":"SUM(IF(_xlfn.IFNA('Avocados - Summary'!AD63,),'Avocados - Summary'!AD63,0),IF(_xlfn.IFNA('Bananas - Summary'!AD63,),'Bananas - Summary'!AD63,0),IF(_xlfn.IFNA('Cucumbers - Summary'!AD63,),'Cucumbers - Summary'!AD63,0),IF(_xlfn.IFNA('Eggplants - Summary'!AD63,),'Eggplants - Summary'!AD63,0),IF(_xlfn.IFNA('Peppers - Summary'!AD63,),'Peppers - Summary'!AD63),0)","v":2.4311227815723302},25.421701864440024,null,null,null,"Greece",10459782,{"$f":"'Avocados - Summary'!W20","v":6683.0227578789072},0.63892562558941546,{"$f":"'Bananas - Summary'!W20","v":60119.378064531324},5.7476702731023765,{"$f":"'Cucumbers - Summary'!W20","v":27220.77204946959},2.6024225026362493,{"$f":"'Eggplants - Summary'!W20","v":14864.050059499656},1.4210669074651514,{"$f":"'Peppers - Summary'!W20","v":39101.911535513595},3.7383103716228114]
[{"$nulls":13},"Netherlands","ABCEPs",{"$f":"SUM(IF(_xlfn.IFNA('Avocados - Summary'!AA64,),'Avocados - Summary'!AA64,0),IF(_xlfn.IFNA('Bananas - Summary'!AA64,),'Bananas - Summary'!AA64,0),IF(_xlfn.IFNA('Cucumbers - Summary'!AA64,),'Cucumbers - Summary'!AA64,0),IF(_xlfn.IFNA('Eggplants - Summary'!AA64,),'Eggplants - Summary'!AA64,0),IF(_xlfn.IFNA('Peppers - Summary'!AA64,),'Peppers - Summary'!AA64),0)","v":69.484135194300237},{"$f":"SUM(IF(_xlfn.IFNA('Avocados - Summary'!AB64,),'Avocados - Summary'!AB64,0),IF(_xlfn.IFNA('Bananas - Summary'!AB64,),'Bananas - Summary'!AB64,0),IF(_xlfn.IFNA('Cucumbers - Summary'!AB64,),'Cucumbers - Summary'!AB64,0),IF(_xlfn.IFNA('Eggplants - Summary'!AB64,),'Eggplants - Summary'!AB64,0),IF(_xlfn.IFNA('Peppers - Summary'!AB64,),'Peppers - Summary'!AB64),0)","v":27.232442732095237},{"$f":"SUM(IF(_xlfn.IFNA('Avocados - Summary'!AC64,),'Avocados - Summary'!AC64,0),IF(_xlfn.IFNA('Bananas - Summary'!AC64,),'Bananas - Summary'!AC64,0),IF(_xlfn.IFNA('Cucumbers - Summary'!AC64,),'Cucumbers - Summary'!AC64,0),IF(_xlfn.IFNA('Eggplants - Summary'!AC64,),'Eggplants - Summary'!AC64,0),IF(_xlfn.IFNA('Peppers - Summary'!AC64,),'Peppers - Summary'!AC64),0)","v":693.44815575346615},{"$f":"SUM(IF(_xlfn.IFNA('Avocados - Summary'!AD64,),'Avocados - Summary'!AD64,0),IF(_xlfn.IFNA('Bananas - Summary'!AD64,),'Bananas - Summary'!AD64,0),IF(_xlfn.IFNA('Cucumbers - Summary'!AD64,),'Cucumbers - Summary'!AD64,0),IF(_xlfn.IFNA('Eggplants - Summary'!AD64,),'Eggplants - Summary'!AD64,0),IF(_xlfn.IFNA('Peppers - Summary'!AD64,),'Peppers - Summary'!AD64),0)","v":74.898559420040243},865.0632930999019,null,null,null,"Hungary",9610403,{"$f":"'Avocados - Summary'!W21","v":1480.1781655371096},0.15401832426143935,{"$f":"'Bananas - Summary'!W21","v":14038.509524211784},1.4607617936741866,{"$f":"'Cucumbers - Summary'!W21","v":6647.6995286408619},0.69171912235531241,{"$f":"'Eggplants - Summary'!W21","v":608.96949984028799},6.3365656969878156E-2,{"$f":"'Peppers - Summary'!W21","v":16197.430740399148},1.6854059856177881]
[{"$nulls":13},"Norway","ABCEPs",{"$f":"SUM(IF(_xlfn.IFNA('Avocados - Summary'!AA65,),'Avocados - Summary'!AA65,0),IF(_xlfn.IFNA('Bananas - Summary'!AA65,),'Bananas - Summary'!AA65,0),IF(_xlfn.IFNA('Cucumbers - Summary'!AA65,),'Cucumbers - Summary'!AA65,0),IF(_xlfn.IFNA('Eggplants - Summary'!AA65,),'Eggplants - Summary'!AA65,0),IF(_xlfn.IFNA('Peppers - Summary'!AA65,),'Peppers - Summary'!AA65),0)","v":28.622632121569715},{"$f":"SUM(IF(_xlfn.IFNA('Avocados - Summary'!AB65,),'Avocados - Summary'!AB65,0),IF(_xlfn.IFNA('Bananas - Summary'!AB65,),'Bananas - Summary'!AB65,0),IF(_xlfn.IFNA('Cucumbers - Summary'!AB65,),'Cucumbers - Summary'!AB65,0),IF(_xlfn.IFNA('Eggplants - Summary'!AB65,),'Eggplants - Summary'!AB65,0),IF(_xlfn.IFNA('Peppers - Summary'!AB65,),'Peppers - Summary'!AB65),0)","v":12.830124260761691},{"$f":"SUM(IF(_xlfn.IFNA('Avocados - Summary'!AC65,),'Avocados - Summary'!AC65,0),IF(_xlfn.IFNA('Bananas - Summary'!AC65,),'Bananas - Summary'!AC65,0),IF(_xlfn.IFNA('Cucumbers - Summary'!AC65,),'Cucumbers - Summary'!AC65,0),IF(_xlfn.IFNA('Eggplants - Summary'!AC65,),'Eggplants - Summary'!AC65,0),IF(_xlfn.IFNA('Peppers - Summary'!AC65,),'Peppers - Summary'!AC65),0)","v":265.92883809335581},{"$f":"SUM(IF(_xlfn.IFNA('Avocados - Summary'!AD65,),'Avocados - Summary'!AD65,0),IF(_xlfn.IFNA('Bananas - Summary'!AD65,),'Bananas - Summary'!AD65,0),IF(_xlfn.IFNA('Cucumbers - Summary'!AD65,),'Cucumbers - Summary'!AD65,0),IF(_xlfn.IFNA('Eggplants - Summary'!AD65,),'Eggplants - Summary'!AD65,0),IF(_xlfn.IFNA('Peppers - Summary'!AD65,),'Peppers - Summary'!AD65),0)","v":31.867173005479209},339.24876748116645,null,null,null,"Iceland",376248,{"$f":"'Avocados - Summary'!W22","v":305.63096834960942},0.81231253946761028,{"$f":"'Bananas - Summary'!W22","v":1949.5613619014166},5.1815859802614677,{"$f":"'Cucumbers - Summary'!W22","v":484.56482042700316},1.2878867673103995,{"$f":"'Eggplants - Summary'!W22","v":33.269023930270002},8.8423124987428506E-2,{"$f":"'Peppers - Summary'!W22","v":365.35179825533095},0.97103984142196365]
[{"$nulls":13},"Poland","ABCEPs",{"$f":"SUM(IF(_xlfn.IFNA('Avocados - Summary'!AA66,),'Avocados - Summary'!AA66,0),IF(_xlfn.IFNA('Bananas - Summary'!AA66,),'Bananas - Summary'!AA66,0),IF(_xlfn.IFNA('Cucumbers - Summary'!AA66,),'Cucumbers - Summary'!AA66,0),IF(_xlfn.IFNA('Eggplants - Summary'!AA66,),'Eggplants - Summary'!AA66,0),IF(_xlfn.IFNA('Peppers - Summary'!AA66,),'Peppers - Summary'!AA66),0)","v":117.38546669942421},{"$f":"SUM(IF(_xlfn.IFNA('Avocados - Summary'!AB66,),'Avocados - Summary'!AB66,0),IF(_xlfn.IFNA('Bananas - Summary'!AB66,),'Bananas - Summary'!AB66,0),IF(_xlfn.IFNA('Cucumbers - Summary'!AB66,),'Cucumbers - Summary'!AB66,0),IF(_xlfn.IFNA('Eggplants - Summary'!AB66,),'Eggplants - Summary'!AB66,0),IF(_xlfn.IFNA('Peppers - Summary'!AB66,),'Peppers - Summary'!AB66),0)","v":29.311273293662538},{"$f":"SUM(IF(_xlfn.IFNA('Avocados - Summary'!AC66,),'Avocados - Summary'!AC66,0),IF(_xlfn.IFNA('Bananas - Summary'!AC66,),'Bananas - Summary'!AC66,0),IF(_xlfn.IFNA('Cucumbers - Summary'!AC66,),'Cucumbers - Summary'!AC66,0),IF(_xlfn.IFNA('Eggplants - Summary'!AC66,),'Eggplants - Summary'!AC66,0),IF(_xlfn.IFNA('Peppers - Summary'!AC66,),'Peppers - Summary'!AC66),0)","v":475.29903853722072},{"$f":"SUM(IF(_xlfn.IFNA('Avocados - Summary'!AD66,),'Avocados - Summary'!AD66,0),IF(_xlfn.IFNA('Bananas - Summary'!AD66,),'Bananas - Summary'!AD66,0),IF(_xlfn.IFNA('Cucumbers - Summary'!AD66,),'Cucumbers - Summary'!AD66,0),IF(_xlfn.IFNA('Eggplants - Summary'!AD66,),'Eggplants - Summary'!AD66,0),IF(_xlfn.IFNA('Peppers - Summary'!AD66,),'Peppers - Summary'!AD66),0)","v":56.523043755875392},678.51882228618285,null,null,null,"Ireland",5154277,{"$f":"'Avocados - Summary'!W23","v":2772.4912312812498},0.53790109287515009,{"$f":"'Bananas - Summary'!W23","v":30522.526018390581},5.9217861241044245,{"$f":"'Cucumbers - Summary'!W23","v":2317.5988638924978},0.44964577260641941,{"$f":"'Eggplants - Summary'!W23","v":397.97203141695593},7.7211999164374739E-2,{"$f":"'Peppers - Summary'!W23","v":6965.9932604398527},1.3514976514533179]
[{"$nulls":13},"Portugal","ABCEPs",{"$f":"SUM(IF(_xlfn.IFNA('Avocados - Summary'!AA67,),'Avocados - Summary'!AA67,0),IF(_xlfn.IFNA('Bananas - Summary'!AA67,),'Bananas - Summary'!AA67,0),IF(_xlfn.IFNA('Cucumbers - Summary'!AA67,),'Cucumbers - Summary'!AA67,0),IF(_xlfn.IFNA('Eggplants - Summary'!AA67,),'Eggplants - Summary'!AA67,0),IF(_xlfn.IFNA('Peppers - Summary'!AA67,),'Peppers - Summary'!AA67),0)","v":63.599305849065935},{"$f":"SUM(IF(_xlfn.IFNA('Avocados - Summary'!AB67,),'Avocados - Summary'!AB67,0),IF(_xlfn.IFNA('Bananas - Summary'!AB67,),'Bananas - Summary'!AB67,0),IF(_xlfn.IFNA('Cucumbers - Summary'!AB67,),'Cucumbers - Summary'!AB67,0),IF(_xlfn.IFNA('Eggplants - Summary'!AB67,),'Eggplants - Summary'!AB67,0),IF(_xlfn.IFNA('Peppers - Summary'!AB67,),'Peppers - Summary'!AB67),0)","v":18.683228676941759},{"$f":"SUM(IF(_xlfn.IFNA('Avocados - Summary'!AC67,),'Avocados - Summary'!AC67,0),IF(_xlfn.IFNA('Bananas - Summary'!AC67,),'Bananas - Summary'!AC67,0),IF(_xlfn.IFNA('Cucumbers - Summary'!AC67,),'Cucumbers - Summary'!AC67,0),IF(_xlfn.IFNA('Eggplants - Summary'!AC67,),'Eggplants - Summary'!AC67,0),IF(_xlfn.IFNA('Peppers - Summary'!AC67,),'Peppers - Summary'!AC67),0)","v":436.36623090784587},{"$f":"SUM(IF(_xlfn.IFNA('Avocados - Summary'!AD67,),'Avocados - Summary'!AD67,0),IF(_xlfn.IFNA('Bananas - Summary'!AD67,),'Bananas - Summary'!AD67,0),IF(_xlfn.IFNA('Cucumbers - Summary'!AD67,),'Cucumbers - Summary'!AD67,0),IF(_xlfn.IFNA('Eggplants - Summary'!AD67,),'Eggplants - Summary'!AD67,0),IF(_xlfn.IFNA('Peppers - Summary'!AD67,),'Peppers - Summary'!AD67),0)","v":51.822348599792306},570.4711140336459,null,null,null,"Italy",59030133,{"$f":"'Avocados - Summary'!W24","v":13402.30915908789},0.2270418255552277,{"$f":"'Bananas - Summary'!W24","v":310948.86504506448},5.2676294164044064,{"$f":"'Cucumbers - Summary'!W24","v":21316.49782554197},0.36111214293794613,{"$f":"'Eggplants - Summary'!W24","v":121457.10658883578},2.0575441798316088,{"$f":"'Peppers - Summary'!W24","v":101496.40451027354},1.7193998954783574]
[{"$nulls":13},"Romania","ABCEPs",{"$f":"SUM(IF(_xlfn.IFNA('Avocados - Summary'!AA68,),'Avocados - Summary'!AA68,0),IF(_xlfn.IFNA('Bananas - Summary'!AA68,),'Bananas - Summary'!AA68,0),IF(_xlfn.IFNA('Cucumbers - Summary'!AA68,),'Cucumbers - Summary'!AA68,0),IF(_xlfn.IFNA('Eggplants - Summary'!AA68,),'Eggplants - Summary'!AA68,0),IF(_xlfn.IFNA('Peppers - Summary'!AA68,),'Peppers - Summary'!AA68),0)","v":44.129916181440421},{"$f":"SUM(IF(_xlfn.IFNA('Avocados - Summary'!AB68,),'Avocados - Summary'!AB68,0),IF(_xlfn.IFNA('Bananas - Summary'!AB68,),'Bananas - Summary'!AB68,0),IF(_xlfn.IFNA('Cucumbers - Summary'!AB68,),'Cucumbers - Summary'!AB68,0),IF(_xlfn.IFNA('Eggplants - Summary'!AB68,),'Eggplants - Summary'!AB68,0),IF(_xlfn.IFNA('Peppers - Summary'!AB68,),'Peppers - Summary'!AB68),0)","v":25.097222066640946},{"$f":"SUM(IF(_xlfn.IFNA('Avocados - Summary'!AC68,),'Avocados - Summary'!AC68,0),IF(_xlfn.IFNA('Bananas - Summary'!AC68,),'Bananas - Summary'!AC68,0),IF(_xlfn.IFNA('Cucumbers - Summary'!AC68,),'Cucumbers - Summary'!AC68,0),IF(_xlfn.IFNA('Eggplants - Summary'!AC68,),'Eggplants - Summary'!AC68,0),IF(_xlfn.IFNA('Peppers - Summary'!AC68,),'Peppers - Summary'!AC68),0)","v":365.53058709282516},{"$f":"SUM(IF(_xlfn.IFNA('Avocados - Summary'!AD68,),'Avocados - Summary'!AD68,0),IF(_xlfn.IFNA('Bananas - Summary'!AD68,),'Bananas - Summary'!AD68,0),IF(_xlfn.IFNA('Cucumbers - Summary'!AD68,),'Cucumbers - Summary'!AD68,0),IF(_xlfn.IFNA('Eggplants - Summary'!AD68,),'Eggplants - Summary'!AD68,0),IF(_xlfn.IFNA('Peppers - Summary'!AD68,),'Peppers - Summary'!AD68),0)","v":42.710101846841951},477.46782718774847,null,null,null,"Latvia",1875757,{"$f":"'Avocados - Summary'!W25","v":904.42899027539079},0.48216746107059216,{"$f":"'Bananas - Summary'!W25","v":8052.7088012901477},4.2930447820747286,{"$f":"'Cucumbers - Summary'!W25","v":3112.3871802051026},1.6592699268642486,{"$f":"'Eggplants - Summary'!W25","v":208.36986544965998},0.11108574588801214,{"$f":"'Peppers - Summary'!W25","v":1163.4954212528162},0.62028046343573084]
[{"$nulls":13},"Slovakia","ABCEPs",{"$f":"SUM(IF(_xlfn.IFNA('Avocados - Summary'!AA69,),'Avocados - Summary'!AA69,0),IF(_xlfn.IFNA('Bananas - Summary'!AA69,),'Bananas - Summary'!AA69,0),IF(_xlfn.IFNA('Cucumbers - Summary'!AA69,),'Cucumbers - Summary'!AA69,0),IF(_xlfn.IFNA('Eggplants - Summary'!AA69,),'Eggplants - Summary'!AA69,0),IF(_xlfn.IFNA('Peppers - Summary'!AA69,),'Peppers - Summary'!AA69),0)","v":11.618070487118258},{"$f":"SUM(IF(_xlfn.IFNA('Avocados - Summary'!AB69,),'Avocados - Summary'!AB69,0),IF(_xlfn.IFNA('Bananas - Summary'!AB69,),'Bananas - Summary'!AB69,0),IF(_xlfn.IFNA('Cucumbers - Summary'!AB69,),'Cucumbers - Summary'!AB69,0),IF(_xlfn.IFNA('Eggplants - Summary'!AB69,),'Eggplants - Summary'!AB69,0),IF(_xlfn.IFNA('Peppers - Summary'!AB69,),'Peppers - Summary'!AB69),0)","v":6.562151163096102},{"$f":"SUM(IF(_xlfn.IFNA('Avocados - Summary'!AC69,),'Avocados - Summary'!AC69,0),IF(_xlfn.IFNA('Bananas - Summary'!AC69,),'Bananas - Summary'!AC69,0),IF(_xlfn.IFNA('Cucumbers - Summary'!AC69,),'Cucumbers - Summary'!AC69,0),IF(_xlfn.IFNA('Eggplants - Summary'!AC69,),'Eggplants - Summary'!AC69,0),IF(_xlfn.IFNA('Peppers - Summary'!AC69,),'Peppers - Summary'!AC69),0)","v":148.53302718447853},{"$f":"SUM(IF(_xlfn.IFNA('Avocados - Summary'!AD69,),'Avocados - Summary'!AD69,0),IF(_xlfn.IFNA('Bananas - Summary'!AD69,),'Bananas - Summary'!AD69,0),IF(_xlfn.IFNA('Cucumbers - Summary'!AD69,),'Cucumbers - Summary'!AD69,0),IF(_xlfn.IFNA('Eggplants - Summary'!AD69,),'Eggplants - Summary'!AD69,0),IF(_xlfn.IFNA('Peppers - Summary'!AD69,),'Peppers - Summary'!AD69),0)","v":17.429935888758592},184.14318472345147,null,null,null,"Lithuania",2805998,{"$f":"'Avocados - Summary'!W26","v":1348.3670947636717},0.48053031212555097,{"$f":"'Bananas - Summary'!W26","v":12281.238498121833},4.3767809164945346,{"$f":"'Cucumbers - Summary'!W26","v":7411.968343104646},2.6414731382932723,{"$f":"'Eggplants - Summary'!W26","v":292.37577069121602},0.10419671385767774,{"$f":"'Peppers - Summary'!W26","v":1397.3775344984363},0.49799662526432176]
[{"$nulls":13},"Slovenia","ABCEPs",{"$f":"SUM(IF(_xlfn.IFNA('Avocados - Summary'!AA70,),'Avocados - Summary'!AA70,0),IF(_xlfn.IFNA('Bananas - Summary'!AA70,),'Bananas - Summary'!AA70,0),IF(_xlfn.IFNA('Cucumbers - Summary'!AA70,),'Cucumbers - Summary'!AA70,0),IF(_xlfn.IFNA('Eggplants - Summary'!AA70,),'Eggplants - Summary'!AA70,0),IF(_xlfn.IFNA('Peppers - Summary'!AA70,),'Peppers - Summary'!AA70),0)","v":17.496731658698707},{"$f":"SUM(IF(_xlfn.IFNA('Avocados - Summary'!AB70,),'Avocados - Summary'!AB70,0),IF(_xlfn.IFNA('Bananas - Summary'!AB70,),'Bananas - Summary'!AB70,0),IF(_xlfn.IFNA('Cucumbers - Summary'!AB70,),'Cucumbers - Summary'!AB70,0),IF(_xlfn.IFNA('Eggplants - Summary'!AB70,),'Eggplants - Summary'!AB70,0),IF(_xlfn.IFNA('Peppers - Summary'!AB70,),'Peppers - Summary'!AB70),0)","v":1.1540857560693563},{"$f":"SUM(IF(_xlfn.IFNA('Avocados - Summary'!AC70,),'Avocados - Summary'!AC70,0),IF(_xlfn.IFNA('Bananas - Summary'!AC70,),'Bananas - Summary'!AC70,0),IF(_xlfn.IFNA('Cucumbers - Summary'!AC70,),'Cucumbers - Summary'!AC70,0),IF(_xlfn.IFNA('Eggplants - Summary'!AC70,),'Eggplants - Summary'!AC70,0),IF(_xlfn.IFNA('Peppers - Summary'!AC70,),'Peppers - Summary'!AC70),0)","v":23.193869568842761},{"$f":"SUM(IF(_xlfn.IFNA('Avocados - Summary'!AD70,),'Avocados - Summary'!AD70,0),IF(_xlfn.IFNA('Bananas - Summary'!AD70,),'Bananas - Summary'!AD70,0),IF(_xlfn.IFNA('Cucumbers - Summary'!AD70,),'Cucumbers - Summary'!AD70,0),IF(_xlfn.IFNA('Eggplants - Summary'!AD70,),'Eggplants - Summary'!AD70,0),IF(_xlfn.IFNA('Peppers - Summary'!AD70,),'Peppers - Summary'!AD70),0)","v":2.7142147741410536},44.558901757751883,null,null,null,"Luxembourg",645397,{"$f":"'Avocados - Summary'!W27","v":386.52647054296875},0.59889722224145558,{"$f":"'Bananas - Summary'!W27","v":2647.1389078830025},4.1015667997883511,{"$f":"'Cucumbers - Summary'!W27","v":472.21524018487855},0.73166630800093369,{"$f":"'Eggplants - Summary'!W27","v":182.62492679148801},0.28296525517082977,{"$f":"'Peppers - Summary'!W27","v":491.68595196071584},0.76183488916235409]
[{"$nulls":13},"Spain","ABCEPs",{"$f":"SUM(IF(_xlfn.IFNA('Avocados - Summary'!AA71,),'Avocados - Summary'!AA71,0),IF(_xlfn.IFNA('Bananas - Summary'!AA71,),'Bananas - Summary'!AA71,0),IF(_xlfn.IFNA('Cucumbers - Summary'!AA71,),'Cucumbers - Summary'!AA71,0),IF(_xlfn.IFNA('Eggplants - Summary'!AA71,),'Eggplants - Summary'!AA71,0),IF(_xlfn.IFNA('Peppers - Summary'!AA71,),'Peppers - Summary'!AA71),0)","v":450.25439067523405},{"$f":"SUM(IF(_xlfn.IFNA('Avocados - Summary'!AB71,),'Avocados - Summary'!AB71,0),IF(_xlfn.IFNA('Bananas - Summary'!AB71,),'Bananas - Summary'!AB71,0),IF(_xlfn.IFNA('Cucumbers - Summary'!AB71,),'Cucumbers - Summary'!AB71,0),IF(_xlfn.IFNA('Eggplants - Summary'!AB71,),'Eggplants - Summary'!AB71,0),IF(_xlfn.IFNA('Peppers - Summary'!AB71,),'Peppers - Summary'!AB71),0)","v":62.532208300394686},{"$f":"SUM(IF(_xlfn.IFNA('Avocados - Summary'!AC71,),'Avocados - Summary'!AC71,0),IF(_xlfn.IFNA('Bananas - Summary'!AC71,),'Bananas - Summary'!AC71,0),IF(_xlfn.IFNA('Cucumbers - Summary'!AC71,),'Cucumbers - Summary'!AC71,0),IF(_xlfn.IFNA('Eggplants - Summary'!AC71,),'Eggplants - Summary'!AC71,0),IF(_xlfn.IFNA('Peppers - Summary'!AC71,),'Peppers - Summary'!AC71),0)","v":772.91267895828139},{"$f":"SUM(IF(_xlfn.IFNA('Avocados - Summary'!AD71,),'Avocados - Summary'!AD71,0),IF(_xlfn.IFNA('Bananas - Summary'!AD71,),'Bananas - Summary'!AD71,0),IF(_xlfn.IFNA('Cucumbers - Summary'!AD71,),'Cucumbers - Summary'!AD71,0),IF(_xlfn.IFNA('Eggplants - Summary'!AD71,),'Eggplants - Summary'!AD71,0),IF(_xlfn.IFNA('Peppers - Summary'!AD71,),'Peppers - Summary'!AD71),0)","v":105.94441829723702},1391.6436962311473,null,null,null,"Malta",520174,{"$f":"'Avocados - Summary'!W28","v":188.64478321484376},0.36265707862146851,{"$f":"'Bananas - Summary'!W28","v":4022.2145189382877},7.7324405274740524,{"$f":"'Cucumbers - Summary'!W28","v":302.36532335294709},0.5812772713610197,{"$f":"'Eggplants - Summary'!W28","v":318.12019774305406},0.61156497199601301,{"$f":"'Peppers - Summary'!W28","v":195.28504338351328},0.37542253819589849]
[{"$nulls":13},"Sweden","ABCEPs",{"$f":"SUM(IF(_xlfn.IFNA('Avocados - Summary'!AA72,),'Avocados - Summary'!AA72,0),IF(_xlfn.IFNA('Bananas - Summary'!AA72,),'Bananas - Summary'!AA72,0),IF(_xlfn.IFNA('Cucumbers - Summary'!AA72,),'Cucumbers - Summary'!AA72,0),IF(_xlfn.IFNA('Eggplants - Summary'!AA72,),'Eggplants - Summary'!AA72,0),IF(_xlfn.IFNA('Peppers - Summary'!AA72,),'Peppers - Summary'!AA72),0)","v":39.671517114707392},{"$f":"SUM(IF(_xlfn.IFNA('Avocados - Summary'!AB72,),'Avocados - Summary'!AB72,0),IF(_xlfn.IFNA('Bananas - Summary'!AB72,),'Bananas - Summary'!AB72,0),IF(_xlfn.IFNA('Cucumbers - Summary'!AB72,),'Cucumbers - Summary'!AB72,0),IF(_xlfn.IFNA('Eggplants - Summary'!AB72,),'Eggplants - Summary'!AB72,0),IF(_xlfn.IFNA('Peppers - Summary'!AB72,),'Peppers - Summary'!AB72),0)","v":10.133541454205446},{"$f":"SUM(IF(_xlfn.IFNA('Avocados - Summary'!AC72,),'Avocados - Summary'!AC72,0),IF(_xlfn.IFNA('Bananas - Summary'!AC72,),'Bananas - Summary'!AC72,0),IF(_xlfn.IFNA('Cucumbers - Summary'!AC72,),'Cucumbers - Summary'!AC72,0),IF(_xlfn.IFNA('Eggplants - Summary'!AC72,),'Eggplants - Summary'!AC72,0),IF(_xlfn.IFNA('Peppers - Summary'!AC72,),'Peppers - Summary'!AC72),0)","v":226.55215468124942},{"$f":"SUM(IF(_xlfn.IFNA('Avocados - Summary'!AD72,),'Avocados - Summary'!AD72,0),IF(_xlfn.IFNA('Bananas - Summary'!AD72,),'Bananas - Summary'!AD72,0),IF(_xlfn.IFNA('Cucumbers - Summary'!AD72,),'Cucumbers - Summary'!AD72,0),IF(_xlfn.IFNA('Eggplants - Summary'!AD72,),'Eggplants - Summary'!AD72,0),IF(_xlfn.IFNA('Peppers - Summary'!AD72,),'Peppers - Summary'!AD72),0)","v":27.07260745003396},303.42982070019622,null,null,null,"Netherlands",17590672,{"$f":"'Avocados - Summary'!W29","v":20653.221846875},1.1741007874443341,{"$f":"'Bananas - Summary'!W29","v":196405.31978385517},11.165310784252879,{"$f":"'Cucumbers - Summary'!W29","v":3827.4904140242861},0.21758636702590362,{"$f":"'Eggplants - Summary'!W29","v":10413.096251317598},0.59196693857503557,{"$f":"'Peppers - Summary'!W29","v":39742.748803723851},2.2593081608095384]
[{"$nulls":13},"Switzerland","ABCEPs",{"$f":"SUM(IF(_xlfn.IFNA('Avocados - Summary'!AA73,),'Avocados - Summary'!AA73,0),IF(_xlfn.IFNA('Bananas - Summary'!AA73,),'Bananas - Summary'!AA73,0),IF(_xlfn.IFNA('Cucumbers - Summary'!AA73,),'Cucumbers - Summary'!AA73,0),IF(_xlfn.IFNA('Eggplants - Summary'!AA73,),'Eggplants - Summary'!AA73,0),IF(_xlfn.IFNA('Peppers - Summary'!AA73,),'Peppers - Summary'!AA73),0)","v":17.094234358187311},{"$f":"SUM(IF(_xlfn.IFNA('Avocados - Summary'!AB73,),'Avocados - Summary'!AB73,0),IF(_xlfn.IFNA('Bananas - Summary'!AB73,),'Bananas - Summary'!AB73,0),IF(_xlfn.IFNA('Cucumbers - Summary'!AB73,),'Cucumbers - Summary'!AB73,0),IF(_xlfn.IFNA('Eggplants - Summary'!AB73,),'Eggplants - Summary'!AB73,0),IF(_xlfn.IFNA('Peppers - Summary'!AB73,),'Peppers - Summary'!AB73),0)","v":15.989310701617448},{"$f":"SUM(IF(_xlfn.IFNA('Avocados - Summary'!AC73,),'Avocados - Summary'!AC73,0),IF(_xlfn.IFNA('Bananas - Summary'!AC73,),'Bananas - Summary'!AC73,0),IF(_xlfn.IFNA('Cucumbers - Summary'!AC73,),'Cucumbers - Summary'!AC73,0),IF(_xlfn.IFNA('Eggplants - Summary'!AC73,),'Eggplants - Summary'!AC73,0),IF(_xlfn.IFNA('Peppers - Summary'!AC73,),'Peppers - Summary'!AC73),0)","v":295.22292637568768},{"$f":"SUM(IF(_xlfn.IFNA('Avocados - Summary'!AD73,),'Avocados - Summary'!AD73,0),IF(_xlfn.IFNA('Bananas - Summary'!AD73,),'Bananas - Summary'!AD73,0),IF(_xlfn.IFNA('Cucumbers - Summary'!AD73,),'Cucumbers - Summary'!AD73,0),IF(_xlfn.IFNA('Eggplants - Summary'!AD73,),'Eggplants - Summary'!AD73,0),IF(_xlfn.IFNA('Peppers - Summary'!AD73,),'Peppers - Summary'!AD73),0)","v":35.222459413374857},363.52893084886728,null,null,null,"Norway",5425270,{"$f":"'Avocados - Summary'!W30","v":4979.3679441621098},0.91781016321069908,{"$f":"'Bananas - Summary'!W30","v":33554.684494904621},6.1848874793152451,{"$f":"'Cucumbers - Summary'!W30","v":6272.5454318443553},1.1561720304877647,{"$f":"'Eggplants - Summary'!W30","v":690.61419874944602},0.12729582099129555,{"$f":"'Peppers - Summary'!W30","v":6455.7137935079918},1.1899341034654483]
[{"$nulls":13},"United Kingdom","ABCEPs",{"$f":"SUM(IF(_xlfn.IFNA('Avocados - Summary'!AA74,),'Avocados - Summary'!AA74,0),IF(_xlfn.IFNA('Bananas - Summary'!AA74,),'Bananas - Summary'!AA74,0),IF(_xlfn.IFNA('Cucumbers - Summary'!AA74,),'Cucumbers - Summary'!AA74,0),IF(_xlfn.IFNA('Eggplants - Summary'!AA74,),'Eggplants - Summary'!AA74,0),IF(_xlfn.IFNA('Peppers - Summary'!AA74,),'Peppers - Summary'!AA74),0)","v":114.00175876749206},{"$f":"SUM(IF(_xlfn.IFNA('Avocados - Summary'!AB74,),'Avocados - Summary'!AB74,0),IF(_xlfn.IFNA('Bananas - Summary'!AB74,),'Bananas - Summary'!AB74,0),IF(_xlfn.IFNA('Cucumbers - Summary'!AB74,),'Cucumbers - Summary'!AB74,0),IF(_xlfn.IFNA('Eggplants - Summary'!AB74,),'Eggplants - Summary'!AB74,0),IF(_xlfn.IFNA('Peppers - Summary'!AB74,),'Peppers - Summary'!AB74),0)","v":86.187522524256877},{"$f":"SUM(IF(_xlfn.IFNA('Avocados - Summary'!AC74,),'Avocados - Summary'!AC74,0),IF(_xlfn.IFNA('Bananas - Summary'!AC74,),'Bananas - Summary'!AC74,0),IF(_xlfn.IFNA('Cucumbers - Summary'!AC74,),'Cucumbers - Summary'!AC74,0),IF(_xlfn.IFNA('Eggplants - Summary'!AC74,),'Eggplants - Summary'!AC74,0),IF(_xlfn.IFNA('Peppers - Summary'!AC74,),'Peppers - Summary'!AC74),0)","v":1641.8192966506826},{"$f":"SUM(IF(_xlfn.IFNA('Avocados - Summary'!AD74,),'Avocados - Summary'!AD74,0),IF(_xlfn.IFNA('Bananas - Summary'!AD74,),'Bananas - Summary'!AD74,0),IF(_xlfn.IFNA('Cucumbers - Summary'!AD74,),'Cucumbers - Summary'!AD74,0),IF(_xlfn.IFNA('Eggplants - Summary'!AD74,),'Eggplants - Summary'!AD74,0),IF(_xlfn.IFNA('Peppers - Summary'!AD74,),'Peppers - Summary'!AD74),0)","v":186.10252187389989},2028.1110998163315,null,null,null,"Poland",36889761,{"$f":"'Avocados - Summary'!W31","v":8527.7665565234383},0.23116892940898801,{"$f":"'Bananas - Summary'!W31","v":76923.126831482514},2.0852161886189098,{"$f":"'Cucumbers - Summary'!W31","v":171088.4048757515},4.6378290408482581,{"$f":"'Eggplants - Summary'!W31","v":1346.3164962479023},3.6495668710022335E-2,{"$f":"'Peppers - Summary'!W31","v":53858.183233745862},1.4599764751456608]
[{"$nulls":13},"EU+","ABCEPs",{"$f":"SUM(P79:P109)","v":1959.410698511191},{"$f":"SUM(Q79:Q109)","v":713.79913855014706},13489.631550000546,1594.109751631695,17756.951138693577,null,null,null,"Portugal",10421117,{"$f":"'Avocados - Summary'!W32","v":7498.3530047773456},0.71953448030353617,{"$f":"'Bananas - Summary'!W32","v":108310.5758758358},10.393374901734219,{"$f":"'Cucumbers - Summary'!W32","v":4233.0248556119732},0.40619684584790416,{"$f":"'Eggplants - Summary'!W32","v":2847.077505266052},0.27320271956125736,{"$f":"'Peppers - Summary'!W32","v":15707.593019248166},1.5072849694757449]
[{"$nulls":23},"Romania",19042455,{"$f":"'Avocados - Summary'!W33","v":3910.6657363378904},0.20536562834665439,{"$f":"'Bananas - Summary'!W33","v":65296.42339117908},3.4289918705954183,{"$f":"'Cucumbers - Summary'!W33","v":17705.4024579828},0.92978570557119877,{"$f":"'Eggplants - Summary'!W33","v":21802.010460507783},1.1449159502022077,{"$f":"'Peppers - Summary'!W33","v":41238.834570510728},2.1656259432153431]
[{"$nulls":23},"Slovakia",5434712,{"$f":"'Avocados - Summary'!W34","v":844.06301916406278},0.15530961330868367,{"$f":"'Bananas - Summary'!W34","v":26704.384166987056},4.9136705251330817,{"$f":"'Cucumbers - Summary'!W34","v":3897.5326171495817},0.71715531883742534,{"$f":"'Eggplants - Summary'!W34","v":237.005391412406},4.3609558595267973E-2,{"$f":"'Peppers - Summary'!W34","v":5707.0502202930702},1.0501108835745243]
[{"$nulls":18},"EUR",{"$f":"T110*10^6","v":17756951138.693577},null,null,null,"Slovenia",2107180,{"$f":"'Avocados - Summary'!W35","v":1198.8081010429687},0.56891585011388146,{"$f":"'Bananas - Summary'!W35","v":21022.830734085303},9.9767607580203403,{"$f":"'Cucumbers - Summary'!W35","v":1894.3925519629256},0.89901790637863188,{"$f":"'Eggplants - Summary'!W35","v":116.08198040597},5.5088782356500159E-2,{"$f":"'Peppers - Summary'!W35","v":3884.5257883305558},1.8434712688667108]
[{"$nulls":18},"Capita EU+",{"$f":"553*10^6","v":553000000},null,null,null,"Spain",47486843,{"$f":"'Avocados - Summary'!W36","v":73224.492454667983},1.5419953786919038,{"$f":"'Bananas - Summary'!W36","v":206056.52798224805},4.3392340902141688,{"$f":"'Cucumbers - Summary'!W36","v":70424.207935321727},1.4830256864058478,{"$f":"'Eggplants - Summary'!W36","v":44604.135215158807},0.93929460029926204,{"$f":"'Peppers - Summary'!W36","v":274835.20531869115},5.7876074288343649]
[{"$nulls":18},"EUR/Capita",{"$f":"T113/T114","v":32.110219057312072},null,null,null,"Sweden",10452326,{"$f":"'Avocados - Summary'!W37","v":7069.8716063828133},0.67639218355635045,{"$f":"'Bananas - Summary'!W37","v":38815.890973971938},3.7136127378702062,{"$f":"'Cucumbers - Summary'!W37","v":20464.246521396097},1.957865313557585,{"$f":"'Eggplants - Summary'!W37","v":2314.4174489605662},0.2214260681268998,{"$f":"'Peppers - Summary'!W37","v":10757.014121563365},1.029150269668528]
[{"$nulls":23},"Switzerland",8738791,{"$f":"'Avocados - Summary'!W38","v":6427.0518232148443},0.73546235665950188,{"$f":"'Bananas - Summary'!W38","v":39243.906974853511},4.4907707456161283,{"$f":"'Cucumbers - Summary'!W38","v":8025.8075746884315},0.91841166297356591,{"$f":"'Eggplants - Summary'!W38","v":2442.3396758102499},0.2794825595222783,{"$f":"'Peppers - Summary'!W38","v":10476.216747810666},1.1988176336761762]
[{"$nulls":23},"United Kingdom",67602800,{"$f":"'Avocados - Summary'!W39","v":38837.84003631719},0.57450046501501695,{"$f":"'Bananas - Summary'!W39","v":376069.70049863495},5.5629308327263809,{"$f":"'Cucumbers - Summary'!W39","v":44559.80090629038},0.65914135074716396,{"$f":"'Eggplants - Summary'!W39","v":8891.0296158660221},0.13151865922515077,{"$f":"'Peppers - Summary'!W39","v":58098.642824916089},0.85941178212908476]
[{"$nulls":23},"EU+",{"$f":"SUM(Y87:Y117)","v":528140192},{"$f":"'Avocados - Summary'!W40","v":335010.52672742272},0.63432121206072256,{"$f":"'Bananas - Summary'!W40","v":2764267.9964177907},5.2339663564514147,{"$f":"'Cucumbers - Summary'!W40","v":775252.54338430136},1.4678915847107152,{"$f":"'Eggplants - Summary'!W40","v":300049.4682309737},0.56812466230741576,{"$f":"'Peppers - Summary'!W40","v":965239.51179857971},1.8276198752140789]
{"$rows_empty":13}
[{"$nulls":13},"Food Waste","Product","Food Waste - Pre R&D","Food Supply Quantity","Food Waste - R&D","Consumption - Households","Food Waste - Households","Consumption - Food Service","Food Waste - Food Service","Total Food Waste"]
[{"$nulls":13},"EU+","Avocados",{"$f":"'Avocados - Summary'!P$40","v":105891.12000000001},{"$f":"'Avocados - Summary'!Q$40","v":571078.18499999982},{"$f":"'Avocados - Summary'!R$40","v":18246.060749999993},{"$f":"'Avocados - Summary'!S$40","v":469907.30561249994},{"$f":"'Avocados - Summary'!T$40","v":174220.57613964763},{"$f":"'Avocados - Summary'!U$40","v":82924.818637500022},{"$f":"'Avocados - Summary'!V$40","v":36652.769837775006},{"$f":"'Avocados - Summary'!W$40","v":335010.52672742272}]
[{"$nulls":13},"EU+","Bananas",{"$f":"'Bananas - Summary'!P$40","v":335878.79752914852},{"$f":"'Bananas - Summary'!Q$40","v":5154165.2103863396},{"$f":"'Bananas - Summary'!R$40","v":93978.794732571871},{"$f":"'Bananas - Summary'!S$40","v":4301158.4533057017},{"$f":"'Bananas - Summary'!T$40","v":1998920.0447982247},{"$f":"'Bananas - Summary'!U$40","v":759027.96234806476},{"$f":"'Bananas - Summary'!V$40","v":335490.35935784463},{"$f":"'Bananas - Summary'!W$40","v":2764267.9964177907}]
[{"$nulls":13},"EU+","Cucumbers",{"$f":"'Cucumbers - Summary'!P$40","v":315753.44937756902},{"$f":"'Cucumbers - Summary'!Q$40","v":1735925.3193456079},{"$f":"'Cucumbers - Summary'!R$40","v":43005.328324362854},{"$f":"'Cucumbers - Summary'!S$40","v":1506698.7920089078},{"$f":"'Cucumbers - Summary'!T$40","v":352992.33681916283},{"$f":"'Cucumbers - Summary'!U$40","v":186221.19901233702},{"$f":"'Cucumbers - Summary'!V$40","v":63501.4288632069},{"$f":"'Cucumbers - Summary'!W$40","v":775252.54338430136}]
[{"$nulls":13},"EU+","Eggplants",{"$f":"'Eggplants - Summary'!P$40","v":108195.5822785788},{"$f":"'Eggplants - Summary'!Q$40","v":631297.33328000002},{"$f":"'Eggplants - Summary'!R$40","v":61235.841328159986},{"$f":"'Eggplants - Summary'!S$40","v":507354.72783713753},{"$f":"'Eggplants - Summary'!T$40","v":109235.03806112127},{"$f":"'Eggplants - Summary'!U$40","v":62706.764114702382},{"$f":"'Eggplants - Summary'!V$40","v":21383.006563113518},{"$f":"'Eggplants - Summary'!W$40","v":300049.4682309737}]
[{"$nulls":13},"EU+","Peppers",{"$f":"'Peppers - Summary'!P$40","v":364187.14370238711},{"$f":"'Peppers - Summary'!Q$40","v":1975880.6164816394},{"$f":"'Peppers - Summary'!R$40","v":79035.224659265557},{"$f":"'Peppers - Summary'!S$40","v":1688192.3987219126},{"$f":"'Peppers - Summary'!T$40","v":450866.47278966953},{"$f":"'Peppers - Summary'!U$40","v":208652.99310046106},{"$f":"'Peppers - Summary'!V$40","v":71150.670647257226},{"$f":"'Peppers - Summary'!W$40","v":965239.51179857971}]
[]
[]
[]
[]
[{"$nulls":14},"Product","Food Waste - Pre R&D","Food Waste - R&D","Food Waste - Households","Food Waste - Food Service","Sum"]
[{"$nulls":14},"Avocados",105891.12000000001,21373.521843750001,173247.31890111402,36445.419167259381,{"$f":"SUM(P143:S143)","v":336957.37991212338},{"$f":"T143/$T$148","v":6.553338307283342E-2}]
[{"$nulls":14},"Bananas",335878.79752914852,93978.794732571871,1998920.0447982247,335490.35935784463,{"$f":"SUM(P144:S144)","v":2764267.9964177897},{"$f":"T144/$T$148","v":0.53761052383676577}]
[{"$nulls":14},"Cucumbers",315753.44937756902,43005.328324362854,352992.33681916283,63501.4288632069,775252.54338430159,0.15077551326236419]
[{"$nulls":14},"Eggplants",108195.5822785788,61235.841328159986,109235.03806112127,21383.006563113518,300049.46823097358,5.8355323001111951E-2]
[{"$nulls":14},"Peppers",364187.14370238711,79035.224659265557,450866.47278966953,71150.670647257226,965239.51179857948,0.18772525682692476]
[{"$nulls":14},"Total",{"$f":"SUM(P143:P147)","v":1229906.0928876833},{"$f":"SUM(Q143:Q147)","v":298628.71088811028},3085261.2113692928,527970.88459868159,{"$f":"SUM(T143:T147)","v":5141766.8997437675}]
[{"$nulls":15},{"$f":"P148/$T$148","v":0.23919911518139297},{"$f":"Q148/$T$148","v":5.8079006051984197E-2},{"$f":"R148/$T$148","v":0.60003910553063822},{"$f":"S148/$T$148","v":0.10268277323598475}]
[]
[{"$nulls":13},"Economic Cost","Product","Type","Pre R&D","R&D","Households","Food Service","Total"]
[{"$nulls":13},"EU+","Avocados","EUR",{"$f":"'Avocados - Summary'!AA$75","v":242.98902335471342},{"$f":"'Avocados - Summary'!AB$75","v":63.639578414563317},{"$f":"'Avocados - Summary'!AC$75","v":881.88075208440716},{"$f":"'Avocados - Summary'!AD$75","v":128.29904273296572},{"$f":"'Avocados - Summary'!AE$75","v":1316.808396586649}]
[{"$nulls":13},"EU+",null,"CO2-eq",{"$f":"'Avocados - Summary'!P$75","v":253079.77679999999},{"$f":"'Avocados - Summary'!Q$75","v":45432.691267499999},{"$f":"'Avocados - Summary'!R$75","v":456457.90948587691},{"$f":"'Avocados - Summary'!S$75","v":96030.256974970544},{"$f":"'Avocados - Summary'!T$75","v":851000.63452834741}]
[{"$nulls":13},"EU+","Bananas","EUR",{"$f":"'Bananas - Summary'!AA$75","v":802.09230284202988},{"$f":"'Bananas - Summary'!AB$75","v":330.30347914952199},{"$f":"'Bananas - Summary'!AC$75","v":10156.707143372554},{"$f":"'Bananas - Summary'!AD$75","v":1181.4198260800081},{"$f":"'Bananas - Summary'!AE$75","v":12470.522751444116}]
[{"$nulls":13},"EU+",null,"CO2-eq",{"$f":"'Bananas - Summary'!P$75","v":272470.85954193154},{"$f":"'Bananas - Summary'!Q$75","v":85450.720779829251},{"$f":"'Bananas - Summary'!R$75","v":2234863.8650209736},{"$f":"'Bananas - Summary'!S$75","v":375362.75363431766},{"$f":"'Bananas - Summary'!T$75","v":2968148.1989770518}]
[{"$nulls":13},"EU+","Cucumbers","EUR",{"$f":"'Cucumbers - Summary'!AA$75","v":348.00741084569034},{"$f":"'Cucumbers - Summary'!AB$75","v":73.700809045380794},{"$f":"'Cucumbers - Summary'!AC$75","v":885.38764976486846},{"$f":"'Cucumbers - Summary'!AD$75","v":110.10532163971587},{"$f":"'Cucumbers - Summary'!AE$75","v":1417.2011912956557}]
[{"$nulls":15},"CO2-eq",{"$f":"'Cucumbers - Summary'!P$75","v":430145.95729846391},{"$f":"'Cucumbers - Summary'!Q$75","v":53723.824482448297},{"$f":"'Cucumbers - Summary'!R$75","v":535904.99621914094},{"$f":"'Cucumbers - Summary'!S$75","v":96432.996767474615},{"$f":"'Cucumbers - Summary'!T$75","v":1116207.7747675278}]
[{"$nulls":14},"Eggplants","EUR",{"$f":"'Eggplants - Summary'!AA$75","v":101.00531404255064},{"$f":"'Eggplants - Summary'!AB$75","v":85.860356317402022},{"$f":"'Eggplants - Summary'!AC$75","v":222.49142255462431},{"$f":"'Eggplants - Summary'!AD$75","v":29.981666338304876},{"$f":"'Eggplants - Summary'!AE$75","v":439.33875925288186}]
[{"$nulls":15},"CO2-eq",{"$f":"'Eggplants - Summary'!P$75","v":135244.4778482235},{"$f":"'Eggplants - Summary'!Q$75","v":82668.38579301603},{"$f":"'Eggplants - Summary'!R$75","v":166179.72218954368},{"$f":"'Eggplants - Summary'!S$75","v":32530.057693092163},{"$f":"'Eggplants - Summary'!T$75","v":416622.64352387533}]
[{"$nulls":14},"Peppers","EUR",{"$f":"'Peppers - Summary'!AA$75","v":465.31664742620671},{"$f":"'Peppers - Summary'!AB$75","v":160.29491562327868},{"$f":"'Peppers - Summary'!AC$75","v":1343.164582224093},{"$f":"'Peppers - Summary'!AD$75","v":144.30389484070039},{"$f":"'Peppers - Summary'!AE$75","v":2113.0800401142787}]
[{"$nulls":15},"CO2-eq",{"$f":"'Peppers - Summary'!P$75","v":265553.92434725381},{"$f":"'Peppers - Summary'!Q$75","v":75136.208879676313},{"$f":"'Peppers - Summary'!R$75","v":455919.32114881143},{"$f":"'Peppers - Summary'!S$75","v":72581.316882991567},{"$f":"'Peppers - Summary'!T$75","v":869190.77125873312}]

{"sheet":"Avocados - Summary","index":2,"n_rows":116,"n_cols":42,"rows_kept":116,"cut":false,"hidden":false,"merged":[]}
["Homepage"]
[]
[]
[]
[]
[]
[{"$nulls":13},"Food Waste","Unit: Tonnes",{"$nulls":9},"Difference (Worst and Best Case)","Unit: Tonnes",{"$nulls":7},"Data for the illustration","Unit: Tonnes"]
[{"$nulls":13},"Country","Product","Food Waste - Pre R&D","Food Supply Quantity","Food Waste - R&D","Consumption - Households","Food Waste - Households","Consumption - Food Service","Food Waste - Food Service","Total Food Waste",null,"Country","Product","Total FW","Best Case","Worst Case","Average B/W case","Lower Error","Higher Error",null,"Country",null,"Food Waste - Pre R&D","Food Waste - R&D","Food Waste - Households","Food Waste - Food Service","Food Availability","Lower Error","Higher Error"]
[{"$nulls":13},"Austria","Avocados",{"$f":"_xlfn.XLOOKUP($N9&$O9,'FFV Waste'!$A:$A&'FFV Waste'!$B:$B,'FFV Waste'!C:C,\"\",0)","v":740.94},{"$f":"_xlfn.XLOOKUP($N9&$O9,'FFV Waste'!$A:$A&'FFV Waste'!$B:$B,'FFV Waste'!D:D,\"\",0)","v":9621.18},{"$f":"_xlfn.XLOOKUP($N9&$O9,'FFV Waste'!$A:$A&'FFV Waste'!$B:$B,'FFV Waste'!E:E,\"\",0)","v":300.66187500000001},{"$f":"_xlfn.XLOOKUP($N9&$O9,'FFV Waste'!$A:$A&'FFV Waste'!$B:$B,'FFV Waste'!F:F,\"\",0)","v":7922.4404062499998},{"$f":"_xlfn.XLOOKUP($N9&$O9,'FFV Waste'!$A:$A&'FFV Waste'!$B:$B,'FFV Waste'!G:G,\"\",0)","v":2924.7009166406251},{"$f":"_xlfn.XLOOKUP($N9&$O9,'FFV Waste'!$A:$A&'FFV Waste'!$B:$B,'FFV Waste'!H:H,\"\",0)","v":1398.0777187500007},{"$f":"_xlfn.XLOOKUP($N9&$O9,'FFV Waste'!$A:$A&'FFV Waste'!$B:$B,'FFV Waste'!I:I,\"\",0)","v":617.9503516875003},{"$f":"_xlfn.XLOOKUP($N9&$O9,'FFV Waste'!$A:$A&'FFV Waste'!$B:$B,'FFV Waste'!J:J,\"\",0)","v":4584.2531433281256},null,"Austria","Avocados",{"$f":"W9","v":4584.2531433281256},{"$f":"_xlfn.XLOOKUP(Y9&Z9,'FFV Waste'!$L:$L&'FFV Waste'!$M:$M,'FFV Waste'!$U:$U,,0)","v":4158.9002744250001},{"$f":"_xlfn.XLOOKUP(Y9&Z9,'FFV Waste'!$W:$W&'FFV Waste'!$X:$X,'FFV Waste'!$AF:$AF,,0)","v":5465.2761213000003},{"$f":"AVERAGE(AB9:AC9)","v":4812.0881978625002},{"$f":"AA9-MIN(AB9,AA9)","v":425.35286890312545},{"$f":"AC9-MIN(AA9,AC9)","v":881.02297797187475},null,"Austria","Food Waste",{"$f":"_xlfn.XLOOKUP($AH9,$N$9:$N$39,P$9:P$39,\"\",0)","v":740.94},{"$f":"_xlfn.XLOOKUP($AH9,$N$9:$N$39,R$9:R$39,\"\",0)","v":300.66187500000001},{"$f":"_xlfn.XLOOKUP($AH9,$N$9:$N$39,T$9:T$39,\"\",0)","v":2924.7009166406251},{"$f":"_xlfn.XLOOKUP($AH9,$N$9:$N$39,V$9:V$39,\"\",0)","v":617.9503516875003},null,{"$f":"IF(ISBLANK($AH9),\"\",_xlfn.XLOOKUP($AH9,$Y$9:$Y$39,AE$9:AE$39,,0))","v":425.35286890312545},{"$f":"IF(ISBLANK($AH9),\"\",_xlfn.XLOOKUP($AH9,$Y$9:$Y$39,AF$9:AF$39,,0))","v":881.02297797187475}]
[{"$nulls":13},"Belgium","Avocados",{"$f":"_xlfn.XLOOKUP($N10&$O10,'FFV Waste'!$A:$A&'FFV Waste'!$B:$B,'FFV Waste'!C:C,\"\",0)","v":1434.55},{"$f":"_xlfn.XLOOKUP($N10&$O10,'FFV Waste'!$A:$A&'FFV Waste'!$B:$B,'FFV Waste'!D:D,\"\",0)","v":8507.3325000000004},{"$f":"_xlfn.XLOOKUP($N10&$O10,'FFV Waste'!$A:$A&'FFV Waste'!$B:$B,'FFV Waste'!E:E,\"\",0)","v":265.85414062500001},{"$f":"_xlfn.XLOOKUP($N10&$O10,'FFV Waste'!$A:$A&'FFV Waste'!$B:$B,'FFV Waste'!F:F,\"\",0)","v":7005.2566054687495},{"$f":"_xlfn.XLOOKUP($N10&$O10,'FFV Waste'!$A:$A&'FFV Waste'!$B:$B,'FFV Waste'!G:G,\"\",0)","v":2586.107230185547},{"$f":"_xlfn.XLOOKUP($N10&$O10,'FFV Waste'!$A:$A&'FFV Waste'!$B:$B,'FFV Waste'!H:H,\"\",0)","v":1236.2217539062503},{"$f":"_xlfn.XLOOKUP($N10&$O10,'FFV Waste'!$A:$A&'FFV Waste'!$B:$B,'FFV Waste'!I:I,\"\",0)","v":546.41001522656268},{"$f":"_xlfn.XLOOKUP($N10&$O10,'FFV Waste'!$A:$A&'FFV Waste'!$B:$B,'FFV Waste'!J:J,\"\",0)","v":4832.9213860371101},null,"Belgium","Avocados",{"$f":"W10","v":4832.9213860371101},{"$f":"_xlfn.XLOOKUP(Y10&Z10,'FFV Waste'!$L:$L&'FFV Waste'!$M:$M,'FFV Waste'!$U:$U,,0)","v":4456.8117731218754},{"$f":"_xlfn.XLOOKUP(Y10&Z10,'FFV Waste'!$W:$W&'FFV Waste'!$X:$X,'FFV Waste'!$AF:$AF,,0)","v":5611.9480141374997},{"$f":"AVERAGE(AB10:AC10)","v":5034.379893629688},{"$f":"AA10-MIN(AB10,AA10)","v":376.10961291523472},{"$f":"AC10-MIN(AA10,AC10)","v":779.02662810038964},null,null,"Food Supply",{"$f":"_xlfn.XLOOKUP($AH10,$N$9:$N$39,P$9:P$39,\"\",0)","v":""},"","","",{"$f":"_xlfn.XLOOKUP(AH9,N$9:N$39,Q$9:Q$39,\"\",0)+AJ9","v":10362.120000000001},{"$f":"IF(ISBLANK($AH10),\"\",_xlfn.XLOOKUP($AH10,$Y$9:$Y$39,AE$9:AE$39,,0))","v":""},{"$f":"IF(ISBLANK($AH10),\"\",_xlfn.XLOOKUP($AH10,$Y$9:$Y$39,AF$9:AF$39,,0))","v":""}]
[{"$nulls":13},"Bulgaria","Avocados",{"$f":"_xlfn.XLOOKUP($N11&$O11,'FFV Waste'!$A:$A&'FFV Waste'!$B:$B,'FFV Waste'!C:C,\"\",0)","v":{"$error":"#N/A"}},{"$f":"_xlfn.XLOOKUP($N11&$O11,'FFV Waste'!$A:$A&'FFV Waste'!$B:$B,'FFV Waste'!D:D,\"\",0)","v":2643.8175000000001},{"$f":"_xlfn.XLOOKUP($N11&$O11,'FFV Waste'!$A:$A&'FFV Waste'!$B:$B,'FFV Waste'!E:E,\"\",0)","v":82.619296875000003},{"$f":"_xlfn.XLOOKUP($N11&$O11,'FFV Waste'!$A:$A&'FFV Waste'!$B:$B,'FFV Waste'!F:F,\"\",0)","v":2177.0184726562497},{"$f":"_xlfn.XLOOKUP($N11&$O11,'FFV Waste'!$A:$A&'FFV Waste'!$B:$B,'FFV Waste'!G:G,\"\",0)","v":803.6826528222656},{"$f":"_xlfn.XLOOKUP($N11&$O11,'FFV Waste'!$A:$A&'FFV Waste'!$B:$B,'FFV Waste'!H:H,\"\",0)","v":384.17973046875022},{"$f":"_xlfn.XLOOKUP($N11&$O11,'FFV Waste'!$A:$A&'FFV Waste'!$B:$B,'FFV Waste'!I:I,\"\",0)","v":169.80744086718761},{"$f":"_xlfn.XLOOKUP($N11&$O11,'FFV Waste'!$A:$A&'FFV Waste'!$B:$B,'FFV Waste'!J:J,\"\",0)","v":1056.1093905644532},null,"Bulgaria","Avocados",1056.1093905644532,{"$f":"_xlfn.XLOOKUP(Y11&Z11,'FFV Waste'!$L:$L&'FFV Waste'!$M:$M,'FFV Waste'!$U:$U,,0)","v":939.22608119062511},{"$f":"_xlfn.XLOOKUP(Y11&Z11,'FFV Waste'!$W:$W&'FFV Waste'!$X:$X,'FFV Waste'!$AF:$AF,,0)","v":1298.2069261125002},1118.7165036515626,116.88330937382807,242.09753554804706,null,"Belgium","Food Waste",{"$f":"_xlfn.XLOOKUP($AH11,$N$9:$N$39,P$9:P$39,\"\",0)","v":1434.55},265.85414062500001,2586.107230185547,546.41001522656268,null,376.10961291523472,779.02662810038964]
[{"$nulls":13},"Croatia","Avocados",{"$f":"_xlfn.XLOOKUP($N12&$O12,'FFV Waste'!$A:$A&'FFV Waste'!$B:$B,'FFV Waste'!C:C,\"\",0)","v":{"$error":"#N/A"}},{"$f":"_xlfn.XLOOKUP($N12&$O12,'FFV Waste'!$A:$A&'FFV Waste'!$B:$B,'FFV Waste'!D:D,\"\",0)","v":1853.4750000000001},{"$f":"_xlfn.XLOOKUP($N12&$O12,'FFV Waste'!$A:$A&'FFV Waste'!$B:$B,'FFV Waste'!E:E,\"\",0)","v":57.921093750000004},{"$f":"_xlfn.XLOOKUP($N12&$O12,'FFV Waste'!$A:$A&'FFV Waste'!$B:$B,'FFV Waste'!F:F,\"\",0)","v":1526.2208203125001},{"$f":"_xlfn.XLOOKUP($N12&$O12,'FFV Waste'!$A:$A&'FFV Waste'!$B:$B,'FFV Waste'!G:G,\"\",0)","v":563.42985283203132},{"$f":"_xlfn.XLOOKUP($N12&$O12,'FFV Waste'!$A:$A&'FFV Waste'!$B:$B,'FFV Waste'!H:H,\"\",0)","v":269.33308593750007},{"$f":"_xlfn.XLOOKUP($N12&$O12,'FFV Waste'!$A:$A&'FFV Waste'!$B:$B,'FFV Waste'!I:I,\"\",0)","v":119.04522398437503},{"$f":"_xlfn.XLOOKUP($N12&$O12,'FFV Waste'!$A:$A&'FFV Waste'!$B:$B,'FFV Waste'!J:J,\"\",0)","v":740.39617056640634},null,"Croatia","Avocados",740.39617056640634,{"$f":"_xlfn.XLOOKUP(Y12&Z12,'FFV Waste'!$L:$L&'FFV Waste'!$M:$M,'FFV Waste'!$U:$U,,0)","v":658.45394428125007},{"$f":"_xlfn.XLOOKUP(Y12&Z12,'FFV Waste'!$W:$W&'FFV Waste'!$X:$X,'FFV Waste'!$AF:$AF,,0)","v":910.12109662500006},784.28752045312513,81.942226285156266,169.72492605859372,null,null,"Food Supply",{"$f":"_xlfn.XLOOKUP($AH12,$N$9:$N$39,P$9:P$39,\"\",0)","v":""},"","","",{"$f":"_xlfn.XLOOKUP(AH11,N$9:N$39,Q$9:Q$39,\"\",0)+AJ11","v":9941.8824999999997},"",""]
[{"$nulls":13},"Cyprus","Avocados",{"$f":"_xlfn.XLOOKUP($N13&$O13,'FFV Waste'!$A:$A&'FFV Waste'!$B:$B,'FFV Waste'!C:C,\"\",0)","v":167.69},{"$f":"_xlfn.XLOOKUP($N13&$O13,'FFV Waste'!$A:$A&'FFV Waste'!$B:$B,'FFV Waste'!D:D,\"\",0)","v":1236.1125000000002},{"$f":"_xlfn.XLOOKUP($N13&$O13,'FFV Waste'!$A:$A&'FFV Waste'!$B:$B,'FFV Waste'!E:E,\"\",0)","v":38.628515625000006},{"$f":"_xlfn.XLOOKUP($N13&$O13,'FFV Waste'!$A:$A&'FFV Waste'!$B:$B,'FFV Waste'!F:F,\"\",0)","v":1017.8613867187501},{"$f":"_xlfn.XLOOKUP($N13&$O13,'FFV Waste'!$A:$A&'FFV Waste'!$B:$B,'FFV Waste'!G:G,\"\",0)","v":375.76049526367194},{"$f":"_xlfn.XLOOKUP($N13&$O13,'FFV Waste'!$A:$A&'FFV Waste'!$B:$B,'FFV Waste'!H:H,\"\",0)","v":179.62259765625004},{"$f":"_xlfn.XLOOKUP($N13&$O13,'FFV Waste'!$A:$A&'FFV Waste'!$B:$B,'FFV Waste'!I:I,\"\",0)","v":79.393188164062522},{"$f":"_xlfn.XLOOKUP($N13&$O13,'FFV Waste'!$A:$A&'FFV Waste'!$B:$B,'FFV Waste'!J:J,\"\",0)","v":661.47219905273448},null,"Cyprus","Avocados",661.47219905273448,{"$f":"_xlfn.XLOOKUP(Y13&Z13,'FFV Waste'!$L:$L&'FFV Waste'!$M:$M,'FFV Waste'!$U:$U,,0)","v":606.82360104687507},{"$f":"_xlfn.XLOOKUP(Y13&Z13,'FFV Waste'!$W:$W&'FFV Waste'!$X:$X,'FFV Waste'!$AF:$AF,,0)","v":774.66450143750012},690.74405124218765,54.648598005859412,113.19230238476564,null,"Bulgaria","Food Waste",null,82.619296875000003,803.6826528222656,169.80744086718761,null,{"$f":"IF(ISBLANK($AH13),\"\",_xlfn.XLOOKUP($AH13,$Y$9:$Y$39,AE$9:AE$39,,0))","v":116.88330937382807},242.09753554804706]
[{"$nulls":13},"Czechia","Avocados",{"$f":"_xlfn.XLOOKUP($N14&$O14,'FFV Waste'!$A:$A&'FFV Waste'!$B:$B,'FFV Waste'!C:C,\"\",0)","v":{"$error":"#N/A"}},{"$f":"_xlfn.XLOOKUP($N14&$O14,'FFV Waste'!$A:$A&'FFV Waste'!$B:$B,'FFV Waste'!D:D,\"\",0)","v":5793.1350000000002},{"$f":"_xlfn.XLOOKUP($N14&$O14,'FFV Waste'!$A:$A&'FFV Waste'!$B:$B,'FFV Waste'!E:E,\"\",0)","v":181.03546875000001},{"$f":"_xlfn.XLOOKUP($N14&$O14,'FFV Waste'!$A:$A&'FFV Waste'!$B:$B,'FFV Waste'!F:F,\"\",0)","v":4770.2846015625},{"$f":"_xlfn.XLOOKUP($N14&$O14,'FFV Waste'!$A:$A&'FFV Waste'!$B:$B,'FFV Waste'!G:G,\"\",0)","v":1761.0300654101563},{"$f":"_xlfn.XLOOKUP($N14&$O14,'FFV Waste'!$A:$A&'FFV Waste'!$B:$B,'FFV Waste'!H:H,\"\",0)","v":841.8149296874999},{"$f":"_xlfn.XLOOKUP($N14&$O14,'FFV Waste'!$A:$A&'FFV Waste'!$B:$B,'FFV Waste'!I:I,\"\",0)","v":372.08219892187498},{"$f":"_xlfn.XLOOKUP($N14&$O14,'FFV Waste'!$A:$A&'FFV Waste'!$B:$B,'FFV Waste'!J:J,\"\",0)","v":2314.1477330820312},null,"Czechia","Avocados",2314.1477330820312,{"$f":"_xlfn.XLOOKUP(Y14&Z14,'FFV Waste'!$L:$L&'FFV Waste'!$M:$M,'FFV Waste'!$U:$U,,0)","v":2058.03293300625},{"$f":"_xlfn.XLOOKUP(Y14&Z14,'FFV Waste'!$W:$W&'FFV Waste'!$X:$X,'FFV Waste'!$AF:$AF,,0)","v":2844.6320447250005},2451.3324888656252,256.1148000757812,530.48431164296926,null,null,"Food Supply",{"$f":"_xlfn.XLOOKUP($AH14,$N$9:$N$39,P$9:P$39,\"\",0)","v":""},"","","",{"$f":"_xlfn.XLOOKUP(AH13,N$9:N$39,Q$9:Q$39,\"\",0)+AJ13","v":2643.8175000000001},"",""]
[{"$nulls":13},"Denmark","Avocados",{"$f":"_xlfn.XLOOKUP($N15&$O15,'FFV Waste'!$A:$A&'FFV Waste'!$B:$B,'FFV Waste'!C:C,\"\",0)","v":906.89},{"$f":"_xlfn.XLOOKUP($N15&$O15,'FFV Waste'!$A:$A&'FFV Waste'!$B:$B,'FFV Waste'!D:D,\"\",0)","v":10110.09},{"$f":"_xlfn.XLOOKUP($N15&$O15,'FFV Waste'!$A:$A&'FFV Waste'!$B:$B,'FFV Waste'!E:E,\"\",0)","v":315.9403125},{"$f":"_xlfn.XLOOKUP($N15&$O15,'FFV Waste'!$A:$A&'FFV Waste'!$B:$B,'FFV Waste'!F:F,\"\",0)","v":8325.0272343749984},{"$f":"_xlfn.XLOOKUP($N15&$O15,'FFV Waste'!$A:$A&'FFV Waste'!$B:$B,'FFV Waste'!G:G,\"\",0)","v":3030.3099133124992},{"$f":"_xlfn.XLOOKUP($N15&$O15,'FFV Waste'!$A:$A&'FFV Waste'!$B:$B,'FFV Waste'!H:H,\"\",0)","v":1469.1224531250009},{"$f":"_xlfn.XLOOKUP($N15&$O15,'FFV Waste'!$A:$A&'FFV Waste'!$B:$B,'FFV Waste'!I:I,\"\",0)","v":649.35212428125044},{"$f":"_xlfn.XLOOKUP($N15&$O15,'FFV Waste'!$A:$A&'FFV Waste'!$B:$B,'FFV Waste'!J:J,\"\",0)","v":4902.4923500937493},null,"Denmark","Avocados",4902.4923500937493,{"$f":"_xlfn.XLOOKUP(Y15&Z15,'FFV Waste'!$L:$L&'FFV Waste'!$M:$M,'FFV Waste'!$U:$U,,0)","v":4498.5373853375004},{"$f":"_xlfn.XLOOKUP(Y15&Z15,'FFV Waste'!$W:$W&'FFV Waste'!$X:$X,'FFV Waste'!$AF:$AF,,0)","v":5871.2980431499991},5184.9177142437493,403.95496475624896,968.80569305624977,null,"Croatia","Food Waste",null,57.921093750000004,563.42985283203132,119.04522398437503,null,81.942226285156266,169.72492605859372]
[{"$nulls":13},"Estonia","Avocados",{"$f":"_xlfn.XLOOKUP($N16&$O16,'FFV Waste'!$A:$A&'FFV Waste'!$B:$B,'FFV Waste'!C:C,\"\",0)","v":{"$error":"#N/A"}},{"$f":"_xlfn.XLOOKUP($N16&$O16,'FFV Waste'!$A:$A&'FFV Waste'!$B:$B,'FFV Waste'!D:D,\"\",0)","v":1391.2125000000001},{"$f":"_xlfn.XLOOKUP($N16&$O16,'FFV Waste'!$A:$A&'FFV Waste'!$B:$B,'FFV Waste'!E:E,\"\",0)","v":43.475390625000003},{"$f":"_xlfn.XLOOKUP($N16&$O16,'FFV Waste'!$A:$A&'FFV Waste'!$B:$B,'FFV Waste'!F:F,\"\",0)","v":1145.5765429687501},{"$f":"_xlfn.XLOOKUP($N16&$O16,'FFV Waste'!$A:$A&'FFV Waste'!$B:$B,'FFV Waste'!G:G,\"\",0)","v":422.90867377929698},{"$f":"_xlfn.XLOOKUP($N16&$O16,'FFV Waste'!$A:$A&'FFV Waste'!$B:$B,'FFV Waste'!H:H,\"\",0)","v":202.16056640624993},{"$f":"_xlfn.XLOOKUP($N16&$O16,'FFV Waste'!$A:$A&'FFV Waste'!$B:$B,'FFV Waste'!I:I,\"\",0)","v":89.354970351562471},{"$f":"_xlfn.XLOOKUP($N16&$O16,'FFV Waste'!$A:$A&'FFV Waste'!$B:$B,'FFV Waste'!J:J,\"\",0)","v":555.73903475585939},null,"Estonia","Avocados",555.73903475585939,{"$f":"_xlfn.XLOOKUP(Y16&Z16,'FFV Waste'!$L:$L&'FFV Waste'!$M:$M,'FFV Waste'!$U:$U,,0)","v":494.23345767187504},{"$f":"_xlfn.XLOOKUP(Y16&Z16,'FFV Waste'!$W:$W&'FFV Waste'!$X:$X,'FFV Waste'!$AF:$AF,,0)","v":683.13402993750015},588.68374380468754,61.505577083984349,127.39499518164075,null,null,"Food Supply",{"$f":"_xlfn.XLOOKUP($AH16,$N$9:$N$39,P$9:P$39,\"\",0)","v":""},"","","",{"$f":"_xlfn.XLOOKUP(AH15,N$9:N$39,Q$9:Q$39,\"\",0)+AJ15","v":1853.4750000000001},"",""]
[{"$nulls":13},"Finland","Avocados",{"$f":"_xlfn.XLOOKUP($N17&$O17,'FFV Waste'!$A:$A&'FFV Waste'!$B:$B,'FFV Waste'!C:C,\"\",0)","v":327.84},{"$f":"_xlfn.XLOOKUP($N17&$O17,'FFV Waste'!$A:$A&'FFV Waste'!$B:$B,'FFV Waste'!D:D,\"\",0)","v":4609.1025},{"$f":"_xlfn.XLOOKUP($N17&$O17,'FFV Waste'!$A:$A&'FFV Waste'!$B:$B,'FFV Waste'!E:E,\"\",0)","v":144.034453125},{"$f":"_xlfn.XLOOKUP($N17&$O17,'FFV Waste'!$A:$A&'FFV Waste'!$B:$B,'FFV Waste'!F:F,\"\",0)","v":3795.3078398437497},{"$f":"_xlfn.XLOOKUP($N17&$O17,'FFV Waste'!$A:$A&'FFV Waste'!$B:$B,'FFV Waste'!G:G,\"\",0)","v":1241.0656636289061},{"$f":"_xlfn.XLOOKUP($N17&$O17,'FFV Waste'!$A:$A&'FFV Waste'!$B:$B,'FFV Waste'!H:H,\"\",0)","v":669.76020703125005},{"$f":"_xlfn.XLOOKUP($N17&$O17,'FFV Waste'!$A:$A&'FFV Waste'!$B:$B,'FFV Waste'!I:I,\"\",0)","v":296.03401150781252},{"$f":"_xlfn.XLOOKUP($N17&$O17,'FFV Waste'!$A:$A&'FFV Waste'!$B:$B,'FFV Waste'!J:J,\"\",0)","v":2008.9741282617185},null,"Finland","Avocados",2008.9741282617185,{"$f":"_xlfn.XLOOKUP(Y17&Z17,'FFV Waste'!$L:$L&'FFV Waste'!$M:$M,'FFV Waste'!$U:$U,,0)","v":1965.2409472593752},{"$f":"_xlfn.XLOOKUP(Y17&Z17,'FFV Waste'!$W:$W&'FFV Waste'!$X:$X,'FFV Waste'!$AF:$AF,,0)","v":2591.0706460874999},2278.1557966734376,43.733181002343372,582.09651782578135,null,"Cyprus","Food Waste",{"$f":"_xlfn.XLOOKUP($AH17,$N$9:$N$39,P$9:P$39,\"\",0)","v":167.69},38.628515625000006,375.76049526367194,79.393188164062522,null,54.648598005859412,113.19230238476564]
[{"$nulls":13},"France","Avocados",{"$f":"_xlfn.XLOOKUP($N18&$O18,'FFV Waste'!$A:$A&'FFV Waste'!$B:$B,'FFV Waste'!C:C,\"\",0)","v":30272.48},{"$f":"_xlfn.XLOOKUP($N18&$O18,'FFV Waste'!$A:$A&'FFV Waste'!$B:$B,'FFV Waste'!D:D,\"\",0)","v":98802.45749999999},{"$f":"_xlfn.XLOOKUP($N18&$O18,'FFV Waste'!$A:$A&'FFV Waste'!$B:$B,'FFV Waste'!E:E,\"\",0)","v":3087.5767968749997},{"$f":"_xlfn.XLOOKUP($N18&$O18,'FFV Waste'!$A:$A&'FFV Waste'!$B:$B,'FFV Waste'!F:F,\"\",0)","v":81357.64859765624},{"$f":"_xlfn.XLOOKUP($N18&$O18,'FFV Waste'!$A:$A&'FFV Waste'!$B:$B,'FFV Waste'!G:G,\"\",0)","v":30034.531940634766},{"$f":"_xlfn.XLOOKUP($N18&$O18,'FFV Waste'!$A:$A&'FFV Waste'!$B:$B,'FFV Waste'!H:H,\"\",0)","v":14357.232105468749},{"$f":"_xlfn.XLOOKUP($N18&$O18,'FFV Waste'!$A:$A&'FFV Waste'!$B:$B,'FFV Waste'!I:I,\"\",0)","v":6345.896590617187},{"$f":"_xlfn.XLOOKUP($N18&$O18,'FFV Waste'!$A:$A&'FFV Waste'!$B:$B,'FFV Waste'!J:J,\"\",0)","v":69740.485328126961},null,"France","Avocados",69740.485328126961,{"$f":"_xlfn.XLOOKUP(Y18&Z18,'FFV Waste'!$L:$L&'FFV Waste'!$M:$M,'FFV Waste'!$U:$U,,0)","v":65372.423536090624},{"$f":"_xlfn.XLOOKUP(Y18&Z18,'FFV Waste'!$W:$W&'FFV Waste'!$X:$X,'FFV Waste'!$AF:$AF,,0)","v":78787.944718512488},72080.18412730156,4368.0617920363366,9047.4593903855275,null,null,"Food Supply",{"$f":"_xlfn.XLOOKUP($AH18,$N$9:$N$39,P$9:P$39,\"\",0)","v":""},"","","",{"$f":"_xlfn.XLOOKUP(AH17,N$9:N$39,Q$9:Q$39,\"\",0)+AJ17","v":1403.8025000000002},"",""]
[{"$nulls":13},"Germany","Avocados",{"$f":"_xlfn.XLOOKUP($N19&$O19,'FFV Waste'!$A:$A&'FFV Waste'!$B:$B,'FFV Waste'!C:C,\"\",0)","v":12735.75},{"$f":"_xlfn.XLOOKUP($N19&$O19,'FFV Waste'!$A:$A&'FFV Waste'!$B:$B,'FFV Waste'!D:D,\"\",0)","v":74034.87},{"$f":"_xlfn.XLOOKUP($N19&$O19,'FFV Waste'!$A:$A&'FFV Waste'!$B:$B,'FFV Waste'!E:E,\"\",0)","v":2313.5896874999999},{"$f":"_xlfn.XLOOKUP($N19&$O19,'FFV Waste'!$A:$A&'FFV Waste'!$B:$B,'FFV Waste'!F:F,\"\",0)","v":60963.088265624989},{"$f":"_xlfn.XLOOKUP($N19&$O19,'FFV Waste'!$A:$A&'FFV Waste'!$B:$B,'FFV Waste'!G:G,\"\",0)","v":23165.973540937495},{"$f":"_xlfn.XLOOKUP($N19&$O19,'FFV Waste'!$A:$A&'FFV Waste'!$B:$B,'FFV Waste'!H:H,\"\",0)","v":10758.192046875003},{"$f":"_xlfn.XLOOKUP($N19&$O19,'FFV Waste'!$A:$A&'FFV Waste'!$B:$B,'FFV Waste'!I:I,\"\",0)","v":4755.1208847187518},{"$f":"_xlfn.XLOOKUP($N19&$O19,'FFV Waste'!$A:$A&'FFV Waste'!$B:$B,'FFV Waste'!J:J,\"\",0)","v":42970.434113156247},null,"Germany","Avocados",42970.434113156247,{"$f":"_xlfn.XLOOKUP(Y19&Z19,'FFV Waste'!$L:$L&'FFV Waste'!$M:$M,'FFV Waste'!$U:$U,,0)","v":39036.915198262504},{"$f":"_xlfn.XLOOKUP(Y19&Z19,'FFV Waste'!$W:$W&'FFV Waste'!$X:$X,'FFV Waste'!$AF:$AF,,0)","v":49089.462390450004},44063.188794356254,3933.5189148937425,6119.0282772937571,null,"Czechia","Food Waste",null,181.03546875000001,1761.0300654101563,372.08219892187498,null,256.1148000757812,530.48431164296926]
[{"$nulls":13},"Greece","Avocados",{"$f":"_xlfn.XLOOKUP($N20&$O20,'FFV Waste'!$A:$A&'FFV Waste'!$B:$B,'FFV Waste'!C:C,\"\",0)","v":917.34},{"$f":"_xlfn.XLOOKUP($N20&$O20,'FFV Waste'!$A:$A&'FFV Waste'!$B:$B,'FFV Waste'!D:D,\"\",0)","v":14433.555},{"$f":"_xlfn.XLOOKUP($N20&$O20,'FFV Waste'!$A:$A&'FFV Waste'!$B:$B,'FFV Waste'!E:E,\"\",0)","v":451.04859375000001},{"$f":"_xlfn.XLOOKUP($N20&$O20,'FFV Waste'!$A:$A&'FFV Waste'!$B:$B,'FFV Waste'!F:F,\"\",0)","v":11885.130445312499},{"$f":"_xlfn.XLOOKUP($N20&$O20,'FFV Waste'!$A:$A&'FFV Waste'!$B:$B,'FFV Waste'!G:G,\"\",0)","v":4387.5939893945315},{"$f":"_xlfn.XLOOKUP($N20&$O20,'FFV Waste'!$A:$A&'FFV Waste'!$B:$B,'FFV Waste'!H:H,\"\",0)","v":2097.3759609375011},{"$f":"_xlfn.XLOOKUP($N20&$O20,'FFV Waste'!$A:$A&'FFV Waste'!$B:$B,'FFV Waste'!I:I,\"\",0)","v":927.04017473437546},{"$f":"_xlfn.XLOOKUP($N20&$O20,'FFV Waste'!$A:$A&'FFV Waste'!$B:$B,'FFV Waste'!J:J,\"\",0)","v":6683.0227578789072},null,"Greece","Avocados",6683.0227578789072,{"$f":"_xlfn.XLOOKUP(Y20&Z20,'FFV Waste'!$L:$L&'FFV Waste'!$M:$M,'FFV Waste'!$U:$U,,0)","v":6044.9145395812502},{"$f":"_xlfn.XLOOKUP(Y20&Z20,'FFV Waste'!$W:$W&'FFV Waste'!$X:$X,'FFV Waste'!$AF:$AF,,0)","v":8004.7206794249996},7024.8176095031249,638.108218297657,1321.6979215460924,null,null,"Food Supply",{"$f":"_xlfn.XLOOKUP($AH20,$N$9:$N$39,P$9:P$39,\"\",0)","v":""},"","","",{"$f":"_xlfn.XLOOKUP(AH19,N$9:N$39,Q$9:Q$39,\"\",0)+AJ19","v":5793.1350000000002},"",""]
[{"$nulls":13},"Hungary","Avocados",{"$f":"_xlfn.XLOOKUP($N21&$O21,'FFV Waste'!$A:$A&'FFV Waste'!$B:$B,'FFV Waste'!C:C,\"\",0)","v":{"$error":"#N/A"}},{"$f":"_xlfn.XLOOKUP($N21&$O21,'FFV Waste'!$A:$A&'FFV Waste'!$B:$B,'FFV Waste'!D:D,\"\",0)","v":3705.4125000000004},{"$f":"_xlfn.XLOOKUP($N21&$O21,'FFV Waste'!$A:$A&'FFV Waste'!$B:$B,'FFV Waste'!E:E,\"\",0)","v":115.79414062500001},{"$f":"_xlfn.XLOOKUP($N21&$O21,'FFV Waste'!$A:$A&'FFV Waste'!$B:$B,'FFV Waste'!F:F,\"\",0)","v":3051.1756054687503},{"$f":"_xlfn.XLOOKUP($N21&$O21,'FFV Waste'!$A:$A&'FFV Waste'!$B:$B,'FFV Waste'!G:G,\"\",0)","v":1126.3923276855471},{"$f":"_xlfn.XLOOKUP($N21&$O21,'FFV Waste'!$A:$A&'FFV Waste'!$B:$B,'FFV Waste'!H:H,\"\",0)","v":538.44275390624989},{"$f":"_xlfn.XLOOKUP($N21&$O21,'FFV Waste'!$A:$A&'FFV Waste'!$B:$B,'FFV Waste'!I:I,\"\",0)","v":237.99169722656245},{"$f":"_xlfn.XLOOKUP($N21&$O21,'FFV Waste'!$A:$A&'FFV Waste'!$B:$B,'FFV Waste'!J:J,\"\",0)","v":1480.1781655371096},null,"Hungary","Avocados",1480.1781655371096,{"$f":"_xlfn.XLOOKUP(Y21&Z21,'FFV Waste'!$L:$L&'FFV Waste'!$M:$M,'FFV Waste'!$U:$U,,0)","v":1316.3616859218751},{"$f":"_xlfn.XLOOKUP(Y21&Z21,'FFV Waste'!$W:$W&'FFV Waste'!$X:$X,'FFV Waste'!$AF:$AF,,0)","v":1819.4872269375003},1567.9244564296878,163.81647961523458,339.30906140039065,null,"Denmark","Food Waste",{"$f":"_xlfn.XLOOKUP($AH21,$N$9:$N$39,P$9:P$39,\"\",0)","v":906.89},315.9403125,3030.3099133124992,649.35212428125044,null,403.95496475624896,968.80569305624977]
[{"$nulls":13},"Iceland","Avocados",{"$f":"_xlfn.XLOOKUP($N22&$O22,'FFV Waste'!$A:$A&'FFV Waste'!$B:$B,'FFV Waste'!C:C,\"\",0)","v":19.53},{"$f":"_xlfn.XLOOKUP($N22&$O22,'FFV Waste'!$A:$A&'FFV Waste'!$B:$B,'FFV Waste'!D:D,\"\",0)","v":716.21250000000009},{"$f":"_xlfn.XLOOKUP($N22&$O22,'FFV Waste'!$A:$A&'FFV Waste'!$B:$B,'FFV Waste'!E:E,\"\",0)","v":22.381640625000003},{"$f":"_xlfn.XLOOKUP($N22&$O22,'FFV Waste'!$A:$A&'FFV Waste'!$B:$B,'FFV Waste'!F:F,\"\",0)","v":589.75623046875},{"$f":"_xlfn.XLOOKUP($N22&$O22,'FFV Waste'!$A:$A&'FFV Waste'!$B:$B,'FFV Waste'!G:G,\"\",0)","v":217.7183417480469},{"$f":"_xlfn.XLOOKUP($N22&$O22,'FFV Waste'!$A:$A&'FFV Waste'!$B:$B,'FFV Waste'!H:H,\"\",0)","v":104.07462890625004},{"$f":"_xlfn.XLOOKUP($N22&$O22,'FFV Waste'!$A:$A&'FFV Waste'!$B:$B,'FFV Waste'!I:I,\"\",0)","v":46.000985976562518},{"$f":"_xlfn.XLOOKUP($N22&$O22,'FFV Waste'!$A:$A&'FFV Waste'!$B:$B,'FFV Waste'!J:J,\"\",0)","v":305.63096834960942},null,"Iceland","Avocados",305.63096834960942,{"$f":"_xlfn.XLOOKUP(Y22&Z22,'FFV Waste'!$L:$L&'FFV Waste'!$M:$M,'FFV Waste'!$U:$U,,0)","v":273.96717642187502},{"$f":"_xlfn.XLOOKUP(Y22&Z22,'FFV Waste'!$W:$W&'FFV Waste'!$X:$X,'FFV Waste'!$AF:$AF,,0)","v":371.21540493750007},322.59129067968752,31.663791927734394,65.58443658789065,null,null,"Food Supply",{"$f":"_xlfn.XLOOKUP($AH22,$N$9:$N$39,P$9:P$39,\"\",0)","v":""},"","","",{"$f":"_xlfn.XLOOKUP(AH21,N$9:N$39,Q$9:Q$39,\"\",0)+AJ21","v":11016.98},"",""]
[{"$nulls":13},"Ireland","Avocados",{"$f":"_xlfn.XLOOKUP($N23&$O23,'FFV Waste'!$A:$A&'FFV Waste'!$B:$B,'FFV Waste'!C:C,\"\",0)","v":420.72},{"$f":"_xlfn.XLOOKUP($N23&$O23,'FFV Waste'!$A:$A&'FFV Waste'!$B:$B,'FFV Waste'!D:D,\"\",0)","v":5887.32},{"$f":"_xlfn.XLOOKUP($N23&$O23,'FFV Waste'!$A:$A&'FFV Waste'!$B:$B,'FFV Waste'!E:E,\"\",0)","v":183.97874999999999},{"$f":"_xlfn.XLOOKUP($N23&$O23,'FFV Waste'!$A:$A&'FFV Waste'!$B:$B,'FFV Waste'!F:F,\"\",0)","v":4847.8400624999995},{"$f":"_xlfn.XLOOKUP($N23&$O23,'FFV Waste'!$A:$A&'FFV Waste'!$B:$B,'FFV Waste'!G:G,\"\",0)","v":1789.6609564062499},{"$f":"_xlfn.XLOOKUP($N23&$O23,'FFV Waste'!$A:$A&'FFV Waste'!$B:$B,'FFV Waste'!H:H,\"\",0)","v":855.50118750000001},{"$f":"_xlfn.XLOOKUP($N23&$O23,'FFV Waste'!$A:$A&'FFV Waste'!$B:$B,'FFV Waste'!I:I,\"\",0)","v":378.13152487500003},{"$f":"_xlfn.XLOOKUP($N23&$O23,'FFV Waste'!$A:$A&'FFV Waste'!$B:$B,'FFV Waste'!J:J,\"\",0)","v":2772.4912312812498},null,"Ireland","Avocados",2772.4912312812498,{"$f":"_xlfn.XLOOKUP(Y23&Z23,'FFV Waste'!$L:$L&'FFV Waste'!$M:$M,'FFV Waste'!$U:$U,,0)","v":2512.21250745},{"$f":"_xlfn.XLOOKUP(Y23&Z23,'FFV Waste'!$W:$W&'FFV Waste'!$X:$X,'FFV Waste'!$AF:$AF,,0)","v":3311.6001761999996},2911.9063418249998,260.27872383124986,539.10894491874978,null,"Estonia","Food Waste",null,43.475390625000003,422.90867377929698,89.354970351562471,null,61.505577083984349,127.39499518164075]
[{"$nulls":13},"Italy","Avocados",{"$f":"_xlfn.XLOOKUP($N24&$O24,'FFV Waste'!$A:$A&'FFV Waste'!$B:$B,'FFV Waste'!C:C,\"\",0)","v":{"$error":"#N/A"}},{"$f":"_xlfn.XLOOKUP($N24&$O24,'FFV Waste'!$A:$A&'FFV Waste'!$B:$B,'FFV Waste'!D:D,\"\",0)","v":33550.747499999998},{"$f":"_xlfn.XLOOKUP($N24&$O24,'FFV Waste'!$A:$A&'FFV Waste'!$B:$B,'FFV Waste'!E:E,\"\",0)","v":1048.4608593749999},{"$f":"_xlfn.XLOOKUP($N24&$O24,'FFV Waste'!$A:$A&'FFV Waste'!$B:$B,'FFV Waste'!F:F,\"\",0)","v":27626.943644531246},{"$f":"_xlfn.XLOOKUP($N24&$O24,'FFV Waste'!$A:$A&'FFV Waste'!$B:$B,'FFV Waste'!G:G,\"\",0)","v":10198.946695439452},{"$f":"_xlfn.XLOOKUP($N24&$O24,'FFV Waste'!$A:$A&'FFV Waste'!$B:$B,'FFV Waste'!H:H,\"\",0)","v":4875.3429960937501},{"$f":"_xlfn.XLOOKUP($N24&$O24,'FFV Waste'!$A:$A&'FFV Waste'!$B:$B,'FFV Waste'!I:I,\"\",0)","v":2154.9016042734374},{"$f":"_xlfn.XLOOKUP($N24&$O24,'FFV Waste'!$A:$A&'FFV Waste'!$B:$B,'FFV Waste'!J:J,\"\",0)","v":13402.30915908789},null,"Italy","Avocados",13402.30915908789,{"$f":"_xlfn.XLOOKUP(Y24&Z24,'FFV Waste'!$L:$L&'FFV Waste'!$M:$M,'FFV Waste'!$U:$U,,0)","v":11919.028864678125},{"$f":"_xlfn.XLOOKUP(Y24&Z24,'FFV Waste'!$W:$W&'FFV Waste'!$X:$X,'FFV Waste'!$AF:$AF,,0)","v":16474.591298662497},14196.810081670312,1483.2802944097657,3072.2821395746068,null,null,"Food Supply",{"$f":"_xlfn.XLOOKUP($AH24,$N$9:$N$39,P$9:P$39,\"\",0)","v":""},"","","",{"$f":"_xlfn.XLOOKUP(AH23,N$9:N$39,Q$9:Q$39,\"\",0)+AJ23","v":1391.2125000000001},"",""]
[{"$nulls":13},"Latvia","Avocados",{"$f":"_xlfn.XLOOKUP($N25&$O25,'FFV Waste'!$A:$A&'FFV Waste'!$B:$B,'FFV Waste'!C:C,\"\",0)","v":{"$error":"#N/A"}},{"$f":"_xlfn.XLOOKUP($N25&$O25,'FFV Waste'!$A:$A&'FFV Waste'!$B:$B,'FFV Waste'!D:D,\"\",0)","v":2264.1075000000001},{"$f":"_xlfn.XLOOKUP($N25&$O25,'FFV Waste'!$A:$A&'FFV Waste'!$B:$B,'FFV Waste'!E:E,\"\",0)","v":70.753359375000002},{"$f":"_xlfn.XLOOKUP($N25&$O25,'FFV Waste'!$A:$A&'FFV Waste'!$B:$B,'FFV Waste'!F:F,\"\",0)","v":1864.3510195312501},{"$f":"_xlfn.XLOOKUP($N25&$O25,'FFV Waste'!$A:$A&'FFV Waste'!$B:$B,'FFV Waste'!G:G,\"\",0)","v":688.25625137695329},{"$f":"_xlfn.XLOOKUP($N25&$O25,'FFV Waste'!$A:$A&'FFV Waste'!$B:$B,'FFV Waste'!H:H,\"\",0)","v":329.00312109375},{"$f":"_xlfn.XLOOKUP($N25&$O25,'FFV Waste'!$A:$A&'FFV Waste'!$B:$B,'FFV Waste'!I:I,\"\",0)","v":145.4193795234375},{"$f":"_xlfn.XLOOKUP($N25&$O25,'FFV Waste'!$A:$A&'FFV Waste'!$B:$B,'FFV Waste'!J:J,\"\",0)","v":904.42899027539079},null,"Latvia","Avocados",904.42899027539079,{"$f":"_xlfn.XLOOKUP(Y25&Z25,'FFV Waste'!$L:$L&'FFV Waste'!$M:$M,'FFV Waste'!$U:$U,,0)","v":804.332679778125},{"$f":"_xlfn.XLOOKUP(Y25&Z25,'FFV Waste'!$W:$W&'FFV Waste'!$X:$X,'FFV Waste'!$AF:$AF,,0)","v":1111.7560262625002},958.04435302031266,100.09631049726579,207.32703598710941,null,"Finland","Food Waste",327.84,144.034453125,1241.0656636289061,296.03401150781252,null,43.733181002343372,582.09651782578135]
[{"$nulls":13},"Lithuania","Avocados",{"$f":"_xlfn.XLOOKUP($N26&$O26,'FFV Waste'!$A:$A&'FFV Waste'!$B:$B,'FFV Waste'!C:C,\"\",0)","v":{"$error":"#N/A"}},{"$f":"_xlfn.XLOOKUP($N26&$O26,'FFV Waste'!$A:$A&'FFV Waste'!$B:$B,'FFV Waste'!D:D,\"\",0)","v":3375.4425000000001},{"$f":"_xlfn.XLOOKUP($N26&$O26,'FFV Waste'!$A:$A&'FFV Waste'!$B:$B,'FFV Waste'!E:E,\"\",0)","v":105.482578125},{"$f":"_xlfn.XLOOKUP($N26&$O26,'FFV Waste'!$A:$A&'FFV Waste'!$B:$B,'FFV Waste'!F:F,\"\",0)","v":2779.4659335937499},{"$f":"_xlfn.XLOOKUP($N26&$O26,'FFV Waste'!$A:$A&'FFV Waste'!$B:$B,'FFV Waste'!G:G,\"\",0)","v":1026.0861738183594},{"$f":"_xlfn.XLOOKUP($N26&$O26,'FFV Waste'!$A:$A&'FFV Waste'!$B:$B,'FFV Waste'!H:H,\"\",0)","v":490.49398828125004},{"$f":"_xlfn.XLOOKUP($N26&$O26,'FFV Waste'!$A:$A&'FFV Waste'!$B:$B,'FFV Waste'!I:I,\"\",0)","v":216.79834282031251},{"$f":"_xlfn.XLOOKUP($N26&$O26,'FFV Waste'!$A:$A&'FFV Waste'!$B:$B,'FFV Waste'!J:J,\"\",0)","v":1348.3670947636717},null,"Lithuania","Avocados",1348.3670947636717,{"$f":"_xlfn.XLOOKUP(Y26&Z26,'FFV Waste'!$L:$L&'FFV Waste'!$M:$M,'FFV Waste'!$U:$U,,0)","v":1199.138606034375},{"$f":"_xlfn.XLOOKUP(Y26&Z26,'FFV Waste'!$W:$W&'FFV Waste'!$X:$X,'FFV Waste'!$AF:$AF,,0)","v":1657.4604079875},1428.2995070109375,149.22848872929671,309.09331322382832,null,null,"Food Supply","","","","",{"$f":"_xlfn.XLOOKUP(AH25,N$9:N$39,Q$9:Q$39,\"\",0)+AJ25","v":4936.9425000000001},"",""]
[{"$nulls":13},"Luxembourg","Avocados",{"$f":"_xlfn.XLOOKUP($N27&$O27,'FFV Waste'!$A:$A&'FFV Waste'!$B:$B,'FFV Waste'!C:C,\"\",0)","v":60.57},{"$f":"_xlfn.XLOOKUP($N27&$O27,'FFV Waste'!$A:$A&'FFV Waste'!$B:$B,'FFV Waste'!D:D,\"\",0)","v":815.98500000000001},{"$f":"_xlfn.XLOOKUP($N27&$O27,'FFV Waste'!$A:$A&'FFV Waste'!$B:$B,'FFV Waste'!E:E,\"\",0)","v":25.49953125},{"$f":"_xlfn.XLOOKUP($N27&$O27,'FFV Waste'!$A:$A&'FFV Waste'!$B:$B,'FFV Waste'!F:F,\"\",0)","v":671.91264843750002},{"$f":"_xlfn.XLOOKUP($N27&$O27,'FFV Waste'!$A:$A&'FFV Waste'!$B:$B,'FFV Waste'!G:G,\"\",0)","v":248.04775271484377},{"$f":"_xlfn.XLOOKUP($N27&$O27,'FFV Waste'!$A:$A&'FFV Waste'!$B:$B,'FFV Waste'!H:H,\"\",0)","v":118.57282031249997},{"$f":"_xlfn.XLOOKUP($N27&$O27,'FFV Waste'!$A:$A&'FFV Waste'!$B:$B,'FFV Waste'!I:I,\"\",0)","v":52.409186578124988},{"$f":"_xlfn.XLOOKUP($N27&$O27,'FFV Waste'!$A:$A&'FFV Waste'!$B:$B,'FFV Waste'!J:J,\"\",0)","v":386.52647054296875},null,"Luxembourg","Avocados",386.52647054296875,{"$f":"_xlfn.XLOOKUP(Y27&Z27,'FFV Waste'!$L:$L&'FFV Waste'!$M:$M,'FFV Waste'!$U:$U,,0)","v":350.45173119374999},{"$f":"_xlfn.XLOOKUP(Y27&Z27,'FFV Waste'!$W:$W&'FFV Waste'!$X:$X,'FFV Waste'!$AF:$AF,,0)","v":461.24719447499996},405.849462834375,36.07473934921876,74.720723932031206,null,"France","Food Waste",30272.48,3087.5767968749997,30034.531940634766,6345.896590617187,null,4368.0617920363366,9047.4593903855275]
[{"$nulls":13},"Malta","Avocados",{"$f":"_xlfn.XLOOKUP($N28&$O28,'FFV Waste'!$A:$A&'FFV Waste'!$B:$B,'FFV Waste'!C:C,\"\",0)","v":{"$error":"#N/A"}},{"$f":"_xlfn.XLOOKUP($N28&$O28,'FFV Waste'!$A:$A&'FFV Waste'!$B:$B,'FFV Waste'!D:D,\"\",0)","v":472.245},{"$f":"_xlfn.XLOOKUP($N28&$O28,'FFV Waste'!$A:$A&'FFV Waste'!$B:$B,'FFV Waste'!E:E,\"\",0)","v":14.75765625},{"$f":"_xlfn.XLOOKUP($N28&$O28,'FFV Waste'!$A:$A&'FFV Waste'!$B:$B,'FFV Waste'!F:F,\"\",0)","v":388.8642421875},{"$f":"_xlfn.XLOOKUP($N28&$O28,'FFV Waste'!$A:$A&'FFV Waste'!$B:$B,'FFV Waste'!G:G,\"\",0)","v":143.55571607421876},{"$f":"_xlfn.XLOOKUP($N28&$O28,'FFV Waste'!$A:$A&'FFV Waste'!$B:$B,'FFV Waste'!H:H,\"\",0)","v":68.623101562499983},{"$f":"_xlfn.XLOOKUP($N28&$O28,'FFV Waste'!$A:$A&'FFV Waste'!$B:$B,'FFV Waste'!I:I,\"\",0)","v":30.331410890624994},{"$f":"_xlfn.XLOOKUP($N28&$O28,'FFV Waste'!$A:$A&'FFV Waste'!$B:$B,'FFV Waste'!J:J,\"\",0)","v":188.64478321484376},null,"Malta","Avocados",188.64478321484376,{"$f":"_xlfn.XLOOKUP(Y28&Z28,'FFV Waste'!$L:$L&'FFV Waste'!$M:$M,'FFV Waste'!$U:$U,,0)","v":167.76680716875001},{"$f":"_xlfn.XLOOKUP(Y28&Z28,'FFV Waste'!$W:$W&'FFV Waste'!$X:$X,'FFV Waste'!$AF:$AF,,0)","v":231.888823575},199.827815371875,20.87797604609375,43.244040360156248,null,null,"Food Supply","","","","",{"$f":"_xlfn.XLOOKUP(AH27,N$9:N$39,Q$9:Q$39,\"\",0)+AJ27","v":129074.93749999999},"",""]
[{"$nulls":13},"Netherlands","Avocados",{"$f":"_xlfn.XLOOKUP($N29&$O29,'FFV Waste'!$A:$A&'FFV Waste'!$B:$B,'FFV Waste'!C:C,\"\",0)","v":9248},{"$f":"_xlfn.XLOOKUP($N29&$O29,'FFV Waste'!$A:$A&'FFV Waste'!$B:$B,'FFV Waste'!D:D,\"\",0)","v":26536.5},{"$f":"_xlfn.XLOOKUP($N29&$O29,'FFV Waste'!$A:$A&'FFV Waste'!$B:$B,'FFV Waste'!E:E,\"\",0)","v":829.265625},{"$f":"_xlfn.XLOOKUP($N29&$O29,'FFV Waste'!$A:$A&'FFV Waste'!$B:$B,'FFV Waste'!F:F,\"\",0)","v":21851.149218750001},{"$f":"_xlfn.XLOOKUP($N29&$O29,'FFV Waste'!$A:$A&'FFV Waste'!$B:$B,'FFV Waste'!G:G,\"\",0)","v":8871.5665828125002},{"$f":"_xlfn.XLOOKUP($N29&$O29,'FFV Waste'!$A:$A&'FFV Waste'!$B:$B,'FFV Waste'!H:H,\"\",0)","v":3856.0851562499993},{"$f":"_xlfn.XLOOKUP($N29&$O29,'FFV Waste'!$A:$A&'FFV Waste'!$B:$B,'FFV Waste'!I:I,\"\",0)","v":1704.3896390624998},{"$f":"_xlfn.XLOOKUP($N29&$O29,'FFV Waste'!$A:$A&'FFV Waste'!$B:$B,'FFV Waste'!J:J,\"\",0)","v":20653.221846875},null,"Netherlands","Avocados",20653.221846875,{"$f":"_xlfn.XLOOKUP(Y29&Z29,'FFV Waste'!$L:$L&'FFV Waste'!$M:$M,'FFV Waste'!$U:$U,,0)","v":18675.191136875001},{"$f":"_xlfn.XLOOKUP(Y29&Z29,'FFV Waste'!$W:$W&'FFV Waste'!$X:$X,'FFV Waste'!$AF:$AF,,0)","v":22278.350277500005},20476.770707187505,1978.0307099999991,1625.1284306250054,null,"Germany","Food Waste",12735.75,2313.5896874999999,23165.973540937495,4755.1208847187518,null,3933.5189148937425,6119.0282772937571]
[{"$nulls":13},"Norway","Avocados",{"$f":"_xlfn.XLOOKUP($N30&$O30,'FFV Waste'!$A:$A&'FFV Waste'!$B:$B,'FFV Waste'!C:C,\"\",0)","v":744.04},{"$f":"_xlfn.XLOOKUP($N30&$O30,'FFV Waste'!$A:$A&'FFV Waste'!$B:$B,'FFV Waste'!D:D,\"\",0)","v":10602.532499999999},{"$f":"_xlfn.XLOOKUP($N30&$O30,'FFV Waste'!$A:$A&'FFV Waste'!$B:$B,'FFV Waste'!E:E,\"\",0)","v":331.32914062499998},{"$f":"_xlfn.XLOOKUP($N30&$O30,'FFV Waste'!$A:$A&'FFV Waste'!$B:$B,'FFV Waste'!F:F,\"\",0)","v":8730.5228554687492},{"$f":"_xlfn.XLOOKUP($N30&$O30,'FFV Waste'!$A:$A&'FFV Waste'!$B:$B,'FFV Waste'!G:G,\"\",0)","v":3223.0180208105467},{"$f":"_xlfn.XLOOKUP($N30&$O30,'FFV Waste'!$A:$A&'FFV Waste'!$B:$B,'FFV Waste'!H:H,\"\",0)","v":1540.680503906251},{"$f":"_xlfn.XLOOKUP($N30&$O30,'FFV Waste'!$A:$A&'FFV Waste'!$B:$B,'FFV Waste'!I:I,\"\",0)","v":680.98078272656301},{"$f":"_xlfn.XLOOKUP($N30&$O30,'FFV Waste'!$A:$A&'FFV Waste'!$B:$B,'FFV Waste'!J:J,\"\",0)","v":4979.3679441621098},null,"Norway","Avocados",4979.3679441621098,{"$f":"_xlfn.XLOOKUP(Y30&Z30,'FFV Waste'!$L:$L&'FFV Waste'!$M:$M,'FFV Waste'!$U:$U,,0)","v":4510.629430121875},{"$f":"_xlfn.XLOOKUP(Y30&Z30,'FFV Waste'!$W:$W&'FFV Waste'!$X:$X,'FFV Waste'!$AF:$AF,,0)","v":5950.2545461375003},5230.4419881296872,468.7385140402348,970.88660197539048,null,null,"Food Supply","","","","",{"$f":"_xlfn.XLOOKUP(AH29,N$9:N$39,Q$9:Q$39,\"\",0)+AJ29","v":86770.62},"",""]
[{"$nulls":13},"Poland","Avocados",{"$f":"_xlfn.XLOOKUP($N31&$O31,'FFV Waste'!$A:$A&'FFV Waste'!$B:$B,'FFV Waste'!C:C,\"\",0)","v":985.87},{"$f":"_xlfn.XLOOKUP($N31&$O31,'FFV Waste'!$A:$A&'FFV Waste'!$B:$B,'FFV Waste'!D:D,\"\",0)","v":18880.050000000003},{"$f":"_xlfn.XLOOKUP($N31&$O31,'FFV Waste'!$A:$A&'FFV Waste'!$B:$B,'FFV Waste'!E:E,\"\",0)","v":590.00156250000009},{"$f":"_xlfn.XLOOKUP($N31&$O31,'FFV Waste'!$A:$A&'FFV Waste'!$B:$B,'FFV Waste'!F:F,\"\",0)","v":15546.541171875},{"$f":"_xlfn.XLOOKUP($N31&$O31,'FFV Waste'!$A:$A&'FFV Waste'!$B:$B,'FFV Waste'!G:G,\"\",0)","v":5739.2647826171878},{"$f":"_xlfn.XLOOKUP($N31&$O31,'FFV Waste'!$A:$A&'FFV Waste'!$B:$B,'FFV Waste'!H:H,\"\",0)","v":2743.5072656250013},{"$f":"_xlfn.XLOOKUP($N31&$O31,'FFV Waste'!$A:$A&'FFV Waste'!$B:$B,'FFV Waste'!I:I,\"\",0)","v":1212.6302114062505},{"$f":"_xlfn.XLOOKUP($N31&$O31,'FFV Waste'!$A:$A&'FFV Waste'!$B:$B,'FFV Waste'!J:J,\"\",0)","v":8527.7665565234383},null,"Poland","Avocados",8527.7665565234383,{"$f":"_xlfn.XLOOKUP(Y31&Z31,'FFV Waste'!$L:$L&'FFV Waste'!$M:$M,'FFV Waste'!$U:$U,,0)","v":7693.0785626875004},{"$f":"_xlfn.XLOOKUP(Y31&Z31,'FFV Waste'!$W:$W&'FFV Waste'!$X:$X,'FFV Waste'!$AF:$AF,,0)","v":10256.635351750003},8974.8569572187516,834.68799383593796,1728.8687952265645,null,"Greece","Food Waste",917.34,451.04859375000001,4387.5939893945315,927.04017473437546,null,638.108218297657,1321.6979215460924]
[{"$nulls":13},"Portugal","Avocados",{"$f":"_xlfn.XLOOKUP($N32&$O32,'FFV Waste'!$A:$A&'FFV Waste'!$B:$B,'FFV Waste'!C:C,\"\",0)","v":{"$error":"#N/A"}},{"$f":"_xlfn.XLOOKUP($N32&$O32,'FFV Waste'!$A:$A&'FFV Waste'!$B:$B,'FFV Waste'!D:D,\"\",0)","v":18771.045000000002},{"$f":"_xlfn.XLOOKUP($N32&$O32,'FFV Waste'!$A:$A&'FFV Waste'!$B:$B,'FFV Waste'!E:E,\"\",0)","v":586.59515625000006},{"$f":"_xlfn.XLOOKUP($N32&$O32,'FFV Waste'!$A:$A&'FFV Waste'!$B:$B,'FFV Waste'!F:F,\"\",0)","v":15456.782367187499},{"$f":"_xlfn.XLOOKUP($N32&$O32,'FFV Waste'!$A:$A&'FFV Waste'!$B:$B,'FFV Waste'!G:G,\"\",0)","v":5706.1288238867191},{"$f":"_xlfn.XLOOKUP($N32&$O32,'FFV Waste'!$A:$A&'FFV Waste'!$B:$B,'FFV Waste'!H:H,\"\",0)","v":2727.6674765625012},{"$f":"_xlfn.XLOOKUP($N32&$O32,'FFV Waste'!$A:$A&'FFV Waste'!$B:$B,'FFV Waste'!I:I,\"\",0)","v":1205.6290246406256},{"$f":"_xlfn.XLOOKUP($N32&$O32,'FFV Waste'!$A:$A&'FFV Waste'!$B:$B,'FFV Waste'!J:J,\"\",0)","v":7498.3530047773456},null,"Portugal","Avocados",7498.3530047773456,{"$f":"_xlfn.XLOOKUP(Y32&Z32,'FFV Waste'!$L:$L&'FFV Waste'!$M:$M,'FFV Waste'!$U:$U,,0)","v":6668.4841276687512},{"$f":"_xlfn.XLOOKUP(Y32&Z32,'FFV Waste'!$W:$W&'FFV Waste'!$X:$X,'FFV Waste'!$AF:$AF,,0)","v":9217.2400815750025},7942.8621046218768,829.86887710859446,1718.8870767976568,null,null,"Food Supply","","","","",{"$f":"_xlfn.XLOOKUP(AH31,N$9:N$39,Q$9:Q$39,\"\",0)+AJ31","v":15350.895},"",""]
[{"$nulls":13},"Romania","Avocados",{"$f":"_xlfn.XLOOKUP($N33&$O33,'FFV Waste'!$A:$A&'FFV Waste'!$B:$B,'FFV Waste'!C:C,\"\",0)","v":{"$error":"#N/A"}},{"$f":"_xlfn.XLOOKUP($N33&$O33,'FFV Waste'!$A:$A&'FFV Waste'!$B:$B,'FFV Waste'!D:D,\"\",0)","v":9789.7874999999985},{"$f":"_xlfn.XLOOKUP($N33&$O33,'FFV Waste'!$A:$A&'FFV Waste'!$B:$B,'FFV Waste'!E:E,\"\",0)","v":305.93085937499995},{"$f":"_xlfn.XLOOKUP($N33&$O33,'FFV Waste'!$A:$A&'FFV Waste'!$B:$B,'FFV Waste'!F:F,\"\",0)","v":8061.2781445312494},{"$f":"_xlfn.XLOOKUP($N33&$O33,'FFV Waste'!$A:$A&'FFV Waste'!$B:$B,'FFV Waste'!G:G,\"\",0)","v":2975.9551816894532},{"$f":"_xlfn.XLOOKUP($N33&$O33,'FFV Waste'!$A:$A&'FFV Waste'!$B:$B,'FFV Waste'!H:H,\"\",0)","v":1422.5784960937499},{"$f":"_xlfn.XLOOKUP($N33&$O33,'FFV Waste'!$A:$A&'FFV Waste'!$B:$B,'FFV Waste'!I:I,\"\",0)","v":628.77969527343748},{"$f":"_xlfn.XLOOKUP($N33&$O33,'FFV Waste'!$A:$A&'FFV Waste'!$B:$B,'FFV Waste'!J:J,\"\",0)","v":3910.6657363378904},null,"Romania","Avocados",3910.6657363378904,{"$f":"_xlfn.XLOOKUP(Y33&Z33,'FFV Waste'!$L:$L&'FFV Waste'!$M:$M,'FFV Waste'!$U:$U,,0)","v":3477.8587210781243},{"$f":"_xlfn.XLOOKUP(Y33&Z33,'FFV Waste'!$W:$W&'FFV Waste'!$X:$X,'FFV Waste'!$AF:$AF,,0)","v":4807.1283050624997},4142.4935130703125,432.8070152597661,896.46256872460935,null,"Hungary","Food Waste",null,115.79414062500001,1126.3923276855471,237.99169722656245,null,163.81647961523458,339.30906140039065]
[{"$nulls":13},"Slovakia","Avocados",{"$f":"_xlfn.XLOOKUP($N34&$O34,'FFV Waste'!$A:$A&'FFV Waste'!$B:$B,'FFV Waste'!C:C,\"\",0)","v":{"$error":"#N/A"}},{"$f":"_xlfn.XLOOKUP($N34&$O34,'FFV Waste'!$A:$A&'FFV Waste'!$B:$B,'FFV Waste'!D:D,\"\",0)","v":2112.9900000000002},{"$f":"_xlfn.XLOOKUP($N34&$O34,'FFV Waste'!$A:$A&'FFV Waste'!$B:$B,'FFV Waste'!E:E,\"\",0)","v":66.030937500000007},{"$f":"_xlfn.XLOOKUP($N34&$O34,'FFV Waste'!$A:$A&'FFV Waste'!$B:$B,'FFV Waste'!F:F,\"\",0)","v":1739.9152031250003},{"$f":"_xlfn.XLOOKUP($N34&$O34,'FFV Waste'!$A:$A&'FFV Waste'!$B:$B,'FFV Waste'!G:G,\"\",0)","v":642.31869582031266},{"$f":"_xlfn.XLOOKUP($N34&$O34,'FFV Waste'!$A:$A&'FFV Waste'!$B:$B,'FFV Waste'!H:H,\"\",0)","v":307.04385937500001},{"$f":"_xlfn.XLOOKUP($N34&$O34,'FFV Waste'!$A:$A&'FFV Waste'!$B:$B,'FFV Waste'!I:I,\"\",0)","v":135.71338584375002},{"$f":"_xlfn.XLOOKUP($N34&$O34,'FFV Waste'!$A:$A&'FFV Waste'!$B:$B,'FFV Waste'!J:J,\"\",0)","v":844.06301916406278},null,"Slovakia","Avocados",844.06301916406278,{"$f":"_xlfn.XLOOKUP(Y34&Z34,'FFV Waste'!$L:$L&'FFV Waste'!$M:$M,'FFV Waste'!$U:$U,,0)","v":750.6476212125001},{"$f":"_xlfn.XLOOKUP(Y34&Z34,'FFV Waste'!$W:$W&'FFV Waste'!$X:$X,'FFV Waste'!$AF:$AF,,0)","v":1037.55204465},894.09983293125003,93.415397951562682,193.48902548593719,null,null,"Food Supply",{"$f":"_xlfn.XLOOKUP($AH34,$N$9:$N$39,P$9:P$39,\"\",0)","v":""},"","","",{"$f":"_xlfn.XLOOKUP(AH33,N$9:N$39,Q$9:Q$39,\"\",0)+AJ33","v":3705.4125000000004},"",""]
[{"$nulls":13},"Slovenia","Avocados",{"$f":"_xlfn.XLOOKUP($N35&$O35,'FFV Waste'!$A:$A&'FFV Waste'!$B:$B,'FFV Waste'!C:C,\"\",0)","v":473.26},{"$f":"_xlfn.XLOOKUP($N35&$O35,'FFV Waste'!$A:$A&'FFV Waste'!$B:$B,'FFV Waste'!D:D,\"\",0)","v":1816.3049999999998},{"$f":"_xlfn.XLOOKUP($N35&$O35,'FFV Waste'!$A:$A&'FFV Waste'!$B:$B,'FFV Waste'!E:E,\"\",0)","v":56.759531249999995},{"$f":"_xlfn.XLOOKUP($N35&$O35,'FFV Waste'!$A:$A&'FFV Waste'!$B:$B,'FFV Waste'!F:F,\"\",0)","v":1495.6136484374997},{"$f":"_xlfn.XLOOKUP($N35&$O35,'FFV Waste'!$A:$A&'FFV Waste'!$B:$B,'FFV Waste'!G:G,\"\",0)","v":552.13070521484372},{"$f":"_xlfn.XLOOKUP($N35&$O35,'FFV Waste'!$A:$A&'FFV Waste'!$B:$B,'FFV Waste'!H:H,\"\",0)","v":263.93182031250012},{"$f":"_xlfn.XLOOKUP($N35&$O35,'FFV Waste'!$A:$A&'FFV Waste'!$B:$B,'FFV Waste'!I:I,\"\",0)","v":116.65786457812506},{"$f":"_xlfn.XLOOKUP($N35&$O35,'FFV Waste'!$A:$A&'FFV Waste'!$B:$B,'FFV Waste'!J:J,\"\",0)","v":1198.8081010429687},null,"Slovenia","Avocados",1198.8081010429687,{"$f":"_xlfn.XLOOKUP(Y35&Z35,'FFV Waste'!$L:$L&'FFV Waste'!$M:$M,'FFV Waste'!$U:$U,,0)","v":1118.5091623937501},{"$f":"_xlfn.XLOOKUP(Y35&Z35,'FFV Waste'!$W:$W&'FFV Waste'!$X:$X,'FFV Waste'!$AF:$AF,,0)","v":1365.129325675},1241.8192440343751,80.298938649218599,166.32122463203132,null,"Iceland","Food Waste",{"$f":"_xlfn.XLOOKUP($AH35,$N$9:$N$39,P$9:P$39,\"\",0)","v":19.53},22.381640625000003,217.7183417480469,46.000985976562518,null,31.663791927734394,65.58443658789065]
[{"$nulls":13},"Spain","Avocados",{"$f":"_xlfn.XLOOKUP($N36&$O36,'FFV Waste'!$A:$A&'FFV Waste'!$B:$B,'FFV Waste'!C:C,\"\",0)","v":37740.79},{"$f":"_xlfn.XLOOKUP($N36&$O36,'FFV Waste'!$A:$A&'FFV Waste'!$B:$B,'FFV Waste'!D:D,\"\",0)","v":95136.547500000001},{"$f":"_xlfn.XLOOKUP($N36&$O36,'FFV Waste'!$A:$A&'FFV Waste'!$B:$B,'FFV Waste'!E:E,\"\",0)","v":2973.017109375},{"$f":"_xlfn.XLOOKUP($N36&$O36,'FFV Waste'!$A:$A&'FFV Waste'!$B:$B,'FFV Waste'!F:F,\"\",0)","v":78339.000832031248},{"$f":"_xlfn.XLOOKUP($N36&$O36,'FFV Waste'!$A:$A&'FFV Waste'!$B:$B,'FFV Waste'!G:G,\"\",0)","v":26400.243280394534},{"$f":"_xlfn.XLOOKUP($N36&$O36,'FFV Waste'!$A:$A&'FFV Waste'!$B:$B,'FFV Waste'!H:H,\"\",0)","v":13824.529558593757},{"$f":"_xlfn.XLOOKUP($N36&$O36,'FFV Waste'!$A:$A&'FFV Waste'!$B:$B,'FFV Waste'!I:I,\"\",0)","v":6110.4420648984405},{"$f":"_xlfn.XLOOKUP($N36&$O36,'FFV Waste'!$A:$A&'FFV Waste'!$B:$B,'FFV Waste'!J:J,\"\",0)","v":73224.492454667983},null,"Spain","Avocados",73224.492454667983,{"$f":"_xlfn.XLOOKUP(Y36&Z36,'FFV Waste'!$L:$L&'FFV Waste'!$M:$M,'FFV Waste'!$U:$U,,0)","v":71538.405261428125},{"$f":"_xlfn.XLOOKUP(Y36&Z36,'FFV Waste'!$W:$W&'FFV Waste'!$X:$X,'FFV Waste'!$AF:$AF,,0)","v":84456.164601662502},77997.28493154532,1686.0871932398586,11231.672146994519,null,null,"Food Supply",{"$f":"_xlfn.XLOOKUP($AH36,$N$9:$N$39,P$9:P$39,\"\",0)","v":""},"","","",{"$f":"_xlfn.XLOOKUP(AH35,N$9:N$39,Q$9:Q$39,\"\",0)+AJ35","v":735.74250000000006},"",""]
[{"$nulls":13},"Sweden","Avocados",{"$f":"_xlfn.XLOOKUP($N37&$O37,'FFV Waste'!$A:$A&'FFV Waste'!$B:$B,'FFV Waste'!C:C,\"\",0)","v":1937.5},{"$f":"_xlfn.XLOOKUP($N37&$O37,'FFV Waste'!$A:$A&'FFV Waste'!$B:$B,'FFV Waste'!D:D,\"\",0)","v":12973.987500000001},{"$f":"_xlfn.XLOOKUP($N37&$O37,'FFV Waste'!$A:$A&'FFV Waste'!$B:$B,'FFV Waste'!E:E,\"\",0)","v":324.34968750000007},{"$f":"_xlfn.XLOOKUP($N37&$O37,'FFV Waste'!$A:$A&'FFV Waste'!$B:$B,'FFV Waste'!F:F,\"\",0)","v":10752.192140625},{"$f":"_xlfn.XLOOKUP($N37&$O37,'FFV Waste'!$A:$A&'FFV Waste'!$B:$B,'FFV Waste'!G:G,\"\",0)","v":3969.350931914063},{"$f":"_xlfn.XLOOKUP($N37&$O37,'FFV Waste'!$A:$A&'FFV Waste'!$B:$B,'FFV Waste'!H:H,\"\",0)","v":1897.4456718750007},{"$f":"_xlfn.XLOOKUP($N37&$O37,'FFV Waste'!$A:$A&'FFV Waste'!$B:$B,'FFV Waste'!I:I,\"\",0)","v":838.6709869687503},{"$f":"_xlfn.XLOOKUP($N37&$O37,'FFV Waste'!$A:$A&'FFV Waste'!$B:$B,'FFV Waste'!J:J,\"\",0)","v":7069.8716063828133},null,"Sweden","Avocados",7069.8716063828133,{"$f":"_xlfn.XLOOKUP(Y37&Z37,'FFV Waste'!$L:$L&'FFV Waste'!$M:$M,'FFV Waste'!$U:$U,,0)","v":6546.5577118281253},{"$f":"_xlfn.XLOOKUP(Y37&Z37,'FFV Waste'!$W:$W&'FFV Waste'!$X:$X,'FFV Waste'!$AF:$AF,,0)","v":8308.1819520625013},7427.3698319453133,523.31389455468798,1238.310345679688,null,"Ireland","Food Waste",{"$f":"_xlfn.XLOOKUP($AH37,$N$9:$N$39,P$9:P$39,\"\",0)","v":420.72},183.97874999999999,1789.6609564062499,378.13152487500003,null,260.27872383124986,539.10894491874978]
[{"$nulls":13},"Switzerland","Avocados",{"$f":"_xlfn.XLOOKUP($N38&$O38,'FFV Waste'!$A:$A&'FFV Waste'!$B:$B,'FFV Waste'!C:C,\"\",0)","v":961.65},{"$f":"_xlfn.XLOOKUP($N38&$O38,'FFV Waste'!$A:$A&'FFV Waste'!$B:$B,'FFV Waste'!D:D,\"\",0)","v":13681.844999999999},{"$f":"_xlfn.XLOOKUP($N38&$O38,'FFV Waste'!$A:$A&'FFV Waste'!$B:$B,'FFV Waste'!E:E,\"\",0)","v":427.55765624999998},{"$f":"_xlfn.XLOOKUP($N38&$O38,'FFV Waste'!$A:$A&'FFV Waste'!$B:$B,'FFV Waste'!F:F,\"\",0)","v":11266.1442421875},{"$f":"_xlfn.XLOOKUP($N38&$O38,'FFV Waste'!$A:$A&'FFV Waste'!$B:$B,'FFV Waste'!G:G,\"\",0)","v":4159.0849160742191},{"$f":"_xlfn.XLOOKUP($N38&$O38,'FFV Waste'!$A:$A&'FFV Waste'!$B:$B,'FFV Waste'!H:H,\"\",0)","v":1988.1431015625003},{"$f":"_xlfn.XLOOKUP($N38&$O38,'FFV Waste'!$A:$A&'FFV Waste'!$B:$B,'FFV Waste'!I:I,\"\",0)","v":878.75925089062514},{"$f":"_xlfn.XLOOKUP($N38&$O38,'FFV Waste'!$A:$A&'FFV Waste'!$B:$B,'FFV Waste'!J:J,\"\",0)","v":6427.0518232148443},null,"Switzerland","Avocados",6427.0518232148443,{"$f":"_xlfn.XLOOKUP(Y38&Z38,'FFV Waste'!$L:$L&'FFV Waste'!$M:$M,'FFV Waste'!$U:$U,,0)","v":5822.1767431687504},{"$f":"_xlfn.XLOOKUP(Y38&Z38,'FFV Waste'!$W:$W&'FFV Waste'!$X:$X,'FFV Waste'!$AF:$AF,,0)","v":7679.9147595750001},6751.0457513718757,604.8750800460939,1252.8629363601558,null,null,"Food Supply",{"$f":"_xlfn.XLOOKUP($AH38,$N$9:$N$39,P$9:P$39,\"\",0)","v":""},"","","",{"$f":"_xlfn.XLOOKUP(AH37,N$9:N$39,Q$9:Q$39,\"\",0)+AJ37","v":6308.04},"",""]
[{"$nulls":13},"United Kingdom","Avocados",{"$f":"_xlfn.XLOOKUP($N39&$O39,'FFV Waste'!$A:$A&'FFV Waste'!$B:$B,'FFV Waste'!C:C,\"\",0)","v":5795.71},{"$f":"_xlfn.XLOOKUP($N39&$O39,'FFV Waste'!$A:$A&'FFV Waste'!$B:$B,'FFV Waste'!D:D,\"\",0)","v":76952.782500000001},{"$f":"_xlfn.XLOOKUP($N39&$O39,'FFV Waste'!$A:$A&'FFV Waste'!$B:$B,'FFV Waste'!E:E,\"\",0)","v":2885.7293437500007},{"$f":"_xlfn.XLOOKUP($N39&$O39,'FFV Waste'!$A:$A&'FFV Waste'!$B:$B,'FFV Waste'!F:F,\"\",0)","v":62956.995182812498},{"$f":"_xlfn.XLOOKUP($N39&$O39,'FFV Waste'!$A:$A&'FFV Waste'!$B:$B,'FFV Waste'!G:G,\"\",0)","v":25245.755068307812},{"$f":"_xlfn.XLOOKUP($N39&$O39,'FFV Waste'!$A:$A&'FFV Waste'!$B:$B,'FFV Waste'!H:H,\"\",0)","v":11110.057973437499},{"$f":"_xlfn.XLOOKUP($N39&$O39,'FFV Waste'!$A:$A&'FFV Waste'!$B:$B,'FFV Waste'!I:I,\"\",0)","v":4910.6456242593749},{"$f":"_xlfn.XLOOKUP($N39&$O39,'FFV Waste'!$A:$A&'FFV Waste'!$B:$B,'FFV Waste'!J:J,\"\",0)","v":38837.84003631719},null,"United Kingdom","Avocados",38837.84003631719,{"$f":"_xlfn.XLOOKUP(Y39&Z39,'FFV Waste'!$L:$L&'FFV Waste'!$M:$M,'FFV Waste'!$U:$U,,0)","v":33133.47455605938},{"$f":"_xlfn.XLOOKUP(Y39&Z39,'FFV Waste'!$W:$W&'FFV Waste'!$X:$X,'FFV Waste'!$AF:$AF,,0)","v":43582.219554887495},38357.847055473438,5704.3654802578094,4744.3795185703057,null,"Italy","Food Waste",null,1048.4608593749999,10198.946695439452,2154.9016042734374,null,1483.2802944097657,3072.2821395746068]
[{"$nulls":13},"EU+","Avocados",{"$f":"SUM(P9:P10,P13,P15,P17:P20,P22,P23,P27,P29:P31,P35:P39)","v":105891.12000000001},{"$f":"SUM(Q9:Q39)","v":571078.18499999982},{"$f":"SUM(R9:R39)","v":18246.060749999993},469907.30561249994,174220.57613964763,82924.818637500022,36652.769837775006,335010.52672742272,null,"EU+","Avocados",{"$f":"SUM(AA9:AA39)","v":335010.52672742272},{"$f":"SUM(AB9:AB39)","v":308768.78676444379},386310.496571475,{"$nulls":5},"Food Supply",{"$f":"_xlfn.XLOOKUP($AH40,$N$9:$N$39,P$9:P$39,\"\",0)","v":""},"","","",{"$f":"_xlfn.XLOOKUP(AH39,N$9:N$39,Q$9:Q$39,\"\",0)+AJ39","v":33550.747499999998},"",""]
[{"$nulls":33},"Latvia","Food Waste",null,{"$f":"_xlfn.XLOOKUP($AH41,$N$9:$N$39,R$9:R$39,\"\",0)","v":70.753359375000002},{"$f":"_xlfn.XLOOKUP($AH41,$N$9:$N$39,T$9:T$39,\"\",0)","v":688.25625137695329},{"$f":"_xlfn.XLOOKUP($AH41,$N$9:$N$39,V$9:V$39,\"\",0)","v":145.4193795234375},null,100.09631049726579,207.32703598710941]
[{"$nulls":13},"Climate Impact","Unit: Tonnes CO2-eq",{"$nulls":9},"Economic Cost","Unit: Million EUR","Avg. Exchange Rate 2022 (USD to EUR)",null,null,0.94969999999999999,"European Central Bank (2025)",null,null,null,"Food Supply",{"$f":"_xlfn.XLOOKUP($AH42,$N$9:$N$39,P$9:P$39,\"\",0)","v":""},"","","",{"$f":"_xlfn.XLOOKUP(AH41,N$9:N$39,Q$9:Q$39,\"\",0)+AJ41","v":2264.1075000000001},"",""]
[{"$nulls":13},"Country","Product","Pre R&D","R&D","Households","Food Service","Total",{"$nulls":4},"Country","Product","Pre R&D","R&D","Households","Food Service","Total",null,null,"Lithuania","Food Waste",null,105.482578125,1026.0861738183594,216.79834282031251,null,149.22848872929671,309.09331322382832]
[{"$nulls":13},"Austria","Avocados",{"$f":"'FFV Coeffs for Calcs'!J5*'Avocados - Summary'!P9","v":1770.8466000000003},{"$f":"'FFV Coeffs for Calcs'!K5*'Avocados - Summary'!R9","v":748.64806875000011},{"$f":"'FFV Coeffs for Calcs'!L5*'Avocados - Summary'!T9","v":7662.7164015984381},{"$f":"'FFV Coeffs for Calcs'!L5*'Avocados - Summary'!V9","v":1619.0299214212509},{"$f":"SUM(_xlfn.IFNA(P44,0),Q44:S44)","v":11801.24099176969},{"$nulls":4},"Austria","Avocados",{"$f":"'FFV Coeffs for Calcs'!N5*P9/1000*$AD$42","v":2.1152222159057943},{"$f":"R9*'FFV Coeffs for Calcs'!O5/1000*$AD$42","v":1.2402783612069295},{"$f":"T9*'FFV Coeffs for Calcs'!P5/1000*$AD$42","v":17.433721886328385},{"$f":"V9*'FFV Coeffs for Calcs'!O5/1000*$AD$42","v":2.5491441157886032},{"$f":"SUM(_xlfn.IFNA(AA44,0),AB44:AD44)","v":23.338366579229714},null,null,null,"Food Supply",{"$f":"_xlfn.XLOOKUP($AH44,$N$9:$N$39,P$9:P$39,\"\",0)","v":""},"","","",{"$f":"_xlfn.XLOOKUP(AH43,N$9:N$39,Q$9:Q$39,\"\",0)+AJ43","v":3375.4425000000001},"",""]
[{"$nulls":13},"Belgium","Avocados",{"$f":"'FFV Coeffs for Calcs'!J6*'Avocados - Summary'!P10","v":3428.5745000000002},{"$f":"'FFV Coeffs for Calcs'!K6*'Avocados - Summary'!R10","v":661.97681015625005},{"$f":"'FFV Coeffs for Calcs'!L6*'Avocados - Summary'!T10","v":6775.6009430861332},{"$f":"'FFV Coeffs for Calcs'!L6*'Avocados - Summary'!V10","v":1431.5942398935942},12297.746493135979,{"$nulls":4},"Belgium","Avocados",{"$f":"'FFV Coeffs for Calcs'!N6*P10/1000*$AD$42","v":3.3702039200348994},{"$f":"R10*'FFV Coeffs for Calcs'!O6/1000*$AD$42","v":0.90250946544824029},{"$f":"T10*'FFV Coeffs for Calcs'!P6/1000*$AD$42","v":12.685941730929244},{"$f":"V10*'FFV Coeffs for Calcs'!O6/1000*$AD$42","v":1.854927704335769},18.813582820748152,null,null,"Luxem- bourg","Food Waste",{"$f":"_xlfn.XLOOKUP($AH45,$N$9:$N$39,P$9:P$39,\"\",0)","v":""},"","","",null,{"$error":"#N/A"},{"$error":"#N/A"}]
[{"$nulls":13},"Bulgaria","Avocados",{"$f":"'FFV Coeffs for Calcs'!J7*'Avocados - Summary'!P11","v":{"$error":"#N/A"}},{"$f":"'FFV Coeffs for Calcs'!K7*'Avocados - Summary'!R11","v":205.72204921875002},{"$f":"'FFV Coeffs for Calcs'!L7*'Avocados - Summary'!T11","v":2105.6485503943359},{"$f":"'FFV Coeffs for Calcs'!L7*'Avocados - Summary'!V11","v":444.89549507203157},2756.2660946851174,{"$nulls":4},"Bulgaria","Avocados",{"$f":"'FFV Coeffs for Calcs'!N7*P11/1000*$AD$42","v":{"$error":"#N/A"}},{"$f":"R11*'FFV Coeffs for Calcs'!O7/1000*$AD$42","v":0.28932195542073047},{"$f":"T11*'FFV Coeffs for Calcs'!P7/1000*$AD$42","v":4.0667955389509309},{"$f":"V11*'FFV Coeffs for Calcs'!O7/1000*$AD$42","v":0.59464341497622752},4.9507609093478884,null,null,null,"Food Supply",{"$f":"_xlfn.XLOOKUP($AH46,$N$9:$N$39,P$9:P$39,\"\",0)","v":""},"","","",{"$f":"_xlfn.XLOOKUP(AH45,N$9:N$39,Q$9:Q$39,\"\",0)+AJ45","v":{"$error":"#VALUE!"}},"",""]
[{"$nulls":13},"Croatia","Avocados",{"$f":"'FFV Coeffs for Calcs'!J8*'Avocados - Summary'!P12","v":{"$error":"#N/A"}},{"$f":"'FFV Coeffs for Calcs'!K8*'Avocados - Summary'!R12","v":144.22352343750003},{"$f":"'FFV Coeffs for Calcs'!L8*'Avocados - Summary'!T12","v":1476.1862144199222},{"$f":"'FFV Coeffs for Calcs'!L8*'Avocados - Summary'!V12","v":311.89848683906257},1932.3082246964848,{"$nulls":4},"Croatia","Avocados",{"$f":"'FFV Coeffs for Calcs'!N8*P12/1000*$AD$42","v":{"$error":"#N/A"}},{"$f":"R12*'FFV Coeffs for Calcs'!O8/1000*$AD$42","v":0.16600348328906644},{"$f":"T12*'FFV Coeffs for Calcs'!P8/1000*$AD$42","v":2.333394381731456},{"$f":"V12*'FFV Coeffs for Calcs'!O8/1000*$AD$42","v":0.34118695920401837},2.8405848242245408,null,null,"Malta","Food Waste",null,14.75765625,143.55571607421876,30.331410890624994,null,20.87797604609375,43.244040360156248]
[{"$nulls":13},"Cyprus","Avocados",{"$f":"'FFV Coeffs for Calcs'!J9*'Avocados - Summary'!P13","v":400.77910000000003},{"$f":"'FFV Coeffs for Calcs'!K9*'Avocados - Summary'!R13","v":96.185003906250017},{"$f":"'FFV Coeffs for Calcs'!L9*'Avocados - Summary'!T13","v":984.49249759082056},{"$f":"'FFV Coeffs for Calcs'!L9*'Avocados - Summary'!V13","v":208.01015298984382},1689.4667544869144,{"$nulls":4},"Cyprus","Avocados",{"$f":"'FFV Coeffs for Calcs'!N9*P13/1000*$AD$42","v":0.32027907417345797},{"$f":"R13*'FFV Coeffs for Calcs'!O9/1000*$AD$42","v":0.10660983388661274},{"$f":"T13*'FFV Coeffs for Calcs'!P9/1000*$AD$42","v":1.4985395637461918},{"$f":"V13*'FFV Coeffs for Calcs'!O9/1000*$AD$42","v":0.21911519158715517},2.1445436633934176,null,null,null,"Food Supply",{"$f":"_xlfn.XLOOKUP($AH48,$N$9:$N$39,P$9:P$39,\"\",0)","v":""},"","","",{"$f":"_xlfn.XLOOKUP(AH47,N$9:N$39,Q$9:Q$39,\"\",0)+AJ47","v":472.245},"",""]
[{"$nulls":13},"Czechia","Avocados",{"$f":"'FFV Coeffs for Calcs'!J10*'Avocados - Summary'!P14","v":{"$error":"#N/A"}},{"$f":"'FFV Coeffs for Calcs'!K10*'Avocados - Summary'!R14","v":450.77831718750008},{"$f":"'FFV Coeffs for Calcs'!L10*'Avocados - Summary'!T14","v":4613.8987713746101},{"$f":"'FFV Coeffs for Calcs'!L10*'Avocados - Summary'!V14","v":974.85536117531251},6039.5324497374222,{"$nulls":4},"Czechia","Avocados",{"$f":"'FFV Coeffs for Calcs'!N10*P14/1000*$AD$42","v":{"$error":"#N/A"}},{"$f":"R14*'FFV Coeffs for Calcs'!O10/1000*$AD$42","v":0.69713778693622297},{"$f":"T14*'FFV Coeffs for Calcs'!P10/1000*$AD$42","v":9.7991762769042037},{"$f":"V14*'FFV Coeffs for Calcs'!O10/1000*$AD$42","v":1.4328272934900188},11.929141357330446,null,null,"Nether- lands","Food Waste","","","","",null,{"$error":"#N/A"},{"$error":"#N/A"}]
[{"$nulls":13},"Denmark","Avocados",{"$f":"'FFV Coeffs for Calcs'!J11*'Avocados - Summary'!P15","v":2167.4671000000003},{"$f":"'FFV Coeffs for Calcs'!K11*'Avocados - Summary'!R15","v":786.69137812500003},{"$f":"'FFV Coeffs for Calcs'!L11*'Avocados - Summary'!T15","v":7939.4119728787482},{"$f":"'FFV Coeffs for Calcs'!L11*'Avocados - Summary'!V15","v":1701.3025656168761},12594.873016620624,{"$nulls":4},"Denmark","Avocados",{"$f":"'FFV Coeffs for Calcs'!N11*P15/1000*$AD$42","v":2.7379270930932571},{"$f":"R15*'FFV Coeffs for Calcs'!O11/1000*$AD$42","v":1.3782885766900892},{"$f":"T15*'FFV Coeffs for Calcs'!P11/1000*$AD$42","v":19.102491143702384},{"$f":"V15*'FFV Coeffs for Calcs'!O11/1000*$AD$42","v":2.832796511671142},26.051503325156872,null,null,null,"Food Supply","","","","",{"$f":"_xlfn.XLOOKUP(AH49,N$9:N$39,Q$9:Q$39,\"\",0)+AJ49","v":{"$error":"#VALUE!"}},"",""]
[{"$nulls":13},"Estonia","Avocados",{"$f":"'FFV Coeffs for Calcs'!J12*'Avocados - Summary'!P16","v":{"$error":"#N/A"}},{"$f":"'FFV Coeffs for Calcs'!K12*'Avocados - Summary'!R16","v":108.25372265625002},{"$f":"'FFV Coeffs for Calcs'!L12*'Avocados - Summary'!T16","v":1108.0207253017581},{"$f":"'FFV Coeffs for Calcs'!L12*'Avocados - Summary'!V16","v":234.11002232109368},1450.3844702791018,{"$nulls":4},"Estonia","Avocados",{"$f":"'FFV Coeffs for Calcs'!N12*P16/1000*$AD$42","v":{"$error":"#N/A"}},{"$f":"R16*'FFV Coeffs for Calcs'!O12/1000*$AD$42","v":0.18364027965794669},{"$f":"T16*'FFV Coeffs for Calcs'!P12/1000*$AD$42","v":2.5813024421136892},{"$f":"V16*'FFV Coeffs for Calcs'!O12/1000*$AD$42","v":0.37743586678097774},3.1423785885526136,null,null,"Norway","Food Waste",744.04,331.32914062499998,3223.0180208105467,680.98078272656301,null,468.7385140402348,970.88660197539048]
[{"$nulls":13},"Finland","Avocados",{"$f":"'FFV Coeffs for Calcs'!J13*'Avocados - Summary'!P17","v":783.5376},{"$f":"'FFV Coeffs for Calcs'!K13*'Avocados - Summary'!R17","v":358.64578828125002},{"$f":"'FFV Coeffs for Calcs'!L13*'Avocados - Summary'!T17","v":3251.592038707734},{"$f":"'FFV Coeffs for Calcs'!L13*'Avocados - Summary'!V17","v":775.60911015046884},5169.3845371394527,{"$nulls":4},"Finland","Avocados",{"$f":"'FFV Coeffs for Calcs'!N13*P17/1000*$AD$42","v":1.0413973210360319},{"$f":"R17*'FFV Coeffs for Calcs'!O13/1000*$AD$42","v":0.66113287055492875},{"$f":"T17*'FFV Coeffs for Calcs'!P13/1000*$AD$42","v":8.2316134760024067},{"$f":"V17*'FFV Coeffs for Calcs'!O13/1000*$AD$42","v":1.3588263888515453},11.292970056444913,null,null,null,"Food Supply","","","","",{"$f":"_xlfn.XLOOKUP(AH51,N$9:N$39,Q$9:Q$39,\"\",0)+AJ51","v":11346.572499999998},"",""]
[{"$nulls":13},"France","Avocados",{"$f":"'FFV Coeffs for Calcs'!J14*'Avocados - Summary'!P18","v":72351.227200000008},{"$f":"'FFV Coeffs for Calcs'!K14*'Avocados - Summary'!R18","v":7688.06622421875},{"$f":"'FFV Coeffs for Calcs'!L14*'Avocados - Summary'!T18","v":78690.473684463097},{"$f":"'FFV Coeffs for Calcs'!L14*'Avocados - Summary'!V18","v":16626.249067417029},175356.01617609887,{"$nulls":4},"France","Avocados",{"$f":"'FFV Coeffs for Calcs'!N14*P18/1000*$AD$42","v":76.173101886757109},{"$f":"R18*'FFV Coeffs for Calcs'!O14/1000*$AD$42","v":11.226367522287067},{"$f":"T18*'FFV Coeffs for Calcs'!P14/1000*$AD$42","v":157.80116407643146},{"$f":"V18*'FFV Coeffs for Calcs'!O14/1000*$AD$42","v":23.073553168556607},268.27418665403223,null,null,"Poland","Food Waste",985.87,590.00156250000009,5739.2647826171878,1212.6302114062505,null,834.68799383593796,1728.8687952265645]
[{"$nulls":13},"Germany","Avocados",{"$f":"'FFV Coeffs for Calcs'!J15*'Avocados - Summary'!P19","v":30438.442500000001},{"$f":"'FFV Coeffs for Calcs'!K15*'Avocados - Summary'!R19","v":5760.8383218750005},{"$f":"'FFV Coeffs for Calcs'!L15*'Avocados - Summary'!T19","v":60694.85067725624},{"$f":"'FFV Coeffs for Calcs'!L15*'Avocados - Summary'!V19","v":12458.416717963129},109352.54821709437,{"$nulls":4},"Germany","Avocados",{"$f":"'FFV Coeffs for Calcs'!N15*P19/1000*$AD$42","v":36.351924414478944},{"$f":"R19*'FFV Coeffs for Calcs'!O15/1000*$AD$42","v":9.5423879323668004},{"$f":"T19*'FFV Coeffs for Calcs'!P15/1000*$AD$42","v":138.06675938000976},{"$f":"V19*'FFV Coeffs for Calcs'!O15/1000*$AD$42","v":19.61246991739349},203.57354164424899,null,null,null,"Food Supply","","","","",{"$f":"_xlfn.XLOOKUP(AH53,N$9:N$39,Q$9:Q$39,\"\",0)+AJ53","v":19865.920000000002},"",""]
[{"$nulls":13},"Greece","Avocados",{"$f":"'FFV Coeffs for Calcs'!J16*'Avocados - Summary'!P20","v":2192.4426000000003},{"$f":"'FFV Coeffs for Calcs'!K16*'Avocados - Summary'!R20","v":1123.1109984375},{"$f":"'FFV Coeffs for Calcs'!L16*'Avocados - Summary'!T20","v":11495.496252213674},{"$f":"'FFV Coeffs for Calcs'!L16*'Avocados - Summary'!V20","v":2428.8452578040637},17239.895108455239,{"$nulls":4},"Greece","Avocados",{"$f":"'FFV Coeffs for Calcs'!N16*P20/1000*$AD$42","v":2.2817977126316999},{"$f":"R20*'FFV Coeffs for Calcs'!O16/1000*$AD$42","v":1.6212052058495161},{"$f":"T20*'FFV Coeffs for Calcs'!P16/1000*$AD$42","v":22.788143019720621},{"$f":"V20*'FFV Coeffs for Calcs'!O16/1000*$AD$42","v":3.332063059582512},30.023208997784351,null,null,"Portugal","Food Waste",null,586.59515625000006,5706.1288238867191,1205.6290246406256,null,829.86887710859446,1718.8870767976568]
[{"$nulls":13},"Hungary","Avocados",{"$f":"'FFV Coeffs for Calcs'!J17*'Avocados - Summary'!P21","v":{"$error":"#N/A"}},{"$f":"'FFV Coeffs for Calcs'!K17*'Avocados - Summary'!R21","v":288.32741015625004},{"$f":"'FFV Coeffs for Calcs'!L17*'Avocados - Summary'!T21","v":2951.1478985361337},{"$f":"'FFV Coeffs for Calcs'!L17*'Avocados - Summary'!V21","v":623.53824673359361},3863.0135554259773,{"$nulls":4},"Hungary","Avocados",{"$f":"'FFV Coeffs for Calcs'!N17*P21/1000*$AD$42","v":{"$error":"#N/A"}},{"$f":"R21*'FFV Coeffs for Calcs'!O17/1000*$AD$42","v":0.29352471774415134},{"$f":"T21*'FFV Coeffs for Calcs'!P17/1000*$AD$42","v":4.1258708173663043},{"$f":"V21*'FFV Coeffs for Calcs'!O17/1000*$AD$42","v":0.60328135237955416},5.0226768874900092,null,null,null,"Food Supply",{"$f":"_xlfn.XLOOKUP($AH56,$N$9:$N$39,P$9:P$39,\"\",0)","v":""},"","","",{"$f":"_xlfn.XLOOKUP(AH55,N$9:N$39,Q$9:Q$39,\"\",0)+AJ55","v":18771.045000000002},"",""]
[{"$nulls":13},"Iceland","Avocados",{"$f":"'FFV Coeffs for Calcs'!J18*'Avocados - Summary'!P22","v":46.676700000000004},{"$f":"'FFV Coeffs for Calcs'!K18*'Avocados - Summary'!R22","v":55.730285156250012},{"$f":"'FFV Coeffs for Calcs'!L18*'Avocados - Summary'!T22","v":570.42205537988286},{"$f":"'FFV Coeffs for Calcs'!L18*'Avocados - Summary'!V22","v":120.5225832585938},793.35162379472672,{"$nulls":4},"Iceland","Avocados",{"$f":"'FFV Coeffs for Calcs'!N18*P22/1000*$AD$42","v":7.6514472131454014E-2},{"$f":"R22*'FFV Coeffs for Calcs'!O18/1000*$AD$42","v":0.12670714586812565},{"$f":"T22*'FFV Coeffs for Calcs'!P18/1000*$AD$42","v":1.781033364095592},{"$f":"V22*'FFV Coeffs for Calcs'!O18/1000*$AD$42","v":0.26042119690275872},2.2446761789979304,null,null,"Romania","Food Waste",null,305.93085937499995,2975.9551816894532,628.77969527343748,null,432.8070152597661,896.46256872460935]
[{"$nulls":13},"Ireland","Avocados",{"$f":"'FFV Coeffs for Calcs'!J19*'Avocados - Summary'!P23","v":1005.5208000000001},{"$f":"'FFV Coeffs for Calcs'!K19*'Avocados - Summary'!R23","v":458.10708750000003},{"$f":"'FFV Coeffs for Calcs'!L19*'Avocados - Summary'!T23","v":4688.911705784375},{"$f":"'FFV Coeffs for Calcs'!L19*'Avocados - Summary'!V23","v":990.70459517250015},7143.2441884568752,{"$nulls":4},"Ireland","Avocados",{"$f":"'FFV Coeffs for Calcs'!N19*P23/1000*$AD$42","v":1.2212371791780479},{"$f":"R23*'FFV Coeffs for Calcs'!O19/1000*$AD$42","v":0.77168910816154757},{"$f":"T23*'FFV Coeffs for Calcs'!P19/1000*$AD$42","v":10.847091842596953},{"$f":"V23*'FFV Coeffs for Calcs'!O19/1000*$AD$42","v":1.5860526240044286},14.426070753940978,null,null,null,"Food Supply",{"$f":"_xlfn.XLOOKUP($AH58,$N$9:$N$39,P$9:P$39,\"\",0)","v":""},"","","",{"$f":"_xlfn.XLOOKUP(AH57,N$9:N$39,Q$9:Q$39,\"\",0)+AJ57","v":9789.7874999999985},"",""]
[{"$nulls":13},"Italy","Avocados",{"$f":"'FFV Coeffs for Calcs'!J20*'Avocados - Summary'!P24","v":{"$error":"#N/A"}},{"$f":"'FFV Coeffs for Calcs'!K20*'Avocados - Summary'!R24","v":2610.6675398437501},{"$f":"'FFV Coeffs for Calcs'!L20*'Avocados - Summary'!T24","v":26721.240342051366},{"$f":"'FFV Coeffs for Calcs'!L20*'Avocados - Summary'!V24","v":5645.8422031964064},34977.750085091524,{"$nulls":4},"Italy","Avocados",{"$f":"'FFV Coeffs for Calcs'!N20*P24/1000*$AD$42","v":{"$error":"#N/A"}},{"$f":"R24*'FFV Coeffs for Calcs'!O20/1000*$AD$42","v":3.2641965694753923},{"$f":"T24*'FFV Coeffs for Calcs'!P20/1000*$AD$42","v":45.882518759066478},{"$f":"V24*'FFV Coeffs for Calcs'!O20/1000*$AD$42","v":6.7089032092427727},55.855618537784643,null,null,"Slovakia","Food Waste",null,66.030937500000007,642.31869582031266,135.71338584375002,null,93.415397951562682,193.48902548593719]
[{"$nulls":13},"Latvia","Avocados",{"$f":"'FFV Coeffs for Calcs'!J21*'Avocados - Summary'!P25","v":{"$error":"#N/A"}},{"$f":"'FFV Coeffs for Calcs'!K21*'Avocados - Summary'!R25","v":176.17586484375002},{"$f":"'FFV Coeffs for Calcs'!L21*'Avocados - Summary'!T25","v":1803.2313786076177},{"$f":"'FFV Coeffs for Calcs'!L21*'Avocados - Summary'!V25","v":380.99877435140627},2360.4060178027739,{"$nulls":4},"Latvia","Avocados",{"$f":"'FFV Coeffs for Calcs'!N21*P25/1000*$AD$42","v":{"$error":"#N/A"}},{"$f":"R25*'FFV Coeffs for Calcs'!O21/1000*$AD$42","v":0.25772502650980006},{"$f":"T25*'FFV Coeffs for Calcs'!P21/1000*$AD$42","v":3.6226596995098514},{"$f":"V25*'FFV Coeffs for Calcs'!O21/1000*$AD$42","v":0.5297022469855921},4.4100869730052432,null,null,null,"Food Supply",{"$f":"_xlfn.XLOOKUP($AH60,$N$9:$N$39,P$9:P$39,\"\",0)","v":""},"","","",{"$f":"_xlfn.XLOOKUP(AH59,N$9:N$39,Q$9:Q$39,\"\",0)+AJ59","v":2112.9900000000002},"",""]
[{"$nulls":13},"Lithuania","Avocados",{"$f":"'FFV Coeffs for Calcs'!J22*'Avocados - Summary'!P26","v":{"$error":"#N/A"}},{"$f":"'FFV Coeffs for Calcs'!K22*'Avocados - Summary'!R26","v":262.65161953125005},{"$f":"'FFV Coeffs for Calcs'!L22*'Avocados - Summary'!T26","v":2688.3457754041019},{"$f":"'FFV Coeffs for Calcs'!L22*'Avocados - Summary'!V26","v":568.01165818921879},3519.009053124571,{"$nulls":4},"Lithuania","Avocados",{"$f":"'FFV Coeffs for Calcs'!N22*P26/1000*$AD$42","v":{"$error":"#N/A"}},{"$f":"R26*'FFV Coeffs for Calcs'!O22/1000*$AD$42","v":0.32996273965471123},{"$f":"T26*'FFV Coeffs for Calcs'!P22/1000*$AD$42","v":4.6380545012439054},{"$f":"V26*'FFV Coeffs for Calcs'!O22/1000*$AD$42","v":0.67817241881232793},5.6461896597109442,null,null,"Slovenia","Food Waste",473.26,56.759531249999995,552.13070521484372,116.65786457812506,null,80.298938649218599,166.32122463203132]
[{"$nulls":13},"Luxembourg","Avocados",{"$f":"'FFV Coeffs for Calcs'!J23*'Avocados - Summary'!P27","v":144.76230000000001},{"$f":"'FFV Coeffs for Calcs'!K23*'Avocados - Summary'!R27","v":63.49383281250001},{"$f":"'FFV Coeffs for Calcs'!L23*'Avocados - Summary'!T27","v":649.88511211289074},{"$f":"'FFV Coeffs for Calcs'!L23*'Avocados - Summary'!V27","v":137.31206883468747},995.45331376007823,{"$nulls":4},"Luxembourg","Avocados",{"$f":"'FFV Coeffs for Calcs'!N23*P27/1000*$AD$42","v":0.26430963017242498},{"$f":"R27*'FFV Coeffs for Calcs'!O23/1000*$AD$42","v":0.16078867540535527},{"$f":"T27*'FFV Coeffs for Calcs'!P23/1000*$AD$42","v":2.2600934896262479},{"$f":"V27*'FFV Coeffs for Calcs'!O23/1000*$AD$42","v":0.33046896456062663},3.0156607597646548,null,null,null,"Food Supply","","","","",{"$f":"_xlfn.XLOOKUP(AH61,N$9:N$39,Q$9:Q$39,\"\",0)+AJ61","v":2289.5649999999996},"",""]
[{"$nulls":13},"Malta","Avocados",{"$f":"'FFV Coeffs for Calcs'!J24*'Avocados - Summary'!P28","v":{"$error":"#N/A"}},{"$f":"'FFV Coeffs for Calcs'!K24*'Avocados - Summary'!R28","v":36.746564062500006},{"$f":"'FFV Coeffs for Calcs'!L24*'Avocados - Summary'!T28","v":376.11597611445319},{"$f":"'FFV Coeffs for Calcs'!L24*'Avocados - Summary'!V28","v":79.468296533437481},492.33083671039066,{"$nulls":4},"Malta","Avocados",{"$f":"'FFV Coeffs for Calcs'!N24*P28/1000*$AD$42","v":{"$error":"#N/A"}},{"$f":"R28*'FFV Coeffs for Calcs'!O24/1000*$AD$42","v":6.3797085839238238E-2},{"$f":"T28*'FFV Coeffs for Calcs'!P24/1000*$AD$42","v":0.89675083148042944},{"$f":"V28*'FFV Coeffs for Calcs'!O24/1000*$AD$42","v":0.13112215052538631},1.0916700678450539,null,null,"Spain","Food Waste",37740.79,2973.017109375,26400.243280394534,6110.4420648984405,null,1686.0871932398586,11231.672146994519]
[{"$nulls":13},"Netherlands","Avocados",{"$f":"'FFV Coeffs for Calcs'!J25*'Avocados - Summary'!P29","v":22102.720000000001},{"$f":"'FFV Coeffs for Calcs'!K25*'Avocados - Summary'!R29","v":2064.8714062500003},{"$f":"'FFV Coeffs for Calcs'!L25*'Avocados - Summary'!T29","v":23243.504446968753},{"$f":"'FFV Coeffs for Calcs'!L25*'Avocados - Summary'!V29","v":4465.5008543437498},51876.596707562501,{"$nulls":4},"Netherlands","Avocados",{"$f":"'FFV Coeffs for Calcs'!N25*P29/1000*$AD$42","v":17.314102291990402},{"$f":"R29*'FFV Coeffs for Calcs'!O25/1000*$AD$42","v":2.2434359153877113},{"$f":"T29*'FFV Coeffs for Calcs'!P25/1000*$AD$42","v":34.680725052461405},{"$f":"V29*'FFV Coeffs for Calcs'!O25/1000*$AD$42","v":4.6109338368963622},58.849197096735878,null,null,null,"Food Supply","","","","",{"$f":"_xlfn.XLOOKUP(AH63,N$9:N$39,Q$9:Q$39,\"\",0)+AJ63","v":132877.33749999999},"",""]
[{"$nulls":13},"Norway","Avocados",{"$f":"'FFV Coeffs for Calcs'!J26*'Avocados - Summary'!P30","v":1778.2556},{"$f":"'FFV Coeffs for Calcs'!K26*'Avocados - Summary'!R30","v":825.00956015625002},{"$f":"'FFV Coeffs for Calcs'!L26*'Avocados - Summary'!T30","v":8444.3072145236329},{"$f":"'FFV Coeffs for Calcs'!L26*'Avocados - Summary'!V30","v":1784.1696507435952},12831.742025423478,{"$nulls":4},"Norway","Avocados",{"$f":"'FFV Coeffs for Calcs'!N26*P30/1000*$AD$42","v":2.8897131879773958},{"$f":"R30*'FFV Coeffs for Calcs'!O26/1000*$AD$42","v":1.859456132117264},{"$f":"T30*'FFV Coeffs for Calcs'!P26/1000*$AD$42","v":26.137068968626263},{"$f":"V30*'FFV Coeffs for Calcs'!O26/1000*$AD$42","v":3.8217401883406157},34.707978477061538,null,null,"Sweden","Food Waste",1937.5,324.34968750000007,3969.350931914063,838.6709869687503,null,523.31389455468798,1238.310345679688]
[{"$nulls":13},"Poland","Avocados",{"$f":"'FFV Coeffs for Calcs'!J27*'Avocados - Summary'!P31","v":2356.2293},{"$f":"'FFV Coeffs for Calcs'!K27*'Avocados - Summary'!R31","v":1469.1038906250003},{"$f":"'FFV Coeffs for Calcs'!L27*'Avocados - Summary'!T31","v":15036.873730457033},{"$f":"'FFV Coeffs for Calcs'!L27*'Avocados - Summary'!V31","v":3177.0911538843766},22039.298074966409,{"$nulls":4},"Poland","Avocados",{"$f":"'FFV Coeffs for Calcs'!N27*P31/1000*$AD$42","v":2.494669469905594},{"$f":"R31*'FFV Coeffs for Calcs'!O27/1000*$AD$42","v":2.1573190066275747},{"$f":"T31*'FFV Coeffs for Calcs'!P27/1000*$AD$42","v":30.323918209003118},{"$f":"V31*'FFV Coeffs for Calcs'!O27/1000*$AD$42","v":4.4339377543216552},39.409844439857942,null,null,null,"Food Supply","","","","",{"$f":"_xlfn.XLOOKUP(AH65,N$9:N$39,Q$9:Q$39,\"\",0)+AJ65","v":14911.487500000001},"",""]
[{"$nulls":13},"Portugal","Avocados",{"$f":"'FFV Coeffs for Calcs'!J28*'Avocados - Summary'!P32","v":{"$error":"#N/A"}},{"$f":"'FFV Coeffs for Calcs'!K28*'Avocados - Summary'!R32","v":1460.6219390625004},{"$f":"'FFV Coeffs for Calcs'!L28*'Avocados - Summary'!T32","v":14950.057518583204},{"$f":"'FFV Coeffs for Calcs'!L28*'Avocados - Summary'!V32","v":3158.7480445584392},19569.427502204144,{"$nulls":4},"Portugal","Avocados",{"$f":"'FFV Coeffs for Calcs'!N28*P32/1000*$AD$42","v":{"$error":"#N/A"}},{"$f":"R32*'FFV Coeffs for Calcs'!O28/1000*$AD$42","v":2.1746153885707713},{"$f":"T32*'FFV Coeffs for Calcs'!P28/1000*$AD$42","v":30.567041302873729},{"$f":"V32*'FFV Coeffs for Calcs'!O28/1000*$AD$42","v":4.4694870081295068},37.211143699574009,null,null,"Switzer- land","Food Waste","","","","",null,{"$error":"#N/A"},{"$error":"#N/A"}]
[{"$nulls":13},"Romania","Avocados",{"$f":"'FFV Coeffs for Calcs'!J29*'Avocados - Summary'!P33","v":{"$error":"#N/A"}},{"$f":"'FFV Coeffs for Calcs'!K29*'Avocados - Summary'!R33","v":761.76783984374993},{"$f":"'FFV Coeffs for Calcs'!L29*'Avocados - Summary'!T33","v":7797.0025760263679},{"$f":"'FFV Coeffs for Calcs'!L29*'Avocados - Summary'!V33","v":1647.4028016164064},10206.173217486525,{"$nulls":4},"Romania","Avocados",{"$f":"'FFV Coeffs for Calcs'!N29*P33/1000*$AD$42","v":{"$error":"#N/A"}},{"$f":"R33*'FFV Coeffs for Calcs'!O29/1000*$AD$42","v":1.1152910303256518},{"$f":"T33*'FFV Coeffs for Calcs'!P29/1000*$AD$42","v":15.676862753691184},{"$f":"V33*'FFV Coeffs for Calcs'!O29/1000*$AD$42","v":2.2922576546283127},19.084411438645148,null,null,null,"Food Supply","","","","",{"$f":"_xlfn.XLOOKUP(AH67,N$9:N$39,Q$9:Q$39,\"\",0)+AJ67","v":{"$error":"#VALUE!"}},"",""]
[{"$nulls":13},"Slovakia","Avocados",{"$f":"'FFV Coeffs for Calcs'!J30*'Avocados - Summary'!P34","v":{"$error":"#N/A"}},{"$f":"'FFV Coeffs for Calcs'!K30*'Avocados - Summary'!R34","v":164.41703437500004},{"$f":"'FFV Coeffs for Calcs'!L30*'Avocados - Summary'!T34","v":1682.8749830492193},{"$f":"'FFV Coeffs for Calcs'!L30*'Avocados - Summary'!V34","v":355.56907091062504},2202.8610883348442,{"$nulls":4},"Slovakia","Avocados",{"$f":"'FFV Coeffs for Calcs'!N30*P34/1000*$AD$42","v":{"$error":"#N/A"}},{"$f":"R34*'FFV Coeffs for Calcs'!O30/1000*$AD$42","v":0.29450322415335251},{"$f":"T34*'FFV Coeffs for Calcs'!P30/1000*$AD$42","v":4.1396249947635475},{"$f":"V34*'FFV Coeffs for Calcs'!O30/1000*$AD$42","v":0.60529247660238539},5.0394206955192855,null,null,"United Kingdom","Food Waste",5795.71,2885.7293437500007,25245.755068307812,4910.6456242593749,null,5704.3654802578094,4744.3795185703057]
[{"$nulls":13},"Slovenia","Avocados",{"$f":"'FFV Coeffs for Calcs'!J31*'Avocados - Summary'!P35","v":1131.0914},{"$f":"'FFV Coeffs for Calcs'!K31*'Avocados - Summary'!R35","v":141.33123281249999},{"$f":"'FFV Coeffs for Calcs'!L31*'Avocados - Summary'!T35","v":1446.5824476628907},{"$f":"'FFV Coeffs for Calcs'!L31*'Avocados - Summary'!V35","v":305.64360519468767},3024.6486856700785,{"$nulls":4},"Slovenia","Avocados",{"$f":"'FFV Coeffs for Calcs'!N31*P35/1000*$AD$42","v":0.55574753906282393},{"$f":"R35*'FFV Coeffs for Calcs'!O31/1000*$AD$42","v":9.6312885889870997E-2},{"$f":"T35*'FFV Coeffs for Calcs'!P31/1000*$AD$42","v":1.3538025972167638},{"$f":"V35*'FFV Coeffs for Calcs'!O31/1000*$AD$42","v":0.19795187436945197},2.2038148965389111,null,null,null,"Food Supply","","","","",{"$f":"_xlfn.XLOOKUP(AH69,N$9:N$39,Q$9:Q$39,\"\",0)+AJ69","v":82748.492500000008},"",""]
[{"$nulls":13},"Spain","Avocados",{"$f":"'FFV Coeffs for Calcs'!J32*'Avocados - Summary'!P36","v":90200.488100000002},{"$f":"'FFV Coeffs for Calcs'!K32*'Avocados - Summary'!R36","v":7402.8126023437508},{"$f":"'FFV Coeffs for Calcs'!L32*'Avocados - Summary'!T36","v":69168.637394633683},{"$f":"'FFV Coeffs for Calcs'!L32*'Avocados - Summary'!V36","v":16009.358210033915},182781.29630701133,{"$nulls":4},"Spain","Avocados",{"$f":"'FFV Coeffs for Calcs'!N32*P36/1000*$AD$42","v":73.363070702130187},{"$f":"R36*'FFV Coeffs for Calcs'!O32/1000*$AD$42","v":8.3508709025149361},{"$f":"T36*'FFV Coeffs for Calcs'!P32/1000*$AD$42","v":107.15443172228795},{"$f":"V36*'FFV Coeffs for Calcs'!O32/1000*$AD$42","v":17.163544965938954},206.03191829287204]
[{"$nulls":13},"Sweden","Avocados",{"$f":"'FFV Coeffs for Calcs'!J33*'Avocados - Summary'!P37","v":4630.625},{"$f":"'FFV Coeffs for Calcs'!K33*'Avocados - Summary'!R37","v":807.63072187500029},{"$f":"'FFV Coeffs for Calcs'!L33*'Avocados - Summary'!T37","v":10399.699441614846},{"$f":"'FFV Coeffs for Calcs'!L33*'Avocados - Summary'!V37","v":2197.3179858581257},18035.273149347973,{"$nulls":4},"Sweden","Avocados",{"$f":"'FFV Coeffs for Calcs'!N33*P37/1000*$AD$42","v":5.0032629606250003},{"$f":"R37*'FFV Coeffs for Calcs'!O33/1000*$AD$42","v":1.2102997645738418},{"$f":"T37*'FFV Coeffs for Calcs'!P33/1000*$AD$42","v":21.402613499350032},{"$f":"V37*'FFV Coeffs for Calcs'!O33/1000*$AD$42","v":3.1294721012585835},30.745648325807458]
[{"$nulls":13},"Switzerland","Avocados",{"$f":"'FFV Coeffs for Calcs'!J34*'Avocados - Summary'!P38","v":2298.3434999999999},{"$f":"'FFV Coeffs for Calcs'!K34*'Avocados - Summary'!R38","v":1064.6185640625001},{"$f":"'FFV Coeffs for Calcs'!L34*'Avocados - Summary'!T38","v":10896.802480114455},{"$f":"'FFV Coeffs for Calcs'!L34*'Avocados - Summary'!V38","v":2302.3492373334379},16562.113781510394,{"$nulls":4},"Switzerland","Avocados",{"$f":"'FFV Coeffs for Calcs'!N34*P38/1000*$AD$42","v":3.0669032321076148},{"$f":"R38*'FFV Coeffs for Calcs'!O34/1000*$AD$42","v":1.9703599533256599},{"$f":"T38*'FFV Coeffs for Calcs'!P34/1000*$AD$42","v":27.695966096523254},{"$f":"V38*'FFV Coeffs for Calcs'!O34/1000*$AD$42","v":4.0496808120702301},36.782910094026754]
[{"$nulls":13},"United Kingdom","Avocados",{"$f":"'FFV Coeffs for Calcs'!J35*'Avocados - Summary'!P39","v":13851.7469},{"$f":"'FFV Coeffs for Calcs'!K35*'Avocados - Summary'!R39","v":7185.4660659375022},{"$f":"'FFV Coeffs for Calcs'!L35*'Avocados - Summary'!T39","v":66143.878278966469},{"$f":"'FFV Coeffs for Calcs'!L35*'Avocados - Summary'!V39","v":12865.891535559564},100046.98278046354,{"$nulls":4},"United Kingdom","Avocados",{"$f":"'FFV Coeffs for Calcs'!N35*P39/1000*$AD$42","v":12.347639051321266},{"$f":"R39*'FFV Coeffs for Calcs'!O35/1000*$AD$42","v":8.8838398688241966},{"$f":"T39*'FFV Coeffs for Calcs'!P35/1000*$AD$42","v":112.3055806660534},{"$f":"V39*'FFV Coeffs for Calcs'!O35/1000*$AD$42","v":15.117630304778132},148.65468989097701]
[{"$nulls":13},"EU+","Avocados",{"$f":"SUM(P44:P45,P48,P50,P52:P55,P57,P58,P62,P64:P66,P70:P74)","v":253079.77679999999},{"$f":"SUM(Q44:Q74)","v":45432.691267499999},{"$f":"SUM(R44:R74)","v":456457.90948587691},{"$f":"SUM(S44:S74)","v":96030.256974970544},{"$f":"SUM(T44:T74)","v":851000.63452834741},{"$nulls":4},"EU+","Avocados",{"$f":"SUM(AA44:AA45,AA48,AA50,AA52:AA55,AA57,AA58,AA62,AA64:AA66,AA70:AA74)","v":242.98902335471342},{"$f":"SUM(AB44:AB74)","v":63.639578414563317},{"$f":"SUM(AC44:AC74)","v":881.88075208440716},128.29904273296572,1316.808396586649]
{"$rows_empty":9}
[{"$nulls":13},"Country","Food Availability ","Total Food Waste","% Waste"]
[{"$nulls":13},"Austria",10362.120000000001,4696.0828244250006,0.45319710874077895]
[{"$nulls":13},"Belgium",9941.8824999999997,4865.882425482032,0.48943270306021341]
[{"$nulls":13},"Bulgaria",2643.8175000000001,1066.3526686898438,0.40333822916666667]
[{"$nulls":13},"Croatia",1853.4750000000001,747.57732430468775,0.40333822916666678]
[{"$nulls":13},"Cyprus",1403.8025000000002,666.26142680078146,0.47461193921565276]
[{"$nulls":13},"Czechia",5793.1350000000002,2336.5928122234382,0.40333822916666678]
[{"$nulls":13},"Denmark",11016.98,4941.9406575125004,0.44857489597988748]
[{"$nulls":13},"Estonia",1391.2125000000001,561.12918614453133,0.40333822916666667]
[{"$nulls":13},"Finland",4936.9425000000001,2027.8642467890625,0.41075306159410657]
[{"$nulls":13},"France",129074.93749999999,70123.288245364834,0.54327578694636081]
[{"$nulls":13},"Germany",86770.62,43253.015957587493,0.4984753590280615]
[{"$nulls":13},"Greece",15350.895,6738.9445142796885,0.43899359055479753]
[{"$nulls":13},"Hungary",3705.4125000000004,1494.5345160820316,0.40333822916666673]
[{"$nulls":13},"Iceland",735.74250000000006,308.40588145703134,0.41917638502197618]
[{"$nulls":13},"Ireland",6308.04,2795.3012233374998,0.44313308465664453]
[{"$nulls":13},"Italy",33550.747499999998,13532.299083867969,0.40333822916666667]
[{"$nulls":13},"Latvia",2264.1075000000001,913.20110969296877,0.40333822916666667]
[{"$nulls":13},"Lithuania",3375.4425000000001,1361.4450006039065,0.40333822916666673]
[{"$nulls":13},"Luxembourg",876.55500000000006,389.68794492656252,0.44456759122537948]
[{"$nulls":13},"Malta",472.245,190.47446203281254,0.40333822916666673]
[{"$nulls":13},"Netherlands",35784.5,20750.842996250001,0.57988355283013604]
[{"$nulls":13},"Norway",11346.572499999998,5020.4466832320313,0.4424637204963906]
[{"$nulls":13},"Poland",19865.920000000002,8600.915933578126,0.43294828196117396]
[{"$nulls":13},"Portugal",18771.045000000002,7571.080049907815,0.40333822916666678]
[{"$nulls":13},"Romania",9789.7874999999985,3948.5955541679687,0.40333822916666673]
[{"$nulls":13},"Slovakia",2112.9900000000002,852.24964484687507,0.40333822916666667]
[{"$nulls":13},"Slovenia",2289.5649999999996,1205.8452423265626,0.52667001912003497]
[{"$nulls":13},"Spain",132877.33749999999,73609.349519476571,0.55396466323293525]
[{"$nulls":13},"Sweden",14911.487500000001,7069.8716063828133,0.47412249156114122]
[{"$nulls":13},"Switzerland",14643.494999999999,6480.0611340328132,0.44252148370541416]
[{"$nulls":13},"United Kingdom",82748.492500000008,38837.84003631719,0.46934800699018397]

{"sheet":"Bananas - Summary","index":3,"n_rows":116,"n_cols":42,"rows_kept":116,"cut":false,"hidden":false,"merged":[]}
["Homepage"]
[]
[]
[]
[]
[]
[{"$nulls":13},"Food Waste","Unit: Tonnes",{"$nulls":9},"Difference (Worst and Best Case)","Unit: Tonnes",{"$nulls":7},"Data for the illustration","Unit: Tonnes"]
[{"$nulls":13},"Country","Product","Food Waste - Pre R&D","Food Supply Quantity","Food Waste - R&D","Consumption - Households","Food Waste - Households","Consumption - Food Service","Food Waste - Food Service","Total Food Waste",null,"Country","Product","Total FW","Best Case","Worst Case","Average B/W case","Lower Error","Higher Error",null,"Country",null,"Food Waste - Pre R&D","Food Waste - R&D","Food Waste - Households","Food Waste - Food Service","Food Availability","Lower Error","Higher Error"]
[{"$nulls":13},"Austria","Bananas",{"$f":"_xlfn.XLOOKUP($N9&$O9,'FFV Waste'!$A:$A&'FFV Waste'!$B:$B,'FFV Waste'!C:C,\"\",0)","v":8492},{"$f":"_xlfn.XLOOKUP($N9&$O9,'FFV Waste'!$A:$A&'FFV Waste'!$B:$B,'FFV Waste'!D:D,\"\",0)","v":127028.71176254864},{"$f":"_xlfn.XLOOKUP($N9&$O9,'FFV Waste'!$A:$A&'FFV Waste'!$B:$B,'FFV Waste'!E:E,\"\",0)","v":2286.5168117258759},{"$f":"_xlfn.XLOOKUP($N9&$O9,'FFV Waste'!$A:$A&'FFV Waste'!$B:$B,'FFV Waste'!F:F,\"\",0)","v":106030.86570819936},{"$f":"_xlfn.XLOOKUP($N9&$O9,'FFV Waste'!$A:$A&'FFV Waste'!$B:$B,'FFV Waste'!G:G,\"\",0)","v":48685.839171014872},{"$f":"_xlfn.XLOOKUP($N9&$O9,'FFV Waste'!$A:$A&'FFV Waste'!$B:$B,'FFV Waste'!H:H,\"\",0)","v":18711.329242623411},{"$f":"_xlfn.XLOOKUP($N9&$O9,'FFV Waste'!$A:$A&'FFV Waste'!$B:$B,'FFV Waste'!I:I,\"\",0)","v":8270.4075252395469},{"$f":"_xlfn.XLOOKUP($N9&$O9,'FFV Waste'!$A:$A&'FFV Waste'!$B:$B,'FFV Waste'!J:J,\"\",0)","v":67734.763507980286},null,"Austria","Bananas",{"$f":"W9","v":67734.763507980286},{"$f":"_xlfn.XLOOKUP(Y9&Z9,'FFV Waste'!$L:$L&'FFV Waste'!$M:$M,'FFV Waste'!$U:$U,,0)","v":62019.917488834493},{"$f":"_xlfn.XLOOKUP(Y9&Z9,'FFV Waste'!$W:$W&'FFV Waste'!$X:$X,'FFV Waste'!$AF:$AF,,0)","v":75990.4843969949},{"$f":"AVERAGE(AB9:AC9)","v":69005.2009429147},{"$f":"AA9-MIN(AB9,AA9)","v":5714.8460191457925},{"$f":"AC9-MIN(AA9,AC9)","v":8255.7208890146139},null,"Austria","Food Waste",{"$f":"_xlfn.XLOOKUP($AH9,$N$9:$N$39,P$9:P$39,\"\",0)","v":8492},{"$f":"_xlfn.XLOOKUP($AH9,$N$9:$N$39,R$9:R$39,\"\",0)","v":2286.5168117258759},{"$f":"_xlfn.XLOOKUP($AH9,$N$9:$N$39,T$9:T$39,\"\",0)","v":48685.839171014872},{"$f":"_xlfn.XLOOKUP($AH9,$N$9:$N$39,V$9:V$39,\"\",0)","v":8270.4075252395469},null,{"$f":"IF(ISBLANK($AH9),\"\",_xlfn.XLOOKUP($AH9,$Y$9:$Y$39,AE$9:AE$39,,0))","v":5714.8460191457925},{"$f":"IF(ISBLANK($AH9),\"\",_xlfn.XLOOKUP($AH9,$Y$9:$Y$39,AF$9:AF$39,,0))","v":8255.7208890146139}]
[{"$nulls":13},"Belgium","Bananas",{"$f":"_xlfn.XLOOKUP($N10&$O10,'FFV Waste'!$A:$A&'FFV Waste'!$B:$B,'FFV Waste'!C:C,\"\",0)","v":{"$error":"#N/A"}},{"$f":"_xlfn.XLOOKUP($N10&$O10,'FFV Waste'!$A:$A&'FFV Waste'!$B:$B,'FFV Waste'!D:D,\"\",0)","v":155191.59},{"$f":"_xlfn.XLOOKUP($N10&$O10,'FFV Waste'!$A:$A&'FFV Waste'!$B:$B,'FFV Waste'!E:E,\"\",0)","v":2793.4486200000001},{"$f":"_xlfn.XLOOKUP($N10&$O10,'FFV Waste'!$A:$A&'FFV Waste'!$B:$B,'FFV Waste'!F:F,\"\",0)","v":129538.42017299999},{"$f":"_xlfn.XLOOKUP($N10&$O10,'FFV Waste'!$A:$A&'FFV Waste'!$B:$B,'FFV Waste'!G:G,\"\",0)","v":59479.724596102496},{"$f":"_xlfn.XLOOKUP($N10&$O10,'FFV Waste'!$A:$A&'FFV Waste'!$B:$B,'FFV Waste'!H:H,\"\",0)","v":22859.721206999995},{"$f":"_xlfn.XLOOKUP($N10&$O10,'FFV Waste'!$A:$A&'FFV Waste'!$B:$B,'FFV Waste'!I:I,\"\",0)","v":10103.996773493998},{"$f":"_xlfn.XLOOKUP($N10&$O10,'FFV Waste'!$A:$A&'FFV Waste'!$B:$B,'FFV Waste'!J:J,\"\",0)","v":72377.169989596499},null,"Belgium","Bananas",{"$f":"W10","v":72377.169989596499},{"$f":"_xlfn.XLOOKUP(Y10&Z10,'FFV Waste'!$L:$L&'FFV Waste'!$M:$M,'FFV Waste'!$U:$U,,0)","v":65395.315037195993},{"$f":"_xlfn.XLOOKUP(Y10&Z10,'FFV Waste'!$W:$W&'FFV Waste'!$X:$X,'FFV Waste'!$AF:$AF,,0)","v":82463.22402876},{"$f":"AVERAGE(AB10:AC10)","v":73929.269532977996},{"$f":"AA10-MIN(AB10,AA10)","v":6981.8549524005066},{"$f":"AC10-MIN(AA10,AC10)","v":10086.0540391635},null,null,"Food Supply",{"$f":"_xlfn.XLOOKUP($AH10,$N$9:$N$39,P$9:P$39,\"\",0)","v":""},"","","",{"$f":"_xlfn.XLOOKUP(AH9,N$9:N$39,Q$9:Q$39,\"\",0)+AJ9","v":135520.71176254866},{"$f":"IF(ISBLANK($AH10),\"\",_xlfn.XLOOKUP($AH10,$Y$9:$Y$39,AE$9:AE$39,,0))","v":""},""]
[{"$nulls":13},"Bulgaria","Bananas",{"$f":"_xlfn.XLOOKUP($N11&$O11,'FFV Waste'!$A:$A&'FFV Waste'!$B:$B,'FFV Waste'!C:C,\"\",0)","v":2132.9},{"$f":"_xlfn.XLOOKUP($N11&$O11,'FFV Waste'!$A:$A&'FFV Waste'!$B:$B,'FFV Waste'!D:D,\"\",0)","v":40256.86},{"$f":"_xlfn.XLOOKUP($N11&$O11,'FFV Waste'!$A:$A&'FFV Waste'!$B:$B,'FFV Waste'!E:E,\"\",0)","v":724.62348000000009},{"$f":"_xlfn.XLOOKUP($N11&$O11,'FFV Waste'!$A:$A&'FFV Waste'!$B:$B,'FFV Waste'!F:F,\"\",0)","v":33602.401041999998},{"$f":"_xlfn.XLOOKUP($N11&$O11,'FFV Waste'!$A:$A&'FFV Waste'!$B:$B,'FFV Waste'!G:G,\"\",0)","v":15429.102478451665},{"$f":"_xlfn.XLOOKUP($N11&$O11,'FFV Waste'!$A:$A&'FFV Waste'!$B:$B,'FFV Waste'!H:H,\"\",0)","v":5929.8354780000009},{"$f":"_xlfn.XLOOKUP($N11&$O11,'FFV Waste'!$A:$A&'FFV Waste'!$B:$B,'FFV Waste'!I:I,\"\",0)","v":2620.9872812760004},{"$f":"_xlfn.XLOOKUP($N11&$O11,'FFV Waste'!$A:$A&'FFV Waste'!$B:$B,'FFV Waste'!J:J,\"\",0)","v":20907.613239727667},null,"Bulgaria","Bananas",20907.613239727667,{"$f":"_xlfn.XLOOKUP(Y11&Z11,'FFV Waste'!$L:$L&'FFV Waste'!$M:$M,'FFV Waste'!$U:$U,,0)","v":19096.512796984},{"$f":"_xlfn.XLOOKUP(Y11&Z11,'FFV Waste'!$W:$W&'FFV Waste'!$X:$X,'FFV Waste'!$AF:$AF,,0)","v":21391.04615704},20243.779477012002,1811.1004427436674,483.4329173123333,null,"Belgium","Food Waste",null,2793.4486200000001,59479.724596102496,10103.996773493998,null,6981.8549524005066,10086.0540391635]
[{"$nulls":13},"Croatia","Bananas",{"$f":"_xlfn.XLOOKUP($N12&$O12,'FFV Waste'!$A:$A&'FFV Waste'!$B:$B,'FFV Waste'!C:C,\"\",0)","v":4360.5},{"$f":"_xlfn.XLOOKUP($N12&$O12,'FFV Waste'!$A:$A&'FFV Waste'!$B:$B,'FFV Waste'!D:D,\"\",0)","v":59557.245904443203},{"$f":"_xlfn.XLOOKUP($N12&$O12,'FFV Waste'!$A:$A&'FFV Waste'!$B:$B,'FFV Waste'!E:E,\"\",0)","v":1072.0304262799777},{"$f":"_xlfn.XLOOKUP($N12&$O12,'FFV Waste'!$A:$A&'FFV Waste'!$B:$B,'FFV Waste'!F:F,\"\",0)","v":49712.433156438739},{"$f":"_xlfn.XLOOKUP($N12&$O12,'FFV Waste'!$A:$A&'FFV Waste'!$B:$B,'FFV Waste'!G:G,\"\",0)","v":22826.292224331453},{"$f":"_xlfn.XLOOKUP($N12&$O12,'FFV Waste'!$A:$A&'FFV Waste'!$B:$B,'FFV Waste'!H:H,\"\",0)","v":8772.7823217244877},{"$f":"_xlfn.XLOOKUP($N12&$O12,'FFV Waste'!$A:$A&'FFV Waste'!$B:$B,'FFV Waste'!I:I,\"\",0)","v":3877.5697862022234},{"$f":"_xlfn.XLOOKUP($N12&$O12,'FFV Waste'!$A:$A&'FFV Waste'!$B:$B,'FFV Waste'!J:J,\"\",0)","v":32136.392436813654},null,"Croatia","Bananas",32136.392436813654,{"$f":"_xlfn.XLOOKUP(Y12&Z12,'FFV Waste'!$L:$L&'FFV Waste'!$M:$M,'FFV Waste'!$U:$U,,0)","v":29456.994331096255},{"$f":"_xlfn.XLOOKUP(Y12&Z12,'FFV Waste'!$W:$W&'FFV Waste'!$X:$X,'FFV Waste'!$AF:$AF,,0)","v":31646.576412768558},30551.785371932405,2679.3981057173987,0,null,null,"Food Supply",{"$f":"_xlfn.XLOOKUP($AH12,$N$9:$N$39,P$9:P$39,\"\",0)","v":""},"","","",{"$f":"_xlfn.XLOOKUP(AH11,N$9:N$39,Q$9:Q$39,\"\",0)+AJ11","v":155191.59},"",""]
[{"$nulls":13},"Cyprus","Bananas",{"$f":"_xlfn.XLOOKUP($N13&$O13,'FFV Waste'!$A:$A&'FFV Waste'!$B:$B,'FFV Waste'!C:C,\"\",0)","v":1230.17},{"$f":"_xlfn.XLOOKUP($N13&$O13,'FFV Waste'!$A:$A&'FFV Waste'!$B:$B,'FFV Waste'!D:D,\"\",0)","v":8772.2129938026228},{"$f":"_xlfn.XLOOKUP($N13&$O13,'FFV Waste'!$A:$A&'FFV Waste'!$B:$B,'FFV Waste'!E:E,\"\",0)","v":157.89983388844723},{"$f":"_xlfn.XLOOKUP($N13&$O13,'FFV Waste'!$A:$A&'FFV Waste'!$B:$B,'FFV Waste'!F:F,\"\",0)","v":7322.1661859270498},{"$f":"_xlfn.XLOOKUP($N13&$O13,'FFV Waste'!$A:$A&'FFV Waste'!$B:$B,'FFV Waste'!G:G,\"\",0)","v":3362.0946403715038},{"$f":"_xlfn.XLOOKUP($N13&$O13,'FFV Waste'!$A:$A&'FFV Waste'!$B:$B,'FFV Waste'!H:H,\"\",0)","v":1292.1469739871263},{"$f":"_xlfn.XLOOKUP($N13&$O13,'FFV Waste'!$A:$A&'FFV Waste'!$B:$B,'FFV Waste'!I:I,\"\",0)","v":571.12896250230983},{"$f":"_xlfn.XLOOKUP($N13&$O13,'FFV Waste'!$A:$A&'FFV Waste'!$B:$B,'FFV Waste'!J:J,\"\",0)","v":5321.2934367622611},null,"Cyprus","Bananas",5321.2934367622611,{"$f":"_xlfn.XLOOKUP(Y13&Z13,'FFV Waste'!$L:$L&'FFV Waste'!$M:$M,'FFV Waste'!$U:$U,,0)","v":4926.6437090657219},{"$f":"_xlfn.XLOOKUP(Y13&Z13,'FFV Waste'!$W:$W&'FFV Waste'!$X:$X,'FFV Waste'!$AF:$AF,,0)","v":5891.4081852389363},5409.0259471523295,394.64972769653923,570.11474847667523,null,"Bulgaria","Food Waste",2132.9,724.62348000000009,15429.102478451665,2620.9872812760004,null,1811.1004427436674,483.4329173123333]
[{"$nulls":13},"Czechia","Bananas",{"$f":"_xlfn.XLOOKUP($N14&$O14,'FFV Waste'!$A:$A&'FFV Waste'!$B:$B,'FFV Waste'!C:C,\"\",0)","v":11395.37},{"$f":"_xlfn.XLOOKUP($N14&$O14,'FFV Waste'!$A:$A&'FFV Waste'!$B:$B,'FFV Waste'!D:D,\"\",0)","v":97917.865152391358},{"$f":"_xlfn.XLOOKUP($N14&$O14,'FFV Waste'!$A:$A&'FFV Waste'!$B:$B,'FFV Waste'!E:E,\"\",0)","v":1762.5215727430445},{"$f":"_xlfn.XLOOKUP($N14&$O14,'FFV Waste'!$A:$A&'FFV Waste'!$B:$B,'FFV Waste'!F:F,\"\",0)","v":81732.042042701069},{"$f":"_xlfn.XLOOKUP($N14&$O14,'FFV Waste'!$A:$A&'FFV Waste'!$B:$B,'FFV Waste'!G:G,\"\",0)","v":37528.629304606904},{"$f":"_xlfn.XLOOKUP($N14&$O14,'FFV Waste'!$A:$A&'FFV Waste'!$B:$B,'FFV Waste'!H:H,\"\",0)","v":14423.301536947241},{"$f":"_xlfn.XLOOKUP($N14&$O14,'FFV Waste'!$A:$A&'FFV Waste'!$B:$B,'FFV Waste'!I:I,\"\",0)","v":6375.0992793306805},{"$f":"_xlfn.XLOOKUP($N14&$O14,'FFV Waste'!$A:$A&'FFV Waste'!$B:$B,'FFV Waste'!J:J,\"\",0)","v":57061.620156680627},null,"Czechia","Bananas",57061.620156680627,{"$f":"_xlfn.XLOOKUP(Y14&Z14,'FFV Waste'!$L:$L&'FFV Waste'!$M:$M,'FFV Waste'!$U:$U,,0)","v":52656.430856521343},{"$f":"_xlfn.XLOOKUP(Y14&Z14,'FFV Waste'!$W:$W&'FFV Waste'!$X:$X,'FFV Waste'!$AF:$AF,,0)","v":52030.02849883528},52343.229677678311,4405.1893001592834,0,null,null,"Food Supply","","","","",{"$f":"_xlfn.XLOOKUP(AH13,N$9:N$39,Q$9:Q$39,\"\",0)+AJ13","v":42389.760000000002},"",""]
[{"$nulls":13},"Denmark","Bananas",{"$f":"_xlfn.XLOOKUP($N15&$O15,'FFV Waste'!$A:$A&'FFV Waste'!$B:$B,'FFV Waste'!C:C,\"\",0)","v":4066.92},{"$f":"_xlfn.XLOOKUP($N15&$O15,'FFV Waste'!$A:$A&'FFV Waste'!$B:$B,'FFV Waste'!D:D,\"\",0)","v":61314.591606417664},{"$f":"_xlfn.XLOOKUP($N15&$O15,'FFV Waste'!$A:$A&'FFV Waste'!$B:$B,'FFV Waste'!E:E,\"\",0)","v":1103.662648915518},{"$f":"_xlfn.XLOOKUP($N15&$O15,'FFV Waste'!$A:$A&'FFV Waste'!$B:$B,'FFV Waste'!F:F,\"\",0)","v":51179.289613876826},{"$f":"_xlfn.XLOOKUP($N15&$O15,'FFV Waste'!$A:$A&'FFV Waste'!$B:$B,'FFV Waste'!G:G,\"\",0)","v":23235.397484700079},{"$f":"_xlfn.XLOOKUP($N15&$O15,'FFV Waste'!$A:$A&'FFV Waste'!$B:$B,'FFV Waste'!H:H,\"\",0)","v":9031.6393436253202},{"$f":"_xlfn.XLOOKUP($N15&$O15,'FFV Waste'!$A:$A&'FFV Waste'!$B:$B,'FFV Waste'!I:I,\"\",0)","v":3991.9845898823914},{"$f":"_xlfn.XLOOKUP($N15&$O15,'FFV Waste'!$A:$A&'FFV Waste'!$B:$B,'FFV Waste'!J:J,\"\",0)","v":32397.964723497989},null,"Denmark","Bananas",32397.964723497989,{"$f":"_xlfn.XLOOKUP(Y15&Z15,'FFV Waste'!$L:$L&'FFV Waste'!$M:$M,'FFV Waste'!$U:$U,,0)","v":29903.93239531534},{"$f":"_xlfn.XLOOKUP(Y15&Z15,'FFV Waste'!$W:$W&'FFV Waste'!$X:$X,'FFV Waste'!$AF:$AF,,0)","v":36647.286654352516},33275.609524833926,2494.0323281826495,4249.3219308545267,null,"Croatia","Food Waste",4360.5,1072.0304262799777,22826.292224331453,3877.5697862022234,null,2679.3981057173987,0]
[{"$nulls":13},"Estonia","Bananas",{"$f":"_xlfn.XLOOKUP($N16&$O16,'FFV Waste'!$A:$A&'FFV Waste'!$B:$B,'FFV Waste'!C:C,\"\",0)","v":{"$error":"#N/A"}},{"$f":"_xlfn.XLOOKUP($N16&$O16,'FFV Waste'!$A:$A&'FFV Waste'!$B:$B,'FFV Waste'!D:D,\"\",0)","v":15476.920684642977},{"$f":"_xlfn.XLOOKUP($N16&$O16,'FFV Waste'!$A:$A&'FFV Waste'!$B:$B,'FFV Waste'!E:E,\"\",0)","v":278.58457232357364},{"$f":"_xlfn.XLOOKUP($N16&$O16,'FFV Waste'!$A:$A&'FFV Waste'!$B:$B,'FFV Waste'!F:F,\"\",0)","v":12918.585695471493},{"$f":"_xlfn.XLOOKUP($N16&$O16,'FFV Waste'!$A:$A&'FFV Waste'!$B:$B,'FFV Waste'!G:G,\"\",0)","v":5931.7839318373271},{"$f":"_xlfn.XLOOKUP($N16&$O16,'FFV Waste'!$A:$A&'FFV Waste'!$B:$B,'FFV Waste'!H:H,\"\",0)","v":2279.7504168479099},{"$f":"_xlfn.XLOOKUP($N16&$O16,'FFV Waste'!$A:$A&'FFV Waste'!$B:$B,'FFV Waste'!I:I,\"\",0)","v":1007.6496842467762},{"$f":"_xlfn.XLOOKUP($N16&$O16,'FFV Waste'!$A:$A&'FFV Waste'!$B:$B,'FFV Waste'!J:J,\"\",0)","v":7218.0181884076765},null,"Estonia","Bananas",7218.0181884076765,{"$f":"_xlfn.XLOOKUP(Y16&Z16,'FFV Waste'!$L:$L&'FFV Waste'!$M:$M,'FFV Waste'!$U:$U,,0)","v":6521.73293654587},{"$f":"_xlfn.XLOOKUP(Y16&Z16,'FFV Waste'!$W:$W&'FFV Waste'!$X:$X,'FFV Waste'!$AF:$AF,,0)","v":8223.8784826746305},7372.8057096102502,696.2852518618065,1005.860294266954,null,null,"Food Supply","","","","",{"$f":"_xlfn.XLOOKUP(AH15,N$9:N$39,Q$9:Q$39,\"\",0)+AJ15","v":63917.745904443203},"",""]
[{"$nulls":13},"Finland","Bananas",{"$f":"_xlfn.XLOOKUP($N17&$O17,'FFV Waste'!$A:$A&'FFV Waste'!$B:$B,'FFV Waste'!C:C,\"\",0)","v":4984.8920807852583},{"$f":"_xlfn.XLOOKUP($N17&$O17,'FFV Waste'!$A:$A&'FFV Waste'!$B:$B,'FFV Waste'!D:D,\"\",0)","v":89779.22},{"$f":"_xlfn.XLOOKUP($N17&$O17,'FFV Waste'!$A:$A&'FFV Waste'!$B:$B,'FFV Waste'!E:E,\"\",0)","v":1616.0259600000002},{"$f":"_xlfn.XLOOKUP($N17&$O17,'FFV Waste'!$A:$A&'FFV Waste'!$B:$B,'FFV Waste'!F:F,\"\",0)","v":74938.714934000003},{"$f":"_xlfn.XLOOKUP($N17&$O17,'FFV Waste'!$A:$A&'FFV Waste'!$B:$B,'FFV Waste'!G:G,\"\",0)","v":31249.444127478},{"$f":"_xlfn.XLOOKUP($N17&$O17,'FFV Waste'!$A:$A&'FFV Waste'!$B:$B,'FFV Waste'!H:H,\"\",0)","v":13224.479105999999},{"$f":"_xlfn.XLOOKUP($N17&$O17,'FFV Waste'!$A:$A&'FFV Waste'!$B:$B,'FFV Waste'!I:I,\"\",0)","v":5845.2197648519996},{"$f":"_xlfn.XLOOKUP($N17&$O17,'FFV Waste'!$A:$A&'FFV Waste'!$B:$B,'FFV Waste'!J:J,\"\",0)","v":43695.58193311526},null,"Finland","Bananas",43695.58193311526,{"$f":"_xlfn.XLOOKUP(Y17&Z17,'FFV Waste'!$L:$L&'FFV Waste'!$M:$M,'FFV Waste'!$U:$U,,0)","v":42816.454832953255},{"$f":"_xlfn.XLOOKUP(Y17&Z17,'FFV Waste'!$W:$W&'FFV Waste'!$X:$X,'FFV Waste'!$AF:$AF,,0)","v":52690.337536865256},47753.396184909259,879.12710016200435,8994.7556037499962,null,"Cyprus","Food Waste",1230.17,157.89983388844723,3362.0946403715038,571.12896250230983,null,394.64972769653923,570.11474847667523]
[{"$nulls":13},"France","Bananas",{"$f":"_xlfn.XLOOKUP($N18&$O18,'FFV Waste'!$A:$A&'FFV Waste'!$B:$B,'FFV Waste'!C:C,\"\",0)","v":49294.11},{"$f":"_xlfn.XLOOKUP($N18&$O18,'FFV Waste'!$A:$A&'FFV Waste'!$B:$B,'FFV Waste'!D:D,\"\",0)","v":702656.69},{"$f":"_xlfn.XLOOKUP($N18&$O18,'FFV Waste'!$A:$A&'FFV Waste'!$B:$B,'FFV Waste'!E:E,\"\",0)","v":12647.82042},{"$f":"_xlfn.XLOOKUP($N18&$O18,'FFV Waste'!$A:$A&'FFV Waste'!$B:$B,'FFV Waste'!F:F,\"\",0)","v":586507.53914299991},{"$f":"_xlfn.XLOOKUP($N18&$O18,'FFV Waste'!$A:$A&'FFV Waste'!$B:$B,'FFV Waste'!G:G,\"\",0)","v":269304.71172316081},{"$f":"_xlfn.XLOOKUP($N18&$O18,'FFV Waste'!$A:$A&'FFV Waste'!$B:$B,'FFV Waste'!H:H,\"\",0)","v":103501.33043700003},{"$f":"_xlfn.XLOOKUP($N18&$O18,'FFV Waste'!$A:$A&'FFV Waste'!$B:$B,'FFV Waste'!I:I,\"\",0)","v":45747.58805315401},{"$f":"_xlfn.XLOOKUP($N18&$O18,'FFV Waste'!$A:$A&'FFV Waste'!$B:$B,'FFV Waste'!J:J,\"\",0)","v":376994.23019631481},null,"France","Bananas",376994.23019631481,{"$f":"_xlfn.XLOOKUP(Y18&Z18,'FFV Waste'!$L:$L&'FFV Waste'!$M:$M,'FFV Waste'!$U:$U,,0)","v":345382.67772163596},{"$f":"_xlfn.XLOOKUP(Y18&Z18,'FFV Waste'!$W:$W&'FFV Waste'!$X:$X,'FFV Waste'!$AF:$AF,,0)","v":422660.57942515996},384021.62857339799,31611.552474678843,45666.349228845153,null,null,"Food Supply","","","","",{"$f":"_xlfn.XLOOKUP(AH17,N$9:N$39,Q$9:Q$39,\"\",0)+AJ17","v":10002.382993802623},"",""]
[{"$nulls":13},"Germany","Bananas",{"$f":"_xlfn.XLOOKUP($N19&$O19,'FFV Waste'!$A:$A&'FFV Waste'!$B:$B,'FFV Waste'!C:C,\"\",0)","v":48093.65},{"$f":"_xlfn.XLOOKUP($N19&$O19,'FFV Waste'!$A:$A&'FFV Waste'!$B:$B,'FFV Waste'!D:D,\"\",0)","v":772680.12694687047},{"$f":"_xlfn.XLOOKUP($N19&$O19,'FFV Waste'!$A:$A&'FFV Waste'!$B:$B,'FFV Waste'!E:E,\"\",0)","v":13908.242285043671},{"$f":"_xlfn.XLOOKUP($N19&$O19,'FFV Waste'!$A:$A&'FFV Waste'!$B:$B,'FFV Waste'!F:F,\"\",0)","v":644956.10196255276},{"$f":"_xlfn.XLOOKUP($N19&$O19,'FFV Waste'!$A:$A&'FFV Waste'!$B:$B,'FFV Waste'!G:G,\"\",0)","v":303129.36792239978},{"$f":"_xlfn.XLOOKUP($N19&$O19,'FFV Waste'!$A:$A&'FFV Waste'!$B:$B,'FFV Waste'!H:H,\"\",0)","v":113815.78269927402},{"$f":"_xlfn.XLOOKUP($N19&$O19,'FFV Waste'!$A:$A&'FFV Waste'!$B:$B,'FFV Waste'!I:I,\"\",0)","v":50306.575953079118},{"$f":"_xlfn.XLOOKUP($N19&$O19,'FFV Waste'!$A:$A&'FFV Waste'!$B:$B,'FFV Waste'!J:J,\"\",0)","v":415437.83616052254},null,"Germany","Bananas",415437.83616052254,{"$f":"_xlfn.XLOOKUP(Y19&Z19,'FFV Waste'!$L:$L&'FFV Waste'!$M:$M,'FFV Waste'!$U:$U,,0)","v":373689.00168543088},{"$f":"_xlfn.XLOOKUP(Y19&Z19,'FFV Waste'!$W:$W&'FFV Waste'!$X:$X,'FFV Waste'!$AF:$AF,,0)","v":458668.05297499691},416178.52733021392,41748.834475091659,43230.216814474377,null,"Czechia","Food Waste",11395.37,1762.5215727430445,37528.629304606904,6375.0992793306805,null,4405.1893001592834,0]
[{"$nulls":13},"Greece","Bananas",{"$f":"_xlfn.XLOOKUP($N20&$O20,'FFV Waste'!$A:$A&'FFV Waste'!$B:$B,'FFV Waste'!C:C,\"\",0)","v":289.95999999999998},{"$f":"_xlfn.XLOOKUP($N20&$O20,'FFV Waste'!$A:$A&'FFV Waste'!$B:$B,'FFV Waste'!D:D,\"\",0)","v":128286.62020833322},{"$f":"_xlfn.XLOOKUP($N20&$O20,'FFV Waste'!$A:$A&'FFV Waste'!$B:$B,'FFV Waste'!E:E,\"\",0)","v":2309.1591637499982},{"$f":"_xlfn.XLOOKUP($N20&$O20,'FFV Waste'!$A:$A&'FFV Waste'!$B:$B,'FFV Waste'!F:F,\"\",0)","v":107080.84188789573},{"$f":"_xlfn.XLOOKUP($N20&$O20,'FFV Waste'!$A:$A&'FFV Waste'!$B:$B,'FFV Waste'!G:G,\"\",0)","v":49167.953233525455},{"$f":"_xlfn.XLOOKUP($N20&$O20,'FFV Waste'!$A:$A&'FFV Waste'!$B:$B,'FFV Waste'!H:H,\"\",0)","v":18896.619156687491},{"$f":"_xlfn.XLOOKUP($N20&$O20,'FFV Waste'!$A:$A&'FFV Waste'!$B:$B,'FFV Waste'!I:I,\"\",0)","v":8352.3056672558705},{"$f":"_xlfn.XLOOKUP($N20&$O20,'FFV Waste'!$A:$A&'FFV Waste'!$B:$B,'FFV Waste'!J:J,\"\",0)","v":60119.378064531324},null,"Greece","Bananas",60119.378064531324,{"$f":"_xlfn.XLOOKUP(Y20&Z20,'FFV Waste'!$L:$L&'FFV Waste'!$M:$M,'FFV Waste'!$U:$U,,0)","v":54347.940484516366},{"$f":"_xlfn.XLOOKUP(Y20&Z20,'FFV Waste'!$W:$W&'FFV Waste'!$X:$X,'FFV Waste'!$AF:$AF,,0)","v":68456.85166038078},61402.396072448573,5771.4375800149573,8337.4735958494566,null,null,"Food Supply","","","","",{"$f":"_xlfn.XLOOKUP(AH19,N$9:N$39,Q$9:Q$39,\"\",0)+AJ19","v":109313.23515239135},"",""]
[{"$nulls":13},"Hungary","Bananas",{"$f":"_xlfn.XLOOKUP($N21&$O21,'FFV Waste'!$A:$A&'FFV Waste'!$B:$B,'FFV Waste'!C:C,\"\",0)","v":2478.42},{"$f":"_xlfn.XLOOKUP($N21&$O21,'FFV Waste'!$A:$A&'FFV Waste'!$B:$B,'FFV Waste'!D:D,\"\",0)","v":24787.217765804384},{"$f":"_xlfn.XLOOKUP($N21&$O21,'FFV Waste'!$A:$A&'FFV Waste'!$B:$B,'FFV Waste'!E:E,\"\",0)","v":446.16991978447896},{"$f":"_xlfn.XLOOKUP($N21&$O21,'FFV Waste'!$A:$A&'FFV Waste'!$B:$B,'FFV Waste'!F:F,\"\",0)","v":20689.890669116918},{"$f":"_xlfn.XLOOKUP($N21&$O21,'FFV Waste'!$A:$A&'FFV Waste'!$B:$B,'FFV Waste'!G:G,\"\",0)","v":9500.1081322361842},{"$f":"_xlfn.XLOOKUP($N21&$O21,'FFV Waste'!$A:$A&'FFV Waste'!$B:$B,'FFV Waste'!H:H,\"\",0)","v":3651.157176902987},{"$f":"_xlfn.XLOOKUP($N21&$O21,'FFV Waste'!$A:$A&'FFV Waste'!$B:$B,'FFV Waste'!I:I,\"\",0)","v":1613.8114721911202},{"$f":"_xlfn.XLOOKUP($N21&$O21,'FFV Waste'!$A:$A&'FFV Waste'!$B:$B,'FFV Waste'!J:J,\"\",0)","v":14038.509524211784},null,"Hungary","Bananas",14038.509524211784,{"$f":"_xlfn.XLOOKUP(Y21&Z21,'FFV Waste'!$L:$L&'FFV Waste'!$M:$M,'FFV Waste'!$U:$U,,0)","v":12923.366885912819},{"$f":"_xlfn.XLOOKUP(Y21&Z21,'FFV Waste'!$W:$W&'FFV Waste'!$X:$X,'FFV Waste'!$AF:$AF,,0)","v":13171.035180908881},13047.201033410849,1115.1426382989648,0,null,"Denmark","Food Waste",4066.92,1103.662648915518,23235.397484700079,3991.9845898823914,null,2494.0323281826495,4249.3219308545267]
[{"$nulls":13},"Iceland","Bananas",{"$f":"_xlfn.XLOOKUP($N22&$O22,'FFV Waste'!$A:$A&'FFV Waste'!$B:$B,'FFV Waste'!C:C,\"\",0)","v":105.89},{"$f":"_xlfn.XLOOKUP($N22&$O22,'FFV Waste'!$A:$A&'FFV Waste'!$B:$B,'FFV Waste'!D:D,\"\",0)","v":3953.2119055231574},{"$f":"_xlfn.XLOOKUP($N22&$O22,'FFV Waste'!$A:$A&'FFV Waste'!$B:$B,'FFV Waste'!E:E,\"\",0)","v":71.157814299416842},{"$f":"_xlfn.XLOOKUP($N22&$O22,'FFV Waste'!$A:$A&'FFV Waste'!$B:$B,'FFV Waste'!F:F,\"\",0)","v":3299.7459775401794},{"$f":"_xlfn.XLOOKUP($N22&$O22,'FFV Waste'!$A:$A&'FFV Waste'!$B:$B,'FFV Waste'!G:G,\"\",0)","v":1515.1333613538657},{"$f":"_xlfn.XLOOKUP($N22&$O22,'FFV Waste'!$A:$A&'FFV Waste'!$B:$B,'FFV Waste'!H:H,\"\",0)","v":582.30811368356126},{"$f":"_xlfn.XLOOKUP($N22&$O22,'FFV Waste'!$A:$A&'FFV Waste'!$B:$B,'FFV Waste'!I:I,\"\",0)","v":257.38018624813407},{"$f":"_xlfn.XLOOKUP($N22&$O22,'FFV Waste'!$A:$A&'FFV Waste'!$B:$B,'FFV Waste'!J:J,\"\",0)","v":1949.5613619014166},null,"Iceland","Bananas",1949.5613619014166,{"$f":"_xlfn.XLOOKUP(Y22&Z22,'FFV Waste'!$L:$L&'FFV Waste'!$M:$M,'FFV Waste'!$U:$U,,0)","v":1771.7118268817323},{"$f":"_xlfn.XLOOKUP(Y22&Z22,'FFV Waste'!$W:$W&'FFV Waste'!$X:$X,'FFV Waste'!$AF:$AF,,0)","v":2206.4844909664071},1989.0981589240696,177.84953501968425,256.92312906499046,null,null,"Food Supply","","","","",{"$f":"_xlfn.XLOOKUP(AH21,N$9:N$39,Q$9:Q$39,\"\",0)+AJ21","v":65381.511606417662},"",""]
[{"$nulls":13},"Ireland","Bananas",{"$f":"_xlfn.XLOOKUP($N23&$O23,'FFV Waste'!$A:$A&'FFV Waste'!$B:$B,'FFV Waste'!C:C,\"\",0)","v":3291.7331171299106},{"$f":"_xlfn.XLOOKUP($N23&$O23,'FFV Waste'!$A:$A&'FFV Waste'!$B:$B,'FFV Waste'!D:D,\"\",0)","v":58388.44},{"$f":"_xlfn.XLOOKUP($N23&$O23,'FFV Waste'!$A:$A&'FFV Waste'!$B:$B,'FFV Waste'!E:E,\"\",0)","v":1050.9919200000002},{"$f":"_xlfn.XLOOKUP($N23&$O23,'FFV Waste'!$A:$A&'FFV Waste'!$B:$B,'FFV Waste'!F:F,\"\",0)","v":48736.830867999997},{"$f":"_xlfn.XLOOKUP($N23&$O23,'FFV Waste'!$A:$A&'FFV Waste'!$B:$B,'FFV Waste'!G:G,\"\",0)","v":22378.328173556667},{"$f":"_xlfn.XLOOKUP($N23&$O23,'FFV Waste'!$A:$A&'FFV Waste'!$B:$B,'FFV Waste'!H:H,\"\",0)","v":8600.6172120000047},{"$f":"_xlfn.XLOOKUP($N23&$O23,'FFV Waste'!$A:$A&'FFV Waste'!$B:$B,'FFV Waste'!I:I,\"\",0)","v":3801.4728077040022},{"$f":"_xlfn.XLOOKUP($N23&$O23,'FFV Waste'!$A:$A&'FFV Waste'!$B:$B,'FFV Waste'!J:J,\"\",0)","v":30522.526018390581},null,"Ireland","Bananas",30522.526018390581,{"$f":"_xlfn.XLOOKUP(Y23&Z23,'FFV Waste'!$L:$L&'FFV Waste'!$M:$M,'FFV Waste'!$U:$U,,0)","v":27895.710873465909},{"$f":"_xlfn.XLOOKUP(Y23&Z23,'FFV Waste'!$W:$W&'FFV Waste'!$X:$X,'FFV Waste'!$AF:$AF,,0)","v":34317.24814928991},31106.479511377911,2626.8151449246725,3794.7221308993285,null,"Estonia","Food Waste",null,278.58457232357364,5931.7839318373271,1007.6496842467762,null,696.2852518618065,1005.860294266954]
[{"$nulls":13},"Italy","Bananas",{"$f":"_xlfn.XLOOKUP($N24&$O24,'FFV Waste'!$A:$A&'FFV Waste'!$B:$B,'FFV Waste'!C:C,\"\",0)","v":26.71},{"$f":"_xlfn.XLOOKUP($N24&$O24,'FFV Waste'!$A:$A&'FFV Waste'!$B:$B,'FFV Waste'!D:D,\"\",0)","v":666681.27},{"$f":"_xlfn.XLOOKUP($N24&$O24,'FFV Waste'!$A:$A&'FFV Waste'!$B:$B,'FFV Waste'!E:E,\"\",0)","v":12000.262860000003},{"$f":"_xlfn.XLOOKUP($N24&$O24,'FFV Waste'!$A:$A&'FFV Waste'!$B:$B,'FFV Waste'!F:F,\"\",0)","v":556478.85606899997},{"$f":"_xlfn.XLOOKUP($N24&$O24,'FFV Waste'!$A:$A&'FFV Waste'!$B:$B,'FFV Waste'!G:G,\"\",0)","v":255516.5414116825},{"$f":"_xlfn.XLOOKUP($N24&$O24,'FFV Waste'!$A:$A&'FFV Waste'!$B:$B,'FFV Waste'!H:H,\"\",0)","v":98202.151071000029},{"$f":"_xlfn.XLOOKUP($N24&$O24,'FFV Waste'!$A:$A&'FFV Waste'!$B:$B,'FFV Waste'!I:I,\"\",0)","v":43405.350773382015},{"$f":"_xlfn.XLOOKUP($N24&$O24,'FFV Waste'!$A:$A&'FFV Waste'!$B:$B,'FFV Waste'!J:J,\"\",0)","v":310948.86504506448},null,"Italy","Bananas",310948.86504506448,{"$f":"_xlfn.XLOOKUP(Y24&Z24,'FFV Waste'!$L:$L&'FFV Waste'!$M:$M,'FFV Waste'!$U:$U,,0)","v":280955.796950188},{"$f":"_xlfn.XLOOKUP(Y24&Z24,'FFV Waste'!$W:$W&'FFV Waste'!$X:$X,'FFV Waste'!$AF:$AF,,0)","v":354250.42635228002},317603.11165123398,29993.068094876478,43301.561307215539,null,null,"Food Supply",{"$f":"_xlfn.XLOOKUP($AH24,$N$9:$N$39,P$9:P$39,\"\",0)","v":""},"","","",{"$f":"_xlfn.XLOOKUP(AH23,N$9:N$39,Q$9:Q$39,\"\",0)+AJ23","v":15476.920684642977},"",""]
[{"$nulls":13},"Latvia","Bananas",{"$f":"_xlfn.XLOOKUP($N25&$O25,'FFV Waste'!$A:$A&'FFV Waste'!$B:$B,'FFV Waste'!C:C,\"\",0)","v":{"$error":"#N/A"}},{"$f":"_xlfn.XLOOKUP($N25&$O25,'FFV Waste'!$A:$A&'FFV Waste'!$B:$B,'FFV Waste'!D:D,\"\",0)","v":17266.669626055373},{"$f":"_xlfn.XLOOKUP($N25&$O25,'FFV Waste'!$A:$A&'FFV Waste'!$B:$B,'FFV Waste'!E:E,\"\",0)","v":310.80005326899675},{"$f":"_xlfn.XLOOKUP($N25&$O25,'FFV Waste'!$A:$A&'FFV Waste'!$B:$B,'FFV Waste'!F:F,\"\",0)","v":14412.489136868418},{"$f":"_xlfn.XLOOKUP($N25&$O25,'FFV Waste'!$A:$A&'FFV Waste'!$B:$B,'FFV Waste'!G:G,\"\",0)","v":6617.7345953454151},{"$f":"_xlfn.XLOOKUP($N25&$O25,'FFV Waste'!$A:$A&'FFV Waste'!$B:$B,'FFV Waste'!H:H,\"\",0)","v":2543.3804359179558},{"$f":"_xlfn.XLOOKUP($N25&$O25,'FFV Waste'!$A:$A&'FFV Waste'!$B:$B,'FFV Waste'!I:I,\"\",0)","v":1124.1741526757364},{"$f":"_xlfn.XLOOKUP($N25&$O25,'FFV Waste'!$A:$A&'FFV Waste'!$B:$B,'FFV Waste'!J:J,\"\",0)","v":8052.7088012901477},null,"Latvia","Bananas",8052.7088012901477,{"$f":"_xlfn.XLOOKUP(Y25&Z25,'FFV Waste'!$L:$L&'FFV Waste'!$M:$M,'FFV Waste'!$U:$U,,0)","v":7275.9052203735673},{"$f":"_xlfn.XLOOKUP(Y25&Z25,'FFV Waste'!$W:$W&'FFV Waste'!$X:$X,'FFV Waste'!$AF:$AF,,0)","v":9174.8866391792872},8225.3959297764268,776.80358091658036,1122.1778378891395,null,"Finland","Food Waste",4984.8920807852583,1616.0259600000002,31249.444127478,5845.2197648519996,null,879.12710016200435,8994.7556037499962]
[{"$nulls":13},"Lithuania","Bananas",{"$f":"_xlfn.XLOOKUP($N26&$O26,'FFV Waste'!$A:$A&'FFV Waste'!$B:$B,'FFV Waste'!C:C,\"\",0)","v":{"$error":"#N/A"}},{"$f":"_xlfn.XLOOKUP($N26&$O26,'FFV Waste'!$A:$A&'FFV Waste'!$B:$B,'FFV Waste'!D:D,\"\",0)","v":26333.51},{"$f":"_xlfn.XLOOKUP($N26&$O26,'FFV Waste'!$A:$A&'FFV Waste'!$B:$B,'FFV Waste'!E:E,\"\",0)","v":474.00318000000004},{"$f":"_xlfn.XLOOKUP($N26&$O26,'FFV Waste'!$A:$A&'FFV Waste'!$B:$B,'FFV Waste'!F:F,\"\",0)","v":21980.580796999999},{"$f":"_xlfn.XLOOKUP($N26&$O26,'FFV Waste'!$A:$A&'FFV Waste'!$B:$B,'FFV Waste'!G:G,\"\",0)","v":10092.750015955833},{"$f":"_xlfn.XLOOKUP($N26&$O26,'FFV Waste'!$A:$A&'FFV Waste'!$B:$B,'FFV Waste'!H:H,\"\",0)","v":3878.926023},{"$f":"_xlfn.XLOOKUP($N26&$O26,'FFV Waste'!$A:$A&'FFV Waste'!$B:$B,'FFV Waste'!I:I,\"\",0)","v":1714.4853021660001},{"$f":"_xlfn.XLOOKUP($N26&$O26,'FFV Waste'!$A:$A&'FFV Waste'!$B:$B,'FFV Waste'!J:J,\"\",0)","v":12281.238498121833},null,"Lithuania","Bananas",12281.238498121833,{"$f":"_xlfn.XLOOKUP(Y26&Z26,'FFV Waste'!$L:$L&'FFV Waste'!$M:$M,'FFV Waste'!$U:$U,,0)","v":11096.530311244},{"$f":"_xlfn.XLOOKUP(Y26&Z26,'FFV Waste'!$W:$W&'FFV Waste'!$X:$X,'FFV Waste'!$AF:$AF,,0)","v":13992.67920764},12544.604759442,1184.7081868778332,1711.4407095181668,null,null,"Food Supply","","","","",{"$f":"_xlfn.XLOOKUP(AH25,N$9:N$39,Q$9:Q$39,\"\",0)+AJ25","v":94764.112080785257},"",""]
[{"$nulls":13},"Luxembourg","Bananas",{"$f":"_xlfn.XLOOKUP($N27&$O27,'FFV Waste'!$A:$A&'FFV Waste'!$B:$B,'FFV Waste'!C:C,\"\",0)","v":329.97},{"$f":"_xlfn.XLOOKUP($N27&$O27,'FFV Waste'!$A:$A&'FFV Waste'!$B:$B,'FFV Waste'!D:D,\"\",0)","v":4968.4883667683662},{"$f":"_xlfn.XLOOKUP($N27&$O27,'FFV Waste'!$A:$A&'FFV Waste'!$B:$B,'FFV Waste'!E:E,\"\",0)","v":89.432790601830604},{"$f":"_xlfn.XLOOKUP($N27&$O27,'FFV Waste'!$A:$A&'FFV Waste'!$B:$B,'FFV Waste'!F:F,\"\",0)","v":4147.1972397415548},{"$f":"_xlfn.XLOOKUP($N27&$O27,'FFV Waste'!$A:$A&'FFV Waste'!$B:$B,'FFV Waste'!G:G,\"\",0)","v":1904.2547325813305},{"$f":"_xlfn.XLOOKUP($N27&$O27,'FFV Waste'!$A:$A&'FFV Waste'!$B:$B,'FFV Waste'!H:H,\"\",0)","v":731.85833642498073},{"$f":"_xlfn.XLOOKUP($N27&$O27,'FFV Waste'!$A:$A&'FFV Waste'!$B:$B,'FFV Waste'!I:I,\"\",0)","v":323.4813846998415},{"$f":"_xlfn.XLOOKUP($N27&$O27,'FFV Waste'!$A:$A&'FFV Waste'!$B:$B,'FFV Waste'!J:J,\"\",0)","v":2647.1389078830025},null,"Luxembourg","Bananas",2647.1389078830025,{"$f":"_xlfn.XLOOKUP(Y27&Z27,'FFV Waste'!$L:$L&'FFV Waste'!$M:$M,'FFV Waste'!$U:$U,,0)","v":2423.6134893376675},{"$f":"_xlfn.XLOOKUP(Y27&Z27,'FFV Waste'!$W:$W&'FFV Waste'!$X:$X,'FFV Waste'!$AF:$AF,,0)","v":2970.0458525195063},2696.8296709285869,223.52541854533501,322.90694463650379,null,"France","Food Waste",49294.11,12647.82042,269304.71172316081,45747.58805315401,null,31611.552474678843,45666.349228845153]
[{"$nulls":13},"Malta","Bananas",{"$f":"_xlfn.XLOOKUP($N28&$O28,'FFV Waste'!$A:$A&'FFV Waste'!$B:$B,'FFV Waste'!C:C,\"\",0)","v":488.09},{"$f":"_xlfn.XLOOKUP($N28&$O28,'FFV Waste'!$A:$A&'FFV Waste'!$B:$B,'FFV Waste'!D:D,\"\",0)","v":7577.8923579196944},{"$f":"_xlfn.XLOOKUP($N28&$O28,'FFV Waste'!$A:$A&'FFV Waste'!$B:$B,'FFV Waste'!E:E,\"\",0)","v":136.40206244255452},{"$f":"_xlfn.XLOOKUP($N28&$O28,'FFV Waste'!$A:$A&'FFV Waste'!$B:$B,'FFV Waste'!F:F,\"\",0)","v":6325.2667511555683},{"$f":"_xlfn.XLOOKUP($N28&$O28,'FFV Waste'!$A:$A&'FFV Waste'!$B:$B,'FFV Waste'!G:G,\"\",0)","v":2904.3516499055986},{"$f":"_xlfn.XLOOKUP($N28&$O28,'FFV Waste'!$A:$A&'FFV Waste'!$B:$B,'FFV Waste'!H:H,\"\",0)","v":1116.2235443215714},{"$f":"_xlfn.XLOOKUP($N28&$O28,'FFV Waste'!$A:$A&'FFV Waste'!$B:$B,'FFV Waste'!I:I,\"\",0)","v":493.37080659013452},{"$f":"_xlfn.XLOOKUP($N28&$O28,'FFV Waste'!$A:$A&'FFV Waste'!$B:$B,'FFV Waste'!J:J,\"\",0)","v":4022.2145189382877},null,"Malta","Bananas",4022.2145189382877,{"$f":"_xlfn.XLOOKUP(Y28&Z28,'FFV Waste'!$L:$L&'FFV Waste'!$M:$M,'FFV Waste'!$U:$U,,0)","v":3681.2956245065752},{"$f":"_xlfn.XLOOKUP(Y28&Z28,'FFV Waste'!$W:$W&'FFV Waste'!$X:$X,'FFV Waste'!$AF:$AF,,0)","v":4026.6191948736405},3853.9574096901079,340.91889443171249,4.4046759353527705,null,null,"Food Supply","","","","",{"$f":"_xlfn.XLOOKUP(AH27,N$9:N$39,Q$9:Q$39,\"\",0)+AJ27","v":751950.79999999993},"",""]
[{"$nulls":13},"Netherlands","Bananas",{"$f":"_xlfn.XLOOKUP($N29&$O29,'FFV Waste'!$A:$A&'FFV Waste'!$B:$B,'FFV Waste'!C:C,\"\",0)","v":12903.843489149147},{"$f":"_xlfn.XLOOKUP($N29&$O29,'FFV Waste'!$A:$A&'FFV Waste'!$B:$B,'FFV Waste'!D:D,\"\",0)","v":369130.77},{"$f":"_xlfn.XLOOKUP($N29&$O29,'FFV Waste'!$A:$A&'FFV Waste'!$B:$B,'FFV Waste'!E:E,\"\",0)","v":6644.3538600000011},{"$f":"_xlfn.XLOOKUP($N29&$O29,'FFV Waste'!$A:$A&'FFV Waste'!$B:$B,'FFV Waste'!F:F,\"\",0)","v":308113.45371900004},{"$f":"_xlfn.XLOOKUP($N29&$O29,'FFV Waste'!$A:$A&'FFV Waste'!$B:$B,'FFV Waste'!G:G,\"\",0)","v":152824.27304462402},{"$f":"_xlfn.XLOOKUP($N29&$O29,'FFV Waste'!$A:$A&'FFV Waste'!$B:$B,'FFV Waste'!H:H,\"\",0)","v":54372.962421000004},{"$f":"_xlfn.XLOOKUP($N29&$O29,'FFV Waste'!$A:$A&'FFV Waste'!$B:$B,'FFV Waste'!I:I,\"\",0)","v":24032.849390082003},{"$f":"_xlfn.XLOOKUP($N29&$O29,'FFV Waste'!$A:$A&'FFV Waste'!$B:$B,'FFV Waste'!J:J,\"\",0)","v":196405.31978385517},null,"Netherlands","Bananas",196405.31978385517,{"$f":"_xlfn.XLOOKUP(Y29&Z29,'FFV Waste'!$L:$L&'FFV Waste'!$M:$M,'FFV Waste'!$U:$U,,0)","v":168449.79152713716},{"$f":"_xlfn.XLOOKUP(Y29&Z29,'FFV Waste'!$W:$W&'FFV Waste'!$X:$X,'FFV Waste'!$AF:$AF,,0)","v":209046.64595942915},188748.21874328316,27955.528256718011,12641.32617557398,null,"Germany","Food Waste",48093.65,13908.242285043671,303129.36792239978,50306.575953079118,null,41748.834475091659,43230.216814474377]
[{"$nulls":13},"Norway","Bananas",{"$f":"_xlfn.XLOOKUP($N30&$O30,'FFV Waste'!$A:$A&'FFV Waste'!$B:$B,'FFV Waste'!C:C,\"\",0)","v":3996.32},{"$f":"_xlfn.XLOOKUP($N30&$O30,'FFV Waste'!$A:$A&'FFV Waste'!$B:$B,'FFV Waste'!D:D,\"\",0)","v":63379.233871995282},{"$f":"_xlfn.XLOOKUP($N30&$O30,'FFV Waste'!$A:$A&'FFV Waste'!$B:$B,'FFV Waste'!E:E,\"\",0)","v":1140.8262096959152},{"$f":"_xlfn.XLOOKUP($N30&$O30,'FFV Waste'!$A:$A&'FFV Waste'!$B:$B,'FFV Waste'!F:F,\"\",0)","v":52902.646512954459},{"$f":"_xlfn.XLOOKUP($N30&$O30,'FFV Waste'!$A:$A&'FFV Waste'!$B:$B,'FFV Waste'!G:G,\"\",0)","v":24291.131857198256},{"$f":"_xlfn.XLOOKUP($N30&$O30,'FFV Waste'!$A:$A&'FFV Waste'!$B:$B,'FFV Waste'!H:H,\"\",0)","v":9335.7611493449076},{"$f":"_xlfn.XLOOKUP($N30&$O30,'FFV Waste'!$A:$A&'FFV Waste'!$B:$B,'FFV Waste'!I:I,\"\",0)","v":4126.4064280104494},{"$f":"_xlfn.XLOOKUP($N30&$O30,'FFV Waste'!$A:$A&'FFV Waste'!$B:$B,'FFV Waste'!J:J,\"\",0)","v":33554.684494904621},null,"Norway","Bananas",33554.684494904621,{"$f":"_xlfn.XLOOKUP(Y30&Z30,'FFV Waste'!$L:$L&'FFV Waste'!$M:$M,'FFV Waste'!$U:$U,,0)","v":30703.340437610408},{"$f":"_xlfn.XLOOKUP(Y30&Z30,'FFV Waste'!$W:$W&'FFV Waste'!$X:$X,'FFV Waste'!$AF:$AF,,0)","v":37673.763227158903},34188.551832384655,2851.3440572942127,4119.0787322542819,null,null,"Food Supply","","","","",{"$f":"_xlfn.XLOOKUP(AH29,N$9:N$39,Q$9:Q$39,\"\",0)+AJ29","v":820773.77694687049},"",""]
[{"$nulls":13},"Poland","Bananas",{"$f":"_xlfn.XLOOKUP($N31&$O31,'FFV Waste'!$A:$A&'FFV Waste'!$B:$B,'FFV Waste'!C:C,\"\",0)","v":19379.174496017338},{"$f":"_xlfn.XLOOKUP($N31&$O31,'FFV Waste'!$A:$A&'FFV Waste'!$B:$B,'FFV Waste'!D:D,\"\",0)","v":123386.11},{"$f":"_xlfn.XLOOKUP($N31&$O31,'FFV Waste'!$A:$A&'FFV Waste'!$B:$B,'FFV Waste'!E:E,\"\",0)","v":2220.9499800000003},{"$f":"_xlfn.XLOOKUP($N31&$O31,'FFV Waste'!$A:$A&'FFV Waste'!$B:$B,'FFV Waste'!F:F,\"\",0)","v":102990.386017},{"$f":"_xlfn.XLOOKUP($N31&$O31,'FFV Waste'!$A:$A&'FFV Waste'!$B:$B,'FFV Waste'!G:G,\"\",0)","v":47289.752246139164},{"$f":"_xlfn.XLOOKUP($N31&$O31,'FFV Waste'!$A:$A&'FFV Waste'!$B:$B,'FFV Waste'!H:H,\"\",0)","v":18174.774002999999},{"$f":"_xlfn.XLOOKUP($N31&$O31,'FFV Waste'!$A:$A&'FFV Waste'!$B:$B,'FFV Waste'!I:I,\"\",0)","v":8033.2501093259998},{"$f":"_xlfn.XLOOKUP($N31&$O31,'FFV Waste'!$A:$A&'FFV Waste'!$B:$B,'FFV Waste'!J:J,\"\",0)","v":76923.126831482514},null,"Poland","Bananas",76923.126831482514,{"$f":"_xlfn.XLOOKUP(Y31&Z31,'FFV Waste'!$L:$L&'FFV Waste'!$M:$M,'FFV Waste'!$U:$U,,0)","v":71372.156426701331},{"$f":"_xlfn.XLOOKUP(Y31&Z31,'FFV Waste'!$W:$W&'FFV Waste'!$X:$X,'FFV Waste'!$AF:$AF,,0)","v":84942.111450057331},78157.133938379324,5550.9704047811829,8018.9846185748174,null,"Greece","Food Waste",289.95999999999998,2309.1591637499982,49167.953233525455,8352.3056672558705,null,5771.4375800149573,8337.4735958494566]
[{"$nulls":13},"Portugal","Bananas",{"$f":"_xlfn.XLOOKUP($N32&$O32,'FFV Waste'!$A:$A&'FFV Waste'!$B:$B,'FFV Waste'!C:C,\"\",0)","v":24140.753751567961},{"$f":"_xlfn.XLOOKUP($N32&$O32,'FFV Waste'!$A:$A&'FFV Waste'!$B:$B,'FFV Waste'!D:D,\"\",0)","v":180477.47},{"$f":"_xlfn.XLOOKUP($N32&$O32,'FFV Waste'!$A:$A&'FFV Waste'!$B:$B,'FFV Waste'!E:E,\"\",0)","v":3248.5944600000003},{"$f":"_xlfn.XLOOKUP($N32&$O32,'FFV Waste'!$A:$A&'FFV Waste'!$B:$B,'FFV Waste'!F:F,\"\",0)","v":150644.54420900001},{"$f":"_xlfn.XLOOKUP($N32&$O32,'FFV Waste'!$A:$A&'FFV Waste'!$B:$B,'FFV Waste'!G:G,\"\",0)","v":69170.953215965841},{"$f":"_xlfn.XLOOKUP($N32&$O32,'FFV Waste'!$A:$A&'FFV Waste'!$B:$B,'FFV Waste'!H:H,\"\",0)","v":26584.331330999994},{"$f":"_xlfn.XLOOKUP($N32&$O32,'FFV Waste'!$A:$A&'FFV Waste'!$B:$B,'FFV Waste'!I:I,\"\",0)","v":11750.274448301998},{"$f":"_xlfn.XLOOKUP($N32&$O32,'FFV Waste'!$A:$A&'FFV Waste'!$B:$B,'FFV Waste'!J:J,\"\",0)","v":108310.5758758358},null,"Portugal","Bananas",108310.5758758358,{"$f":"_xlfn.XLOOKUP(Y32&Z32,'FFV Waste'!$L:$L&'FFV Waste'!$M:$M,'FFV Waste'!$U:$U,,0)","v":100191.14416103596},{"$f":"_xlfn.XLOOKUP(Y32&Z32,'FFV Waste'!$W:$W&'FFV Waste'!$X:$X,'FFV Waste'!$AF:$AF,,0)","v":95899.230369080004},98045.18726505799,8119.4317147998372,0,null,null,"Food Supply","","","","",{"$f":"_xlfn.XLOOKUP(AH31,N$9:N$39,Q$9:Q$39,\"\",0)+AJ31","v":128576.58020833322},"",""]
[{"$nulls":13},"Romania","Bananas",{"$f":"_xlfn.XLOOKUP($N33&$O33,'FFV Waste'!$A:$A&'FFV Waste'!$B:$B,'FFV Waste'!C:C,\"\",0)","v":8472.7900000000009},{"$f":"_xlfn.XLOOKUP($N33&$O33,'FFV Waste'!$A:$A&'FFV Waste'!$B:$B,'FFV Waste'!D:D,\"\",0)","v":121841.59752062359},{"$f":"_xlfn.XLOOKUP($N33&$O33,'FFV Waste'!$A:$A&'FFV Waste'!$B:$B,'FFV Waste'!E:E,\"\",0)","v":2193.148755371225},{"$f":"_xlfn.XLOOKUP($N33&$O33,'FFV Waste'!$A:$A&'FFV Waste'!$B:$B,'FFV Waste'!F:F,\"\",0)","v":101701.18145046452},{"$f":"_xlfn.XLOOKUP($N33&$O33,'FFV Waste'!$A:$A&'FFV Waste'!$B:$B,'FFV Waste'!G:G,\"\",0)","v":46697.792482671626},{"$f":"_xlfn.XLOOKUP($N33&$O33,'FFV Waste'!$A:$A&'FFV Waste'!$B:$B,'FFV Waste'!H:H,\"\",0)","v":17947.267314787852},{"$f":"_xlfn.XLOOKUP($N33&$O33,'FFV Waste'!$A:$A&'FFV Waste'!$B:$B,'FFV Waste'!I:I,\"\",0)","v":7932.6921531362304},{"$f":"_xlfn.XLOOKUP($N33&$O33,'FFV Waste'!$A:$A&'FFV Waste'!$B:$B,'FFV Waste'!J:J,\"\",0)","v":65296.42339117908},null,"Romania","Bananas",65296.42339117908,{"$f":"_xlfn.XLOOKUP(Y33&Z33,'FFV Waste'!$L:$L&'FFV Waste'!$M:$M,'FFV Waste'!$U:$U,,0)","v":59814.938466269457},{"$f":"_xlfn.XLOOKUP(Y33&Z33,'FFV Waste'!$W:$W&'FFV Waste'!$X:$X,'FFV Waste'!$AF:$AF,,0)","v":64742.23862494863},62278.588545609047,5481.4849249096224,0,null,"Hungary","Food Waste",{"$f":"_xlfn.XLOOKUP($AH33,$N$9:$N$39,P$9:P$39,\"\",0)","v":2478.42},446.16991978447896,9500.1081322361842,1613.8114721911202,null,1115.1426382989648,0]
[{"$nulls":13},"Slovakia","Bananas",{"$f":"_xlfn.XLOOKUP($N34&$O34,'FFV Waste'!$A:$A&'FFV Waste'!$B:$B,'FFV Waste'!C:C,\"\",0)","v":3392.9294693008897},{"$f":"_xlfn.XLOOKUP($N34&$O34,'FFV Waste'!$A:$A&'FFV Waste'!$B:$B,'FFV Waste'!D:D,\"\",0)","v":49984.57},{"$f":"_xlfn.XLOOKUP($N34&$O34,'FFV Waste'!$A:$A&'FFV Waste'!$B:$B,'FFV Waste'!E:E,\"\",0)","v":899.72226000000012},{"$f":"_xlfn.XLOOKUP($N34&$O34,'FFV Waste'!$A:$A&'FFV Waste'!$B:$B,'FFV Waste'!F:F,\"\",0)","v":41722.120578999995},{"$f":"_xlfn.XLOOKUP($N34&$O34,'FFV Waste'!$A:$A&'FFV Waste'!$B:$B,'FFV Waste'!G:G,\"\",0)","v":19157.407032524163},{"$f":"_xlfn.XLOOKUP($N34&$O34,'FFV Waste'!$A:$A&'FFV Waste'!$B:$B,'FFV Waste'!H:H,\"\",0)","v":7362.7271610000025},{"$f":"_xlfn.XLOOKUP($N34&$O34,'FFV Waste'!$A:$A&'FFV Waste'!$B:$B,'FFV Waste'!I:I,\"\",0)","v":3254.3254051620011},{"$f":"_xlfn.XLOOKUP($N34&$O34,'FFV Waste'!$A:$A&'FFV Waste'!$B:$B,'FFV Waste'!J:J,\"\",0)","v":26704.384166987056},null,"Slovakia","Bananas",26704.384166987056,{"$f":"_xlfn.XLOOKUP(Y34&Z34,'FFV Waste'!$L:$L&'FFV Waste'!$M:$M,'FFV Waste'!$U:$U,,0)","v":24455.647508008886},{"$f":"_xlfn.XLOOKUP(Y34&Z34,'FFV Waste'!$W:$W&'FFV Waste'!$X:$X,'FFV Waste'!$AF:$AF,,0)","v":26560.001053480002},25507.824280744444,2248.7366589781705,0,null,null,"Food Supply","","","","",{"$f":"_xlfn.XLOOKUP(AH33,N$9:N$39,Q$9:Q$39,\"\",0)+AJ33","v":27265.637765804386},"",""]
[{"$nulls":13},"Slovenia","Bananas",{"$f":"_xlfn.XLOOKUP($N35&$O35,'FFV Waste'!$A:$A&'FFV Waste'!$B:$B,'FFV Waste'!C:C,\"\",0)","v":12372.91},{"$f":"_xlfn.XLOOKUP($N35&$O35,'FFV Waste'!$A:$A&'FFV Waste'!$B:$B,'FFV Waste'!D:D,\"\",0)","v":18547.215265388539},{"$f":"_xlfn.XLOOKUP($N35&$O35,'FFV Waste'!$A:$A&'FFV Waste'!$B:$B,'FFV Waste'!E:E,\"\",0)","v":333.84987477699372},{"$f":"_xlfn.XLOOKUP($N35&$O35,'FFV Waste'!$A:$A&'FFV Waste'!$B:$B,'FFV Waste'!F:F,\"\",0)","v":15481.360582019812},{"$f":"_xlfn.XLOOKUP($N35&$O35,'FFV Waste'!$A:$A&'FFV Waste'!$B:$B,'FFV Waste'!G:G,\"\",0)","v":7108.5247339107636},{"$f":"_xlfn.XLOOKUP($N35&$O35,'FFV Waste'!$A:$A&'FFV Waste'!$B:$B,'FFV Waste'!H:H,\"\",0)","v":2732.0048085917315},{"$f":"_xlfn.XLOOKUP($N35&$O35,'FFV Waste'!$A:$A&'FFV Waste'!$B:$B,'FFV Waste'!I:I,\"\",0)","v":1207.5461253975454},{"$f":"_xlfn.XLOOKUP($N35&$O35,'FFV Waste'!$A:$A&'FFV Waste'!$B:$B,'FFV Waste'!J:J,\"\",0)","v":21022.830734085303},null,"Slovenia","Bananas",21022.830734085303,{"$f":"_xlfn.XLOOKUP(Y35&Z35,'FFV Waste'!$L:$L&'FFV Waste'!$M:$M,'FFV Waste'!$U:$U,,0)","v":20188.417176276591},{"$f":"_xlfn.XLOOKUP(Y35&Z35,'FFV Waste'!$W:$W&'FFV Waste'!$X:$X,'FFV Waste'!$AF:$AF,,0)","v":22228.232492277915},21208.324834277253,834.41355780871163,1205.4017581926128,null,"Iceland","Food Waste",105.89,71.157814299416842,1515.1333613538657,257.38018624813407,null,177.84953501968425,256.92312906499046]
[{"$nulls":13},"Spain","Bananas",{"$f":"_xlfn.XLOOKUP($N36&$O36,'FFV Waste'!$A:$A&'FFV Waste'!$B:$B,'FFV Waste'!C:C,\"\",0)","v":61354.658618378075},{"$f":"_xlfn.XLOOKUP($N36&$O36,'FFV Waste'!$A:$A&'FFV Waste'!$B:$B,'FFV Waste'!D:D,\"\",0)","v":329224.42},{"$f":"_xlfn.XLOOKUP($N36&$O36,'FFV Waste'!$A:$A&'FFV Waste'!$B:$B,'FFV Waste'!E:E,\"\",0)","v":5926.0395600000002},{"$f":"_xlfn.XLOOKUP($N36&$O36,'FFV Waste'!$A:$A&'FFV Waste'!$B:$B,'FFV Waste'!F:F,\"\",0)","v":274803.62337399996},{"$f":"_xlfn.XLOOKUP($N36&$O36,'FFV Waste'!$A:$A&'FFV Waste'!$B:$B,'FFV Waste'!G:G,\"\",0)","v":117341.14718069798},{"$f":"_xlfn.XLOOKUP($N36&$O36,'FFV Waste'!$A:$A&'FFV Waste'!$B:$B,'FFV Waste'!H:H,\"\",0)","v":48494.75706600002},{"$f":"_xlfn.XLOOKUP($N36&$O36,'FFV Waste'!$A:$A&'FFV Waste'!$B:$B,'FFV Waste'!I:I,\"\",0)","v":21434.682623172008},{"$f":"_xlfn.XLOOKUP($N36&$O36,'FFV Waste'!$A:$A&'FFV Waste'!$B:$B,'FFV Waste'!J:J,\"\",0)","v":206056.52798224805},null,"Spain","Bananas",206056.52798224805,{"$f":"_xlfn.XLOOKUP(Y36&Z36,'FFV Waste'!$L:$L&'FFV Waste'!$M:$M,'FFV Waste'!$U:$U,,0)","v":200084.69330542607},{"$f":"_xlfn.XLOOKUP(Y36&Z36,'FFV Waste'!$W:$W&'FFV Waste'!$X:$X,'FFV Waste'!$AF:$AF,,0)","v":236292.66332725808},218188.67831634206,5971.8346768219781,30236.135345010029,null,null,"Food Supply","","","","",{"$f":"_xlfn.XLOOKUP(AH35,N$9:N$39,Q$9:Q$39,\"\",0)+AJ35","v":4059.1019055231573},"",""]
[{"$nulls":13},"Sweden","Bananas",{"$f":"_xlfn.XLOOKUP($N37&$O37,'FFV Waste'!$A:$A&'FFV Waste'!$B:$B,'FFV Waste'!C:C,\"\",0)","v":4802.0925068199358},{"$f":"_xlfn.XLOOKUP($N37&$O37,'FFV Waste'!$A:$A&'FFV Waste'!$B:$B,'FFV Waste'!D:D,\"\",0)","v":73102.960000000006},{"$f":"_xlfn.XLOOKUP($N37&$O37,'FFV Waste'!$A:$A&'FFV Waste'!$B:$B,'FFV Waste'!E:E,\"\",0)","v":1169.6473600000002},{"$f":"_xlfn.XLOOKUP($N37&$O37,'FFV Waste'!$A:$A&'FFV Waste'!$B:$B,'FFV Waste'!F:F,\"\",0)","v":61143.315744},{"$f":"_xlfn.XLOOKUP($N37&$O37,'FFV Waste'!$A:$A&'FFV Waste'!$B:$B,'FFV Waste'!G:G,\"\",0)","v":28074.972479119999},{"$f":"_xlfn.XLOOKUP($N37&$O37,'FFV Waste'!$A:$A&'FFV Waste'!$B:$B,'FFV Waste'!H:H,\"\",0)","v":10789.996896000004},{"$f":"_xlfn.XLOOKUP($N37&$O37,'FFV Waste'!$A:$A&'FFV Waste'!$B:$B,'FFV Waste'!I:I,\"\",0)","v":4769.1786280320021},{"$f":"_xlfn.XLOOKUP($N37&$O37,'FFV Waste'!$A:$A&'FFV Waste'!$B:$B,'FFV Waste'!J:J,\"\",0)","v":38815.890973971938},null,"Sweden","Bananas",38815.890973971938,{"$f":"_xlfn.XLOOKUP(Y37&Z37,'FFV Waste'!$L:$L&'FFV Waste'!$M:$M,'FFV Waste'!$U:$U,,0)","v":35606.539444643939},{"$f":"_xlfn.XLOOKUP(Y37&Z37,'FFV Waste'!$W:$W&'FFV Waste'!$X:$X,'FFV Waste'!$AF:$AF,,0)","v":43646.373744259938},39626.456594451942,3209.3515293279997,4830.4827702879993,null,"Ireland","Food Waste",3291.7331171299106,1050.9919200000002,22378.328173556667,3801.4728077040022,null,2626.8151449246725,3794.7221308993285]
[{"$nulls":13},"Switzerland","Bananas",{"$f":"_xlfn.XLOOKUP($N38&$O38,'FFV Waste'!$A:$A&'FFV Waste'!$B:$B,'FFV Waste'!C:C,\"\",0)","v":1373.45},{"$f":"_xlfn.XLOOKUP($N38&$O38,'FFV Waste'!$A:$A&'FFV Waste'!$B:$B,'FFV Waste'!D:D,\"\",0)","v":81202.075637924121},{"$f":"_xlfn.XLOOKUP($N38&$O38,'FFV Waste'!$A:$A&'FFV Waste'!$B:$B,'FFV Waste'!E:E,\"\",0)","v":1461.6373614826343},{"$f":"_xlfn.XLOOKUP($N38&$O38,'FFV Waste'!$A:$A&'FFV Waste'!$B:$B,'FFV Waste'!F:F,\"\",0)","v":67779.372534975264},{"$f":"_xlfn.XLOOKUP($N38&$O38,'FFV Waste'!$A:$A&'FFV Waste'!$B:$B,'FFV Waste'!G:G,\"\",0)","v":31122.02855564281},{"$f":"_xlfn.XLOOKUP($N38&$O38,'FFV Waste'!$A:$A&'FFV Waste'!$B:$B,'FFV Waste'!H:H,\"\",0)","v":11961.065741466227},{"$f":"_xlfn.XLOOKUP($N38&$O38,'FFV Waste'!$A:$A&'FFV Waste'!$B:$B,'FFV Waste'!I:I,\"\",0)","v":5286.7910577280727},{"$f":"_xlfn.XLOOKUP($N38&$O38,'FFV Waste'!$A:$A&'FFV Waste'!$B:$B,'FFV Waste'!J:J,\"\",0)","v":39243.906974853511},null,"Switzerland","Bananas",39243.906974853511,{"$f":"_xlfn.XLOOKUP(Y38&Z38,'FFV Waste'!$L:$L&'FFV Waste'!$M:$M,'FFV Waste'!$U:$U,,0)","v":35590.737921441272},{"$f":"_xlfn.XLOOKUP(Y38&Z38,'FFV Waste'!$W:$W&'FFV Waste'!$X:$X,'FFV Waste'!$AF:$AF,,0)","v":44521.309719269913},40056.023820355593,3653.169053412239,5277.4027444164021,null,null,"Food Supply","","","","",{"$f":"_xlfn.XLOOKUP(AH37,N$9:N$39,Q$9:Q$39,\"\",0)+AJ37","v":61680.173117129911},"",""]
[{"$nulls":13},"United Kingdom","Bananas",{"$f":"_xlfn.XLOOKUP($N39&$O39,'FFV Waste'!$A:$A&'FFV Waste'!$B:$B,'FFV Waste'!C:C,\"\",0)","v":42628.59},{"$f":"_xlfn.XLOOKUP($N39&$O39,'FFV Waste'!$A:$A&'FFV Waste'!$B:$B,'FFV Waste'!D:D,\"\",0)","v":675013.43280888582},{"$f":"_xlfn.XLOOKUP($N39&$O39,'FFV Waste'!$A:$A&'FFV Waste'!$B:$B,'FFV Waste'!E:E,\"\",0)","v":13500.268656177717},{"$f":"_xlfn.XLOOKUP($N39&$O39,'FFV Waste'!$A:$A&'FFV Waste'!$B:$B,'FFV Waste'!F:F,\"\",0)","v":562286.18952980195},{"$f":"_xlfn.XLOOKUP($N39&$O39,'FFV Waste'!$A:$A&'FFV Waste'!$B:$B,'FFV Waste'!G:G,\"\",0)","v":276082.51905913273},{"$f":"_xlfn.XLOOKUP($N39&$O39,'FFV Waste'!$A:$A&'FFV Waste'!$B:$B,'FFV Waste'!H:H,\"\",0)","v":99226.974622906186},{"$f":"_xlfn.XLOOKUP($N39&$O39,'FFV Waste'!$A:$A&'FFV Waste'!$B:$B,'FFV Waste'!I:I,\"\",0)","v":43858.322783324533},{"$f":"_xlfn.XLOOKUP($N39&$O39,'FFV Waste'!$A:$A&'FFV Waste'!$B:$B,'FFV Waste'!J:J,\"\",0)","v":376069.70049863495},null,"United Kingdom","Bananas",376069.70049863495,{"$f":"_xlfn.XLOOKUP(Y39&Z39,'FFV Waste'!$L:$L&'FFV Waste'!$M:$M,'FFV Waste'!$U:$U,,0)","v":327068.72037611267},{"$f":"_xlfn.XLOOKUP(Y39&Z39,'FFV Waste'!$W:$W&'FFV Waste'!$X:$X,'FFV Waste'!$AF:$AF,,0)","v":401306.42771106079},364187.57404358673,49000.980122522276,25236.727212425845,null,"Italy","Food Waste",26.71,12000.262860000003,255516.5414116825,43405.350773382015,null,29993.068094876478,43301.561307215539]
[{"$nulls":13},"EU+","Bananas",{"$f":"SUM(P9,P11:P15,P17:P24,P27:P39)","v":335878.79752914852},{"$f":"SUM(Q9:Q39)","v":5154165.2103863396},{"$f":"SUM(R9:R39)","v":93978.794732571871},4301158.4533057017,1998920.0447982247,759027.96234806476,335490.35935784463,2764267.9964177907,null,"EU+","Bananas",{"$f":"SUM(AA9:AA39)","v":2764267.9964177907},{"$f":"SUM(AB9:AB39)","v":2507763.61220867},3017728.177160006,{"$nulls":5},"Food Supply","","","","",{"$f":"_xlfn.XLOOKUP(AH39,N$9:N$39,Q$9:Q$39,\"\",0)+AJ39","v":666707.98},"",""]
[{"$nulls":33},"Latvia","Food Waste",null,{"$f":"_xlfn.XLOOKUP($AH41,$N$9:$N$39,R$9:R$39,\"\",0)","v":310.80005326899675},{"$f":"_xlfn.XLOOKUP($AH41,$N$9:$N$39,T$9:T$39,\"\",0)","v":6617.7345953454151},{"$f":"_xlfn.XLOOKUP($AH41,$N$9:$N$39,V$9:V$39,\"\",0)","v":1124.1741526757364},null,776.80358091658036,1122.1778378891395]
[{"$nulls":13},"Climate Impact","Unit: Tonne CO2-eq",{"$nulls":9},"Economic Cost","Unit: Million EUR","Avg. Exchange Rate 2022 (USD to EUR)",null,null,0.94969999999999999,"European Central Bank (2025)",null,null,null,"Food Supply",{"$f":"_xlfn.XLOOKUP($AH42,$N$9:$N$39,P$9:P$39,\"\",0)","v":""},"","","",{"$f":"_xlfn.XLOOKUP(AH41,N$9:N$39,Q$9:Q$39,\"\",0)+AJ41","v":17266.669626055373},"",""]
[{"$nulls":13},"Country","Product","Pre R&D","R&D","Households","Food Service","Total",{"$nulls":4},"Country","Product","Pre R&D","R&D","Households","Food Service","Total",null,null,"Lithuania","Food Waste",null,474.00318000000004,10092.750015955833,1714.4853021660001,null,1184.7081868778332,1711.4407095181668]
[{"$nulls":13},"Austria","Bananas",{"$f":"'FFV Coeffs for Calcs'!J39*P9","v":7005.9},{"$f":"'FFV Coeffs for Calcs'!K39*R9","v":2115.0280508464352},{"$f":"'FFV Coeffs for Calcs'!L39*T9","v":55434.246177208646},{"$f":"'FFV Coeffs for Calcs'!L39*V9","v":9416.7793869087618},{"$f":"SUM(_xlfn.IFNA(P44,0),Q44:S44)","v":73971.953614963844},{"$nulls":4},"Austria","Bananas",{"$f":"'FFV Coeffs for Calcs'!N5*P9/1000*$AD$42","v":24.242809211909201},{"$f":"R9*'FFV Coeffs for Calcs'!O5/1000*$AD$42","v":9.4322478502452718},{"$f":"T9*'FFV Coeffs for Calcs'!P5/1000*$AD$42","v":290.20929117255093},{"$f":"V9*'FFV Coeffs for Calcs'!O5/1000*$AD$42","v":34.116754882598798},{"$f":"SUM(_xlfn.IFNA(AA44,0),AB44:AD44)","v":358.00110311730418},null,null,null,"Food Supply",{"$f":"_xlfn.XLOOKUP($AH44,$N$9:$N$39,P$9:P$39,\"\",0)","v":""},"","","",{"$f":"_xlfn.XLOOKUP(AH43,N$9:N$39,Q$9:Q$39,\"\",0)+AJ43","v":26333.51},"",""]
[{"$nulls":13},"Belgium","Bananas",{"$f":"'FFV Coeffs for Calcs'!J40*P10","v":{"$error":"#N/A"}},{"$f":"'FFV Coeffs for Calcs'!K40*R10","v":2583.9399735000002},{"$f":"'FFV Coeffs for Calcs'!L40*T10","v":67724.285992710487},{"$f":"'FFV Coeffs for Calcs'!L40*V10","v":11504.524807473141},81812.750773683627,{"$nulls":4},"Belgium","Bananas",{"$f":"'FFV Coeffs for Calcs'!N6*P10/1000*$AD$42","v":{"$error":"#N/A"}},{"$f":"R10*'FFV Coeffs for Calcs'!O6/1000*$AD$42","v":9.4830714874946267},{"$f":"T10*'FFV Coeffs for Calcs'!P6/1000*$AD$42","v":291.77302147047385},{"$f":"V10*'FFV Coeffs for Calcs'!O6/1000*$AD$42","v":34.300585672650975},335.55667863061944,null,null,"Luxembourg","Food Waste",{"$f":"_xlfn.XLOOKUP($AH45,$N$9:$N$39,P$9:P$39,\"\",0)","v":329.97},89.432790601830604,1904.2547325813305,323.4813846998415,null,223.52541854533501,322.90694463650379]
[{"$nulls":13},"Bulgaria","Bananas",{"$f":"'FFV Coeffs for Calcs'!J41*P11","v":1759.6424999999999},{"$f":"'FFV Coeffs for Calcs'!K41*R11","v":670.27671900000007},{"$f":"'FFV Coeffs for Calcs'!L41*T11","v":17567.750287296542},{"$f":"'FFV Coeffs for Calcs'!L41*V11","v":2984.2857112358561},22981.955217532399,{"$nulls":4},"Bulgaria","Bananas",{"$f":"'FFV Coeffs for Calcs'!N7*P11/1000*$AD$42","v":5.1689525350432204},{"$f":"R11*'FFV Coeffs for Calcs'!O7/1000*$AD$42","v":2.5375365091107787},{"$f":"T11*'FFV Coeffs for Calcs'!P7/1000*$AD$42","v":78.074355479787229},{"$f":"V11*'FFV Coeffs for Calcs'!O7/1000*$AD$42","v":9.1783541380039892},94.959198661945209,null,null,null,"Food Supply",{"$f":"_xlfn.XLOOKUP($AH46,$N$9:$N$39,P$9:P$39,\"\",0)","v":""},"","","",{"$f":"_xlfn.XLOOKUP(AH45,N$9:N$39,Q$9:Q$39,\"\",0)+AJ45","v":5298.4583667683664},"",""]
[{"$nulls":13},"Croatia","Bananas",{"$f":"'FFV Coeffs for Calcs'!J42*P12","v":3597.4124999999999},{"$f":"'FFV Coeffs for Calcs'!K42*R12","v":991.62814430897947},{"$f":"'FFV Coeffs for Calcs'!L42*T12","v":25990.274051388329},{"$f":"'FFV Coeffs for Calcs'!L42*V12","v":4415.0447390380195},34994.359434735328,{"$nulls":4},"Croatia","Bananas",{"$f":"'FFV Coeffs for Calcs'!N8*P12/1000*$AD$42","v":8.6486613195510014},{"$f":"R12*'FFV Coeffs for Calcs'!O8/1000*$AD$42","v":3.0724693446304103},{"$f":"T12*'FFV Coeffs for Calcs'!P8/1000*$AD$42","v":94.533049259450607},{"$f":"V12*'FFV Coeffs for Calcs'!O8/1000*$AD$42","v":11.113224035173019},117.36740395880504,null,null,"Malta","Food Waste",{"$f":"_xlfn.XLOOKUP($AH47,$N$9:$N$39,P$9:P$39,\"\",0)","v":488.09},136.40206244255452,2904.3516499055986,493.37080659013452,null,340.91889443171249,4.4046759353527705]
[{"$nulls":13},"Cyprus","Bananas",{"$f":"'FFV Coeffs for Calcs'!J43*P13","v":1014.89025},{"$f":"'FFV Coeffs for Calcs'!K43*R13","v":146.05734634681369},{"$f":"'FFV Coeffs for Calcs'!L43*T13","v":3828.1189179211324},{"$f":"'FFV Coeffs for Calcs'!L43*V13","v":650.29388514957884},5639.3603994175255,{"$nulls":4},"Cyprus","Bananas",{"$f":"'FFV Coeffs for Calcs'!N9*P13/1000*$AD$42","v":2.3495599539385941},{"$f":"R13*'FFV Coeffs for Calcs'!O9/1000*$AD$42","v":0.43578363779209028},{"$f":"T13*'FFV Coeffs for Calcs'!P9/1000*$AD$42","v":13.408093450910494},{"$f":"V13*'FFV Coeffs for Calcs'!O9/1000*$AD$42","v":1.5762439440152503},17.769680986656429,null,null,null,"Food Supply",{"$f":"_xlfn.XLOOKUP($AH48,$N$9:$N$39,P$9:P$39,\"\",0)","v":""},"","","",{"$f":"_xlfn.XLOOKUP(AH47,N$9:N$39,Q$9:Q$39,\"\",0)+AJ47","v":8065.9823579196946},"",""]
[{"$nulls":13},"Czechia","Bananas",{"$f":"'FFV Coeffs for Calcs'!J44*P14","v":9401.1802499999994},{"$f":"'FFV Coeffs for Calcs'!K44*R14","v":1630.3324547873162},{"$f":"'FFV Coeffs for Calcs'!L44*T14","v":42730.52105063304},{"$f":"'FFV Coeffs for Calcs'!L44*V14","v":7258.7600187645212},61020.79377418488,{"$nulls":4},"Czechia","Bananas",{"$f":"'FFV Coeffs for Calcs'!N10*P14/1000*$AD$42","v":30.367954249896677},{"$f":"R14*'FFV Coeffs for Calcs'!O10/1000*$AD$42","v":6.7871804190273455},{"$f":"T14*'FFV Coeffs for Calcs'!P10/1000*$AD$42","v":208.82644834390396},{"$f":"V14*'FFV Coeffs for Calcs'!O10/1000*$AD$42","v":24.549457814969198},270.53104082779714,null,null,"Netherlands","Food Waste",12903.843489149147,6644.3538600000011,152824.27304462402,24032.849390082003,null,27955.528256718011,12641.32617557398]
[{"$nulls":13},"Denmark","Bananas",{"$f":"'FFV Coeffs for Calcs'!J45*P15","v":3355.2089999999998},{"$f":"'FFV Coeffs for Calcs'!K45*R15","v":1020.8879502468542},{"$f":"'FFV Coeffs for Calcs'!L45*T15","v":26456.08591992786},{"$f":"'FFV Coeffs for Calcs'!L45*V15","v":4545.3187263312175},35377.501596505928,{"$nulls":4},"Denmark","Bananas",{"$f":"'FFV Coeffs for Calcs'!N11*P15/1000*$AD$42","v":12.278148897267394},{"$f":"R15*'FFV Coeffs for Calcs'!O11/1000*$AD$42","v":4.814724684808251},{"$f":"T15*'FFV Coeffs for Calcs'!P11/1000*$AD$42","v":146.47147894741275},{"$f":"V15*'FFV Coeffs for Calcs'!O11/1000*$AD$42","v":17.415019675774268},180.97937220526265,null,null,null,"Food Supply","","","","",{"$f":"_xlfn.XLOOKUP(AH49,N$9:N$39,Q$9:Q$39,\"\",0)+AJ49","v":382034.61348914914},"",""]
[{"$nulls":13},"Estonia","Bananas",{"$f":"'FFV Coeffs for Calcs'!J46*P16","v":{"$error":"#N/A"}},{"$f":"'FFV Coeffs for Calcs'!K46*R16","v":257.69072939930561},{"$f":"'FFV Coeffs for Calcs'!L46*T16","v":6753.9961587690259},{"$f":"'FFV Coeffs for Calcs'!L46*V16","v":1147.3213075513263},8159.008195719658,{"$nulls":4},"Estonia","Bananas",{"$f":"'FFV Coeffs for Calcs'!N12*P16/1000*$AD$42","v":{"$error":"#N/A"}},{"$f":"R16*'FFV Coeffs for Calcs'!O12/1000*$AD$42","v":1.1767427051126247},{"$f":"T16*'FFV Coeffs for Calcs'!P12/1000*$AD$42","v":36.205756227485551},{"$f":"V16*'FFV Coeffs for Calcs'!O12/1000*$AD$42","v":4.256317589149198},41.638816521747373,null,null,"Norway","Food Waste",3996.32,1140.8262096959152,24291.131857198256,4126.4064280104494,null,2851.3440572942127,4119.0787322542819]
[{"$nulls":13},"Finland","Bananas",{"$f":"'FFV Coeffs for Calcs'!J47*P17","v":4112.535966647838},{"$f":"'FFV Coeffs for Calcs'!K47*R17","v":1494.8240130000001},{"$f":"'FFV Coeffs for Calcs'!L47*T17","v":35580.969911572596},{"$f":"'FFV Coeffs for Calcs'!L47*V17","v":6655.4332208696933},47843.763112090128,{"$nulls":4},"Finland","Bananas",{"$f":"'FFV Coeffs for Calcs'!N13*P17/1000*$AD$42","v":15.834715893678315},{"$f":"R17*'FFV Coeffs for Calcs'!O13/1000*$AD$42","v":7.4177244308267616},{"$f":"T17*'FFV Coeffs for Calcs'!P13/1000*$AD$42","v":207.26811879169685},{"$f":"V17*'FFV Coeffs for Calcs'!O13/1000*$AD$42","v":26.830156523781422},257.35071563998332,null,null,null,"Food Supply","","","","",{"$f":"_xlfn.XLOOKUP(AH51,N$9:N$39,Q$9:Q$39,\"\",0)+AJ51","v":67375.553871995289},"",""]
[{"$nulls":13},"France","Bananas",{"$f":"'FFV Coeffs for Calcs'!J48*P18","v":40667.640749999999},{"$f":"'FFV Coeffs for Calcs'!K48*R18","v":11699.233888500001},{"$f":"'FFV Coeffs for Calcs'!L48*T18","v":306633.3854060733},{"$f":"'FFV Coeffs for Calcs'!L48*V18","v":52088.720279507208},411088.9803240805,{"$nulls":4},"France","Bananas",{"$f":"'FFV Coeffs for Calcs'!N14*P18/1000*$AD$42","v":124.03626209174185},{"$f":"R18*'FFV Coeffs for Calcs'!O14/1000*$AD$42","v":45.987222256145095},{"$f":"T18*'FFV Coeffs for Calcs'!P14/1000*$AD$42","v":1414.9245636715734},{"$f":"V18*'FFV Coeffs for Calcs'!O14/1000*$AD$42","v":166.33731580788537},1751.2853638273459,null,null,"Poland","Food Waste",19379.174496017338,2220.9499800000003,47289.752246139164,8033.2501093259998,null,5550.9704047811829,8018.9846185748174]
[{"$nulls":13},"Germany","Bananas",{"$f":"'FFV Coeffs for Calcs'!J49*P19","v":39677.261249999996},{"$f":"'FFV Coeffs for Calcs'!K49*R19","v":12865.124113665395},{"$f":"'FFV Coeffs for Calcs'!L49*T19","v":345146.52085849392},{"$f":"'FFV Coeffs for Calcs'!L49*V19","v":57279.635376516017},454968.54159867537,{"$nulls":4},"Germany","Bananas",{"$f":"'FFV Coeffs for Calcs'!N15*P19/1000*$AD$42","v":137.27473683264867},{"$f":"R19*'FFV Coeffs for Calcs'!O15/1000*$AD$42","v":57.364468755324346},{"$f":"T19*'FFV Coeffs for Calcs'!P15/1000*$AD$42","v":1806.6190668826396},{"$f":"V19*'FFV Coeffs for Calcs'!O15/1000*$AD$42","v":207.48919563696666},2208.7474681075792,null,null,null,"Food Supply","","","","",{"$f":"_xlfn.XLOOKUP(AH53,N$9:N$39,Q$9:Q$39,\"\",0)+AJ53","v":142765.28449601732},"",""]
[{"$nulls":13},"Greece","Bananas",{"$f":"'FFV Coeffs for Calcs'!J50*P20","v":239.21699999999996},{"$f":"'FFV Coeffs for Calcs'!K50*R20","v":2135.9722264687484},{"$f":"'FFV Coeffs for Calcs'!L50*T20","v":55983.186692187322},{"$f":"'FFV Coeffs for Calcs'!L50*V20","v":9510.0295360957098},67868.405454751774,{"$nulls":4},"Greece","Bananas",{"$f":"'FFV Coeffs for Calcs'!N16*P20/1000*$AD$42","v":0.72124846267979992},{"$f":"R20*'FFV Coeffs for Calcs'!O16/1000*$AD$42","v":8.2998171577973405},{"$f":"T20*'FFV Coeffs for Calcs'!P16/1000*$AD$42","v":255.36691703489407},{"$f":"V20*'FFV Coeffs for Calcs'!O16/1000*$AD$42","v":30.020715320324911},294.4086979756961,null,null,"Portugal","Food Waste",{"$f":"_xlfn.XLOOKUP($AH55,$N$9:$N$39,P$9:P$39,\"\",0)","v":24140.753751567961},3248.5944600000003,69170.953215965841,11750.274448301998,null,8119.4317147998372,{"$f":"IF(ISBLANK($AH55),\"\",_xlfn.XLOOKUP($AH55,$Y$9:$Y$39,AF$9:AF$39,,0))","v":0}]
[{"$nulls":13},"Hungary","Bananas",{"$f":"'FFV Coeffs for Calcs'!J51*P21","v":2044.6965},{"$f":"'FFV Coeffs for Calcs'!K51*R21","v":412.70717580064309},{"$f":"'FFV Coeffs for Calcs'!L51*T21","v":10816.930382212917},{"$f":"'FFV Coeffs for Calcs'!L51*V21","v":1837.5039632942458},15111.838021307805,{"$nulls":4},"Hungary","Bananas",{"$f":"'FFV Coeffs for Calcs'!N17*P21/1000*$AD$42","v":4.3477559000874173},{"$f":"R21*'FFV Coeffs for Calcs'!O17/1000*$AD$42","v":1.130989003966882},{"$f":"T21*'FFV Coeffs for Calcs'!P17/1000*$AD$42","v":34.798016589083083},{"$f":"V21*'FFV Coeffs for Calcs'!O17/1000*$AD$42","v":4.0908249269816794},44.367586420119068,null,null,null,"Food Supply",{"$f":"_xlfn.XLOOKUP($AH56,$N$9:$N$39,P$9:P$39,\"\",0)","v":""},"","","",{"$f":"_xlfn.XLOOKUP(AH55,N$9:N$39,Q$9:Q$39,\"\",0)+AJ55","v":204618.22375156797},"",""]
[{"$nulls":13},"Iceland","Bananas",{"$f":"'FFV Coeffs for Calcs'!J52*P22","v":87.359249999999989},{"$f":"'FFV Coeffs for Calcs'!K52*R22","v":65.820978226960577},{"$f":"'FFV Coeffs for Calcs'!L52*T22","v":1725.1479521502313},{"$f":"'FFV Coeffs for Calcs'!L52*V22","v":293.05598606399582},2171.3841664411875,{"$nulls":4},"Iceland","Bananas",{"$f":"'FFV Coeffs for Calcs'!N18*P22/1000*$AD$42","v":0.41485496436250202},{"$f":"R22*'FFV Coeffs for Calcs'!O18/1000*$AD$42","v":0.40283926040802503},{"$f":"T22*'FFV Coeffs for Calcs'!P18/1000*$AD$42","v":12.394468219624612},{"$f":"V22*'FFV Coeffs for Calcs'!O18/1000*$AD$42","v":1.4570830328711737},14.669245477266312,null,null,"Romania","Food Waste",{"$f":"_xlfn.XLOOKUP($AH57,$N$9:$N$39,P$9:P$39,\"\",0)","v":8472.7900000000009},2193.148755371225,46697.792482671626,7932.6921531362304,null,5481.4849249096224,0]
[{"$nulls":13},"Ireland","Bananas",{"$f":"'FFV Coeffs for Calcs'!J53*P23","v":2715.6798216321763},{"$f":"'FFV Coeffs for Calcs'!K53*R23","v":972.16752600000018},{"$f":"'FFV Coeffs for Calcs'!L53*T23","v":25480.217125349493},{"$f":"'FFV Coeffs for Calcs'!L53*V23","v":4328.3998601319672},33496.464333113639,{"$nulls":4},"Ireland","Bananas",{"$f":"'FFV Coeffs for Calcs'!N19*P23/1000*$AD$42","v":9.5550172717500832},{"$f":"R23*'FFV Coeffs for Calcs'!O19/1000*$AD$42","v":4.4083298610833719},{"$f":"T23*'FFV Coeffs for Calcs'!P19/1000*$AD$42","v":135.63450669996212},{"$f":"V23*'FFV Coeffs for Calcs'!O19/1000*$AD$42","v":15.945076051867268},165.54292988466284,null,null,null,"Food Supply",{"$f":"_xlfn.XLOOKUP($AH58,$N$9:$N$39,P$9:P$39,\"\",0)","v":""},"","","",{"$f":"_xlfn.XLOOKUP(AH57,N$9:N$39,Q$9:Q$39,\"\",0)+AJ57","v":130314.3875206236},"",""]
[{"$nulls":13},"Italy","Bananas",{"$f":"'FFV Coeffs for Calcs'!J54*P24","v":22.03575},{"$f":"'FFV Coeffs for Calcs'!K54*R24","v":11100.243145500002},{"$f":"'FFV Coeffs for Calcs'!L54*T24","v":290934.01901136164},{"$f":"'FFV Coeffs for Calcs'!L54*V24","v":49421.822467265803},351478.12037412747,{"$nulls":4},"Italy","Bananas",{"$f":"'FFV Coeffs for Calcs'!N20*P24/1000*$AD$42","v":5.7547985130394004E-2},{"$f":"R24*'FFV Coeffs for Calcs'!O20/1000*$AD$42","v":37.36068591417461},{"$f":"T24*'FFV Coeffs for Calcs'!P20/1000*$AD$42","v":1149.5052238890203},{"$f":"V24*'FFV Coeffs for Calcs'!O20/1000*$AD$42","v":135.13484630776674},1322.0583040960921,null,null,"Slovakia","Food Waste",{"$f":"_xlfn.XLOOKUP($AH59,$N$9:$N$39,P$9:P$39,\"\",0)","v":3392.9294693008897},899.72226000000012,19157.407032524163,3254.3254051620011,null,2248.7366589781705,0]
[{"$nulls":13},"Latvia","Bananas",{"$f":"'FFV Coeffs for Calcs'!J55*P25","v":{"$error":"#N/A"}},{"$f":"'FFV Coeffs for Calcs'!K55*R25","v":287.49004927382202},{"$f":"'FFV Coeffs for Calcs'!L55*T25","v":7535.0273291008971},{"$f":"'FFV Coeffs for Calcs'!L55*V25","v":1279.997382947085},9102.5147613218051,{"$nulls":4},"Latvia","Bananas",{"$f":"'FFV Coeffs for Calcs'!N21*P25/1000*$AD$42","v":{"$error":"#N/A"}},{"$f":"R25*'FFV Coeffs for Calcs'!O21/1000*$AD$42","v":1.1321151769410165},{"$f":"T25*'FFV Coeffs for Calcs'!P21/1000*$AD$42","v":34.832666427143977},{"$f":"V25*'FFV Coeffs for Calcs'!O21/1000*$AD$42","v":4.0948983321682197},40.059679936253211,null,null,null,"Food Supply",{"$f":"_xlfn.XLOOKUP($AH60,$N$9:$N$39,P$9:P$39,\"\",0)","v":""},"","","",{"$f":"_xlfn.XLOOKUP(AH59,N$9:N$39,Q$9:Q$39,\"\",0)+AJ59","v":53377.499469300892},"",""]
[{"$nulls":13},"Lithuania","Bananas",{"$f":"'FFV Coeffs for Calcs'!J56*P26","v":{"$error":"#N/A"}},{"$f":"'FFV Coeffs for Calcs'!K56*R26","v":438.45294150000007},{"$f":"'FFV Coeffs for Calcs'!L56*T26","v":11491.719122356448},{"$f":"'FFV Coeffs for Calcs'!L56*V26","v":1952.1323227814221},13882.30438663787,{"$nulls":4},"Lithuania","Bananas",{"$f":"'FFV Coeffs for Calcs'!N22*P26/1000*$AD$42","v":{"$error":"#N/A"}},{"$f":"R26*'FFV Coeffs for Calcs'!O22/1000*$AD$42","v":1.4827414219294353},{"$f":"T26*'FFV Coeffs for Calcs'!P22/1000*$AD$42","v":45.620656272208983},{"$f":"V26*'FFV Coeffs for Calcs'!O22/1000*$AD$42","v":5.3631251478328315},52.466522841971248,null,null,"Slovenia","Food Waste",12372.91,333.84987477699372,7108.5247339107636,1207.5461253975454,null,834.41355780871163,1205.4017581926128]
[{"$nulls":13},"Luxembourg","Bananas",{"$f":"'FFV Coeffs for Calcs'!J57*P27","v":272.22525000000002},{"$f":"'FFV Coeffs for Calcs'!K57*R27","v":82.725331306693306},{"$f":"'FFV Coeffs for Calcs'!L57*T27","v":2168.2059388815837},{"$f":"'FFV Coeffs for Calcs'!L57*V27","v":368.31955694975755},2891.4760771380347,{"$nulls":4},"Luxembourg","Bananas",{"$f":"'FFV Coeffs for Calcs'!N23*P27/1000*$AD$42","v":1.439891838665925},{"$f":"R27*'FFV Coeffs for Calcs'!O23/1000*$AD$42","v":0.56392330500870869},{"$f":"T27*'FFV Coeffs for Calcs'!P23/1000*$AD$42","v":17.350666057614671},{"$f":"V27*'FFV Coeffs for Calcs'!O23/1000*$AD$42","v":2.0397293916600008},21.394210592949303,null,null,null,"Food Supply","","","","",{"$f":"_xlfn.XLOOKUP(AH61,N$9:N$39,Q$9:Q$39,\"\",0)+AJ61","v":30920.125265388539},"",""]
[{"$nulls":13},"Malta","Bananas",{"$f":"'FFV Coeffs for Calcs'!J58*P28","v":402.67424999999997},{"$f":"'FFV Coeffs for Calcs'!K58*R28","v":126.17190775936294},{"$f":"'FFV Coeffs for Calcs'!L58*T28","v":3306.9275807389345},{"$f":"'FFV Coeffs for Calcs'!L58*V28","v":561.75757088414582},4397.5313093824434,{"$nulls":4},"Malta","Bananas",{"$f":"'FFV Coeffs for Calcs'!N24*P28/1000*$AD$42","v":1.4602106577248548},{"$f":"R28*'FFV Coeffs for Calcs'!O24/1000*$AD$42","v":0.5896636931285606},{"$f":"T28*'FFV Coeffs for Calcs'!P24/1000*$AD$42","v":18.14264055927859},{"$f":"V28*'FFV Coeffs for Calcs'!O24/1000*$AD$42","v":2.132833233502442},22.325348143634447,null,null,"Spain","Food Waste",61354.658618378075,5926.0395600000002,117341.14718069798,21434.682623172008,null,5971.8346768219781,30236.135345010029]
[{"$nulls":13},"Netherlands","Bananas",{"$f":"'FFV Coeffs for Calcs'!J59*P29","v":13161.92035893213},{"$f":"'FFV Coeffs for Calcs'!K59*R29","v":7441.6763232000021},{"$f":"'FFV Coeffs for Calcs'!L59*T29","v":212913.46931431719},{"$f":"'FFV Coeffs for Calcs'!L59*V29","v":33482.360093783755},266999.42609023309,{"$nulls":4},"Netherlands","Bananas",{"$f":"'FFV Coeffs for Calcs'!N25*P29/1000*$AD$42","v":24.158571164680218},{"$f":"R29*'FFV Coeffs for Calcs'!O25/1000*$AD$42","v":17.975159749409574},{"$f":"T29*'FFV Coeffs for Calcs'!P25/1000*$AD$42","v":597.42059593748195},{"$f":"V29*'FFV Coeffs for Calcs'!O25/1000*$AD$42","v":65.016751985606092},704.57107883717788,null,null,null,"Food Supply","","","","",{"$f":"_xlfn.XLOOKUP(AH63,N$9:N$39,Q$9:Q$39,\"\",0)+AJ63","v":390579.07861837803},"",""]
[{"$nulls":13},"Norway","Bananas",{"$f":"'FFV Coeffs for Calcs'!J60*P30","v":5075.3263999999999},{"$f":"'FFV Coeffs for Calcs'!K60*R30","v":1562.9319072834039},{"$f":"'FFV Coeffs for Calcs'!L60*T30","v":41396.258850604667},{"$f":"'FFV Coeffs for Calcs'!L60*V30","v":7032.1049517542615},55066.622109642332,{"$nulls":4},"Norway","Bananas",{"$f":"'FFV Coeffs for Calcs'!N26*P30/1000*$AD$42","v":15.520964742994767},{"$f":"R30*'FFV Coeffs for Calcs'!O26/1000*$AD$42","v":6.4024440690536242},{"$f":"T30*'FFV Coeffs for Calcs'!P26/1000*$AD$42","v":196.98896642157669},{"$f":"V30*'FFV Coeffs for Calcs'!O26/1000*$AD$42","v":23.157853612569266},242.07022884619434,null,null,"Sweden","Food Waste",4802.0925068199358,1169.6473600000002,28074.972479119999,4769.1786280320021,null,3209.3515293279997,4830.4827702879993]
[{"$nulls":13},"Poland","Bananas",{"$f":"'FFV Coeffs for Calcs'!J61*P31","v":15987.818959214303},{"$f":"'FFV Coeffs for Calcs'!K61*R31","v":2054.3787315000004},{"$f":"'FFV Coeffs for Calcs'!L61*T31","v":53844.645841749771},{"$f":"'FFV Coeffs for Calcs'!L61*V31","v":9146.7492754769119},81033.592807940993,{"$nulls":4},"Poland","Bananas",{"$f":"'FFV Coeffs for Calcs'!N27*P31/1000*$AD$42","v":49.037535341563874},{"$f":"R31*'FFV Coeffs for Calcs'!O27/1000*$AD$42","v":8.1208218912524188},{"$f":"T31*'FFV Coeffs for Calcs'!P27/1000*$AD$42","v":249.85963072817415},{"$f":"V31*'FFV Coeffs for Calcs'!O27/1000*$AD$42","v":29.373283474723031},336.39127143571352,null,null,null,"Food Supply","","","","",{"$f":"_xlfn.XLOOKUP(AH65,N$9:N$39,Q$9:Q$39,\"\",0)+AJ65","v":77905.052506819949},"",""]
[{"$nulls":13},"Portugal","Bananas",{"$f":"'FFV Coeffs for Calcs'!J62*P32","v":19916.121845043566},{"$f":"'FFV Coeffs for Calcs'!K62*R32","v":3004.9498755000004},{"$f":"'FFV Coeffs for Calcs'!L62*T32","v":78758.82832001934},{"$f":"'FFV Coeffs for Calcs'!L62*V32","v":13378.995155633045},115058.89519619595,{"$nulls":4},"Portugal","Bananas",{"$f":"'FFV Coeffs for Calcs'!N28*P32/1000*$AD$42","v":61.933691057975253},{"$f":"R32*'FFV Coeffs for Calcs'!O28/1000*$AD$42","v":12.043133034209664},{"$f":"T32*'FFV Coeffs for Calcs'!P28/1000*$AD$42","v":370.54042226677029},{"$f":"V32*'FFV Coeffs for Calcs'!O28/1000*$AD$42","v":43.560413622504143},488.07765998145936,null,null,"Switzerland","Food Waste",1373.45,1461.6373614826343,31122.02855564281,5286.7910577280727,null,3653.169053412239,5277.4027444164021]
[{"$nulls":13},"Romania","Bananas",{"$f":"'FFV Coeffs for Calcs'!J63*P33","v":6990.0517500000005},{"$f":"'FFV Coeffs for Calcs'!K63*R33","v":2028.6625987183832},{"$f":"'FFV Coeffs for Calcs'!L63*T33","v":53170.63377142691},{"$f":"'FFV Coeffs for Calcs'!L63*V33","v":9032.2528511897599},71221.60097133505,{"$nulls":4},"Romania","Bananas",{"$f":"'FFV Coeffs for Calcs'!N29*P33/1000*$AD$42","v":21.375856146302819},{"$f":"R33*'FFV Coeffs for Calcs'!O29/1000*$AD$42","v":7.9952677543953463},{"$f":"T33*'FFV Coeffs for Calcs'!P29/1000*$AD$42","v":245.99660914100031},{"$f":"V33*'FFV Coeffs for Calcs'!O29/1000*$AD$42","v":28.919149976573102},304.28688301827157,null,null,null,"Food Supply","","","","",{"$f":"_xlfn.XLOOKUP(AH67,N$9:N$39,Q$9:Q$39,\"\",0)+AJ67","v":82575.525637924118},"",""]
[{"$nulls":13},"Slovakia","Bananas",{"$f":"'FFV Coeffs for Calcs'!J64*P34","v":2799.1668121732337},{"$f":"'FFV Coeffs for Calcs'!K64*R34","v":832.24309050000011},{"$f":"'FFV Coeffs for Calcs'!L64*T34","v":21812.839947723045},{"$f":"'FFV Coeffs for Calcs'!L64*V34","v":3705.4116499217389},29149.661500318016,{"$nulls":4},"Slovakia","Bananas",{"$f":"'FFV Coeffs for Calcs'!N30*P34/1000*$AD$42","v":10.472480854043257},{"$f":"R34*'FFV Coeffs for Calcs'!O30/1000*$AD$42","v":4.0128327181866972},{"$f":"T34*'FFV Coeffs for Calcs'!P30/1000*$AD$42","v":123.46593910895791},{"$f":"V34*'FFV Coeffs for Calcs'!O30/1000*$AD$42","v":14.514549702771891},152.46580238395975,null,null,"United Kingdom","Food Waste",42628.59,13500.268656177717,276082.51905913273,43858.322783324533,null,49000.980122522276,25236.727212425845]
[{"$nulls":13},"Slovenia","Bananas",{"$f":"'FFV Coeffs for Calcs'!J65*P35","v":10207.650749999999},{"$f":"'FFV Coeffs for Calcs'!K65*R35","v":308.81113416871921},{"$f":"'FFV Coeffs for Calcs'!L65*T35","v":8093.8465222344785},{"$f":"'FFV Coeffs for Calcs'!L65*V35","v":1374.9256524158752},19985.234058819071,{"$nulls":4},"Slovenia","Bananas",{"$f":"'FFV Coeffs for Calcs'!N31*P35/1000*$AD$42","v":14.529464318864482},{"$f":"R35*'FFV Coeffs for Calcs'!O31/1000*$AD$42","v":0.56649595558004751},{"$f":"T35*'FFV Coeffs for Calcs'!P31/1000*$AD$42","v":17.429820794703506},{"$f":"V35*'FFV Coeffs for Calcs'!O31/1000*$AD$42","v":2.0490347545315508},34.574815823679586,null,null,null,"Food Supply","","","","",{"$f":"_xlfn.XLOOKUP(AH69,N$9:N$39,Q$9:Q$39,\"\",0)+AJ69","v":717642.02280888578},"",""]
[{"$nulls":13},"Spain","Bananas",{"$f":"'FFV Coeffs for Calcs'!J66*P36","v":50617.593360161911},{"$f":"'FFV Coeffs for Calcs'!K66*R36","v":5481.586593},{"$f":"'FFV Coeffs for Calcs'!L66*T36","v":133605.95504336033},{"$f":"'FFV Coeffs for Calcs'!L66*V36","v":24405.771647264897},214110.90664378714,{"$nulls":4},"Spain","Bananas",{"$f":"'FFV Coeffs for Calcs'!N32*P36/1000*$AD$42","v":119.26528718993778},{"$f":"R36*'FFV Coeffs for Calcs'!O32/1000*$AD$42","v":16.645579055937521},{"$f":"T36*'FFV Coeffs for Calcs'!P32/1000*$AD$42","v":476.2692453340581},{"$f":"V36*'FFV Coeffs for Calcs'!O32/1000*$AD$42","v":60.207614297961236},672.38772587789458]
[{"$nulls":13},"Sweden","Bananas",{"$f":"'FFV Coeffs for Calcs'!J67*P37","v":3961.726318126447},{"$f":"'FFV Coeffs for Calcs'!K67*R37","v":1081.9238080000002},{"$f":"'FFV Coeffs for Calcs'!L67*T37","v":31966.480650752517},{"$f":"'FFV Coeffs for Calcs'!L67*V37","v":5430.240633231283},42440.371410110245,{"$nulls":4},"Sweden","Bananas",{"$f":"'FFV Coeffs for Calcs'!N33*P37/1000*$AD$42","v":12.400584037608795},{"$f":"R37*'FFV Coeffs for Calcs'!O33/1000*$AD$42","v":4.3644991162274991},{"$f":"T37*'FFV Coeffs for Calcs'!P33/1000*$AD$42","v":151.37935528561206},{"$f":"V37*'FFV Coeffs for Calcs'!O33/1000*$AD$42","v":17.79602692146182},185.94046536091017]
[{"$nulls":13},"Switzerland","Bananas",{"$f":"'FFV Coeffs for Calcs'!J68*P38","v":521.91100000000006},{"$f":"'FFV Coeffs for Calcs'!K68*R38","v":701.58593351166451},{"$f":"'FFV Coeffs for Calcs'!L68*T38","v":18582.404501596531},{"$f":"'FFV Coeffs for Calcs'!L68*V38","v":3156.6480242276516},22962.549459335849,{"$nulls":4},"Switzerland","Bananas",{"$f":"'FFV Coeffs for Calcs'!N34*P38/1000*$AD$42","v":4.3802196684221961},{"$f":"R38*'FFV Coeffs for Calcs'!O34/1000*$AD$42","v":6.7358207279207489},{"$f":"T38*'FFV Coeffs for Calcs'!P34/1000*$AD$42","v":207.24622486085596},{"$f":"V38*'FFV Coeffs for Calcs'!O34/1000*$AD$42","v":24.36368810024695},242.72595335744586]
[{"$nulls":13},"United Kingdom","Bananas",{"$f":"'FFV Coeffs for Calcs'!J69*P39","v":26856.011699999999},{"$f":"'FFV Coeffs for Calcs'!K69*R39","v":9855.1961190097336},{"$f":"'FFV Coeffs for Calcs'!L69*T39","v":237430.96639085416},{"$f":"'FFV Coeffs for Calcs'!L69*V39","v":37718.157593659096},311860.331803523,{"$nulls":4},"United Kingdom","Bananas",{"$f":"'FFV Coeffs for Calcs'!N35*P39/1000*$AD$42","v":90.819320253560491},{"$f":"R39*'FFV Coeffs for Calcs'!O35/1000*$AD$42","v":41.561148202393412},{"$f":"T39*'FFV Coeffs for Calcs'!P35/1000*$AD$42","v":1228.151328046649},{"$f":"V39*'FFV Coeffs for Calcs'!O35/1000*$AD$42","v":135.01970216511543},1495.5514986677183]
[{"$nulls":13},"EU+","Bananas",{"$f":"SUM(P44,P46:P50,P52:P59,P62:P74)","v":272470.85954193154},{"$f":"SUM(Q44:Q74)","v":85450.720779829251},{"$f":"SUM(R44:R74)","v":2234863.8650209736},{"$f":"SUM(S44:S74)","v":375362.75363431766},{"$f":"SUM(T44:T74)","v":2968148.1989770518},{"$nulls":4},"EU+","Bananas",{"$f":"SUM(AA44,AA46:AA50,AA52:AA59,AA62:AA74)","v":802.09230284202988},{"$f":"SUM(AB44:AB74)","v":330.30347914952199},{"$f":"SUM(AC44:AC74)","v":10156.707143372554},{"$f":"SUM(AD44:AD74)","v":1181.4198260800081},12470.522751444116]
{"$rows_empty":9}
[{"$nulls":13},"Country","Food Availability ","Total Food Waste","% Waste",null,"Food Availablility ","% Waste"]
[{"$nulls":13},"Austria",135520.71176254866,67734.763507980286,0.49981115526209097,null,{"$f":"Q9+_xlfn.IFNA(P9,0)","v":135520.71176254866},{"$f":"W9/S86","v":0.49981115526209097}]
[{"$nulls":13},"Belgium",155191.59,72377.169989596499,0.4663730166666667,null,155191.59,0.4663730166666667]
[{"$nulls":13},"Bulgaria",42389.760000000002,20907.613239727667,0.49322320389942442,null,42389.760000000002,0.49322320389942442]
[{"$nulls":13},"Croatia",63917.745904443203,32136.392436813654,0.50277731140358806,null,63917.745904443203,0.50277731140358806]
[{"$nulls":13},"Cyprus",10002.382993802623,5321.2934367622611,0.53200256779402288,null,10002.382993802623,0.53200256779402288]
[{"$nulls":13},"Czechia",109313.23515239135,57061.620156680627,0.52200101915501984,null,109313.23515239135,0.52200101915501984]
[{"$nulls":13},"Denmark",65381.511606417662,32397.964723497989,0.49552180620305353,null,65381.511606417662,0.49552180620305353]
[{"$nulls":13},"Estonia",15476.920684642977,7218.0181884076765,0.46637301666666664,null,15476.920684642977,0.46637301666666664]
[{"$nulls":13},"Finland",94764.112080785257,43695.58193311526,0.46109841556754422,null,94764.112080785257,0.46109841556754422]
[{"$nulls":13},"France",751950.79999999993,376994.23019631481,0.50135491603481885,null,751950.79999999993,0.50135491603481885]
[{"$nulls":13},"Germany",820773.77694687049,415437.83616052254,0.50615388530792971,null,820773.77694687049,0.50615388530792971]
[{"$nulls":13},"Greece",128576.58020833322,60119.378064531324,0.4675764277376146,null,128576.58020833322,0.4675764277376146]
[{"$nulls":13},"Hungary",27265.637765804386,14038.509524211784,0.51487919133945192,null,27265.637765804386,0.51487919133945192]
[{"$nulls":13},"Iceland",4059.1019055231573,1949.5613619014166,0.48029377120310246,null,4059.1019055231573,0.48029377120310246]
[{"$nulls":13},"Ireland",61680.173117129911,30522.526018390581,0.49485149726199162,null,61680.173117129911,0.49485149726199162]
[{"$nulls":13},"Italy",666707.98,310948.86504506448,0.46639439510693198,null,666707.98,0.46639439510693198]
[{"$nulls":13},"Latvia",17266.669626055373,8052.7088012901477,0.46637301666666658,null,17266.669626055373,0.46637301666666658]
[{"$nulls":13},"Lithuania",26333.51,12281.238498121833,0.4663730166666667,null,26333.51,0.4663730166666667]
[{"$nulls":13},"Luxembourg",5298.4583667683664,2647.1389078830025,0.49960549364428514,null,5298.4583667683664,0.49960549364428514]
[{"$nulls":13},"Malta",8065.9823579196946,4022.2145189382877,0.49866393707011047,null,8065.9823579196946,0.49866393707011047]
[{"$nulls":13},"Netherlands",382034.61348914914,196405.31978385517,0.51410346824354869,null,382034.61348914914,0.51410346824354869]
[{"$nulls":13},"Norway",67375.553871995289,33554.684494904621,0.49802461822657695,null,67375.553871995289,0.49802461822657695]
[{"$nulls":13},"Poland",142765.28449601732,76923.126831482514,0.53880834618186479,null,142765.28449601732,0.53880834618186479]
[{"$nulls":13},"Portugal",204618.22375156797,108310.5758758358,0.5293300561896106,null,204618.22375156797,0.5293300561896106]
[{"$nulls":13},"Romania",130314.3875206236,65296.42339117908,0.50106841334649443,null,130314.3875206236,0.50106841334649443]
[{"$nulls":13},"Slovakia",53377.499469300892,26704.384166987056,0.50029290304888863,null,53377.499469300892,0.50029290304888863]
[{"$nulls":13},"Slovenia",30920.125265388539,21022.830734085303,0.67990768322073714,null,30920.125265388539,0.67990768322073714]
[{"$nulls":13},"Spain",390579.07861837803,206056.52798224805,0.52756673171319324,null,390579.07861837803,0.52756673171319324]
[{"$nulls":13},"Sweden",77905.052506819949,38815.890973971938,0.49824613070601453,null,77905.052506819949,0.49824613070601453]
[{"$nulls":13},"Switzerland",82575.525637924118,39243.906974853511,0.47524864869682554,null,82575.525637924118,0.47524864869682554]
[{"$nulls":13},"United Kingdom",717642.02280888578,376069.70049863495,0.52403522723861662,null,717642.02280888578,0.52403522723861662]

{"sheet":"Cucumbers - Summary","index":4,"n_rows":116,"n_cols":42,"rows_kept":116,"cut":false,"hidden":false,"merged":[]}
["Homepage"]
[]
[]
[]
[]
[]
[{"$nulls":13},"Food Waste","Unit: Tonnes",{"$nulls":9},"Difference (Worst and Best Case)","Unit: Tonnes",{"$nulls":7},"Data for the illustration","Unit: Tonnes"]
[{"$nulls":13},"Country","Product","Food Waste - Pre R&D","Food Supply Quantity","Food Waste - R&D","Consumption - Households","Food Waste - Households","Consumption - Food Service","Food Waste - Food Service","Total Food Waste",null,"Country","Product","Total FW","Best Case","Worst Case","Average B/W case","Lower Error","Higher Error",null,"Country",null,"Food Waste - Pre R&D","Food Waste - R&D","Food Waste - Households","Food Waste - Food Service","Food Availability","Lower Error","Higher Error"]
[{"$nulls":13},"Austria","Cucumbers",{"$f":"_xlfn.XLOOKUP($N9&$O9,'FFV Waste'!$A:$A&'FFV Waste'!$B:$B,'FFV Waste'!C:C,\"\",0)","v":2684.2049999999999},{"$f":"_xlfn.XLOOKUP($N9&$O9,'FFV Waste'!$A:$A&'FFV Waste'!$B:$B,'FFV Waste'!D:D,\"\",0)","v":43524.240480929358},{"$f":"_xlfn.XLOOKUP($N9&$O9,'FFV Waste'!$A:$A&'FFV Waste'!$B:$B,'FFV Waste'!E:E,\"\",0)","v":2002.1150621227505},{"$f":"_xlfn.XLOOKUP($N9&$O9,'FFV Waste'!$A:$A&'FFV Waste'!$B:$B,'FFV Waste'!F:F,\"\",0)","v":36954.691622737882},{"$f":"_xlfn.XLOOKUP($N9&$O9,'FFV Waste'!$A:$A&'FFV Waste'!$B:$B,'FFV Waste'!G:G,\"\",0)","v":8690.5116466138588},{"$f":"_xlfn.XLOOKUP($N9&$O9,'FFV Waste'!$A:$A&'FFV Waste'!$B:$B,'FFV Waste'!H:H,\"\",0)","v":4567.4337960687262},{"$f":"_xlfn.XLOOKUP($N9&$O9,'FFV Waste'!$A:$A&'FFV Waste'!$B:$B,'FFV Waste'!I:I,\"\",0)","v":1557.4949244594357},{"$f":"_xlfn.XLOOKUP($N9&$O9,'FFV Waste'!$A:$A&'FFV Waste'!$B:$B,'FFV Waste'!J:J,\"\",0)","v":14934.326633196044},null,"Austria","Cucumbers",{"$f":"W9","v":14934.326633196044},{"$f":"_xlfn.XLOOKUP(Y9&Z9,'FFV Waste'!$L:$L&'FFV Waste'!$M:$M,'FFV Waste'!$U:$U,,0)","v":10144.609666276276},{"$f":"_xlfn.XLOOKUP(Y9&Z9,'FFV Waste'!$W:$W&'FFV Waste'!$X:$X,'FFV Waste'!$AF:$AF,,0)","v":19467.29227750071},{"$f":"AVERAGE(AB9:AC9)","v":14805.950971888493},{"$f":"AA9-MIN(AB9,AA9)","v":4789.7169669197683},{"$f":"AC9-MIN(AA9,AC9)","v":4532.9656443046661},null,"Austria","Food Waste",{"$f":"_xlfn.XLOOKUP($AH9,$N$9:$N$39,P$9:P$39,\"\",0)","v":2684.2049999999999},{"$f":"_xlfn.XLOOKUP($AH9,$N$9:$N$39,R$9:R$39,\"\",0)","v":2002.1150621227505},{"$f":"_xlfn.XLOOKUP($AH9,$N$9:$N$39,T$9:T$39,\"\",0)","v":8690.5116466138588},{"$f":"_xlfn.XLOOKUP($AH9,$N$9:$N$39,V$9:V$39,\"\",0)","v":1557.4949244594357},null,{"$f":"IF(ISBLANK($AH9),\"\",_xlfn.XLOOKUP($AH9,$Y$9:$Y$39,AE$9:AE$39,,0))","v":4789.7169669197683},{"$f":"IF(ISBLANK($AH9),\"\",_xlfn.XLOOKUP($AH9,$Y$9:$Y$39,AF$9:AF$39,,0))","v":4532.9656443046661}]
[{"$nulls":13},"Belgium","Cucumbers",{"$f":"_xlfn.XLOOKUP($N10&$O10,'FFV Waste'!$A:$A&'FFV Waste'!$B:$B,'FFV Waste'!C:C,\"\",0)","v":620.44787232449278},{"$f":"_xlfn.XLOOKUP($N10&$O10,'FFV Waste'!$A:$A&'FFV Waste'!$B:$B,'FFV Waste'!D:D,\"\",0)","v":18986.002350000002},{"$f":"_xlfn.XLOOKUP($N10&$O10,'FFV Waste'!$A:$A&'FFV Waste'!$B:$B,'FFV Waste'!E:E,\"\",0)","v":477.18152573000003},{"$f":"_xlfn.XLOOKUP($N10&$O10,'FFV Waste'!$A:$A&'FFV Waste'!$B:$B,'FFV Waste'!F:F,\"\",0)","v":16472.850533600304},{"$f":"_xlfn.XLOOKUP($N10&$O10,'FFV Waste'!$A:$A&'FFV Waste'!$B:$B,'FFV Waste'!G:G,\"\",0)","v":3873.8653504850045},{"$f":"_xlfn.XLOOKUP($N10&$O10,'FFV Waste'!$A:$A&'FFV Waste'!$B:$B,'FFV Waste'!H:H,\"\",0)","v":2035.9702906696984},{"$f":"_xlfn.XLOOKUP($N10&$O10,'FFV Waste'!$A:$A&'FFV Waste'!$B:$B,'FFV Waste'!I:I,\"\",0)","v":694.26586911836728},{"$f":"_xlfn.XLOOKUP($N10&$O10,'FFV Waste'!$A:$A&'FFV Waste'!$B:$B,'FFV Waste'!J:J,\"\",0)","v":5665.7606176578638},null,"Belgium","Cucumbers",{"$f":"W10","v":5665.7606176578638},{"$f":"_xlfn.XLOOKUP(Y10&Z10,'FFV Waste'!$L:$L&'FFV Waste'!$M:$M,'FFV Waste'!$U:$U,,0)","v":3874.8012846013826},{"$f":"_xlfn.XLOOKUP(Y10&Z10,'FFV Waste'!$W:$W&'FFV Waste'!$X:$X,'FFV Waste'!$AF:$AF,,0)","v":7941.5115134120606},{"$f":"AVERAGE(AB10:AC10)","v":5908.1563990067216},{"$f":"AA10-MIN(AB10,AA10)","v":1790.9593330564812},{"$f":"AC10-MIN(AA10,AC10)","v":2275.7508957541968},null,null,"Food Supply","","","","",{"$f":"_xlfn.XLOOKUP(AH9,N$9:N$39,Q$9:Q$39,\"\",0)+AJ9","v":46208.44548092936},{"$f":"IF(ISBLANK($AH10),\"\",_xlfn.XLOOKUP($AH10,$Y$9:$Y$39,AE$9:AE$39,,0))","v":""},""]
[{"$nulls":13},"Bulgaria","Cucumbers",{"$f":"_xlfn.XLOOKUP($N11&$O11,'FFV Waste'!$A:$A&'FFV Waste'!$B:$B,'FFV Waste'!C:C,\"\",0)","v":4198.2369200591374},{"$f":"_xlfn.XLOOKUP($N11&$O11,'FFV Waste'!$A:$A&'FFV Waste'!$B:$B,'FFV Waste'!D:D,\"\",0)","v":54963.854250000004},{"$f":"_xlfn.XLOOKUP($N11&$O11,'FFV Waste'!$A:$A&'FFV Waste'!$B:$B,'FFV Waste'!E:E,\"\",0)","v":1381.4248701499998},{"$f":"_xlfn.XLOOKUP($N11&$O11,'FFV Waste'!$A:$A&'FFV Waste'!$B:$B,'FFV Waste'!F:F,\"\",0)","v":47688.36214806651},{"$f":"_xlfn.XLOOKUP($N11&$O11,'FFV Waste'!$A:$A&'FFV Waste'!$B:$B,'FFV Waste'!G:G,\"\",0)","v":11214.71316515364},{"$f":"_xlfn.XLOOKUP($N11&$O11,'FFV Waste'!$A:$A&'FFV Waste'!$B:$B,'FFV Waste'!H:H,\"\",0)","v":5894.0672317834978},{"$f":"_xlfn.XLOOKUP($N11&$O11,'FFV Waste'!$A:$A&'FFV Waste'!$B:$B,'FFV Waste'!I:I,\"\",0)","v":2009.876926038173},{"$f":"_xlfn.XLOOKUP($N11&$O11,'FFV Waste'!$A:$A&'FFV Waste'!$B:$B,'FFV Waste'!J:J,\"\",0)","v":18804.251881400953},null,"Bulgaria","Cucumbers",18804.251881400953,{"$f":"_xlfn.XLOOKUP(Y11&Z11,'FFV Waste'!$L:$L&'FFV Waste'!$M:$M,'FFV Waste'!$U:$U,,0)","v":13619.483337969601},{"$f":"_xlfn.XLOOKUP(Y11&Z11,'FFV Waste'!$W:$W&'FFV Waste'!$X:$X,'FFV Waste'!$AF:$AF,,0)","v":21194.239182410689},17406.861260190144,5184.7685434313516,2389.9873010097363,null,"Belgium","Food Waste",620.44787232449278,477.18152573000003,3873.8653504850045,694.26586911836728,null,1790.9593330564812,2275.7508957541968]
[{"$nulls":13},"Croatia","Cucumbers",{"$f":"_xlfn.XLOOKUP($N12&$O12,'FFV Waste'!$A:$A&'FFV Waste'!$B:$B,'FFV Waste'!C:C,\"\",0)","v":931.51559999999995},{"$f":"_xlfn.XLOOKUP($N12&$O12,'FFV Waste'!$A:$A&'FFV Waste'!$B:$B,'FFV Waste'!D:D,\"\",0)","v":11354.142900000001},{"$f":"_xlfn.XLOOKUP($N12&$O12,'FFV Waste'!$A:$A&'FFV Waste'!$B:$B,'FFV Waste'!E:E,\"\",0)","v":285.36745822},{"$f":"_xlfn.XLOOKUP($N12&$O12,'FFV Waste'!$A:$A&'FFV Waste'!$B:$B,'FFV Waste'!F:F,\"\",0)","v":9851.2101431842002},{"$f":"_xlfn.XLOOKUP($N12&$O12,'FFV Waste'!$A:$A&'FFV Waste'!$B:$B,'FFV Waste'!G:G,\"\",0)","v":2316.6762520054845},{"$f":"_xlfn.XLOOKUP($N12&$O12,'FFV Waste'!$A:$A&'FFV Waste'!$B:$B,'FFV Waste'!H:H,\"\",0)","v":1217.5652985958004},{"$f":"_xlfn.XLOOKUP($N12&$O12,'FFV Waste'!$A:$A&'FFV Waste'!$B:$B,'FFV Waste'!I:I,\"\",0)","v":415.18976682116795},{"$f":"_xlfn.XLOOKUP($N12&$O12,'FFV Waste'!$A:$A&'FFV Waste'!$B:$B,'FFV Waste'!J:J,\"\",0)","v":3948.749077046652},null,"Croatia","Cucumbers",3948.749077046652,{"$f":"_xlfn.XLOOKUP(Y12&Z12,'FFV Waste'!$L:$L&'FFV Waste'!$M:$M,'FFV Waste'!$U:$U,,0)","v":2877.70695766063},{"$f":"_xlfn.XLOOKUP(Y12&Z12,'FFV Waste'!$W:$W&'FFV Waste'!$X:$X,'FFV Waste'!$AF:$AF,,0)","v":4378.1940625801381},3627.950510120384,1071.042119386022,429.44498553348603,null,null,"Food Supply","","","","",{"$f":"_xlfn.XLOOKUP(AH11,N$9:N$39,Q$9:Q$39,\"\",0)+AJ11","v":19606.450222324496},"",""]
[{"$nulls":13},"Cyprus","Cucumbers",{"$f":"_xlfn.XLOOKUP($N13&$O13,'FFV Waste'!$A:$A&'FFV Waste'!$B:$B,'FFV Waste'!C:C,\"\",0)","v":471.01620580078571},{"$f":"_xlfn.XLOOKUP($N13&$O13,'FFV Waste'!$A:$A&'FFV Waste'!$B:$B,'FFV Waste'!D:D,\"\",0)","v":5027.0300999999999},{"$f":"_xlfn.XLOOKUP($N13&$O13,'FFV Waste'!$A:$A&'FFV Waste'!$B:$B,'FFV Waste'!E:E,\"\",0)","v":126.34602317999999},{"$f":"_xlfn.XLOOKUP($N13&$O13,'FFV Waste'!$A:$A&'FFV Waste'!$B:$B,'FFV Waste'!F:F,\"\",0)","v":4361.6088283698},{"$f":"_xlfn.XLOOKUP($N13&$O13,'FFV Waste'!$A:$A&'FFV Waste'!$B:$B,'FFV Waste'!G:G,\"\",0)","v":1025.7050094716312},{"$f":"_xlfn.XLOOKUP($N13&$O13,'FFV Waste'!$A:$A&'FFV Waste'!$B:$B,'FFV Waste'!H:H,\"\",0)","v":539.07524845019998},{"$f":"_xlfn.XLOOKUP($N13&$O13,'FFV Waste'!$A:$A&'FFV Waste'!$B:$B,'FFV Waste'!I:I,\"\",0)","v":183.8246597215182},{"$f":"_xlfn.XLOOKUP($N13&$O13,'FFV Waste'!$A:$A&'FFV Waste'!$B:$B,'FFV Waste'!J:J,\"\",0)","v":1806.891898173935},null,"Cyprus","Cucumbers",1806.891898173935,{"$f":"_xlfn.XLOOKUP(Y13&Z13,'FFV Waste'!$L:$L&'FFV Waste'!$M:$M,'FFV Waste'!$U:$U,,0)","v":1332.6895722087295},{"$f":"_xlfn.XLOOKUP(Y13&Z13,'FFV Waste'!$W:$W&'FFV Waste'!$X:$X,'FFV Waste'!$AF:$AF,,0)","v":2409.4551993977079},1871.0723858032188,474.20232596520555,602.5633012237729,null,"Bulgaria","Food Waste",4198.2369200591374,1381.4248701499998,11214.71316515364,2009.876926038173,null,5184.7685434313516,2389.9873010097363]
[{"$nulls":13},"Czechia","Cucumbers",{"$f":"_xlfn.XLOOKUP($N14&$O14,'FFV Waste'!$A:$A&'FFV Waste'!$B:$B,'FFV Waste'!C:C,\"\",0)","v":344.90220000000005},{"$f":"_xlfn.XLOOKUP($N14&$O14,'FFV Waste'!$A:$A&'FFV Waste'!$B:$B,'FFV Waste'!D:D,\"\",0)","v":43091.283285717},{"$f":"_xlfn.XLOOKUP($N14&$O14,'FFV Waste'!$A:$A&'FFV Waste'!$B:$B,'FFV Waste'!E:E,\"\",0)","v":1083.0275865810204},{"$f":"_xlfn.XLOOKUP($N14&$O14,'FFV Waste'!$A:$A&'FFV Waste'!$B:$B,'FFV Waste'!F:F,\"\",0)","v":37387.347572231025},{"$f":"_xlfn.XLOOKUP($N14&$O14,'FFV Waste'!$A:$A&'FFV Waste'!$B:$B,'FFV Waste'!G:G,\"\",0)","v":8792.2579040696619},{"$f":"_xlfn.XLOOKUP($N14&$O14,'FFV Waste'!$A:$A&'FFV Waste'!$B:$B,'FFV Waste'!H:H,\"\",0)","v":4620.9081269049566},{"$f":"_xlfn.XLOOKUP($N14&$O14,'FFV Waste'!$A:$A&'FFV Waste'!$B:$B,'FFV Waste'!I:I,\"\",0)","v":1575.7296712745904},{"$f":"_xlfn.XLOOKUP($N14&$O14,'FFV Waste'!$A:$A&'FFV Waste'!$B:$B,'FFV Waste'!J:J,\"\",0)","v":11795.917361925272},null,"Czechia","Cucumbers",11795.917361925272,{"$f":"_xlfn.XLOOKUP(Y14&Z14,'FFV Waste'!$L:$L&'FFV Waste'!$M:$M,'FFV Waste'!$U:$U,,0)","v":7731.0945229069448},{"$f":"_xlfn.XLOOKUP(Y14&Z14,'FFV Waste'!$W:$W&'FFV Waste'!$X:$X,'FFV Waste'!$AF:$AF,,0)","v":16616.137588904654},12173.616055905799,4064.8228390183276,4820.2202269793816,null,null,"Food Supply","","","","",{"$f":"_xlfn.XLOOKUP(AH13,N$9:N$39,Q$9:Q$39,\"\",0)+AJ13","v":59162.091170059139},"",""]
[{"$nulls":13},"Denmark","Cucumbers",{"$f":"_xlfn.XLOOKUP($N15&$O15,'FFV Waste'!$A:$A&'FFV Waste'!$B:$B,'FFV Waste'!C:C,\"\",0)","v":1074.6880205277853},{"$f":"_xlfn.XLOOKUP($N15&$O15,'FFV Waste'!$A:$A&'FFV Waste'!$B:$B,'FFV Waste'!D:D,\"\",0)","v":27384.510750000001},{"$f":"_xlfn.XLOOKUP($N15&$O15,'FFV Waste'!$A:$A&'FFV Waste'!$B:$B,'FFV Waste'!E:E,\"\",0)","v":688.26403684999991},{"$f":"_xlfn.XLOOKUP($N15&$O15,'FFV Waste'!$A:$A&'FFV Waste'!$B:$B,'FFV Waste'!F:F,\"\",0)","v":23759.659574703503},{"$f":"_xlfn.XLOOKUP($N15&$O15,'FFV Waste'!$A:$A&'FFV Waste'!$B:$B,'FFV Waste'!G:G,\"\",0)","v":7484.2927660316036},{"$f":"_xlfn.XLOOKUP($N15&$O15,'FFV Waste'!$A:$A&'FFV Waste'!$B:$B,'FFV Waste'!H:H,\"\",0)","v":2936.587138446499},{"$f":"_xlfn.XLOOKUP($N15&$O15,'FFV Waste'!$A:$A&'FFV Waste'!$B:$B,'FFV Waste'!I:I,\"\",0)","v":1001.3762142102562},{"$f":"_xlfn.XLOOKUP($N15&$O15,'FFV Waste'!$A:$A&'FFV Waste'!$B:$B,'FFV Waste'!J:J,\"\",0)","v":10248.621037619645},null,"Denmark","Cucumbers",10248.621037619645,{"$f":"_xlfn.XLOOKUP(Y15&Z15,'FFV Waste'!$L:$L&'FFV Waste'!$M:$M,'FFV Waste'!$U:$U,,0)","v":5768.6132797751943},{"$f":"_xlfn.XLOOKUP(Y15&Z15,'FFV Waste'!$W:$W&'FFV Waste'!$X:$X,'FFV Waste'!$AF:$AF,,0)","v":11634.243543852401},8701.4284118137984,4480.0077578444507,1385.6225062327558,null,"Croatia","Food Waste",931.51559999999995,285.36745822,2316.6762520054845,415.18976682116795,null,1071.042119386022,429.44498553348603]
[{"$nulls":13},"Estonia","Cucumbers",{"$f":"_xlfn.XLOOKUP($N16&$O16,'FFV Waste'!$A:$A&'FFV Waste'!$B:$B,'FFV Waste'!C:C,\"\",0)","v":556.16940000000011},{"$f":"_xlfn.XLOOKUP($N16&$O16,'FFV Waste'!$A:$A&'FFV Waste'!$B:$B,'FFV Waste'!D:D,\"\",0)","v":7605.8631015056744},{"$f":"_xlfn.XLOOKUP($N16&$O16,'FFV Waste'!$A:$A&'FFV Waste'!$B:$B,'FFV Waste'!E:E,\"\",0)","v":191.16069261784259},{"$f":"_xlfn.XLOOKUP($N16&$O16,'FFV Waste'!$A:$A&'FFV Waste'!$B:$B,'FFV Waste'!F:F,\"\",0)","v":6599.0851439101698},{"$f":"_xlfn.XLOOKUP($N16&$O16,'FFV Waste'!$A:$A&'FFV Waste'!$B:$B,'FFV Waste'!G:G,\"\",0)","v":1551.8848563428749},{"$f":"_xlfn.XLOOKUP($N16&$O16,'FFV Waste'!$A:$A&'FFV Waste'!$B:$B,'FFV Waste'!H:H,\"\",0)","v":815.61726497766176},{"$f":"_xlfn.XLOOKUP($N16&$O16,'FFV Waste'!$A:$A&'FFV Waste'!$B:$B,'FFV Waste'!I:I,\"\",0)","v":278.12548735738267},{"$f":"_xlfn.XLOOKUP($N16&$O16,'FFV Waste'!$A:$A&'FFV Waste'!$B:$B,'FFV Waste'!J:J,\"\",0)","v":2577.3404363180998},null,"Estonia","Cucumbers",2577.3404363180998,{"$f":"_xlfn.XLOOKUP(Y16&Z16,'FFV Waste'!$L:$L&'FFV Waste'!$M:$M,'FFV Waste'!$U:$U,,0)","v":1859.8754715256825},{"$f":"_xlfn.XLOOKUP(Y16&Z16,'FFV Waste'!$W:$W&'FFV Waste'!$X:$X,'FFV Waste'!$AF:$AF,,0)","v":2932.8453028197746},2396.3603871727287,717.46496479241728,355.50486650167477,null,null,"Food Supply","","","","",{"$f":"_xlfn.XLOOKUP(AH15,N$9:N$39,Q$9:Q$39,\"\",0)+AJ15","v":12285.658500000001},"",""]
[{"$nulls":13},"Finland","Cucumbers",{"$f":"_xlfn.XLOOKUP($N17&$O17,'FFV Waste'!$A:$A&'FFV Waste'!$B:$B,'FFV Waste'!C:C,\"\",0)","v":3916.0807500000001},{"$f":"_xlfn.XLOOKUP($N17&$O17,'FFV Waste'!$A:$A&'FFV Waste'!$B:$B,'FFV Waste'!D:D,\"\",0)","v":37653.031510320216},{"$f":"_xlfn.XLOOKUP($N17&$O17,'FFV Waste'!$A:$A&'FFV Waste'!$B:$B,'FFV Waste'!E:E,\"\",0)","v":946.34619195938126},{"$f":"_xlfn.XLOOKUP($N17&$O17,'FFV Waste'!$A:$A&'FFV Waste'!$B:$B,'FFV Waste'!F:F,\"\",0)","v":32668.94993334114},{"$f":"_xlfn.XLOOKUP($N17&$O17,'FFV Waste'!$A:$A&'FFV Waste'!$B:$B,'FFV Waste'!G:G,\"\",0)","v":6272.4383872014987},{"$f":"_xlfn.XLOOKUP($N17&$O17,'FFV Waste'!$A:$A&'FFV Waste'!$B:$B,'FFV Waste'!H:H,\"\",0)","v":4037.7353850196923},{"$f":"_xlfn.XLOOKUP($N17&$O17,'FFV Waste'!$A:$A&'FFV Waste'!$B:$B,'FFV Waste'!I:I,\"\",0)","v":1376.8677662917153},{"$f":"_xlfn.XLOOKUP($N17&$O17,'FFV Waste'!$A:$A&'FFV Waste'!$B:$B,'FFV Waste'!J:J,\"\",0)","v":12511.733095452593},null,"Finland","Cucumbers",12511.733095452593,{"$f":"_xlfn.XLOOKUP(Y17&Z17,'FFV Waste'!$L:$L&'FFV Waste'!$M:$M,'FFV Waste'!$U:$U,,0)","v":10370.113005936164},{"$f":"_xlfn.XLOOKUP(Y17&Z17,'FFV Waste'!$W:$W&'FFV Waste'!$X:$X,'FFV Waste'!$AF:$AF,,0)","v":18435.210943140937},14402.661974538551,2141.6200895164293,5923.4778476883439,null,"Cyprus","Food Waste",471.01620580078571,126.34602317999999,1025.7050094716312,183.8246597215182,null,474.20232596520555,602.5633012237729]
[{"$nulls":13},"France","Cucumbers",{"$f":"_xlfn.XLOOKUP($N18&$O18,'FFV Waste'!$A:$A&'FFV Waste'!$B:$B,'FFV Waste'!C:C,\"\",0)","v":33024.0936},{"$f":"_xlfn.XLOOKUP($N18&$O18,'FFV Waste'!$A:$A&'FFV Waste'!$B:$B,'FFV Waste'!D:D,\"\",0)","v":137381.1294934914},{"$f":"_xlfn.XLOOKUP($N18&$O18,'FFV Waste'!$A:$A&'FFV Waste'!$B:$B,'FFV Waste'!E:E,\"\",0)","v":3452.8457212697504},{"$f":"_xlfn.XLOOKUP($N18&$O18,'FFV Waste'!$A:$A&'FFV Waste'!$B:$B,'FFV Waste'!F:F,\"\",0)","v":119196.17255727727},{"$f":"_xlfn.XLOOKUP($N18&$O18,'FFV Waste'!$A:$A&'FFV Waste'!$B:$B,'FFV Waste'!G:G,\"\",0)","v":28030.966579719705},{"$f":"_xlfn.XLOOKUP($N18&$O18,'FFV Waste'!$A:$A&'FFV Waste'!$B:$B,'FFV Waste'!H:H,\"\",0)","v":14732.11121494438},{"$f":"_xlfn.XLOOKUP($N18&$O18,'FFV Waste'!$A:$A&'FFV Waste'!$B:$B,'FFV Waste'!I:I,\"\",0)","v":5023.6499242960335},{"$f":"_xlfn.XLOOKUP($N18&$O18,'FFV Waste'!$A:$A&'FFV Waste'!$B:$B,'FFV Waste'!J:J,\"\",0)","v":69531.555825285483},null,"France","Cucumbers",69531.555825285483,{"$f":"_xlfn.XLOOKUP(Y18&Z18,'FFV Waste'!$L:$L&'FFV Waste'!$M:$M,'FFV Waste'!$U:$U,,0)","v":56572.323464703295},{"$f":"_xlfn.XLOOKUP(Y18&Z18,'FFV Waste'!$W:$W&'FFV Waste'!$X:$X,'FFV Waste'!$AF:$AF,,0)","v":85998.699499927243},71285.511482315269,12959.232360582188,16467.14367464176,null,null,"Food Supply","","","","",{"$f":"_xlfn.XLOOKUP(AH17,N$9:N$39,Q$9:Q$39,\"\",0)+AJ17","v":5498.0463058007854},"",""]
[{"$nulls":13},"Germany","Cucumbers",{"$f":"_xlfn.XLOOKUP($N19&$O19,'FFV Waste'!$A:$A&'FFV Waste'!$B:$B,'FFV Waste'!C:C,\"\",0)","v":82211.110350000003},{"$f":"_xlfn.XLOOKUP($N19&$O19,'FFV Waste'!$A:$A&'FFV Waste'!$B:$B,'FFV Waste'!D:D,\"\",0)","v":445707.56370775978},{"$f":"_xlfn.XLOOKUP($N19&$O19,'FFV Waste'!$A:$A&'FFV Waste'!$B:$B,'FFV Waste'!E:E,\"\",0)","v":11202.116767855028},{"$f":"_xlfn.XLOOKUP($N19&$O19,'FFV Waste'!$A:$A&'FFV Waste'!$B:$B,'FFV Waste'!F:F,\"\",0)","v":386709.84777651523},{"$f":"_xlfn.XLOOKUP($N19&$O19,'FFV Waste'!$A:$A&'FFV Waste'!$B:$B,'FFV Waste'!G:G,\"\",0)","v":92036.943770810627},{"$f":"_xlfn.XLOOKUP($N19&$O19,'FFV Waste'!$A:$A&'FFV Waste'!$B:$B,'FFV Waste'!H:H,\"\",0)","v":47795.599163389532},{"$f":"_xlfn.XLOOKUP($N19&$O19,'FFV Waste'!$A:$A&'FFV Waste'!$B:$B,'FFV Waste'!I:I,\"\",0)","v":16298.299314715832},{"$f":"_xlfn.XLOOKUP($N19&$O19,'FFV Waste'!$A:$A&'FFV Waste'!$B:$B,'FFV Waste'!J:J,\"\",0)","v":201748.4702033815},null,"Germany","Cucumbers",201748.4702033815,{"$f":"_xlfn.XLOOKUP(Y19&Z19,'FFV Waste'!$L:$L&'FFV Waste'!$M:$M,'FFV Waste'!$U:$U,,0)","v":158608.96936690714},{"$f":"_xlfn.XLOOKUP(Y19&Z19,'FFV Waste'!$W:$W&'FFV Waste'!$X:$X,'FFV Waste'!$AF:$AF,,0)","v":254077.38209406732},206343.17573048722,43139.500836474355,52328.91189068582,null,"Czechia","Food Waste",344.90220000000005,1083.0275865810204,8792.2579040696619,1575.7296712745904,null,4064.8228390183276,4820.2202269793816]
[{"$nulls":13},"Greece","Cucumbers",{"$f":"_xlfn.XLOOKUP($N20&$O20,'FFV Waste'!$A:$A&'FFV Waste'!$B:$B,'FFV Waste'!C:C,\"\",0)","v":11549.564928841273},{"$f":"_xlfn.XLOOKUP($N20&$O20,'FFV Waste'!$A:$A&'FFV Waste'!$B:$B,'FFV Waste'!D:D,\"\",0)","v":58972.275900000001},{"$f":"_xlfn.XLOOKUP($N20&$O20,'FFV Waste'!$A:$A&'FFV Waste'!$B:$B,'FFV Waste'!E:E,\"\",0)","v":1482.1698676199999},{"$f":"_xlfn.XLOOKUP($N20&$O20,'FFV Waste'!$A:$A&'FFV Waste'!$B:$B,'FFV Waste'!F:F,\"\",0)","v":51166.1943688182},{"$f":"_xlfn.XLOOKUP($N20&$O20,'FFV Waste'!$A:$A&'FFV Waste'!$B:$B,'FFV Waste'!G:G,\"\",0)","v":12032.583375733746},{"$f":"_xlfn.XLOOKUP($N20&$O20,'FFV Waste'!$A:$A&'FFV Waste'!$B:$B,'FFV Waste'!H:H,\"\",0)","v":6323.9116635617975},{"$f":"_xlfn.XLOOKUP($N20&$O20,'FFV Waste'!$A:$A&'FFV Waste'!$B:$B,'FFV Waste'!I:I,\"\",0)","v":2156.4538772745732},{"$f":"_xlfn.XLOOKUP($N20&$O20,'FFV Waste'!$A:$A&'FFV Waste'!$B:$B,'FFV Waste'!J:J,\"\",0)","v":27220.77204946959},null,"Greece","Cucumbers",27220.77204946959,{"$f":"_xlfn.XLOOKUP(Y20&Z20,'FFV Waste'!$L:$L&'FFV Waste'!$M:$M,'FFV Waste'!$U:$U,,0)","v":21657.887037254957},{"$f":"_xlfn.XLOOKUP(Y20&Z20,'FFV Waste'!$W:$W&'FFV Waste'!$X:$X,'FFV Waste'!$AF:$AF,,0)","v":34289.464406609673},27973.675721932315,5562.8850122146323,7068.6923571400839,null,null,"Food Supply","","","","",{"$f":"_xlfn.XLOOKUP(AH19,N$9:N$39,Q$9:Q$39,\"\",0)+AJ19","v":43436.185485716996},"",""]
[{"$nulls":13},"Hungary","Cucumbers",{"$f":"_xlfn.XLOOKUP($N21&$O21,'FFV Waste'!$A:$A&'FFV Waste'!$B:$B,'FFV Waste'!C:C,\"\",0)","v":749.67850469882785},{"$f":"_xlfn.XLOOKUP($N21&$O21,'FFV Waste'!$A:$A&'FFV Waste'!$B:$B,'FFV Waste'!D:D,\"\",0)","v":22194.826500000003},{"$f":"_xlfn.XLOOKUP($N21&$O21,'FFV Waste'!$A:$A&'FFV Waste'!$B:$B,'FFV Waste'!E:E,\"\",0)","v":557.82997269999998},{"$f":"_xlfn.XLOOKUP($N21&$O21,'FFV Waste'!$A:$A&'FFV Waste'!$B:$B,'FFV Waste'!F:F,\"\",0)","v":19256.926909297003},{"$f":"_xlfn.XLOOKUP($N21&$O21,'FFV Waste'!$A:$A&'FFV Waste'!$B:$B,'FFV Waste'!G:G,\"\",0)","v":4528.5873115030117},{"$f":"_xlfn.XLOOKUP($N21&$O21,'FFV Waste'!$A:$A&'FFV Waste'!$B:$B,'FFV Waste'!H:H,\"\",0)","v":2380.0696180029991},{"$f":"_xlfn.XLOOKUP($N21&$O21,'FFV Waste'!$A:$A&'FFV Waste'!$B:$B,'FFV Waste'!I:I,\"\",0)","v":811.60373973902279},{"$f":"_xlfn.XLOOKUP($N21&$O21,'FFV Waste'!$A:$A&'FFV Waste'!$B:$B,'FFV Waste'!J:J,\"\",0)","v":6647.6995286408619},null,"Hungary","Cucumbers",6647.6995286408619,{"$f":"_xlfn.XLOOKUP(Y21&Z21,'FFV Waste'!$L:$L&'FFV Waste'!$M:$M,'FFV Waste'!$U:$U,,0)","v":4554.0501688142349},{"$f":"_xlfn.XLOOKUP(Y21&Z21,'FFV Waste'!$W:$W&'FFV Waste'!$X:$X,'FFV Waste'!$AF:$AF,,0)","v":8558.3965657413301},6556.223367277782,2093.649359826627,1910.6970371004682,null,"Denmark","Food Waste",1074.6880205277853,688.26403684999991,7484.2927660316036,1001.3762142102562,null,4480.0077578444507,1385.6225062327558]
[{"$nulls":13},"Iceland","Cucumbers",{"$f":"_xlfn.XLOOKUP($N22&$O22,'FFV Waste'!$A:$A&'FFV Waste'!$B:$B,'FFV Waste'!C:C,\"\",0)","v":157.65389999999999},{"$f":"_xlfn.XLOOKUP($N22&$O22,'FFV Waste'!$A:$A&'FFV Waste'!$B:$B,'FFV Waste'!D:D,\"\",0)","v":1230.1975748101283},{"$f":"_xlfn.XLOOKUP($N22&$O22,'FFV Waste'!$A:$A&'FFV Waste'!$B:$B,'FFV Waste'!E:E,\"\",0)","v":30.918965713561221},{"$f":"_xlfn.XLOOKUP($N22&$O22,'FFV Waste'!$A:$A&'FFV Waste'!$B:$B,'FFV Waste'!F:F,\"\",0)","v":1067.3579620959447},{"$f":"_xlfn.XLOOKUP($N22&$O22,'FFV Waste'!$A:$A&'FFV Waste'!$B:$B,'FFV Waste'!G:G,\"\",0)","v":251.00701408622965},{"$f":"_xlfn.XLOOKUP($N22&$O22,'FFV Waste'!$A:$A&'FFV Waste'!$B:$B,'FFV Waste'!H:H,\"\",0)","v":131.92064700062247},{"$f":"_xlfn.XLOOKUP($N22&$O22,'FFV Waste'!$A:$A&'FFV Waste'!$B:$B,'FFV Waste'!I:I,\"\",0)","v":44.984940627212268},{"$f":"_xlfn.XLOOKUP($N22&$O22,'FFV Waste'!$A:$A&'FFV Waste'!$B:$B,'FFV Waste'!J:J,\"\",0)","v":484.56482042700316},null,"Iceland","Cucumbers",484.56482042700316,{"$f":"_xlfn.XLOOKUP(Y22&Z22,'FFV Waste'!$L:$L&'FFV Waste'!$M:$M,'FFV Waste'!$U:$U,,0)","v":368.51965265056231},{"$f":"_xlfn.XLOOKUP(Y22&Z22,'FFV Waste'!$W:$W&'FFV Waste'!$X:$X,'FFV Waste'!$AF:$AF,,0)","v":632.02204608297632},500.27084936676931,116.04516777644085,147.45722565597316,null,null,"Food Supply","","","","",{"$f":"_xlfn.XLOOKUP(AH21,N$9:N$39,Q$9:Q$39,\"\",0)+AJ21","v":28459.198770527786},"",""]
[{"$nulls":13},"Ireland","Cucumbers",{"$f":"_xlfn.XLOOKUP($N23&$O23,'FFV Waste'!$A:$A&'FFV Waste'!$B:$B,'FFV Waste'!C:C,\"\",0)","v":821.40390000000002},{"$f":"_xlfn.XLOOKUP($N23&$O23,'FFV Waste'!$A:$A&'FFV Waste'!$B:$B,'FFV Waste'!D:D,\"\",0)","v":5630.3271044586427},{"$f":"_xlfn.XLOOKUP($N23&$O23,'FFV Waste'!$A:$A&'FFV Waste'!$B:$B,'FFV Waste'!E:E,\"\",0)","v":141.50888789206053},{"$f":"_xlfn.XLOOKUP($N23&$O23,'FFV Waste'!$A:$A&'FFV Waste'!$B:$B,'FFV Waste'!F:F,\"\",0)","v":4885.0482127442583},{"$f":"_xlfn.XLOOKUP($N23&$O23,'FFV Waste'!$A:$A&'FFV Waste'!$B:$B,'FFV Waste'!G:G,\"\",0)","v":1148.8005046970247},{"$f":"_xlfn.XLOOKUP($N23&$O23,'FFV Waste'!$A:$A&'FFV Waste'!$B:$B,'FFV Waste'!H:H,\"\",0)","v":603.77000382232382},{"$f":"_xlfn.XLOOKUP($N23&$O23,'FFV Waste'!$A:$A&'FFV Waste'!$B:$B,'FFV Waste'!I:I,\"\",0)","v":205.88557130341243},{"$f":"_xlfn.XLOOKUP($N23&$O23,'FFV Waste'!$A:$A&'FFV Waste'!$B:$B,'FFV Waste'!J:J,\"\",0)","v":2317.5988638924978},null,"Ireland","Cucumbers",2317.5988638924978,{"$f":"_xlfn.XLOOKUP(Y23&Z23,'FFV Waste'!$L:$L&'FFV Waste'!$M:$M,'FFV Waste'!$U:$U,,0)","v":1786.4872222734771},{"$f":"_xlfn.XLOOKUP(Y23&Z23,'FFV Waste'!$W:$W&'FFV Waste'!$X:$X,'FFV Waste'!$AF:$AF,,0)","v":2992.4761611325289},2389.481691703003,531.1116416190207,674.87729724003111,null,"Estonia","Food Waste",556.16940000000011,191.16069261784259,1551.8848563428749,278.12548735738267,null,717.46496479241728,355.50486650167477]
[{"$nulls":13},"Italy","Cucumbers",{"$f":"_xlfn.XLOOKUP($N24&$O24,'FFV Waste'!$A:$A&'FFV Waste'!$B:$B,'FFV Waste'!C:C,\"\",0)","v":9393.0537000000004},{"$f":"_xlfn.XLOOKUP($N24&$O24,'FFV Waste'!$A:$A&'FFV Waste'!$B:$B,'FFV Waste'!D:D,\"\",0)","v":44869.079403852797},{"$f":"_xlfn.XLOOKUP($N24&$O24,'FFV Waste'!$A:$A&'FFV Waste'!$B:$B,'FFV Waste'!E:E,\"\",0)","v":1127.7095290168336},{"$f":"_xlfn.XLOOKUP($N24&$O24,'FFV Waste'!$A:$A&'FFV Waste'!$B:$B,'FFV Waste'!F:F,\"\",0)","v":38929.819188604008},{"$f":"_xlfn.XLOOKUP($N24&$O24,'FFV Waste'!$A:$A&'FFV Waste'!$B:$B,'FFV Waste'!G:G,\"\",0)","v":9154.9958125200428},{"$f":"_xlfn.XLOOKUP($N24&$O24,'FFV Waste'!$A:$A&'FFV Waste'!$B:$B,'FFV Waste'!H:H,\"\",0)","v":4811.5506862319526},{"$f":"_xlfn.XLOOKUP($N24&$O24,'FFV Waste'!$A:$A&'FFV Waste'!$B:$B,'FFV Waste'!I:I,\"\",0)","v":1640.738784005096},{"$f":"_xlfn.XLOOKUP($N24&$O24,'FFV Waste'!$A:$A&'FFV Waste'!$B:$B,'FFV Waste'!J:J,\"\",0)","v":21316.49782554197},null,"Italy","Cucumbers",21316.49782554197,{"$f":"_xlfn.XLOOKUP(Y24&Z24,'FFV Waste'!$L:$L&'FFV Waste'!$M:$M,'FFV Waste'!$U:$U,,0)","v":17083.974567480618},{"$f":"_xlfn.XLOOKUP(Y24&Z24,'FFV Waste'!$W:$W&'FFV Waste'!$X:$X,'FFV Waste'!$AF:$AF,,0)","v":17301.661496561319},17192.818032020969,4232.523258061352,0,null,null,"Food Supply",{"$f":"_xlfn.XLOOKUP($AH24,$N$9:$N$39,P$9:P$39,\"\",0)","v":""},"","","",{"$f":"_xlfn.XLOOKUP(AH23,N$9:N$39,Q$9:Q$39,\"\",0)+AJ23","v":8162.0325015056742},"",""]
[{"$nulls":13},"Latvia","Cucumbers",{"$f":"_xlfn.XLOOKUP($N25&$O25,'FFV Waste'!$A:$A&'FFV Waste'!$B:$B,'FFV Waste'!C:C,\"\",0)","v":709.93815000000006},{"$f":"_xlfn.XLOOKUP($N25&$O25,'FFV Waste'!$A:$A&'FFV Waste'!$B:$B,'FFV Waste'!D:D,\"\",0)","v":9040.6492591403075},{"$f":"_xlfn.XLOOKUP($N25&$O25,'FFV Waste'!$A:$A&'FFV Waste'!$B:$B,'FFV Waste'!E:E,\"\",0)","v":227.22165137972638},{"$f":"_xlfn.XLOOKUP($N25&$O25,'FFV Waste'!$A:$A&'FFV Waste'!$B:$B,'FFV Waste'!F:F,\"\",0)","v":7843.9505709069172},{"$f":"_xlfn.XLOOKUP($N25&$O25,'FFV Waste'!$A:$A&'FFV Waste'!$B:$B,'FFV Waste'!G:G,\"\",0)","v":1844.6357092582766},{"$f":"_xlfn.XLOOKUP($N25&$O25,'FFV Waste'!$A:$A&'FFV Waste'!$B:$B,'FFV Waste'!H:H,\"\",0)","v":969.47703685366378},{"$f":"_xlfn.XLOOKUP($N25&$O25,'FFV Waste'!$A:$A&'FFV Waste'!$B:$B,'FFV Waste'!I:I,\"\",0)","v":330.59166956709936},{"$f":"_xlfn.XLOOKUP($N25&$O25,'FFV Waste'!$A:$A&'FFV Waste'!$B:$B,'FFV Waste'!J:J,\"\",0)","v":3112.3871802051026},null,"Latvia","Cucumbers",3112.3871802051026,{"$f":"_xlfn.XLOOKUP(Y25&Z25,'FFV Waste'!$L:$L&'FFV Waste'!$M:$M,'FFV Waste'!$U:$U,,0)","v":2259.5781017553936},{"$f":"_xlfn.XLOOKUP(Y25&Z25,'FFV Waste'!$W:$W&'FFV Waste'!$X:$X,'FFV Waste'!$AF:$AF,,0)","v":3486.103465215117},2872.8407834852551,852.80907844970898,373.71628501001442,null,"Finland","Food Waste",3916.0807500000001,946.34619195938126,6272.4383872014987,1376.8677662917153,null,2141.6200895164293,5923.4778476883439]
[{"$nulls":13},"Lithuania","Cucumbers",{"$f":"_xlfn.XLOOKUP($N26&$O26,'FFV Waste'!$A:$A&'FFV Waste'!$B:$B,'FFV Waste'!C:C,\"\",0)","v":527.2695412422346},{"$f":"_xlfn.XLOOKUP($N26&$O26,'FFV Waste'!$A:$A&'FFV Waste'!$B:$B,'FFV Waste'!D:D,\"\",0)","v":25907.7909},{"$f":"_xlfn.XLOOKUP($N26&$O26,'FFV Waste'!$A:$A&'FFV Waste'!$B:$B,'FFV Waste'!E:E,\"\",0)","v":651.1491446199999},{"$f":"_xlfn.XLOOKUP($N26&$O26,'FFV Waste'!$A:$A&'FFV Waste'!$B:$B,'FFV Waste'!F:F,\"\",0)","v":22478.411162288197},{"$f":"_xlfn.XLOOKUP($N26&$O26,'FFV Waste'!$A:$A&'FFV Waste'!$B:$B,'FFV Waste'!G:G,\"\",0)","v":5286.1730249981074},{"$f":"_xlfn.XLOOKUP($N26&$O26,'FFV Waste'!$A:$A&'FFV Waste'!$B:$B,'FFV Waste'!H:H,\"\",0)","v":2778.230593091801},{"$f":"_xlfn.XLOOKUP($N26&$O26,'FFV Waste'!$A:$A&'FFV Waste'!$B:$B,'FFV Waste'!I:I,\"\",0)","v":947.37663224430423},{"$f":"_xlfn.XLOOKUP($N26&$O26,'FFV Waste'!$A:$A&'FFV Waste'!$B:$B,'FFV Waste'!J:J,\"\",0)","v":7411.968343104646},null,"Lithuania","Cucumbers",7411.968343104646,{"$f":"_xlfn.XLOOKUP(Y26&Z26,'FFV Waste'!$L:$L&'FFV Waste'!$M:$M,'FFV Waste'!$U:$U,,0)","v":4968.0731483254885},{"$f":"_xlfn.XLOOKUP(Y26&Z26,'FFV Waste'!$W:$W&'FFV Waste'!$X:$X,'FFV Waste'!$AF:$AF,,0)","v":9990.1275941266977},7479.1003712260936,2443.8951947791575,2578.1592510220516,null,null,"Food Supply","","","","",{"$f":"_xlfn.XLOOKUP(AH25,N$9:N$39,Q$9:Q$39,\"\",0)+AJ25","v":41569.112260320217},"",""]
[{"$nulls":13},"Luxembourg","Cucumbers",{"$f":"_xlfn.XLOOKUP($N27&$O27,'FFV Waste'!$A:$A&'FFV Waste'!$B:$B,'FFV Waste'!C:C,\"\",0)","v":2.9293499999999999},{"$f":"_xlfn.XLOOKUP($N27&$O27,'FFV Waste'!$A:$A&'FFV Waste'!$B:$B,'FFV Waste'!D:D,\"\",0)","v":1765.9684272522181},{"$f":"_xlfn.XLOOKUP($N27&$O27,'FFV Waste'!$A:$A&'FFV Waste'!$B:$B,'FFV Waste'!E:E,\"\",0)","v":44.384673138272412},{"$f":"_xlfn.XLOOKUP($N27&$O27,'FFV Waste'!$A:$A&'FFV Waste'!$B:$B,'FFV Waste'!F:F,\"\",0)","v":1532.2095411614118},{"$f":"_xlfn.XLOOKUP($N27&$O27,'FFV Waste'!$A:$A&'FFV Waste'!$B:$B,'FFV Waste'!G:G,\"\",0)","v":360.32461042979202},{"$f":"_xlfn.XLOOKUP($N27&$O27,'FFV Waste'!$A:$A&'FFV Waste'!$B:$B,'FFV Waste'!H:H,\"\",0)","v":189.37421295253398},{"$f":"_xlfn.XLOOKUP($N27&$O27,'FFV Waste'!$A:$A&'FFV Waste'!$B:$B,'FFV Waste'!I:I,\"\",0)","v":64.57660661681409},{"$f":"_xlfn.XLOOKUP($N27&$O27,'FFV Waste'!$A:$A&'FFV Waste'!$B:$B,'FFV Waste'!J:J,\"\",0)","v":472.21524018487855},null,"Luxembourg","Cucumbers",472.21524018487855,{"$f":"_xlfn.XLOOKUP(Y27&Z27,'FFV Waste'!$L:$L&'FFV Waste'!$M:$M,'FFV Waste'!$U:$U,,0)","v":305.63053328524842},{"$f":"_xlfn.XLOOKUP(Y27&Z27,'FFV Waste'!$W:$W&'FFV Waste'!$X:$X,'FFV Waste'!$AF:$AF,,0)","v":683.89246196679096},494.76149762601972,166.58470689963013,211.67722178191241,null,"France","Food Waste",33024.0936,3452.8457212697504,28030.966579719705,5023.6499242960335,null,12959.232360582188,16467.14367464176]
[{"$nulls":13},"Malta","Cucumbers",{"$f":"_xlfn.XLOOKUP($N28&$O28,'FFV Waste'!$A:$A&'FFV Waste'!$B:$B,'FFV Waste'!C:C,\"\",0)","v":76.897649999999999},{"$f":"_xlfn.XLOOKUP($N28&$O28,'FFV Waste'!$A:$A&'FFV Waste'!$B:$B,'FFV Waste'!D:D,\"\",0)","v":848.45677407956896},{"$f":"_xlfn.XLOOKUP($N28&$O28,'FFV Waste'!$A:$A&'FFV Waste'!$B:$B,'FFV Waste'!E:E,\"\",0)","v":21.324546921866496},{"$f":"_xlfn.XLOOKUP($N28&$O28,'FFV Waste'!$A:$A&'FFV Waste'!$B:$B,'FFV Waste'!F:F,\"\",0)","v":736.14768217035521},{"$f":"_xlfn.XLOOKUP($N28&$O28,'FFV Waste'!$A:$A&'FFV Waste'!$B:$B,'FFV Waste'!G:G,\"\",0)","v":173.1173965903952},{"$f":"_xlfn.XLOOKUP($N28&$O28,'FFV Waste'!$A:$A&'FFV Waste'!$B:$B,'FFV Waste'!H:H,\"\",0)","v":90.984544987347249},{"$f":"_xlfn.XLOOKUP($N28&$O28,'FFV Waste'!$A:$A&'FFV Waste'!$B:$B,'FFV Waste'!I:I,\"\",0)","v":31.025729840685415},{"$f":"_xlfn.XLOOKUP($N28&$O28,'FFV Waste'!$A:$A&'FFV Waste'!$B:$B,'FFV Waste'!J:J,\"\",0)","v":302.36532335294709},null,"Malta","Cucumbers",302.36532335294709,{"$f":"_xlfn.XLOOKUP(Y28&Z28,'FFV Waste'!$L:$L&'FFV Waste'!$M:$M,'FFV Waste'!$U:$U,,0)","v":222.32996097278817},{"$f":"_xlfn.XLOOKUP(Y28&Z28,'FFV Waste'!$W:$W&'FFV Waste'!$X:$X,'FFV Waste'!$AF:$AF,,0)","v":327.16766411589435},274.74881254434126,80.035362380158915,24.802340762947267,null,null,"Food Supply","","","","",{"$f":"_xlfn.XLOOKUP(AH27,N$9:N$39,Q$9:Q$39,\"\",0)+AJ27","v":170405.2230934914},"",""]
[{"$nulls":13},"Netherlands","Cucumbers",{"$f":"_xlfn.XLOOKUP($N29&$O29,'FFV Waste'!$A:$A&'FFV Waste'!$B:$B,'FFV Waste'!C:C,\"\",0)","v":3824.4207527828094},{"$f":"_xlfn.XLOOKUP($N29&$O29,'FFV Waste'!$A:$A&'FFV Waste'!$B:$B,'FFV Waste'!D:D,\"\",0)","v":9.6111000000000004},{"$f":"_xlfn.XLOOKUP($N29&$O29,'FFV Waste'!$A:$A&'FFV Waste'!$B:$B,'FFV Waste'!E:E,\"\",0)","v":0.24155897999999998},{"$f":"_xlfn.XLOOKUP($N29&$O29,'FFV Waste'!$A:$A&'FFV Waste'!$B:$B,'FFV Waste'!F:F,\"\",0)","v":8.3388915077999997},{"$f":"_xlfn.XLOOKUP($N29&$O29,'FFV Waste'!$A:$A&'FFV Waste'!$B:$B,'FFV Waste'!G:G,\"\",0)","v":2.4766507778165998},{"$f":"_xlfn.XLOOKUP($N29&$O29,'FFV Waste'!$A:$A&'FFV Waste'!$B:$B,'FFV Waste'!H:H,\"\",0)","v":1.0306495122000001},{"$f":"_xlfn.XLOOKUP($N29&$O29,'FFV Waste'!$A:$A&'FFV Waste'!$B:$B,'FFV Waste'!I:I,\"\",0)","v":0.35145148366020007},{"$f":"_xlfn.XLOOKUP($N29&$O29,'FFV Waste'!$A:$A&'FFV Waste'!$B:$B,'FFV Waste'!J:J,\"\",0)","v":3827.4904140242861},null,"Netherlands","Cucumbers",3827.4904140242861,{"$f":"_xlfn.XLOOKUP(Y29&Z29,'FFV Waste'!$L:$L&'FFV Waste'!$M:$M,'FFV Waste'!$U:$U,,0)","v":3826.0681725768313},{"$f":"_xlfn.XLOOKUP(Y29&Z29,'FFV Waste'!$W:$W&'FFV Waste'!$X:$X,'FFV Waste'!$AF:$AF,,0)","v":3828.1268238905513},3827.0974982336911,1.4222414474547804,0.63640986626523954,null,"Germany","Food Waste",82211.110350000003,11202.116767855028,92036.943770810627,16298.299314715832,null,43139.500836474355,52328.91189068582]
[{"$nulls":13},"Norway","Cucumbers",{"$f":"_xlfn.XLOOKUP($N30&$O30,'FFV Waste'!$A:$A&'FFV Waste'!$B:$B,'FFV Waste'!C:C,\"\",0)","v":1373.54655},{"$f":"_xlfn.XLOOKUP($N30&$O30,'FFV Waste'!$A:$A&'FFV Waste'!$B:$B,'FFV Waste'!D:D,\"\",0)","v":18435.409057520865},{"$f":"_xlfn.XLOOKUP($N30&$O30,'FFV Waste'!$A:$A&'FFV Waste'!$B:$B,'FFV Waste'!E:E,\"\",0)","v":463.34328097902437},{"$f":"_xlfn.XLOOKUP($N30&$O30,'FFV Waste'!$A:$A&'FFV Waste'!$B:$B,'FFV Waste'!F:F,\"\",0)","v":15995.138541122238},{"$f":"_xlfn.XLOOKUP($N30&$O30,'FFV Waste'!$A:$A&'FFV Waste'!$B:$B,'FFV Waste'!G:G,\"\",0)","v":3761.5234135872461},{"$f":"_xlfn.XLOOKUP($N30&$O30,'FFV Waste'!$A:$A&'FFV Waste'!$B:$B,'FFV Waste'!H:H,\"\",0)","v":1976.9272354196019},{"$f":"_xlfn.XLOOKUP($N30&$O30,'FFV Waste'!$A:$A&'FFV Waste'!$B:$B,'FFV Waste'!I:I,\"\",0)","v":674.1321872780843},{"$f":"_xlfn.XLOOKUP($N30&$O30,'FFV Waste'!$A:$A&'FFV Waste'!$B:$B,'FFV Waste'!J:J,\"\",0)","v":6272.5454318443553},null,"Norway","Cucumbers",6272.5454318443553,{"$f":"_xlfn.XLOOKUP(Y30&Z30,'FFV Waste'!$L:$L&'FFV Waste'!$M:$M,'FFV Waste'!$U:$U,,0)","v":4533.5238462770803},{"$f":"_xlfn.XLOOKUP(Y30&Z30,'FFV Waste'!$W:$W&'FFV Waste'!$X:$X,'FFV Waste'!$AF:$AF,,0)","v":8482.2996445972112},6507.9117454371462,1739.021585567275,2209.7542127528559,null,null,"Food Supply","","","","",{"$f":"_xlfn.XLOOKUP(AH29,N$9:N$39,Q$9:Q$39,\"\",0)+AJ29","v":527918.67405775981},"",""]
[{"$nulls":13},"Poland","Cucumbers",{"$f":"_xlfn.XLOOKUP($N31&$O31,'FFV Waste'!$A:$A&'FFV Waste'!$B:$B,'FFV Waste'!C:C,\"\",0)","v":63149.674331291688},{"$f":"_xlfn.XLOOKUP($N31&$O31,'FFV Waste'!$A:$A&'FFV Waste'!$B:$B,'FFV Waste'!D:D,\"\",0)","v":406183.93650000001},{"$f":"_xlfn.XLOOKUP($N31&$O31,'FFV Waste'!$A:$A&'FFV Waste'!$B:$B,'FFV Waste'!E:E,\"\",0)","v":10208.7562707},{"$f":"_xlfn.XLOOKUP($N31&$O31,'FFV Waste'!$A:$A&'FFV Waste'!$B:$B,'FFV Waste'!F:F,\"\",0)","v":352417.91040407697},{"$f":"_xlfn.XLOOKUP($N31&$O31,'FFV Waste'!$A:$A&'FFV Waste'!$B:$B,'FFV Waste'!G:G,\"\",0)","v":82876.945263358764},{"$f":"_xlfn.XLOOKUP($N31&$O31,'FFV Waste'!$A:$A&'FFV Waste'!$B:$B,'FFV Waste'!H:H,\"\",0)","v":43557.269825223018},{"$f":"_xlfn.XLOOKUP($N31&$O31,'FFV Waste'!$A:$A&'FFV Waste'!$B:$B,'FFV Waste'!I:I,\"\",0)","v":14853.029010401051},{"$f":"_xlfn.XLOOKUP($N31&$O31,'FFV Waste'!$A:$A&'FFV Waste'!$B:$B,'FFV Waste'!J:J,\"\",0)","v":171088.4048757515},null,"Poland","Cucumbers",171088.4048757515,{"$f":"_xlfn.XLOOKUP(Y31&Z31,'FFV Waste'!$L:$L&'FFV Waste'!$M:$M,'FFV Waste'!$U:$U,,0)","v":132772.86595387326},{"$f":"_xlfn.XLOOKUP(Y31&Z31,'FFV Waste'!$W:$W&'FFV Waste'!$X:$X,'FFV Waste'!$AF:$AF,,0)","v":219775.50815796721},176274.18705592025,38315.538921878237,48687.103282215714,null,"Greece","Food Waste",11549.564928841273,1482.1698676199999,12032.583375733746,2156.4538772745732,null,5562.8850122146323,7068.6923571400839]
[{"$nulls":13},"Portugal","Cucumbers",{"$f":"_xlfn.XLOOKUP($N32&$O32,'FFV Waste'!$A:$A&'FFV Waste'!$B:$B,'FFV Waste'!C:C,\"\",0)","v":1032.2020499999999},{"$f":"_xlfn.XLOOKUP($N32&$O32,'FFV Waste'!$A:$A&'FFV Waste'!$B:$B,'FFV Waste'!D:D,\"\",0)","v":12045.007391363817},{"$f":"_xlfn.XLOOKUP($N32&$O32,'FFV Waste'!$A:$A&'FFV Waste'!$B:$B,'FFV Waste'!E:E,\"\",0)","v":302.73118576961059},{"$f":"_xlfn.XLOOKUP($N32&$O32,'FFV Waste'!$A:$A&'FFV Waste'!$B:$B,'FFV Waste'!F:F,\"\",0)","v":10450.625822978844},{"$f":"_xlfn.XLOOKUP($N32&$O32,'FFV Waste'!$A:$A&'FFV Waste'!$B:$B,'FFV Waste'!G:G,\"\",0)","v":2457.6388393705247},{"$f":"_xlfn.XLOOKUP($N32&$O32,'FFV Waste'!$A:$A&'FFV Waste'!$B:$B,'FFV Waste'!H:H,\"\",0)","v":1291.6503826153621},{"$f":"_xlfn.XLOOKUP($N32&$O32,'FFV Waste'!$A:$A&'FFV Waste'!$B:$B,'FFV Waste'!I:I,\"\",0)","v":440.45278047183854},{"$f":"_xlfn.XLOOKUP($N32&$O32,'FFV Waste'!$A:$A&'FFV Waste'!$B:$B,'FFV Waste'!J:J,\"\",0)","v":4233.0248556119732},null,"Portugal","Cucumbers",4233.0248556119732,{"$f":"_xlfn.XLOOKUP(Y32&Z32,'FFV Waste'!$L:$L&'FFV Waste'!$M:$M,'FFV Waste'!$U:$U,,0)","v":3096.81313464917},{"$f":"_xlfn.XLOOKUP(Y32&Z32,'FFV Waste'!$W:$W&'FFV Waste'!$X:$X,'FFV Waste'!$AF:$AF,,0)","v":4644.5936350336879},3870.7033848414289,1136.2117209628032,411.56877942171468,null,null,"Food Supply","","","","",{"$f":"_xlfn.XLOOKUP(AH31,N$9:N$39,Q$9:Q$39,\"\",0)+AJ31","v":70521.840828841276},"",""]
[{"$nulls":13},"Romania","Cucumbers",{"$f":"_xlfn.XLOOKUP($N33&$O33,'FFV Waste'!$A:$A&'FFV Waste'!$B:$B,'FFV Waste'!C:C,\"\",0)","v":7452.2221500000005},{"$f":"_xlfn.XLOOKUP($N33&$O33,'FFV Waste'!$A:$A&'FFV Waste'!$B:$B,'FFV Waste'!D:D,\"\",0)","v":38583.714280624336},{"$f":"_xlfn.XLOOKUP($N33&$O33,'FFV Waste'!$A:$A&'FFV Waste'!$B:$B,'FFV Waste'!E:E,\"\",0)","v":969.73735225302482},{"$f":"_xlfn.XLOOKUP($N33&$O33,'FFV Waste'!$A:$A&'FFV Waste'!$B:$B,'FFV Waste'!F:F,\"\",0)","v":33476.439466250464},{"$f":"_xlfn.XLOOKUP($N33&$O33,'FFV Waste'!$A:$A&'FFV Waste'!$B:$B,'FFV Waste'!G:G,\"\",0)","v":7872.5426811465677},{"$f":"_xlfn.XLOOKUP($N33&$O33,'FFV Waste'!$A:$A&'FFV Waste'!$B:$B,'FFV Waste'!H:H,\"\",0)","v":4137.5374621208466},{"$f":"_xlfn.XLOOKUP($N33&$O33,'FFV Waste'!$A:$A&'FFV Waste'!$B:$B,'FFV Waste'!I:I,\"\",0)","v":1410.9002745832088},{"$f":"_xlfn.XLOOKUP($N33&$O33,'FFV Waste'!$A:$A&'FFV Waste'!$B:$B,'FFV Waste'!J:J,\"\",0)","v":17705.4024579828},null,"Romania","Cucumbers",17705.4024579828,{"$f":"_xlfn.XLOOKUP(Y33&Z33,'FFV Waste'!$L:$L&'FFV Waste'!$M:$M,'FFV Waste'!$U:$U,,0)","v":14065.780913594399},{"$f":"_xlfn.XLOOKUP(Y33&Z33,'FFV Waste'!$W:$W&'FFV Waste'!$X:$X,'FFV Waste'!$AF:$AF,,0)","v":14878.004466168728},14471.892689881563,3639.6215443884012,0,null,"Hungary","Food Waste",{"$f":"_xlfn.XLOOKUP($AH33,$N$9:$N$39,P$9:P$39,\"\",0)","v":749.67850469882785},557.82997269999998,4528.5873115030117,811.60373973902279,null,2093.649359826627,1910.6970371004682]
[{"$nulls":13},"Slovakia","Cucumbers",{"$f":"_xlfn.XLOOKUP($N34&$O34,'FFV Waste'!$A:$A&'FFV Waste'!$B:$B,'FFV Waste'!C:C,\"\",0)","v":307.44899999999996},{"$f":"_xlfn.XLOOKUP($N34&$O34,'FFV Waste'!$A:$A&'FFV Waste'!$B:$B,'FFV Waste'!D:D,\"\",0)","v":13509.833667881903},{"$f":"_xlfn.XLOOKUP($N34&$O34,'FFV Waste'!$A:$A&'FFV Waste'!$B:$B,'FFV Waste'!E:E,\"\",0)","v":339.54715285276512},{"$f":"_xlfn.XLOOKUP($N34&$O34,'FFV Waste'!$A:$A&'FFV Waste'!$B:$B,'FFV Waste'!F:F,\"\",0)","v":11721.554998375934},{"$f":"_xlfn.XLOOKUP($N34&$O34,'FFV Waste'!$A:$A&'FFV Waste'!$B:$B,'FFV Waste'!G:G,\"\",0)","v":2756.5190171180739},{"$f":"_xlfn.XLOOKUP($N34&$O34,'FFV Waste'!$A:$A&'FFV Waste'!$B:$B,'FFV Waste'!H:H,\"\",0)","v":1448.7315166532044},{"$f":"_xlfn.XLOOKUP($N34&$O34,'FFV Waste'!$A:$A&'FFV Waste'!$B:$B,'FFV Waste'!I:I,\"\",0)","v":494.01744717874271},{"$f":"_xlfn.XLOOKUP($N34&$O34,'FFV Waste'!$A:$A&'FFV Waste'!$B:$B,'FFV Waste'!J:J,\"\",0)","v":3897.5326171495817},null,"Slovakia","Cucumbers",3897.5326171495817,{"$f":"_xlfn.XLOOKUP(Y34&Z34,'FFV Waste'!$L:$L&'FFV Waste'!$M:$M,'FFV Waste'!$U:$U,,0)","v":2623.1430827179802},{"$f":"_xlfn.XLOOKUP(Y34&Z34,'FFV Waste'!$W:$W&'FFV Waste'!$X:$X,'FFV Waste'!$AF:$AF,,0)","v":5209.4353639996725},3916.2892233588263,1274.3895344316015,1311.9027468500908,null,null,"Food Supply","","","","",{"$f":"_xlfn.XLOOKUP(AH33,N$9:N$39,Q$9:Q$39,\"\",0)+AJ33","v":22944.505004698829},"",""]
[{"$nulls":13},"Slovenia","Cucumbers",{"$f":"_xlfn.XLOOKUP($N35&$O35,'FFV Waste'!$A:$A&'FFV Waste'!$B:$B,'FFV Waste'!C:C,\"\",0)","v":1108.1439},{"$f":"_xlfn.XLOOKUP($N35&$O35,'FFV Waste'!$A:$A&'FFV Waste'!$B:$B,'FFV Waste'!D:D,\"\",0)","v":2958.7301139378787},{"$f":"_xlfn.XLOOKUP($N35&$O35,'FFV Waste'!$A:$A&'FFV Waste'!$B:$B,'FFV Waste'!E:E,\"\",0)","v":74.362750196972016},{"$f":"_xlfn.XLOOKUP($N35&$O35,'FFV Waste'!$A:$A&'FFV Waste'!$B:$B,'FFV Waste'!F:F,\"\",0)","v":2567.086953729407},{"$f":"_xlfn.XLOOKUP($N35&$O35,'FFV Waste'!$A:$A&'FFV Waste'!$B:$B,'FFV Waste'!G:G,\"\",0)","v":603.69328195203218},{"$f":"_xlfn.XLOOKUP($N35&$O35,'FFV Waste'!$A:$A&'FFV Waste'!$B:$B,'FFV Waste'!H:H,\"\",0)","v":317.2804100114995},{"$f":"_xlfn.XLOOKUP($N35&$O35,'FFV Waste'!$A:$A&'FFV Waste'!$B:$B,'FFV Waste'!I:I,\"\",0)","v":108.19261981392134},{"$f":"_xlfn.XLOOKUP($N35&$O35,'FFV Waste'!$A:$A&'FFV Waste'!$B:$B,'FFV Waste'!J:J,\"\",0)","v":1894.3925519629256},null,"Slovenia","Cucumbers",1894.3925519629256,{"$f":"_xlfn.XLOOKUP(Y35&Z35,'FFV Waste'!$L:$L&'FFV Waste'!$M:$M,'FFV Waste'!$U:$U,,0)","v":1615.2940238016085},{"$f":"_xlfn.XLOOKUP(Y35&Z35,'FFV Waste'!$W:$W&'FFV Waste'!$X:$X,'FFV Waste'!$AF:$AF,,0)","v":2249.0397590454131},1932.1668914235108,279.09852816131706,354.64720708248751,null,"Iceland","Food Waste",157.65389999999999,30.918965713561221,251.00701408622965,44.984940627212268,null,116.04516777644085,147.45722565597316]
[{"$nulls":13},"Spain","Cucumbers",{"$f":"_xlfn.XLOOKUP($N36&$O36,'FFV Waste'!$A:$A&'FFV Waste'!$B:$B,'FFV Waste'!C:C,\"\",0)","v":69360.644849999997},{"$f":"_xlfn.XLOOKUP($N36&$O36,'FFV Waste'!$A:$A&'FFV Waste'!$B:$B,'FFV Waste'!D:D,\"\",0)","v":5518.8988995361842},{"$f":"_xlfn.XLOOKUP($N36&$O36,'FFV Waste'!$A:$A&'FFV Waste'!$B:$B,'FFV Waste'!E:E,\"\",0)","v":138.70832567500941},{"$f":"_xlfn.XLOOKUP($N36&$O36,'FFV Waste'!$A:$A&'FFV Waste'!$B:$B,'FFV Waste'!F:F,\"\",0)","v":4788.3696107364458},{"$f":"_xlfn.XLOOKUP($N36&$O36,'FFV Waste'!$A:$A&'FFV Waste'!$B:$B,'FFV Waste'!G:G,\"\",0)","v":723.04381122120333},{"$f":"_xlfn.XLOOKUP($N36&$O36,'FFV Waste'!$A:$A&'FFV Waste'!$B:$B,'FFV Waste'!H:H,\"\",0)","v":591.82096312472913},{"$f":"_xlfn.XLOOKUP($N36&$O36,'FFV Waste'!$A:$A&'FFV Waste'!$B:$B,'FFV Waste'!I:I,\"\",0)","v":201.81094842553264},{"$f":"_xlfn.XLOOKUP($N36&$O36,'FFV Waste'!$A:$A&'FFV Waste'!$B:$B,'FFV Waste'!J:J,\"\",0)","v":70424.207935321727},null,"Spain","Cucumbers",70424.207935321727,{"$f":"_xlfn.XLOOKUP(Y36&Z36,'FFV Waste'!$L:$L&'FFV Waste'!$M:$M,'FFV Waste'!$U:$U,,0)","v":70306.628482289845},{"$f":"_xlfn.XLOOKUP(Y36&Z36,'FFV Waste'!$W:$W&'FFV Waste'!$X:$X,'FFV Waste'!$AF:$AF,,0)","v":71488.750036515616},70897.68925940273,117.57945303188171,1064.5421011938888,null,null,"Food Supply","","","","",{"$f":"_xlfn.XLOOKUP(AH35,N$9:N$39,Q$9:Q$39,\"\",0)+AJ35","v":1387.8514748101284},"",""]
[{"$nulls":13},"Sweden","Cucumbers",{"$f":"_xlfn.XLOOKUP($N37&$O37,'FFV Waste'!$A:$A&'FFV Waste'!$B:$B,'FFV Waste'!C:C,\"\",0)","v":9636.7119000000002},{"$f":"_xlfn.XLOOKUP($N37&$O37,'FFV Waste'!$A:$A&'FFV Waste'!$B:$B,'FFV Waste'!D:D,\"\",0)","v":42646.837718621842},{"$f":"_xlfn.XLOOKUP($N37&$O37,'FFV Waste'!$A:$A&'FFV Waste'!$B:$B,'FFV Waste'!E:E,\"\",0)","v":400.88027455504533},{"$f":"_xlfn.XLOOKUP($N37&$O37,'FFV Waste'!$A:$A&'FFV Waste'!$B:$B,'FFV Waste'!F:F,\"\",0)","v":37598.902125219451},{"$f":"_xlfn.XLOOKUP($N37&$O37,'FFV Waste'!$A:$A&'FFV Waste'!$B:$B,'FFV Waste'!G:G,\"\",0)","v":8842.0084831141066},{"$f":"_xlfn.XLOOKUP($N37&$O37,'FFV Waste'!$A:$A&'FFV Waste'!$B:$B,'FFV Waste'!H:H,\"\",0)","v":4647.0553188473496},{"$f":"_xlfn.XLOOKUP($N37&$O37,'FFV Waste'!$A:$A&'FFV Waste'!$B:$B,'FFV Waste'!I:I,\"\",0)","v":1584.6458637269463},{"$f":"_xlfn.XLOOKUP($N37&$O37,'FFV Waste'!$A:$A&'FFV Waste'!$B:$B,'FFV Waste'!J:J,\"\",0)","v":20464.246521396097},null,"Sweden","Cucumbers",20464.246521396097,{"$f":"_xlfn.XLOOKUP(Y37&Z37,'FFV Waste'!$L:$L&'FFV Waste'!$M:$M,'FFV Waste'!$U:$U,,0)","v":16946.722680253366},{"$f":"_xlfn.XLOOKUP(Y37&Z37,'FFV Waste'!$W:$W&'FFV Waste'!$X:$X,'FFV Waste'!$AF:$AF,,0)","v":26081.469847118035},21514.0962636857,3517.5238411427308,5617.2233257219377,null,"Ireland","Food Waste",821.40390000000002,141.50888789206053,1148.8005046970247,205.88557130341243,null,531.1116416190207,674.87729724003111]
[{"$nulls":13},"Switzerland","Cucumbers",{"$f":"_xlfn.XLOOKUP($N38&$O38,'FFV Waste'!$A:$A&'FFV Waste'!$B:$B,'FFV Waste'!C:C,\"\",0)","v":1363.1212499999999},{"$f":"_xlfn.XLOOKUP($N38&$O38,'FFV Waste'!$A:$A&'FFV Waste'!$B:$B,'FFV Waste'!D:D,\"\",0)","v":25072.336365045103},{"$f":"_xlfn.XLOOKUP($N38&$O38,'FFV Waste'!$A:$A&'FFV Waste'!$B:$B,'FFV Waste'!E:E,\"\",0)","v":630.15138730813351},{"$f":"_xlfn.XLOOKUP($N38&$O38,'FFV Waste'!$A:$A&'FFV Waste'!$B:$B,'FFV Waste'!F:F,\"\",0)","v":21753.544630185901},{"$f":"_xlfn.XLOOKUP($N38&$O38,'FFV Waste'!$A:$A&'FFV Waste'!$B:$B,'FFV Waste'!G:G,\"\",0)","v":5115.708578865384},{"$f":"_xlfn.XLOOKUP($N38&$O38,'FFV Waste'!$A:$A&'FFV Waste'!$B:$B,'FFV Waste'!H:H,\"\",0)","v":2688.640347551067},{"$f":"_xlfn.XLOOKUP($N38&$O38,'FFV Waste'!$A:$A&'FFV Waste'!$B:$B,'FFV Waste'!I:I,\"\",0)","v":916.82635851491386},{"$f":"_xlfn.XLOOKUP($N38&$O38,'FFV Waste'!$A:$A&'FFV Waste'!$B:$B,'FFV Waste'!J:J,\"\",0)","v":8025.8075746884315},null,"Switzerland","Cucumbers",8025.8075746884315,{"$f":"_xlfn.XLOOKUP(Y38&Z38,'FFV Waste'!$L:$L&'FFV Waste'!$M:$M,'FFV Waste'!$U:$U,,0)","v":5660.7212344084328},{"$f":"_xlfn.XLOOKUP(Y38&Z38,'FFV Waste'!$W:$W&'FFV Waste'!$X:$X,'FFV Waste'!$AF:$AF,,0)","v":11031.094885284489},8345.9080598464607,2365.0863402799987,3005.2873105960571,null,null,"Food Supply","","","","",{"$f":"_xlfn.XLOOKUP(AH37,N$9:N$39,Q$9:Q$39,\"\",0)+AJ37","v":6451.7310044586429},"",""]
[{"$nulls":13},"United Kingdom","Cucumbers",{"$f":"_xlfn.XLOOKUP($N39&$O39,'FFV Waste'!$A:$A&'FFV Waste'!$B:$B,'FFV Waste'!C:C,\"\",0)","v":3124.4571000000001},{"$f":"_xlfn.XLOOKUP($N39&$O39,'FFV Waste'!$A:$A&'FFV Waste'!$B:$B,'FFV Waste'!D:D,\"\",0)","v":167822.78047775885},{"$f":"_xlfn.XLOOKUP($N39&$O39,'FFV Waste'!$A:$A&'FFV Waste'!$B:$B,'FFV Waste'!E:E,\"\",0)","v":3356.455609555177},{"$f":"_xlfn.XLOOKUP($N39&$O39,'FFV Waste'!$A:$A&'FFV Waste'!$B:$B,'FFV Waste'!F:F,\"\",0)","v":146375.02913270125},{"$f":"_xlfn.XLOOKUP($N39&$O39,'FFV Waste'!$A:$A&'FFV Waste'!$B:$B,'FFV Waste'!G:G,\"\",0)","v":31909.756350928874},{"$f":"_xlfn.XLOOKUP($N39&$O39,'FFV Waste'!$A:$A&'FFV Waste'!$B:$B,'FFV Waste'!H:H,\"\",0)","v":18091.295735502412},{"$f":"_xlfn.XLOOKUP($N39&$O39,'FFV Waste'!$A:$A&'FFV Waste'!$B:$B,'FFV Waste'!I:I,\"\",0)","v":6169.1318458063233},{"$f":"_xlfn.XLOOKUP($N39&$O39,'FFV Waste'!$A:$A&'FFV Waste'!$B:$B,'FFV Waste'!J:J,\"\",0)","v":44559.80090629038},null,"United Kingdom","Cucumbers",44559.80090629038,{"$f":"_xlfn.XLOOKUP(Y39&Z39,'FFV Waste'!$L:$L&'FFV Waste'!$M:$M,'FFV Waste'!$U:$U,,0)","v":31890.630633397344},{"$f":"_xlfn.XLOOKUP(Y39&Z39,'FFV Waste'!$W:$W&'FFV Waste'!$X:$X,'FFV Waste'!$AF:$AF,,0)","v":67837.461641576956},49864.046137487152,12669.170272893036,23277.660735286576,null,"Italy","Food Waste",9393.0537000000004,1127.7095290168336,9154.9958125200428,1640.738784005096,null,4232.523258061352,0]
[{"$nulls":13},"EU+","Cucumbers",{"$f":"SUM(P9:P39)","v":315753.44937756902},{"$f":"SUM(Q9:Q39)","v":1735925.3193456079},{"$f":"SUM(R9:R39)","v":43005.328324362854},1506698.7920089078,352992.33681916283,186221.19901233702,63501.4288632069,775252.54338430136,null,"EU+","Cucumbers",{"$f":"SUM(AA9:AA39)","v":775252.54338430136},{"$f":"SUM(AB9:AB39)","v":613305.0024811232},{"$f":"SUM(AC9:AC39)","v":958852.30733076355},{"$nulls":5},"Food Supply","","","","",{"$f":"_xlfn.XLOOKUP(AH39,N$9:N$39,Q$9:Q$39,\"\",0)+AJ39","v":54262.133103852801},"",""]
[{"$nulls":33},"Latvia","Food Waste",709.93815000000006,{"$f":"_xlfn.XLOOKUP($AH41,$N$9:$N$39,R$9:R$39,\"\",0)","v":227.22165137972638},{"$f":"_xlfn.XLOOKUP($AH41,$N$9:$N$39,T$9:T$39,\"\",0)","v":1844.6357092582766},{"$f":"_xlfn.XLOOKUP($AH41,$N$9:$N$39,V$9:V$39,\"\",0)","v":330.59166956709936},null,852.80907844970898,373.71628501001442]
[{"$nulls":13},"Climate Impact","Unit: Tonnes CO2-eq",{"$nulls":9},"Economic Cost","Unit: Million EUR","Avg. Exchange Rate 2022 (USD to EUR)",null,null,0.94969999999999999,"European Central Bank (2025)",null,null,null,"Food Supply","","","","",{"$f":"_xlfn.XLOOKUP(AH41,N$9:N$39,Q$9:Q$39,\"\",0)+AJ41","v":9750.5874091403075},"",""]
[{"$nulls":13},"Country","Product","Pre R&D","R&D","Households","Food Service","Total",{"$nulls":4},"Country","Product","Pre R&D","R&D","Households","Food Service","Total",null,null,"Lithuania","Food Waste",527.2695412422346,651.1491446199999,5286.1730249981074,947.37663224430423,null,2443.8951947791575,2578.1592510220516]
[{"$nulls":13},"Austria","Cucumbers",{"$f":"'FFV Coeffs for Calcs'!J73*P9","v":3249.1128898600509},{"$f":"'FFV Coeffs for Calcs'!K73*R9","v":2623.6843241699148},{"$f":"'FFV Coeffs for Calcs'!L73*T9","v":14032.303110386911},{"$f":"'FFV Coeffs for Calcs'!L73*V9","v":2514.8393744365521},{"$f":"SUM(_xlfn.IFNA(P44,0),Q44:S44)","v":22419.939698853428},{"$nulls":4},"Austria","Cucumbers",{"$f":"'FFV Coeffs for Calcs'!N73*P9/1000*$AD$42","v":3.0080435964299999},{"$f":"R9*'FFV Coeffs for Calcs'!O73/1000*$AD$42","v":3.2420919308864993},{"$f":"T9*'FFV Coeffs for Calcs'!P73/1000*$AD$42","v":20.33524857023669},{"$f":"V9*'FFV Coeffs for Calcs'!O73/1000*$AD$42","v":2.5221036605322857},{"$f":"SUM(_xlfn.IFNA(AA44,0),AB44:AD44)","v":29.107487758085473},null,null,null,"Food Supply","","","","",{"$f":"_xlfn.XLOOKUP(AH43,N$9:N$39,Q$9:Q$39,\"\",0)+AJ43","v":26435.060441242236},"",""]
[{"$nulls":13},"Belgium","Cucumbers",{"$f":"'FFV Coeffs for Calcs'!J74*P10","v":512.13507687023025},{"$f":"'FFV Coeffs for Calcs'!K74*R10","v":441.59716846069796},{"$f":"'FFV Coeffs for Calcs'!L74*T10","v":4417.2120023516245},{"$f":"'FFV Coeffs for Calcs'!L74*V10","v":791.64329485762414},6162.5875425401764,{"$nulls":4},"Belgium","Cucumbers",{"$f":"'FFV Coeffs for Calcs'!N74*P10/1000*$AD$42","v":0.62459370500736511},{"$f":"R10*'FFV Coeffs for Calcs'!O74/1000*$AD$42","v":0.69413472612972082},{"$f":"T10*'FFV Coeffs for Calcs'!P74/1000*$AD$42","v":8.1427765769274707},{"$f":"V10*'FFV Coeffs for Calcs'!O74/1000*$AD$42","v":1.0099176580326545},10.47142266609721,null,null,"Luxembourg","Food Waste",2.9293499999999999,44.384673138272412,360.32461042979202,64.57660661681409,null,166.58470689963013,211.67722178191241]
[{"$nulls":13},"Bulgaria","Cucumbers",{"$f":"'FFV Coeffs for Calcs'!J75*P11","v":5376.6054371434684},{"$f":"'FFV Coeffs for Calcs'!K75*R11","v":1907.3081175599946},{"$f":"'FFV Coeffs for Calcs'!L75*T11","v":19078.438248225575},{"$f":"'FFV Coeffs for Calcs'!L75*V11","v":3419.1969295388926},29781.548732467931,{"$nulls":4},"Bulgaria","Cucumbers",{"$f":"'FFV Coeffs for Calcs'!N75*P11/1000*$AD$42","v":2.9902992022351218},{"$f":"R11*'FFV Coeffs for Calcs'!O75/1000*$AD$42","v":1.4218141071129016},{"$f":"T11*'FFV Coeffs for Calcs'!P75/1000*$AD$42","v":16.679059802549578},{"$f":"V11*'FFV Coeffs for Calcs'!O75/1000*$AD$42","v":2.0686404514285988},23.1598135633262,null,null,null,"Food Supply","","","","",{"$f":"_xlfn.XLOOKUP(AH45,N$9:N$39,Q$9:Q$39,\"\",0)+AJ45","v":1768.8977772522182},"",""]
[{"$nulls":13},"Croatia","Cucumbers",{"$f":"'FFV Coeffs for Calcs'!J76*P12","v":999.08187811491746},{"$f":"'FFV Coeffs for Calcs'!K76*R12","v":334.60296319003754},{"$f":"'FFV Coeffs for Calcs'!L76*T12","v":3346.9694341054069},{"$f":"'FFV Coeffs for Calcs'!L76*V12","v":599.83670903555787},5280.4909844459198,{"$nulls":4},"Croatia","Cucumbers",{"$f":"'FFV Coeffs for Calcs'!N76*P12/1000*$AD$42","v":0.76080791417519988},{"$f":"R12*'FFV Coeffs for Calcs'!O76/1000*$AD$42","v":0.3367884454713953},{"$f":"T12*'FFV Coeffs for Calcs'!P76/1000*$AD$42","v":3.9508080519973729},{"$f":"V12*'FFV Coeffs for Calcs'!O76/1000*$AD$42","v":0.49000372017026361},5.538408131814232,null,null,"Malta","Food Waste",76.897649999999999,21.324546921866496,173.1173965903952,31.025729840685415,null,80.035362380158915,24.802340762947267]
[{"$nulls":13},"Cyprus","Cucumbers",{"$f":"'FFV Coeffs for Calcs'!J77*P13","v":856.6447955169582},{"$f":"'FFV Coeffs for Calcs'!K77*R13","v":242.42215921830103},{"$f":"'FFV Coeffs for Calcs'!L77*T13","v":2424.9024853753776},{"$f":"'FFV Coeffs for Calcs'!L77*V13","v":434.58584107102502},3958.5552811816624,{"$nulls":4},"Cyprus","Cucumbers",{"$f":"'FFV Coeffs for Calcs'!N77*P13/1000*$AD$42","v":0.49652974062039695},{"$f":"R13*'FFV Coeffs for Calcs'!O77/1000*$AD$42","v":0.19245927287441911},{"$f":"T13*'FFV Coeffs for Calcs'!P77/1000*$AD$42","v":2.2577070418480121},{"$f":"V13*'FFV Coeffs for Calcs'!O77/1000*$AD$42","v":0.28001483114342457},3.226710886486253,null,null,null,"Food Supply",{"$f":"_xlfn.XLOOKUP($AH48,$N$9:$N$39,P$9:P$39,\"\",0)","v":""},"","","",{"$f":"_xlfn.XLOOKUP(AH47,N$9:N$39,Q$9:Q$39,\"\",0)+AJ47","v":925.35442407956896},"",""]
[{"$nulls":13},"Czechia","Cucumbers",{"$f":"'FFV Coeffs for Calcs'!J78*P14","v":219.02930725244914},{"$f":"'FFV Coeffs for Calcs'!K78*R14","v":796.07680597972751},{"$f":"'FFV Coeffs for Calcs'!L78*T14","v":7963.0040075321731},{"$f":"'FFV Coeffs for Calcs'!L78*V14","v":1427.1125601694475},10405.222680933797,{"$nulls":4},"Czechia","Cucumbers",{"$f":"'FFV Coeffs for Calcs'!N78*P14/1000*$AD$42","v":0.40944202417500003},{"$f":"R14*'FFV Coeffs for Calcs'!O78/1000*$AD$42","v":1.8578207837753911},{"$f":"T14*'FFV Coeffs for Calcs'!P78/1000*$AD$42","v":21.793780072930954},{"$f":"V14*'FFV Coeffs for Calcs'!O78/1000*$AD$42","v":2.7029997842871207},26.764042665168468,null,null,"Netherlands","Food Waste",3824.4207527828094,0.24155897999999998,2.4766507778165998,0.35145148366020007,null,1.4222414474547804,0.63640986626523954]
[{"$nulls":13},"Denmark","Cucumbers",{"$f":"'FFV Coeffs for Calcs'!J79*P15","v":929.0242697139405},{"$f":"'FFV Coeffs for Calcs'!K79*R15","v":663.80278938149263},{"$f":"'FFV Coeffs for Calcs'!L79*T15","v":8893.9734155301921},{"$f":"'FFV Coeffs for Calcs'!L79*V15","v":1189.9873116338053},11676.787786259431,{"$nulls":4},"Denmark","Cucumbers",{"$f":"'FFV Coeffs for Calcs'!N79*P15/1000*$AD$42","v":2.0922939868452368},{"$f":"R15*'FFV Coeffs for Calcs'!O79/1000*$AD$42","v":1.9362579929580193},{"$f":"T15*'FFV Coeffs for Calcs'!P79/1000*$AD$42","v":30.424731964341927},{"$f":"V15*'FFV Coeffs for Calcs'!O79/1000*$AD$42","v":2.8171204580099518},37.270404402155137,null,null,null,"Food Supply","","","","",{"$f":"_xlfn.XLOOKUP(AH49,N$9:N$39,Q$9:Q$39,\"\",0)+AJ49","v":3834.0318527828094},"",""]
[{"$nulls":13},"Estonia","Cucumbers",{"$f":"'FFV Coeffs for Calcs'!J80*P16","v":552.78789890616213},{"$f":"'FFV Coeffs for Calcs'!K80*R16","v":209.11450791314456},{"$f":"'FFV Coeffs for Calcs'!L80*T16","v":2091.7324208386658},{"$f":"'FFV Coeffs for Calcs'!L80*V16","v":374.87581413608194},3228.5106417940542,{"$nulls":4},"Estonia","Cucumbers",{"$f":"'FFV Coeffs for Calcs'!N80*P16/1000*$AD$42","v":0.70249812530940015},{"$f":"R16*'FFV Coeffs for Calcs'!O80/1000*$AD$42","v":0.34890285359908851},{"$f":"T16*'FFV Coeffs for Calcs'!P80/1000*$AD$42","v":4.092920116171908},{"$f":"V16*'FFV Coeffs for Calcs'!O80/1000*$AD$42","v":0.50762933984353331},5.65195043492393,null,null,"Norway","Food Waste",1373.54655,463.34328097902437,3761.5234135872461,674.1321872780843,null,1739.021585567275,2209.7542127528559]
[{"$nulls":13},"Finland","Cucumbers",{"$f":"'FFV Coeffs for Calcs'!J81*P17","v":6750.1897391482107},{"$f":"'FFV Coeffs for Calcs'!K81*R17","v":1725.861542860931},{"$f":"'FFV Coeffs for Calcs'!L81*T17","v":14094.620288471335},{"$f":"'FFV Coeffs for Calcs'!L81*V17","v":3093.9209212345504},25664.592491715026,{"$nulls":4},"Finland","Cucumbers",{"$f":"'FFV Coeffs for Calcs'!N81*P17/1000*$AD$42","v":5.3555067191159997},{"$f":"R17*'FFV Coeffs for Calcs'!O81/1000*$AD$42","v":1.8701085512707578},{"$f":"T17*'FFV Coeffs for Calcs'!P81/1000*$AD$42","v":17.911049260054405},{"$f":"V17*'FFV Coeffs for Calcs'!O81/1000*$AD$42","v":2.7208776297603814},27.857542160201543,null,null,null,"Food Supply","","","","",{"$f":"_xlfn.XLOOKUP(AH51,N$9:N$39,Q$9:Q$39,\"\",0)+AJ51","v":19808.955607520864},"",""]
[{"$nulls":13},"France","Cucumbers",{"$f":"'FFV Coeffs for Calcs'!J82*P18","v":46036.295697920483},{"$f":"'FFV Coeffs for Calcs'!K82*R18","v":5158.6256602734111},{"$f":"'FFV Coeffs for Calcs'!L82*T18","v":51600.745678754953},{"$f":"'FFV Coeffs for Calcs'!L82*V18","v":9247.7753624894194},112043.44239943827,{"$nulls":4},"France","Cucumbers",{"$f":"'FFV Coeffs for Calcs'!N82*P18/1000*$AD$42","v":42.026395467172797},{"$f":"R18*'FFV Coeffs for Calcs'!O82/1000*$AD$42","v":6.3494521880388586},{"$f":"T18*'FFV Coeffs for Calcs'!P82/1000*$AD$42","v":74.484345195289265},{"$f":"V18*'FFV Coeffs for Calcs'!O82/1000*$AD$42","v":9.2380104929891651},132.0982033434901,null,null,"Poland","Food Waste",63149.674331291688,10208.7562707,82876.945263358764,14853.029010401051,null,38315.538921878237,48687.103282215714]
[{"$nulls":13},"Germany","Cucumbers",{"$f":"'FFV Coeffs for Calcs'!J83*P19","v":59936.017449853876},{"$f":"'FFV Coeffs for Calcs'!K83*R19","v":9287.115921419143},{"$f":"'FFV Coeffs for Calcs'!L83*T19","v":94016.487919934152},{"$f":"'FFV Coeffs for Calcs'!L83*V19","v":16648.845538082955},179888.46682929015,{"$nulls":4},"Germany","Cucumbers",{"$f":"'FFV Coeffs for Calcs'!N83*P19/1000*$AD$42","v":113.9908015891167},{"$f":"R19*'FFV Coeffs for Calcs'!O83/1000*$AD$42","v":22.444360526163024},{"$f":"T19*'FFV Coeffs for Calcs'!P83/1000*$AD$42","v":266.46316176763554},{"$f":"V19*'FFV Coeffs for Calcs'!O83/1000*$AD$42","v":32.654980604423919},435.55330448733923,null,null,null,"Food Supply","","","","",{"$f":"_xlfn.XLOOKUP(AH53,N$9:N$39,Q$9:Q$39,\"\",0)+AJ53","v":469333.61083129171},"",""]
[{"$nulls":13},"Greece","Cucumbers",{"$f":"'FFV Coeffs for Calcs'!J84*P20","v":21644.053619192968},{"$f":"'FFV Coeffs for Calcs'!K84*R20","v":2925.8249992863221},{"$f":"'FFV Coeffs for Calcs'!L84*T20","v":29266.467782567328},{"$f":"'FFV Coeffs for Calcs'!L84*V20","v":5245.0738094303997},59081.420210477023,{"$nulls":4},"Greece","Cucumbers",{"$f":"'FFV Coeffs for Calcs'!N84*P20/1000*$AD$42","v":8.9942698865948554},{"$f":"R20*'FFV Coeffs for Calcs'!O84/1000*$AD$42","v":1.6678850554129483},{"$f":"T20*'FFV Coeffs for Calcs'!P84/1000*$AD$42","v":19.565676303141554},{"$f":"V20*'FFV Coeffs for Calcs'!O84/1000*$AD$42","v":2.426656534563755},32.654487779713115,null,null,"Portugal","Food Waste",{"$f":"_xlfn.XLOOKUP($AH55,$N$9:$N$39,P$9:P$39,\"\",0)","v":1032.2020499999999},302.73118576961059,2457.6388393705247,440.45278047183854,null,1136.2117209628032,411.56877942171468]
[{"$nulls":13},"Hungary","Cucumbers",{"$f":"'FFV Coeffs for Calcs'!J85*P21","v":773.64292630050033},{"$f":"'FFV Coeffs for Calcs'!K85*R21","v":631.44471059487319},{"$f":"'FFV Coeffs for Calcs'!L85*T21","v":6316.2206501089968},{"$f":"'FFV Coeffs for Calcs'!L85*V21","v":1131.9795662599083},8853.287853264279,{"$nulls":4},"Hungary","Cucumbers",{"$f":"'FFV Coeffs for Calcs'!N85*P21/1000*$AD$42","v":0.61941361804385486},{"$f":"R21*'FFV Coeffs for Calcs'!O85/1000*$AD$42","v":0.66600176988576087},{"$f":"T21*'FFV Coeffs for Calcs'!P85/1000*$AD$42","v":7.8127536454710338},{"$f":"V21*'FFV Coeffs for Calcs'!O85/1000*$AD$42","v":0.96898616704984286},10.067155200450493,null,null,null,"Food Supply",{"$f":"_xlfn.XLOOKUP($AH56,$N$9:$N$39,P$9:P$39,\"\",0)","v":""},"","","",{"$f":"_xlfn.XLOOKUP(AH55,N$9:N$39,Q$9:Q$39,\"\",0)+AJ55","v":13077.209441363817},"",""]
[{"$nulls":13},"Iceland","Cucumbers",{"$f":"'FFV Coeffs for Calcs'!J86*P22","v":287.65493848917862},{"$f":"'FFV Coeffs for Calcs'!K86*R22","v":59.506569348137901},{"$f":"'FFV Coeffs for Calcs'!L86*T22","v":595.23283009174872},{"$f":"'FFV Coeffs for Calcs'!L86*V22","v":106.67635571269805},1049.0706936417632,{"$nulls":4},"Iceland","Cucumbers",{"$f":"'FFV Coeffs for Calcs'!N86*P22/1000*$AD$42","v":0.44767448740170007},{"$f":"R22*'FFV Coeffs for Calcs'!O86/1000*$AD$42","v":0.12686751436684648},{"$f":"T22*'FFV Coeffs for Calcs'!P86/1000*$AD$42","v":1.4882612632267422},{"$f":"V22*'FFV Coeffs for Calcs'!O86/1000*$AD$42","v":0.18458339305998883},2.2473866580552775,null,null,"Romania","Food Waste",{"$f":"_xlfn.XLOOKUP($AH57,$N$9:$N$39,P$9:P$39,\"\",0)","v":7452.2221500000005},969.73735225302482,7872.5426811465677,1410.9002745832088,null,3639.6215443884012,0]
[{"$nulls":13},"Ireland","Cucumbers",{"$f":"'FFV Coeffs for Calcs'!J87*P23","v":450.20607252594158},{"$f":"'FFV Coeffs for Calcs'!K87*R23","v":91.710979075359219},{"$f":"'FFV Coeffs for Calcs'!L87*T23","v":917.36738016505171},{"$f":"'FFV Coeffs for Calcs'!L87*V23","v":164.40862132995682},1623.6930530963093,{"$nulls":4},"Ireland","Cucumbers",{"$f":"'FFV Coeffs for Calcs'!N87*P23/1000*$AD$42","v":1.4899667121153},{"$f":"R23*'FFV Coeffs for Calcs'!O87/1000*$AD$42","v":0.37091241514426654},{"$f":"T23*'FFV Coeffs for Calcs'!P87/1000*$AD$42","v":4.3511105444447997},{"$f":"V23*'FFV Coeffs for Calcs'!O87/1000*$AD$42","v":0.53965171822815483},6.7516413899325212,null,null,null,"Food Supply",{"$f":"_xlfn.XLOOKUP($AH58,$N$9:$N$39,P$9:P$39,\"\",0)","v":""},"","","",{"$f":"_xlfn.XLOOKUP(AH57,N$9:N$39,Q$9:Q$39,\"\",0)+AJ57","v":46035.936430624337},"",""]
[{"$nulls":13},"Italy","Cucumbers",{"$f":"'FFV Coeffs for Calcs'!J88*P24","v":13935.710376919973},{"$f":"'FFV Coeffs for Calcs'!K88*R24","v":1785.8619292336321},{"$f":"'FFV Coeffs for Calcs'!L88*T24","v":17863.635258013899},{"$f":"'FFV Coeffs for Calcs'!L88*V24","v":3201.4825338381461},36786.690098005653,{"$nulls":4},"Italy","Cucumbers",{"$f":"'FFV Coeffs for Calcs'!N88*P24/1000*$AD$42","v":9.5450239158123011},{"$f":"R24*'FFV Coeffs for Calcs'!O88/1000*$AD$42","v":1.6559046014484216},{"$f":"T24*'FFV Coeffs for Calcs'!P88/1000*$AD$42","v":19.425135632503682},{"$f":"V24*'FFV Coeffs for Calcs'!O88/1000*$AD$42","v":2.4092258088637388},33.035289958628141,null,null,"Slovakia","Food Waste",{"$f":"_xlfn.XLOOKUP($AH59,$N$9:$N$39,P$9:P$39,\"\",0)","v":307.44899999999996},339.54715285276512,2756.5190171180739,494.01744717874271,null,1274.3895344316015,1311.9027468500908]
[{"$nulls":13},"Latvia","Cucumbers",{"$f":"'FFV Coeffs for Calcs'!J89*P25","v":742.6098954039079},{"$f":"'FFV Coeffs for Calcs'!K89*R25","v":260.40068229415283},{"$f":"'FFV Coeffs for Calcs'!L89*T25","v":2604.7382125654535},{"$f":"'FFV Coeffs for Calcs'!L89*V25","v":466.81561576376703},4074.5644060272816,{"$nulls":4},"Latvia","Cucumbers",{"$f":"'FFV Coeffs for Calcs'!N89*P25/1000*$AD$42","v":1.4158793482155001},{"$f":"R25*'FFV Coeffs for Calcs'!O89/1000*$AD$42","v":0.65482204482585726},{"$f":"T25*'FFV Coeffs for Calcs'!P89/1000*$AD$42","v":7.6816061896135084},{"$f":"V25*'FFV Coeffs for Calcs'!O89/1000*$AD$42","v":0.95272044610990447},10.705028028764769,null,null,null,"Food Supply",{"$f":"_xlfn.XLOOKUP($AH60,$N$9:$N$39,P$9:P$39,\"\",0)","v":""},"","","",{"$f":"_xlfn.XLOOKUP(AH59,N$9:N$39,Q$9:Q$39,\"\",0)+AJ59","v":13817.282667881904},"",""]
[{"$nulls":13},"Lithuania","Cucumbers",{"$f":"'FFV Coeffs for Calcs'!J90*P26","v":708.88014619344051},{"$f":"'FFV Coeffs for Calcs'!K90*R26","v":940.54325751491353},{"$f":"'FFV Coeffs for Calcs'!L90*T26","v":9408.0742870422782},{"$f":"'FFV Coeffs for Calcs'!L90*V26","v":1686.0949673446489},12743.59265809528,{"$nulls":4},"Lithuania","Cucumbers",{"$f":"'FFV Coeffs for Calcs'!N90*P26/1000*$AD$42","v":0.92638358413783783},{"$f":"R26*'FFV Coeffs for Calcs'!O90/1000*$AD$42","v":1.6531280229773875},{"$f":"T26*'FFV Coeffs for Calcs'!P90/1000*$AD$42","v":19.392564062047903},{"$f":"V26*'FFV Coeffs for Calcs'!O90/1000*$AD$42","v":2.405186080665088},24.377261749828218,null,null,"Slovenia","Food Waste",1108.1439,74.362750196972016,603.69328195203218,108.19261981392134,null,279.09852816131706,354.64720708248751]
[{"$nulls":13},"Luxembourg","Cucumbers",{"$f":"'FFV Coeffs for Calcs'!J91*P27","v":0.7251260655092413},{"$f":"'FFV Coeffs for Calcs'!K91*R27","v":15.425370006120476},{"$f":"'FFV Coeffs for Calcs'!L91*T27","v":154.2970254298954},{"$f":"'FFV Coeffs for Calcs'!L91*V27","v":27.652783143083038},198.10030464460814,{"$nulls":4},"Luxembourg","Cucumbers",{"$f":"'FFV Coeffs for Calcs'!N91*P27/1000*$AD$42","v":5.8422077594999997E-3},{"$f":"R27*'FFV Coeffs for Calcs'!O91/1000*$AD$42","v":0.12791062051899185},{"$f":"T27*'FFV Coeffs for Calcs'!P91/1000*$AD$42","v":1.5004977643312136},{"$f":"V27*'FFV Coeffs for Calcs'!O91/1000*$AD$42","v":0.18610103982595266},1.8203516324356581,null,null,null,"Food Supply","","","","",{"$f":"_xlfn.XLOOKUP(AH61,N$9:N$39,Q$9:Q$39,\"\",0)+AJ61","v":4066.8740139378788},"",""]
[{"$nulls":13},"Malta","Cucumbers",{"$f":"'FFV Coeffs for Calcs'!J92*P28","v":91.225778140994507},{"$f":"'FFV Coeffs for Calcs'!K92*R28","v":27.4303459340051},{"$f":"'FFV Coeffs for Calcs'!L92*T28","v":274.38050318732542},{"$f":"'FFV Coeffs for Calcs'!L92*V28","v":49.173887391474253},442.21051465379929,{"$nulls":4},"Malta","Cucumbers",{"$f":"'FFV Coeffs for Calcs'!N92*P28/1000*$AD$42","v":0.1226898929844},{"$f":"R28*'FFV Coeffs for Calcs'!O92/1000*$AD$42","v":4.9163566361114693E-2},{"$f":"T28*'FFV Coeffs for Calcs'!P92/1000*$AD$42","v":0.57672944679717741},{"$f":"V28*'FFV Coeffs for Calcs'!O92/1000*$AD$42","v":7.1529563254657147E-2},0.82011246939734916,null,null,"Spain","Food Waste",69360.644849999997,138.70832567500941,723.04381122120333,201.81094842553264,null,117.57945303188171,1064.5421011938888]
[{"$nulls":13},"Netherlands","Cucumbers",{"$f":"'FFV Coeffs for Calcs'!J93*P29","v":5871.4234193278598},{"$f":"'FFV Coeffs for Calcs'!K93*R29","v":0.39500815092979047},{"$f":"'FFV Coeffs for Calcs'!L93*T29","v":4.9900937719557605},{"$f":"'FFV Coeffs for Calcs'!L93*V29","v":0.70812400176317714},5877.5166452525091,{"$nulls":4},"Netherlands","Cucumbers",{"$f":"'FFV Coeffs for Calcs'!N93*P29/1000*$AD$42","v":3.9952576278096181},{"$f":"R29*'FFV Coeffs for Calcs'!O93/1000*$AD$42","v":3.6464491137488703E-4},{"$f":"T29*'FFV Coeffs for Calcs'!P93/1000*$AD$42","v":5.4023111017819639E-3},{"$f":"V29*'FFV Coeffs for Calcs'!O93/1000*$AD$42","v":5.3053293697401032E-4},4.0015551167597492,null,null,null,"Food Supply","","","","",{"$f":"_xlfn.XLOOKUP(AH63,N$9:N$39,Q$9:Q$39,\"\",0)+AJ63","v":74879.543749536184},"",""]
[{"$nulls":13},"Norway","Cucumbers",{"$f":"'FFV Coeffs for Calcs'!J94*P30","v":2065.3855685106837},{"$f":"'FFV Coeffs for Calcs'!K94*R30","v":743.05809461347326},{"$f":"'FFV Coeffs for Calcs'!L94*T30","v":7432.6679797614725},{"$f":"'FFV Coeffs for Calcs'!L94*V30","v":1332.0668706751262},11573.178513560755,{"$nulls":4},"Norway","Cucumbers",{"$f":"'FFV Coeffs for Calcs'!N94*P30/1000*$AD$42","v":3.8220594745075496},{"$f":"R30*'FFV Coeffs for Calcs'!O94/1000*$AD$42","v":1.8630511348793384},{"$f":"T30*'FFV Coeffs for Calcs'!P94/1000*$AD$42","v":21.855136433382462},{"$f":"V30*'FFV Coeffs for Calcs'!O94/1000*$AD$42","v":2.7106095806836192},30.250856623452972,null,null,"Sweden","Food Waste",9636.7119000000002,400.88027455504533,8842.0084831141066,1584.6458637269463,null,3517.5238411427308,5617.2233257219377]
[{"$nulls":13},"Poland","Cucumbers",{"$f":"'FFV Coeffs for Calcs'!J95*P31","v":103879.22977230292},{"$f":"'FFV Coeffs for Calcs'!K95*R31","v":17813.958878300637},{"$f":"'FFV Coeffs for Calcs'!L95*T31","v":178189.62300169514},{"$f":"'FFV Coeffs for Calcs'!L95*V31","v":31934.763418056791},331817.57507035544,{"$nulls":4},"Poland","Cucumbers",{"$f":"'FFV Coeffs for Calcs'!N95*P31/1000*$AD$42","v":45.579666741445067},{"$f":"R31*'FFV Coeffs for Calcs'!O95/1000*$AD$42","v":10.647329952817659},{"$f":"T31*'FFV Coeffs for Calcs'!P95/1000*$AD$42","v":124.90201928093637},{"$f":"V31*'FFV Coeffs for Calcs'!O95/1000*$AD$42","v":15.491123157323548},196.62013913252264,null,null,null,"Food Supply","","","","",{"$f":"_xlfn.XLOOKUP(AH65,N$9:N$39,Q$9:Q$39,\"\",0)+AJ65","v":52283.549618621844},"",""]
[{"$nulls":13},"Portugal","Cucumbers",{"$f":"'FFV Coeffs for Calcs'!J96*P32","v":1309.3652449673843},{"$f":"'FFV Coeffs for Calcs'!K96*R32","v":414.2925973354977},{"$f":"'FFV Coeffs for Calcs'!L96*T32","v":4144.089600517128},{"$f":"'FFV Coeffs for Calcs'!L96*V32","v":742.69488170186469},6610.442324521875,{"$nulls":4},"Portugal","Cucumbers",{"$f":"'FFV Coeffs for Calcs'!N96*P32/1000*$AD$42","v":1.1175218070488999},{"$f":"R32*'FFV Coeffs for Calcs'!O96/1000*$AD$42","v":0.47360502147767003},{"$f":"T32*'FFV Coeffs for Calcs'!P96/1000*$AD$42","v":5.5557800675180502},{"$f":"V32*'FFV Coeffs for Calcs'!O96/1000*$AD$42","v":0.68906230464811524},7.8359692006927357,null,null,"Switzerland","Food Waste",1363.1212499999999,630.15138730813351,5115.708578865384,916.82635851491386,null,2365.0863402799987,3005.2873105960571]
[{"$nulls":13},"Romania","Cucumbers",{"$f":"'FFV Coeffs for Calcs'!J97*P33","v":10949.207883685369},{"$f":"'FFV Coeffs for Calcs'!K97*R33","v":1521.7643075773351},{"$f":"'FFV Coeffs for Calcs'!L97*T33","v":15221.917268201792},{"$f":"'FFV Coeffs for Calcs'!L97*V33","v":2728.0394814272272},30420.928940891721,{"$nulls":4},"Romania","Cucumbers",{"$f":"'FFV Coeffs for Calcs'!N97*P33/1000*$AD$42","v":7.9266604209576021},{"$f":"R33*'FFV Coeffs for Calcs'!O97/1000*$AD$42","v":1.4904809574627149},{"$f":"T33*'FFV Coeffs for Calcs'!P97/1000*$AD$42","v":17.484578961283251},{"$f":"V33*'FFV Coeffs for Calcs'!O97/1000*$AD$42","v":2.1685459338648765},29.070266273568443,null,null,null,"Food Supply","","","","",{"$f":"_xlfn.XLOOKUP(AH67,N$9:N$39,Q$9:Q$39,\"\",0)+AJ67","v":26435.457615045103},"",""]
[{"$nulls":13},"Slovakia","Cucumbers",{"$f":"'FFV Coeffs for Calcs'!J98*P34","v":165.61091126922531},{"$f":"'FFV Coeffs for Calcs'!K98*R34","v":216.85566276865546},{"$f":"'FFV Coeffs for Calcs'!L98*T34","v":2169.1657120416385},{"$f":"'FFV Coeffs for Calcs'!L98*V34","v":388.75324309963514},2940.3855291791547,{"$nulls":4},"Slovakia","Cucumbers",{"$f":"'FFV Coeffs for Calcs'!N98*P34/1000*$AD$42","v":0.39417882565499995},{"$f":"R34*'FFV Coeffs for Calcs'!O98/1000*$AD$42","v":0.62905431652362676},{"$f":"T34*'FFV Coeffs for Calcs'!P98/1000*$AD$42","v":7.3793293454194018},{"$f":"V34*'FFV Coeffs for Calcs'!O98/1000*$AD$42","v":0.91523019696921071},9.3177926845672392,null,null,"United Kingdom","Food Waste",3124.4571000000001,3356.455609555177,31909.756350928874,6169.1318458063233,null,12669.170272893036,23277.660735286576]
[{"$nulls":13},"Slovenia","Cucumbers",{"$f":"'FFV Coeffs for Calcs'!J99*P35","v":640.6693058867445},{"$f":"'FFV Coeffs for Calcs'!K99*R35","v":50.428824590672079},{"$f":"'FFV Coeffs for Calcs'!L99*T35","v":504.42988577773582},{"$f":"'FFV Coeffs for Calcs'!L99*V35","v":90.40284609141429},1285.9308623465668,{"$nulls":4},"Slovenia","Cucumbers",{"$f":"'FFV Coeffs for Calcs'!N99*P35/1000*$AD$42","v":0.61039447186139995},{"$f":"R35*'FFV Coeffs for Calcs'!O99/1000*$AD$42","v":5.9188552866796106E-2},{"$f":"T35*'FFV Coeffs for Calcs'!P99/1000*$AD$42","v":0.69433086080167017},{"$f":"V35*'FFV Coeffs for Calcs'!O99/1000*$AD$42","v":8.6115220062345274E-2},1.4500291055922114,null,null,null,"Food Supply","","","","",{"$f":"_xlfn.XLOOKUP(AH69,N$9:N$39,Q$9:Q$39,\"\",0)+AJ69","v":170947.23757775885},"",""]
[{"$nulls":13},"Spain","Cucumbers",{"$f":"'FFV Coeffs for Calcs'!J100*P36","v":128592.24028887165},{"$f":"'FFV Coeffs for Calcs'!K100*R36","v":271.03127829060435},{"$f":"'FFV Coeffs for Calcs'!L100*T36","v":1740.7746788681427},{"$f":"'FFV Coeffs for Calcs'!L100*V36","v":485.8728938488282},131089.91913987923,{"$nulls":4},"Spain","Cucumbers",{"$f":"'FFV Coeffs for Calcs'!N100*P36/1000*$AD$42","v":66.530522458185445},{"$f":"R36*'FFV Coeffs for Calcs'!O100/1000*$AD$42","v":0.19225524125130095},{"$f":"T36*'FFV Coeffs for Calcs'!P100/1000*$AD$42","v":1.4481318957243454},{"$f":"V36*'FFV Coeffs for Calcs'!O100/1000*$AD$42","v":0.27971797934905757},68.45062757451015]
[{"$nulls":13},"Sweden","Cucumbers",{"$f":"'FFV Coeffs for Calcs'!J101*P37","v":10318.010882982016},{"$f":"'FFV Coeffs for Calcs'!K101*R37","v":469.30984902223383},{"$f":"'FFV Coeffs for Calcs'!L101*T37","v":12754.310110329472},{"$f":"'FFV Coeffs for Calcs'!L101*V37","v":2285.8002002171961},25827.431042550921,{"$nulls":4},"Sweden","Cucumbers",{"$f":"'FFV Coeffs for Calcs'!N101*P37/1000*$AD$42","v":13.911017642973601},{"$f":"R37*'FFV Coeffs for Calcs'!O101/1000*$AD$42","v":0.83620461525055667},{"$f":"T37*'FFV Coeffs for Calcs'!P101/1000*$AD$42","v":26.65119257305415},{"$f":"V37*'FFV Coeffs for Calcs'!O101/1000*$AD$42","v":3.3054462114828449},44.703861042761154]
[{"$nulls":13},"Switzerland","Cucumbers",{"$f":"'FFV Coeffs for Calcs'!J102*P38","v":1272.1098581269539},{"$f":"'FFV Coeffs for Calcs'!K102*R38","v":651.09326597521874},{"$f":"'FFV Coeffs for Calcs'!L102*T38","v":6512.7613909780293},{"$f":"'FFV Coeffs for Calcs'!L102*V38","v":1167.2031778032281},9603.1676928834313,{"$nulls":4},"Switzerland","Cucumbers",{"$f":"'FFV Coeffs for Calcs'!N102*P38/1000*$AD$42","v":3.0810438776774998},{"$f":"R38*'FFV Coeffs for Calcs'!O102/1000*$AD$42","v":2.0581458081960045},{"$f":"T38*'FFV Coeffs for Calcs'!P102/1000*$AD$42","v":24.143758910208931},{"$f":"V38*'FFV Coeffs for Calcs'!O102/1000*$AD$42","v":2.9944587358313375},32.277407331913771]
[{"$nulls":13},"United Kingdom","Cucumbers",{"$f":"'FFV Coeffs for Calcs'!J103*P39","v":1031.070843},{"$f":"'FFV Coeffs for Calcs'!K103*R39","v":1443.2759121087261},{"$f":"'FFV Coeffs for Calcs'!L103*T39","v":17869.463556520172},{"$f":"'FFV Coeffs for Calcs'!L103*V39","v":3454.7138336515413},23798.52414528044,{"$nulls":4},"United Kingdom","Cucumbers",{"$f":"'FFV Coeffs for Calcs'!N103*P39/1000*$AD$42","v":5.0147317743002997},{"$f":"R39*'FFV Coeffs for Calcs'!O103/1000*$AD$42","v":7.7843418105221147},{"$f":"T39*'FFV Coeffs for Calcs'!P103/1000*$AD$42","v":106.93806585387743},{"$f":"V39*'FFV Coeffs for Calcs'!O103/1000*$AD$42","v":14.307542404321552},134.04468184302141]
[{"$nulls":13},"EU+","Cucumbers",{"$f":"SUM(P44:P74)","v":430145.95729846391},{"$f":"SUM(Q44:Q74)","v":53723.824482448297},{"$f":"SUM(R44:R74)","v":535904.99621914094},{"$f":"SUM(S44:S74)","v":96432.996767474615},{"$f":"SUM(T44:T74)","v":1116207.7747675278},{"$nulls":4},"EU+","Cucumbers",{"$f":"SUM(AA44:AA74)","v":348.00741084569034},{"$f":"SUM(AB44:AB74)","v":73.700809045380794},{"$f":"SUM(AC44:AC74)","v":885.38764976486846},{"$f":"SUM(AD44:AD74)","v":110.10532163971587},{"$f":"SUM(AE44:AE74)","v":1417.2011912956557}]
{"$rows_empty":9}
[{"$nulls":13},"Country","Food Availability ","Total Food Waste","% Waste",null,"Food Availablility ","% Waste"]
[{"$nulls":13},"Austria",46208.44548092936,14934.326633196044,0.32319474238447549,null,{"$f":"Q9+_xlfn.IFNA(P9,0)","v":46208.44548092936},{"$f":"W9/S86","v":0.32319474238447549}]
[{"$nulls":13},"Belgium",19606.450222324496,5665.7606176578638,0.28897431984942679,null,19606.450222324496,0.28897431984942679]
[{"$nulls":13},"Bulgaria",59162.091170059139,18804.251881400953,0.31784292119338481,null,59162.091170059139,0.31784292119338481]
[{"$nulls":13},"Croatia",12285.658500000001,3948.749077046652,0.32141126802821773,null,12285.658500000001,0.32141126802821773]
[{"$nulls":13},"Cyprus",5498.0463058007854,1806.891898173935,0.32864253912658942,null,5498.0463058007854,0.32864253912658942]
[{"$nulls":13},"Czechia",43436.185485716996,11795.917361925272,0.27156890574113818,null,43436.185485716996,0.27156890574113818]
[{"$nulls":13},"Denmark",28459.198770527786,10248.621037619645,0.36011628859464129,null,28459.198770527786,0.36011628859464129]
[{"$nulls":13},"Estonia",8162.0325015056742,2577.3404363180998,0.3157718908669685,null,8162.0325015056742,0.3157718908669685]
[{"$nulls":13},"Finland",41569.112260320217,12511.733095452593,0.30098629523526449,null,41569.112260320217,0.30098629523526449]
[{"$nulls":13},"France",170405.2230934914,69531.555825285483,0.40803652941516694,null,170405.2230934914,0.40803652941516694]
[{"$nulls":13},"Germany",527918.67405775981,201748.4702033815,0.38215823784499831,null,527918.67405775981,0.38215823784499831]
[{"$nulls":13},"Greece",70521.840828841276,27220.77204946959,0.38599066231885892,null,70521.840828841276,0.38599066231885892]
[{"$nulls":13},"Hungary",22944.505004698829,6647.6995286408619,0.28972948107965163,null,22944.505004698829,0.28972948107965163]
[{"$nulls":13},"Iceland",1387.8514748101284,484.56482042700316,0.34914746226234067,null,1387.8514748101284,0.34914746226234067]
[{"$nulls":13},"Ireland",6451.7310044586429,2317.5988638924978,0.35922124811013639,null,6451.7310044586429,0.35922124811013639]
[{"$nulls":13},"Italy",54262.133103852801,21316.49782554197,0.39284297550087327,null,54262.133103852801,0.39284297550087327]
[{"$nulls":13},"Latvia",9750.5874091403075,3112.3871802051026,0.31919996710018894,null,9750.5874091403075,0.31919996710018894]
[{"$nulls":13},"Lithuania",26435.060441242236,7411.968343104646,0.28038401348010472,null,26435.060441242236,0.28038401348010472]
[{"$nulls":13},"Luxembourg",1768.8977772522182,472.21524018487855,0.26695451046267427,null,1768.8977772522182,0.26695451046267427]
[{"$nulls":13},"Malta",925.35442407956896,302.36532335294709,0.32675623035325485,null,925.35442407956896,0.32675623035325485]
[{"$nulls":13},"Netherlands",3834.0318527828094,3827.4904140242861,0.99829384861427917,null,3834.0318527828094,0.99829384861427917]
[{"$nulls":13},"Norway",19808.955607520864,6272.5454318443553,0.31665200105061869,null,19808.955607520864,0.31665200105061869]
[{"$nulls":13},"Poland",469333.61083129171,171088.4048757515,0.3645347380357371,null,469333.61083129171,0.3645347380357371]
[{"$nulls":13},"Portugal",13077.209441363817,4233.0248556119732,0.32369481230626468,null,13077.209441363817,0.32369481230626468]
[{"$nulls":13},"Romania",46035.936430624337,17705.4024579828,0.38459959394254206,null,46035.936430624337,0.38459959394254206]
[{"$nulls":13},"Slovakia",13817.282667881904,3897.5326171495817,0.28207663625564716,null,13817.282667881904,0.28207663625564716]
[{"$nulls":13},"Slovenia",4066.8740139378788,1894.3925519629256,0.46581048379431367,null,4066.8740139378788,0.46581048379431367]
[{"$nulls":13},"Spain",74879.543749536184,70424.207935321727,0.94049996045492656,null,74879.543749536184,0.94049996045492656]
[{"$nulls":13},"Sweden",52283.549618621844,20464.246521396097,0.3914088976488953,null,52283.549618621844,0.3914088976488953]
[{"$nulls":13},"Switzerland",26435.457615045103,8025.8075746884315,0.30360009997030413,null,26435.457615045103,0.30360009997030413]
[{"$nulls":13},"United Kingdom",170947.23757775885,44559.80090629038,0.26066405949392102,null,170947.23757775885,0.26066405949392102]

{"sheet":"Eggplants - Summary","index":5,"n_rows":116,"n_cols":42,"rows_kept":116,"cut":false,"hidden":false,"merged":[]}
["Homepage"]
[]
[]
[]
[]
[]
[{"$nulls":13},"Food Waste","Unit: Tonnes",{"$nulls":9},"Difference (Worst and Best Case)","Unit: Tonnes",{"$nulls":7},"Data for the illustration","Unit: Tonnes"]
[{"$nulls":13},"Country","Product","Food Waste - Pre R&D","Food Supply Quantity","Food Waste - R&D","Consumption - Households","Food Waste - Households","Consumption - Food Service","Food Waste - Food Service","Total Food Waste",null,"Country","Product","Total FW","Best Case","Worst Case","Average B/W case","Lower Error","Higher Error",null,"Country",null,"Food Waste - Pre R&D","Food Waste - R&D","Food Waste - Households","Food Waste - Food Service","Food Availability","Lower Error","Higher Error"]
[{"$nulls":13},"Austria","Eggplants",{"$f":"_xlfn.XLOOKUP($N9&$O9,'FFV Waste'!$A:$A&'FFV Waste'!$B:$B,'FFV Waste'!C:C,\"\",0)","v":959.41},{"$f":"_xlfn.XLOOKUP($N9&$O9,'FFV Waste'!$A:$A&'FFV Waste'!$B:$B,'FFV Waste'!D:D,\"\",0)","v":3542.6743999999999},{"$f":"_xlfn.XLOOKUP($N9&$O9,'FFV Waste'!$A:$A&'FFV Waste'!$B:$B,'FFV Waste'!E:E,\"\",0)","v":343.63941679999999},{"$f":"_xlfn.XLOOKUP($N9&$O9,'FFV Waste'!$A:$A&'FFV Waste'!$B:$B,'FFV Waste'!F:F,\"\",0)","v":2847.1411350479998},{"$f":"_xlfn.XLOOKUP($N9&$O9,'FFV Waste'!$A:$A&'FFV Waste'!$B:$B,'FFV Waste'!G:G,\"\",0)","v":641.08127890830792},{"$f":"_xlfn.XLOOKUP($N9&$O9,'FFV Waste'!$A:$A&'FFV Waste'!$B:$B,'FFV Waste'!H:H,\"\",0)","v":351.89384815199992},{"$f":"_xlfn.XLOOKUP($N9&$O9,'FFV Waste'!$A:$A&'FFV Waste'!$B:$B,'FFV Waste'!I:I,\"\",0)","v":119.99580221983199},{"$f":"_xlfn.XLOOKUP($N9&$O9,'FFV Waste'!$A:$A&'FFV Waste'!$B:$B,'FFV Waste'!J:J,\"\",0)","v":2064.12649792814},null,"Austria","Eggplants",{"$f":"W9","v":2064.12649792814},{"$f":"_xlfn.XLOOKUP(Y9&Z9,'FFV Waste'!$L:$L&'FFV Waste'!$M:$M,'FFV Waste'!$U:$U,,0)","v":2503.8923636366958},{"$f":"_xlfn.XLOOKUP(Y9&Z9,'FFV Waste'!$W:$W&'FFV Waste'!$X:$X,'FFV Waste'!$AF:$AF,,0)","v":2503.8923636366958},{"$f":"AVERAGE(AB9:AC9)","v":2503.8923636366958},{"$f":"AA9-MIN(AB9,AA9)","v":0},{"$f":"AC9-MIN(AA9,AC9)","v":439.76586570855579},null,"Austria","Food Waste",{"$f":"_xlfn.XLOOKUP($AH9,$N$9:$N$39,P$9:P$39,\"\",0)","v":959.41},{"$f":"_xlfn.XLOOKUP($AH9,$N$9:$N$39,R$9:R$39,\"\",0)","v":343.63941679999999},{"$f":"_xlfn.XLOOKUP($AH9,$N$9:$N$39,T$9:T$39,\"\",0)","v":641.08127890830792},{"$f":"_xlfn.XLOOKUP($AH9,$N$9:$N$39,V$9:V$39,\"\",0)","v":119.99580221983199},null,{"$f":"IF(ISBLANK($AH9),\"\",_xlfn.XLOOKUP($AH9,$Y$9:$Y$39,AE$9:AE$39,,0))","v":0},{"$f":"IF(ISBLANK($AH9),\"\",_xlfn.XLOOKUP($AH9,$Y$9:$Y$39,AF$9:AF$39,,0))","v":439.76586570855579}]
[{"$nulls":13},"Belgium","Eggplants",{"$f":"_xlfn.XLOOKUP($N10&$O10,'FFV Waste'!$A:$A&'FFV Waste'!$B:$B,'FFV Waste'!C:C,\"\",0)","v":910.17},{"$f":"_xlfn.XLOOKUP($N10&$O10,'FFV Waste'!$A:$A&'FFV Waste'!$B:$B,'FFV Waste'!D:D,\"\",0)","v":10866.5152},{"$f":"_xlfn.XLOOKUP($N10&$O10,'FFV Waste'!$A:$A&'FFV Waste'!$B:$B,'FFV Waste'!E:E,\"\",0)","v":1054.0519744000001},{"$f":"_xlfn.XLOOKUP($N10&$O10,'FFV Waste'!$A:$A&'FFV Waste'!$B:$B,'FFV Waste'!F:F,\"\",0)","v":8733.092270784},{"$f":"_xlfn.XLOOKUP($N10&$O10,'FFV Waste'!$A:$A&'FFV Waste'!$B:$B,'FFV Waste'!G:G,\"\",0)","v":1966.4012763048638},{"$f":"_xlfn.XLOOKUP($N10&$O10,'FFV Waste'!$A:$A&'FFV Waste'!$B:$B,'FFV Waste'!H:H,\"\",0)","v":1079.3709548160004},{"$f":"_xlfn.XLOOKUP($N10&$O10,'FFV Waste'!$A:$A&'FFV Waste'!$B:$B,'FFV Waste'!I:I,\"\",0)","v":368.06549559225618},{"$f":"_xlfn.XLOOKUP($N10&$O10,'FFV Waste'!$A:$A&'FFV Waste'!$B:$B,'FFV Waste'!J:J,\"\",0)","v":4298.6887462971199},null,"Belgium","Eggplants",{"$f":"W10","v":4298.6887462971199},{"$f":"_xlfn.XLOOKUP(Y10&Z10,'FFV Waste'!$L:$L&'FFV Waste'!$M:$M,'FFV Waste'!$U:$U,,0)","v":5647.5912771543681},{"$f":"_xlfn.XLOOKUP(Y10&Z10,'FFV Waste'!$W:$W&'FFV Waste'!$X:$X,'FFV Waste'!$AF:$AF,,0)","v":5647.5912771543681},{"$f":"AVERAGE(AB10:AC10)","v":5647.5912771543681},{"$f":"AA10-MIN(AB10,AA10)","v":0},{"$f":"AC10-MIN(AA10,AC10)","v":1348.9025308572482},null,null,"Food Supply","","","","",{"$f":"_xlfn.XLOOKUP(AH9,N$9:N$39,Q$9:Q$39,\"\",0)+AJ9","v":4502.0843999999997},{"$f":"IF(ISBLANK($AH10),\"\",_xlfn.XLOOKUP($AH10,$Y$9:$Y$39,AE$9:AE$39,,0))","v":""},""]
[{"$nulls":13},"Bulgaria","Eggplants",{"$f":"_xlfn.XLOOKUP($N11&$O11,'FFV Waste'!$A:$A&'FFV Waste'!$B:$B,'FFV Waste'!C:C,\"\",0)","v":862.87},{"$f":"_xlfn.XLOOKUP($N11&$O11,'FFV Waste'!$A:$A&'FFV Waste'!$B:$B,'FFV Waste'!D:D,\"\",0)","v":10769.91504},{"$f":"_xlfn.XLOOKUP($N11&$O11,'FFV Waste'!$A:$A&'FFV Waste'!$B:$B,'FFV Waste'!E:E,\"\",0)","v":1044.68175888},{"$f":"_xlfn.XLOOKUP($N11&$O11,'FFV Waste'!$A:$A&'FFV Waste'!$B:$B,'FFV Waste'!F:F,\"\",0)","v":8655.4576201967993},{"$f":"_xlfn.XLOOKUP($N11&$O11,'FFV Waste'!$A:$A&'FFV Waste'!$B:$B,'FFV Waste'!G:G,\"\",0)","v":1948.9205408143125},{"$f":"_xlfn.XLOOKUP($N11&$O11,'FFV Waste'!$A:$A&'FFV Waste'!$B:$B,'FFV Waste'!H:H,\"\",0)","v":1069.7756609232001},{"$f":"_xlfn.XLOOKUP($N11&$O11,'FFV Waste'!$A:$A&'FFV Waste'!$B:$B,'FFV Waste'!I:I,\"\",0)","v":364.79350037481129},{"$f":"_xlfn.XLOOKUP($N11&$O11,'FFV Waste'!$A:$A&'FFV Waste'!$B:$B,'FFV Waste'!J:J,\"\",0)","v":4221.2658000691235},null,"Bulgaria","Eggplants",4221.2658000691235,{"$f":"_xlfn.XLOOKUP(Y11&Z11,'FFV Waste'!$L:$L&'FFV Waste'!$M:$M,'FFV Waste'!$U:$U,,0)","v":5558.1769797059533},{"$f":"_xlfn.XLOOKUP(Y11&Z11,'FFV Waste'!$W:$W&'FFV Waste'!$X:$X,'FFV Waste'!$AF:$AF,,0)","v":4695.3069797059534},5126.7419797059538,0,474.04117963682984,null,"Belgium","Food Waste",910.17,1054.0519744000001,1966.4012763048638,368.06549559225618,null,0,1348.9025308572482]
[{"$nulls":13},"Croatia","Eggplants",{"$f":"_xlfn.XLOOKUP($N12&$O12,'FFV Waste'!$A:$A&'FFV Waste'!$B:$B,'FFV Waste'!C:C,\"\",0)","v":{"$error":"#N/A"}},{"$f":"_xlfn.XLOOKUP($N12&$O12,'FFV Waste'!$A:$A&'FFV Waste'!$B:$B,'FFV Waste'!D:D,\"\",0)","v":2539.2029600000001},{"$f":"_xlfn.XLOOKUP($N12&$O12,'FFV Waste'!$A:$A&'FFV Waste'!$B:$B,'FFV Waste'!E:E,\"\",0)","v":246.30268712},{"$f":"_xlfn.XLOOKUP($N12&$O12,'FFV Waste'!$A:$A&'FFV Waste'!$B:$B,'FFV Waste'!F:F,\"\",0)","v":2040.6812428632002},{"$f":"_xlfn.XLOOKUP($N12&$O12,'FFV Waste'!$A:$A&'FFV Waste'!$B:$B,'FFV Waste'!G:G,\"\",0)","v":459.4933931846972},{"$f":"_xlfn.XLOOKUP($N12&$O12,'FFV Waste'!$A:$A&'FFV Waste'!$B:$B,'FFV Waste'!H:H,\"\",0)","v":252.21903001679993},{"$f":"_xlfn.XLOOKUP($N12&$O12,'FFV Waste'!$A:$A&'FFV Waste'!$B:$B,'FFV Waste'!I:I,\"\",0)","v":86.006689235728786},{"$f":"_xlfn.XLOOKUP($N12&$O12,'FFV Waste'!$A:$A&'FFV Waste'!$B:$B,'FFV Waste'!J:J,\"\",0)","v":791.80276954042597},null,"Croatia","Eggplants",791.80276954042597,{"$f":"_xlfn.XLOOKUP(Y12&Z12,'FFV Waste'!$L:$L&'FFV Waste'!$M:$M,'FFV Waste'!$U:$U,,0)","v":1107.0038469846663},{"$f":"_xlfn.XLOOKUP(Y12&Z12,'FFV Waste'!$W:$W&'FFV Waste'!$X:$X,'FFV Waste'!$AF:$AF,,0)","v":1107.0038469846663},1107.0038469846663,0,315.20107744424035,null,null,"Food Supply","","","","",{"$f":"_xlfn.XLOOKUP(AH11,N$9:N$39,Q$9:Q$39,\"\",0)+AJ11","v":11776.6852},"",""]
[{"$nulls":13},"Cyprus","Eggplants",{"$f":"_xlfn.XLOOKUP($N13&$O13,'FFV Waste'!$A:$A&'FFV Waste'!$B:$B,'FFV Waste'!C:C,\"\",0)","v":112.4},{"$f":"_xlfn.XLOOKUP($N13&$O13,'FFV Waste'!$A:$A&'FFV Waste'!$B:$B,'FFV Waste'!D:D,\"\",0)","v":1036.7033600000002},{"$f":"_xlfn.XLOOKUP($N13&$O13,'FFV Waste'!$A:$A&'FFV Waste'!$B:$B,'FFV Waste'!E:E,\"\",0)","v":100.56022592000002},{"$f":"_xlfn.XLOOKUP($N13&$O13,'FFV Waste'!$A:$A&'FFV Waste'!$B:$B,'FFV Waste'!F:F,\"\",0)","v":833.16738933120018},{"$f":"_xlfn.XLOOKUP($N13&$O13,'FFV Waste'!$A:$A&'FFV Waste'!$B:$B,'FFV Waste'!G:G,\"\",0)","v":187.60152383107524},{"$f":"_xlfn.XLOOKUP($N13&$O13,'FFV Waste'!$A:$A&'FFV Waste'!$B:$B,'FFV Waste'!H:H,\"\",0)","v":102.97574474880003},{"$f":"_xlfn.XLOOKUP($N13&$O13,'FFV Waste'!$A:$A&'FFV Waste'!$B:$B,'FFV Waste'!I:I,\"\",0)","v":35.114728959340809},{"$f":"_xlfn.XLOOKUP($N13&$O13,'FFV Waste'!$A:$A&'FFV Waste'!$B:$B,'FFV Waste'!J:J,\"\",0)","v":435.67647871041606},null,"Cyprus","Eggplants",435.67647871041606,{"$f":"_xlfn.XLOOKUP(Y13&Z13,'FFV Waste'!$L:$L&'FFV Waste'!$M:$M,'FFV Waste'!$U:$U,,0)","v":564.36647364570251},{"$f":"_xlfn.XLOOKUP(Y13&Z13,'FFV Waste'!$W:$W&'FFV Waste'!$X:$X,'FFV Waste'!$AF:$AF,,0)","v":564.36647364570251},564.36647364570251,0,128.68999493528645,null,"Bulgaria","Food Waste",862.87,1044.68175888,1948.9205408143125,364.79350037481129,null,0,474.04117963682984]
[{"$nulls":13},"Czechia","Eggplants",{"$f":"_xlfn.XLOOKUP($N14&$O14,'FFV Waste'!$A:$A&'FFV Waste'!$B:$B,'FFV Waste'!C:C,\"\",0)","v":{"$error":"#N/A"}},{"$f":"_xlfn.XLOOKUP($N14&$O14,'FFV Waste'!$A:$A&'FFV Waste'!$B:$B,'FFV Waste'!D:D,\"\",0)","v":1837.1296000000002},{"$f":"_xlfn.XLOOKUP($N14&$O14,'FFV Waste'!$A:$A&'FFV Waste'!$B:$B,'FFV Waste'!E:E,\"\",0)","v":178.20157120000002},{"$f":"_xlfn.XLOOKUP($N14&$O14,'FFV Waste'!$A:$A&'FFV Waste'!$B:$B,'FFV Waste'!F:F,\"\",0)","v":1476.4459456320003},{"$f":"_xlfn.XLOOKUP($N14&$O14,'FFV Waste'!$A:$A&'FFV Waste'!$B:$B,'FFV Waste'!G:G,\"\",0)","v":332.44641209147204},{"$f":"_xlfn.XLOOKUP($N14&$O14,'FFV Waste'!$A:$A&'FFV Waste'!$B:$B,'FFV Waste'!H:H,\"\",0)","v":182.48208316799992},{"$f":"_xlfn.XLOOKUP($N14&$O14,'FFV Waste'!$A:$A&'FFV Waste'!$B:$B,'FFV Waste'!I:I,\"\",0)","v":62.226390360287979},{"$f":"_xlfn.XLOOKUP($N14&$O14,'FFV Waste'!$A:$A&'FFV Waste'!$B:$B,'FFV Waste'!J:J,\"\",0)","v":572.87437365176004},null,"Czechia","Eggplants",572.87437365176004,{"$f":"_xlfn.XLOOKUP(Y14&Z14,'FFV Waste'!$L:$L&'FFV Waste'!$M:$M,'FFV Waste'!$U:$U,,0)","v":800.92437140566403},{"$f":"_xlfn.XLOOKUP(Y14&Z14,'FFV Waste'!$W:$W&'FFV Waste'!$X:$X,'FFV Waste'!$AF:$AF,,0)","v":800.92437140566403},800.92437140566403,0,228.04999775390399,null,null,"Food Supply","","","","",{"$f":"_xlfn.XLOOKUP(AH13,N$9:N$39,Q$9:Q$39,\"\",0)+AJ13","v":11632.785040000001},"",""]
[{"$nulls":13},"Denmark","Eggplants",{"$f":"_xlfn.XLOOKUP($N15&$O15,'FFV Waste'!$A:$A&'FFV Waste'!$B:$B,'FFV Waste'!C:C,\"\",0)","v":139.41999999999999},{"$f":"_xlfn.XLOOKUP($N15&$O15,'FFV Waste'!$A:$A&'FFV Waste'!$B:$B,'FFV Waste'!D:D,\"\",0)","v":3895.7559199999996},{"$f":"_xlfn.XLOOKUP($N15&$O15,'FFV Waste'!$A:$A&'FFV Waste'!$B:$B,'FFV Waste'!E:E,\"\",0)","v":377.88832423999997},{"$f":"_xlfn.XLOOKUP($N15&$O15,'FFV Waste'!$A:$A&'FFV Waste'!$B:$B,'FFV Waste'!F:F,\"\",0)","v":3130.9021602263997},{"$f":"_xlfn.XLOOKUP($N15&$O15,'FFV Waste'!$A:$A&'FFV Waste'!$B:$B,'FFV Waste'!G:G,\"\",0)","v":954.92515886905187},{"$f":"_xlfn.XLOOKUP($N15&$O15,'FFV Waste'!$A:$A&'FFV Waste'!$B:$B,'FFV Waste'!H:H,\"\",0)","v":386.96543553360016},{"$f":"_xlfn.XLOOKUP($N15&$O15,'FFV Waste'!$A:$A&'FFV Waste'!$B:$B,'FFV Waste'!I:I,\"\",0)","v":131.95521351695766},{"$f":"_xlfn.XLOOKUP($N15&$O15,'FFV Waste'!$A:$A&'FFV Waste'!$B:$B,'FFV Waste'!J:J,\"\",0)","v":1604.1886966260095},null,"Denmark","Eggplants",1604.1886966260095,{"$f":"_xlfn.XLOOKUP(Y15&Z15,'FFV Waste'!$L:$L&'FFV Waste'!$M:$M,'FFV Waste'!$U:$U,,0)","v":1837.8335802808326},{"$f":"_xlfn.XLOOKUP(Y15&Z15,'FFV Waste'!$W:$W&'FFV Waste'!$X:$X,'FFV Waste'!$AF:$AF,,0)","v":1837.8335802808326},1837.8335802808326,0,233.64488365482316,null,"Croatia","Food Waste",null,246.30268712,459.4933931846972,86.006689235728786,null,0,315.20107744424035]
[{"$nulls":13},"Estonia","Eggplants",{"$f":"_xlfn.XLOOKUP($N16&$O16,'FFV Waste'!$A:$A&'FFV Waste'!$B:$B,'FFV Waste'!C:C,\"\",0)","v":{"$error":"#N/A"}},{"$f":"_xlfn.XLOOKUP($N16&$O16,'FFV Waste'!$A:$A&'FFV Waste'!$B:$B,'FFV Waste'!D:D,\"\",0)","v":402.52392000000003},{"$f":"_xlfn.XLOOKUP($N16&$O16,'FFV Waste'!$A:$A&'FFV Waste'!$B:$B,'FFV Waste'!E:E,\"\",0)","v":39.044820240000007},{"$f":"_xlfn.XLOOKUP($N16&$O16,'FFV Waste'!$A:$A&'FFV Waste'!$B:$B,'FFV Waste'!F:F,\"\",0)","v":323.49639878640005},{"$f":"_xlfn.XLOOKUP($N16&$O16,'FFV Waste'!$A:$A&'FFV Waste'!$B:$B,'FFV Waste'!G:G,\"\",0)","v":72.840605793404407},{"$f":"_xlfn.XLOOKUP($N16&$O16,'FFV Waste'!$A:$A&'FFV Waste'!$B:$B,'FFV Waste'!H:H,\"\",0)","v":39.982700973600004},{"$f":"_xlfn.XLOOKUP($N16&$O16,'FFV Waste'!$A:$A&'FFV Waste'!$B:$B,'FFV Waste'!I:I,\"\",0)","v":13.634101031997602},{"$f":"_xlfn.XLOOKUP($N16&$O16,'FFV Waste'!$A:$A&'FFV Waste'!$B:$B,'FFV Waste'!J:J,\"\",0)","v":125.51952706540202},null,"Estonia","Eggplants",125.51952706540202,{"$f":"_xlfn.XLOOKUP(Y16&Z16,'FFV Waste'!$L:$L&'FFV Waste'!$M:$M,'FFV Waste'!$U:$U,,0)","v":175.4863770099528},{"$f":"_xlfn.XLOOKUP(Y16&Z16,'FFV Waste'!$W:$W&'FFV Waste'!$X:$X,'FFV Waste'!$AF:$AF,,0)","v":175.4863770099528},175.4863770099528,0,49.966849944550788,null,null,"Food Supply",{"$f":"_xlfn.XLOOKUP($AH16,$N$9:$N$39,P$9:P$39,\"\",0)","v":""},"","","",{"$f":"_xlfn.XLOOKUP(AH15,N$9:N$39,Q$9:Q$39,\"\",0)+AJ15","v":2539.2029600000001},"",""]
[{"$nulls":13},"Finland","Eggplants",{"$f":"_xlfn.XLOOKUP($N17&$O17,'FFV Waste'!$A:$A&'FFV Waste'!$B:$B,'FFV Waste'!C:C,\"\",0)","v":{"$error":"#N/A"}},{"$f":"_xlfn.XLOOKUP($N17&$O17,'FFV Waste'!$A:$A&'FFV Waste'!$B:$B,'FFV Waste'!D:D,\"\",0)","v":1372.2489600000001},{"$f":"_xlfn.XLOOKUP($N17&$O17,'FFV Waste'!$A:$A&'FFV Waste'!$B:$B,'FFV Waste'!E:E,\"\",0)","v":133.10814912000001},{"$f":"_xlfn.XLOOKUP($N17&$O17,'FFV Waste'!$A:$A&'FFV Waste'!$B:$B,'FFV Waste'!F:F,\"\",0)","v":1102.8353216832002},{"$f":"_xlfn.XLOOKUP($N17&$O17,'FFV Waste'!$A:$A&'FFV Waste'!$B:$B,'FFV Waste'!G:G,\"\",0)","v":200.71602854634241},{"$f":"_xlfn.XLOOKUP($N17&$O17,'FFV Waste'!$A:$A&'FFV Waste'!$B:$B,'FFV Waste'!H:H,\"\",0)","v":136.30548919679995},{"$f":"_xlfn.XLOOKUP($N17&$O17,'FFV Waste'!$A:$A&'FFV Waste'!$B:$B,'FFV Waste'!I:I,\"\",0)","v":46.480171816108786},{"$f":"_xlfn.XLOOKUP($N17&$O17,'FFV Waste'!$A:$A&'FFV Waste'!$B:$B,'FFV Waste'!J:J,\"\",0)","v":380.30434948245119},null,"Finland","Eggplants",380.30434948245119,{"$f":"_xlfn.XLOOKUP(Y17&Z17,'FFV Waste'!$L:$L&'FFV Waste'!$M:$M,'FFV Waste'!$U:$U,,0)","v":598.25264134880638},{"$f":"_xlfn.XLOOKUP(Y17&Z17,'FFV Waste'!$W:$W&'FFV Waste'!$X:$X,'FFV Waste'!$AF:$AF,,0)","v":598.25264134880638},598.25264134880638,0,217.94829186635519,null,"Cyprus","Food Waste",{"$f":"_xlfn.XLOOKUP($AH17,$N$9:$N$39,P$9:P$39,\"\",0)","v":112.4},100.56022592000002,187.60152383107524,35.114728959340809,null,0,128.68999493528645]
[{"$nulls":13},"France","Eggplants",{"$f":"_xlfn.XLOOKUP($N18&$O18,'FFV Waste'!$A:$A&'FFV Waste'!$B:$B,'FFV Waste'!C:C,\"\",0)","v":13903.99},{"$f":"_xlfn.XLOOKUP($N18&$O18,'FFV Waste'!$A:$A&'FFV Waste'!$B:$B,'FFV Waste'!D:D,\"\",0)","v":62295.313760000005},{"$f":"_xlfn.XLOOKUP($N18&$O18,'FFV Waste'!$A:$A&'FFV Waste'!$B:$B,'FFV Waste'!E:E,\"\",0)","v":6042.6454347200006},{"$f":"_xlfn.XLOOKUP($N18&$O18,'FFV Waste'!$A:$A&'FFV Waste'!$B:$B,'FFV Waste'!F:F,\"\",0)","v":50064.874809499204},{"$f":"_xlfn.XLOOKUP($N18&$O18,'FFV Waste'!$A:$A&'FFV Waste'!$B:$B,'FFV Waste'!G:G,\"\",0)","v":11272.940977938904},{"$f":"_xlfn.XLOOKUP($N18&$O18,'FFV Waste'!$A:$A&'FFV Waste'!$B:$B,'FFV Waste'!H:H,\"\",0)","v":6187.7935157808024},{"$f":"_xlfn.XLOOKUP($N18&$O18,'FFV Waste'!$A:$A&'FFV Waste'!$B:$B,'FFV Waste'!I:I,\"\",0)","v":2110.0375888812537},{"$f":"_xlfn.XLOOKUP($N18&$O18,'FFV Waste'!$A:$A&'FFV Waste'!$B:$B,'FFV Waste'!J:J,\"\",0)","v":33329.614001540162},null,"France","Eggplants",33329.614001540162,{"$f":"_xlfn.XLOOKUP(Y18&Z18,'FFV Waste'!$L:$L&'FFV Waste'!$M:$M,'FFV Waste'!$U:$U,,0)","v":41062.572069956645},{"$f":"_xlfn.XLOOKUP(Y18&Z18,'FFV Waste'!$W:$W&'FFV Waste'!$X:$X,'FFV Waste'!$AF:$AF,,0)","v":41062.572069956645},41062.572069956645,0,7732.958068416483,null,null,"Food Supply",{"$f":"_xlfn.XLOOKUP($AH18,$N$9:$N$39,P$9:P$39,\"\",0)","v":""},"","","",{"$f":"_xlfn.XLOOKUP(AH17,N$9:N$39,Q$9:Q$39,\"\",0)+AJ17","v":1149.1033600000003},"",""]
[{"$nulls":13},"Germany","Eggplants",{"$f":"_xlfn.XLOOKUP($N19&$O19,'FFV Waste'!$A:$A&'FFV Waste'!$B:$B,'FFV Waste'!C:C,\"\",0)","v":5338.26},{"$f":"_xlfn.XLOOKUP($N19&$O19,'FFV Waste'!$A:$A&'FFV Waste'!$B:$B,'FFV Waste'!D:D,\"\",0)","v":40814.474479999997},{"$f":"_xlfn.XLOOKUP($N19&$O19,'FFV Waste'!$A:$A&'FFV Waste'!$B:$B,'FFV Waste'!E:E,\"\",0)","v":3959.0040245599998},{"$f":"_xlfn.XLOOKUP($N19&$O19,'FFV Waste'!$A:$A&'FFV Waste'!$B:$B,'FFV Waste'!F:F,\"\",0)","v":32801.368705341592},{"$f":"_xlfn.XLOOKUP($N19&$O19,'FFV Waste'!$A:$A&'FFV Waste'!$B:$B,'FFV Waste'!G:G,\"\",0)","v":7478.7120648178834},{"$f":"_xlfn.XLOOKUP($N19&$O19,'FFV Waste'!$A:$A&'FFV Waste'!$B:$B,'FFV Waste'!H:H,\"\",0)","v":4054.1017500984017},{"$f":"_xlfn.XLOOKUP($N19&$O19,'FFV Waste'!$A:$A&'FFV Waste'!$B:$B,'FFV Waste'!I:I,\"\",0)","v":1382.4486967835551},{"$f":"_xlfn.XLOOKUP($N19&$O19,'FFV Waste'!$A:$A&'FFV Waste'!$B:$B,'FFV Waste'!J:J,\"\",0)","v":18158.424786161439},null,"Germany","Eggplants",18158.424786161439,{"$f":"_xlfn.XLOOKUP(Y19&Z19,'FFV Waste'!$L:$L&'FFV Waste'!$M:$M,'FFV Waste'!$U:$U,,0)","v":23131.946039975901},{"$f":"_xlfn.XLOOKUP(Y19&Z19,'FFV Waste'!$W:$W&'FFV Waste'!$X:$X,'FFV Waste'!$AF:$AF,,0)","v":23131.946039975901},23131.946039975901,0,4973.5212538144624,null,"Czechia","Food Waste",null,178.20157120000002,332.44641209147204,62.226390360287979,null,0,228.04999775390399]
[{"$nulls":13},"Greece","Eggplants",{"$f":"_xlfn.XLOOKUP($N20&$O20,'FFV Waste'!$A:$A&'FFV Waste'!$B:$B,'FFV Waste'!C:C,\"\",0)","v":3827.74},{"$f":"_xlfn.XLOOKUP($N20&$O20,'FFV Waste'!$A:$A&'FFV Waste'!$B:$B,'FFV Waste'!D:D,\"\",0)","v":35391.93376},{"$f":"_xlfn.XLOOKUP($N20&$O20,'FFV Waste'!$A:$A&'FFV Waste'!$B:$B,'FFV Waste'!E:E,\"\",0)","v":3433.0175747200001},{"$f":"_xlfn.XLOOKUP($N20&$O20,'FFV Waste'!$A:$A&'FFV Waste'!$B:$B,'FFV Waste'!F:F,\"\",0)","v":28443.435404899199},{"$f":"_xlfn.XLOOKUP($N20&$O20,'FFV Waste'!$A:$A&'FFV Waste'!$B:$B,'FFV Waste'!G:G,\"\",0)","v":6404.513538669803},{"$f":"_xlfn.XLOOKUP($N20&$O20,'FFV Waste'!$A:$A&'FFV Waste'!$B:$B,'FFV Waste'!H:H,\"\",0)","v":3515.4807803807998},{"$f":"_xlfn.XLOOKUP($N20&$O20,'FFV Waste'!$A:$A&'FFV Waste'!$B:$B,'FFV Waste'!I:I,\"\",0)","v":1198.7789461098528},{"$f":"_xlfn.XLOOKUP($N20&$O20,'FFV Waste'!$A:$A&'FFV Waste'!$B:$B,'FFV Waste'!J:J,\"\",0)","v":14864.050059499656},null,"Greece","Eggplants",14864.050059499656,{"$f":"_xlfn.XLOOKUP(Y20&Z20,'FFV Waste'!$L:$L&'FFV Waste'!$M:$M,'FFV Waste'!$U:$U,,0)","v":19257.387586952438},{"$f":"_xlfn.XLOOKUP(Y20&Z20,'FFV Waste'!$W:$W&'FFV Waste'!$X:$X,'FFV Waste'!$AF:$AF,,0)","v":19257.387586952438},19257.387586952438,0,4393.3375274527825,null,null,"Food Supply",{"$f":"_xlfn.XLOOKUP($AH20,$N$9:$N$39,P$9:P$39,\"\",0)","v":""},"","","",{"$f":"_xlfn.XLOOKUP(AH19,N$9:N$39,Q$9:Q$39,\"\",0)+AJ19","v":1837.1296000000002},"",""]
[{"$nulls":13},"Hungary","Eggplants",{"$f":"_xlfn.XLOOKUP($N21&$O21,'FFV Waste'!$A:$A&'FFV Waste'!$B:$B,'FFV Waste'!C:C,\"\",0)","v":36.9},{"$f":"_xlfn.XLOOKUP($N21&$O21,'FFV Waste'!$A:$A&'FFV Waste'!$B:$B,'FFV Waste'!D:D,\"\",0)","v":1834.5484800000002},{"$f":"_xlfn.XLOOKUP($N21&$O21,'FFV Waste'!$A:$A&'FFV Waste'!$B:$B,'FFV Waste'!E:E,\"\",0)","v":177.95120256000001},{"$f":"_xlfn.XLOOKUP($N21&$O21,'FFV Waste'!$A:$A&'FFV Waste'!$B:$B,'FFV Waste'!F:F,\"\",0)","v":1474.3715769216003},{"$f":"_xlfn.XLOOKUP($N21&$O21,'FFV Waste'!$A:$A&'FFV Waste'!$B:$B,'FFV Waste'!G:G,\"\",0)","v":331.97933340351364},{"$f":"_xlfn.XLOOKUP($N21&$O21,'FFV Waste'!$A:$A&'FFV Waste'!$B:$B,'FFV Waste'!H:H,\"\",0)","v":182.22570051839989},{"$f":"_xlfn.XLOOKUP($N21&$O21,'FFV Waste'!$A:$A&'FFV Waste'!$B:$B,'FFV Waste'!I:I,\"\",0)","v":62.138963876774369},{"$f":"_xlfn.XLOOKUP($N21&$O21,'FFV Waste'!$A:$A&'FFV Waste'!$B:$B,'FFV Waste'!J:J,\"\",0)","v":608.96949984028799},null,"Hungary","Eggplants",608.96949984028799,{"$f":"_xlfn.XLOOKUP(Y21&Z21,'FFV Waste'!$L:$L&'FFV Waste'!$M:$M,'FFV Waste'!$U:$U,,0)","v":836.69909319256317},{"$f":"_xlfn.XLOOKUP(Y21&Z21,'FFV Waste'!$W:$W&'FFV Waste'!$X:$X,'FFV Waste'!$AF:$AF,,0)","v":799.79909319256319},818.24909319256312,0,190.8295933522752,null,"Denmark","Food Waste",{"$f":"_xlfn.XLOOKUP($AH21,$N$9:$N$39,P$9:P$39,\"\",0)","v":139.41999999999999},377.88832423999997,954.92515886905187,131.95521351695766,null,0,233.64488365482316]
[{"$nulls":13},"Iceland","Eggplants",{"$f":"_xlfn.XLOOKUP($N22&$O22,'FFV Waste'!$A:$A&'FFV Waste'!$B:$B,'FFV Waste'!C:C,\"\",0)","v":{"$error":"#N/A"}},{"$f":"_xlfn.XLOOKUP($N22&$O22,'FFV Waste'!$A:$A&'FFV Waste'!$B:$B,'FFV Waste'!D:D,\"\",0)","v":106.6892},{"$f":"_xlfn.XLOOKUP($N22&$O22,'FFV Waste'!$A:$A&'FFV Waste'!$B:$B,'FFV Waste'!E:E,\"\",0)","v":10.3488524},{"$f":"_xlfn.XLOOKUP($N22&$O22,'FFV Waste'!$A:$A&'FFV Waste'!$B:$B,'FFV Waste'!F:F,\"\",0)","v":85.742909363999999},{"$f":"_xlfn.XLOOKUP($N22&$O22,'FFV Waste'!$A:$A&'FFV Waste'!$B:$B,'FFV Waste'!G:G,\"\",0)","v":19.306445091794},{"$f":"_xlfn.XLOOKUP($N22&$O22,'FFV Waste'!$A:$A&'FFV Waste'!$B:$B,'FFV Waste'!H:H,\"\",0)","v":10.597438236000002},{"$f":"_xlfn.XLOOKUP($N22&$O22,'FFV Waste'!$A:$A&'FFV Waste'!$B:$B,'FFV Waste'!I:I,\"\",0)","v":3.6137264384760011},{"$f":"_xlfn.XLOOKUP($N22&$O22,'FFV Waste'!$A:$A&'FFV Waste'!$B:$B,'FFV Waste'!J:J,\"\",0)","v":33.269023930270002},null,"Iceland","Eggplants",33.269023930270002,{"$f":"_xlfn.XLOOKUP(Y22&Z22,'FFV Waste'!$L:$L&'FFV Waste'!$M:$M,'FFV Waste'!$U:$U,,0)","v":46.512766680028001},{"$f":"_xlfn.XLOOKUP(Y22&Z22,'FFV Waste'!$W:$W&'FFV Waste'!$X:$X,'FFV Waste'!$AF:$AF,,0)","v":46.512766680028001},46.512766680028001,0,13.243742749757999,null,null,"Food Supply",{"$f":"_xlfn.XLOOKUP($AH22,$N$9:$N$39,P$9:P$39,\"\",0)","v":""},"","","",{"$f":"_xlfn.XLOOKUP(AH21,N$9:N$39,Q$9:Q$39,\"\",0)+AJ21","v":4035.1759199999997},"",""]
[{"$nulls":13},"Ireland","Eggplants",{"$f":"_xlfn.XLOOKUP($N23&$O23,'FFV Waste'!$A:$A&'FFV Waste'!$B:$B,'FFV Waste'!C:C,\"\",0)","v":{"$error":"#N/A"}},{"$f":"_xlfn.XLOOKUP($N23&$O23,'FFV Waste'!$A:$A&'FFV Waste'!$B:$B,'FFV Waste'!D:D,\"\",0)","v":1276.2417599999999},{"$f":"_xlfn.XLOOKUP($N23&$O23,'FFV Waste'!$A:$A&'FFV Waste'!$B:$B,'FFV Waste'!E:E,\"\",0)","v":123.79545071999999},{"$f":"_xlfn.XLOOKUP($N23&$O23,'FFV Waste'!$A:$A&'FFV Waste'!$B:$B,'FFV Waste'!F:F,\"\",0)","v":1025.6772152592},{"$f":"_xlfn.XLOOKUP($N23&$O23,'FFV Waste'!$A:$A&'FFV Waste'!$B:$B,'FFV Waste'!G:G,\"\",0)","v":230.94831963586319},{"$f":"_xlfn.XLOOKUP($N23&$O23,'FFV Waste'!$A:$A&'FFV Waste'!$B:$B,'FFV Waste'!H:H,\"\",0)","v":126.76909402079991},{"$f":"_xlfn.XLOOKUP($N23&$O23,'FFV Waste'!$A:$A&'FFV Waste'!$B:$B,'FFV Waste'!I:I,\"\",0)","v":43.228261061092773},{"$f":"_xlfn.XLOOKUP($N23&$O23,'FFV Waste'!$A:$A&'FFV Waste'!$B:$B,'FFV Waste'!J:J,\"\",0)","v":397.97203141695593},null,"Ireland","Eggplants",397.97203141695593,{"$f":"_xlfn.XLOOKUP(Y23&Z23,'FFV Waste'!$L:$L&'FFV Waste'!$M:$M,'FFV Waste'!$U:$U,,0)","v":556.39685376015836},{"$f":"_xlfn.XLOOKUP(Y23&Z23,'FFV Waste'!$W:$W&'FFV Waste'!$X:$X,'FFV Waste'!$AF:$AF,,0)","v":556.39685376015836},556.39685376015836,0,158.42482234320244,null,"Estonia","Food Waste",null,39.044820240000007,72.840605793404407,13.634101031997602,null,0,49.966849944550788]
[{"$nulls":13},"Italy","Eggplants",{"$f":"_xlfn.XLOOKUP($N24&$O24,'FFV Waste'!$A:$A&'FFV Waste'!$B:$B,'FFV Waste'!C:C,\"\",0)","v":44053.11},{"$f":"_xlfn.XLOOKUP($N24&$O24,'FFV Waste'!$A:$A&'FFV Waste'!$B:$B,'FFV Waste'!D:D,\"\",0)","v":248224.00831999999},{"$f":"_xlfn.XLOOKUP($N24&$O24,'FFV Waste'!$A:$A&'FFV Waste'!$B:$B,'FFV Waste'!E:E,\"\",0)","v":24077.728807039999},{"$f":"_xlfn.XLOOKUP($N24&$O24,'FFV Waste'!$A:$A&'FFV Waste'!$B:$B,'FFV Waste'!F:F,\"\",0)","v":199490.18876653441},{"$f":"_xlfn.XLOOKUP($N24&$O24,'FFV Waste'!$A:$A&'FFV Waste'!$B:$B,'FFV Waste'!G:G,\"\",0)","v":44918.540837264663},{"$f":"_xlfn.XLOOKUP($N24&$O24,'FFV Waste'!$A:$A&'FFV Waste'!$B:$B,'FFV Waste'!H:H,\"\",0)","v":24656.090746425587},{"$f":"_xlfn.XLOOKUP($N24&$O24,'FFV Waste'!$A:$A&'FFV Waste'!$B:$B,'FFV Waste'!I:I,\"\",0)","v":8407.7269445311249},{"$f":"_xlfn.XLOOKUP($N24&$O24,'FFV Waste'!$A:$A&'FFV Waste'!$B:$B,'FFV Waste'!J:J,\"\",0)","v":121457.10658883578},null,"Italy","Eggplants",121457.10658883578,{"$f":"_xlfn.XLOOKUP(Y24&Z24,'FFV Waste'!$L:$L&'FFV Waste'!$M:$M,'FFV Waste'!$U:$U,,0)","v":152270.11212738953},{"$f":"_xlfn.XLOOKUP(Y24&Z24,'FFV Waste'!$W:$W&'FFV Waste'!$X:$X,'FFV Waste'!$AF:$AF,,0)","v":108217.00212738954},130243.55712738953,0,0,null,null,"Food Supply",{"$f":"_xlfn.XLOOKUP($AH24,$N$9:$N$39,P$9:P$39,\"\",0)","v":""},"","","",{"$f":"_xlfn.XLOOKUP(AH23,N$9:N$39,Q$9:Q$39,\"\",0)+AJ23","v":402.52392000000003},"",""]
[{"$nulls":13},"Latvia","Eggplants",{"$f":"_xlfn.XLOOKUP($N25&$O25,'FFV Waste'!$A:$A&'FFV Waste'!$B:$B,'FFV Waste'!C:C,\"\",0)","v":{"$error":"#N/A"}},{"$f":"_xlfn.XLOOKUP($N25&$O25,'FFV Waste'!$A:$A&'FFV Waste'!$B:$B,'FFV Waste'!D:D,\"\",0)","v":668.21359999999993},{"$f":"_xlfn.XLOOKUP($N25&$O25,'FFV Waste'!$A:$A&'FFV Waste'!$B:$B,'FFV Waste'!E:E,\"\",0)","v":64.816719199999994},{"$f":"_xlfn.XLOOKUP($N25&$O25,'FFV Waste'!$A:$A&'FFV Waste'!$B:$B,'FFV Waste'!F:F,\"\",0)","v":537.02322391199993},{"$f":"_xlfn.XLOOKUP($N25&$O25,'FFV Waste'!$A:$A&'FFV Waste'!$B:$B,'FFV Waste'!G:G,\"\",0)","v":120.91972925085197},{"$f":"_xlfn.XLOOKUP($N25&$O25,'FFV Waste'!$A:$A&'FFV Waste'!$B:$B,'FFV Waste'!H:H,\"\",0)","v":66.373656888000028},{"$f":"_xlfn.XLOOKUP($N25&$O25,'FFV Waste'!$A:$A&'FFV Waste'!$B:$B,'FFV Waste'!I:I,\"\",0)","v":22.633416998808013},{"$f":"_xlfn.XLOOKUP($N25&$O25,'FFV Waste'!$A:$A&'FFV Waste'!$B:$B,'FFV Waste'!J:J,\"\",0)","v":208.36986544965998},null,"Latvia","Eggplants",208.36986544965998,{"$f":"_xlfn.XLOOKUP(Y25&Z25,'FFV Waste'!$L:$L&'FFV Waste'!$M:$M,'FFV Waste'!$U:$U,,0)","v":291.31780226322394},{"$f":"_xlfn.XLOOKUP(Y25&Z25,'FFV Waste'!$W:$W&'FFV Waste'!$X:$X,'FFV Waste'!$AF:$AF,,0)","v":291.31780226322394},291.31780226322394,0,82.947936813563956,null,"Finland","Food Waste",null,133.10814912000001,200.71602854634241,46.480171816108786,null,0,217.94829186635519]
[{"$nulls":13},"Lithuania","Eggplants",{"$f":"_xlfn.XLOOKUP($N26&$O26,'FFV Waste'!$A:$A&'FFV Waste'!$B:$B,'FFV Waste'!C:C,\"\",0)","v":38.71},{"$f":"_xlfn.XLOOKUP($N26&$O26,'FFV Waste'!$A:$A&'FFV Waste'!$B:$B,'FFV Waste'!D:D,\"\",0)","v":813.47136},{"$f":"_xlfn.XLOOKUP($N26&$O26,'FFV Waste'!$A:$A&'FFV Waste'!$B:$B,'FFV Waste'!E:E,\"\",0)","v":78.90672192000001},{"$f":"_xlfn.XLOOKUP($N26&$O26,'FFV Waste'!$A:$A&'FFV Waste'!$B:$B,'FFV Waste'!F:F,\"\",0)","v":653.76252789119997},{"$f":"_xlfn.XLOOKUP($N26&$O26,'FFV Waste'!$A:$A&'FFV Waste'!$B:$B,'FFV Waste'!G:G,\"\",0)","v":147.20552919683519},{"$f":"_xlfn.XLOOKUP($N26&$O26,'FFV Waste'!$A:$A&'FFV Waste'!$B:$B,'FFV Waste'!H:H,\"\",0)","v":80.802110188800043},{"$f":"_xlfn.XLOOKUP($N26&$O26,'FFV Waste'!$A:$A&'FFV Waste'!$B:$B,'FFV Waste'!I:I,\"\",0)","v":27.553519574380818},{"$f":"_xlfn.XLOOKUP($N26&$O26,'FFV Waste'!$A:$A&'FFV Waste'!$B:$B,'FFV Waste'!J:J,\"\",0)","v":292.37577069121602},null,"Lithuania","Eggplants",292.37577069121602,{"$f":"_xlfn.XLOOKUP(Y26&Z26,'FFV Waste'!$L:$L&'FFV Waste'!$M:$M,'FFV Waste'!$U:$U,,0)","v":393.3551146748224},{"$f":"_xlfn.XLOOKUP(Y26&Z26,'FFV Waste'!$W:$W&'FFV Waste'!$X:$X,'FFV Waste'!$AF:$AF,,0)","v":354.64511467482242},374.00011467482238,0,62.269343983606404,null,null,"Food Supply","","","","",{"$f":"_xlfn.XLOOKUP(AH25,N$9:N$39,Q$9:Q$39,\"\",0)+AJ25","v":1372.2489600000001},"",""]
[{"$nulls":13},"Luxembourg","Eggplants",{"$f":"_xlfn.XLOOKUP($N27&$O27,'FFV Waste'!$A:$A&'FFV Waste'!$B:$B,'FFV Waste'!C:C,\"\",0)","v":14.08},{"$f":"_xlfn.XLOOKUP($N27&$O27,'FFV Waste'!$A:$A&'FFV Waste'!$B:$B,'FFV Waste'!D:D,\"\",0)","v":540.50048000000004},{"$f":"_xlfn.XLOOKUP($N27&$O27,'FFV Waste'!$A:$A&'FFV Waste'!$B:$B,'FFV Waste'!E:E,\"\",0)","v":52.428546560000008},{"$f":"_xlfn.XLOOKUP($N27&$O27,'FFV Waste'!$A:$A&'FFV Waste'!$B:$B,'FFV Waste'!F:F,\"\",0)","v":434.38402076160003},{"$f":"_xlfn.XLOOKUP($N27&$O27,'FFV Waste'!$A:$A&'FFV Waste'!$B:$B,'FFV Waste'!G:G,\"\",0)","v":97.808802008153606},{"$f":"_xlfn.XLOOKUP($N27&$O27,'FFV Waste'!$A:$A&'FFV Waste'!$B:$B,'FFV Waste'!H:H,\"\",0)","v":53.687912678399982},{"$f":"_xlfn.XLOOKUP($N27&$O27,'FFV Waste'!$A:$A&'FFV Waste'!$B:$B,'FFV Waste'!I:I,\"\",0)","v":18.307578223334396},{"$f":"_xlfn.XLOOKUP($N27&$O27,'FFV Waste'!$A:$A&'FFV Waste'!$B:$B,'FFV Waste'!J:J,\"\",0)","v":182.62492679148801},null,"Luxembourg","Eggplants",182.62492679148801,{"$f":"_xlfn.XLOOKUP(Y27&Z27,'FFV Waste'!$L:$L&'FFV Waste'!$M:$M,'FFV Waste'!$U:$U,,0)","v":249.71934040824323},{"$f":"_xlfn.XLOOKUP(Y27&Z27,'FFV Waste'!$W:$W&'FFV Waste'!$X:$X,'FFV Waste'!$AF:$AF,,0)","v":249.71934040824323},249.71934040824323,0,67.094413616755219,null,"France","Food Waste",13903.99,6042.6454347200006,11272.940977938904,2110.0375888812537,null,0,7732.958068416483]
[{"$nulls":13},"Malta","Eggplants",{"$f":"_xlfn.XLOOKUP($N28&$O28,'FFV Waste'!$A:$A&'FFV Waste'!$B:$B,'FFV Waste'!C:C,\"\",0)","v":70.819999999999993},{"$f":"_xlfn.XLOOKUP($N28&$O28,'FFV Waste'!$A:$A&'FFV Waste'!$B:$B,'FFV Waste'!D:D,\"\",0)","v":793.05784000000006},{"$f":"_xlfn.XLOOKUP($N28&$O28,'FFV Waste'!$A:$A&'FFV Waste'!$B:$B,'FFV Waste'!E:E,\"\",0)","v":76.926610480000008},{"$f":"_xlfn.XLOOKUP($N28&$O28,'FFV Waste'!$A:$A&'FFV Waste'!$B:$B,'FFV Waste'!F:F,\"\",0)","v":637.35679427280002},{"$f":"_xlfn.XLOOKUP($N28&$O28,'FFV Waste'!$A:$A&'FFV Waste'!$B:$B,'FFV Waste'!G:G,\"\",0)","v":143.51150484375879},{"$f":"_xlfn.XLOOKUP($N28&$O28,'FFV Waste'!$A:$A&'FFV Waste'!$B:$B,'FFV Waste'!H:H,\"\",0)","v":78.774435247200017},{"$f":"_xlfn.XLOOKUP($N28&$O28,'FFV Waste'!$A:$A&'FFV Waste'!$B:$B,'FFV Waste'!I:I,\"\",0)","v":26.862082419295209},{"$f":"_xlfn.XLOOKUP($N28&$O28,'FFV Waste'!$A:$A&'FFV Waste'!$B:$B,'FFV Waste'!J:J,\"\",0)","v":318.12019774305406},null,"Malta","Eggplants",318.12019774305406,{"$f":"_xlfn.XLOOKUP(Y28&Z28,'FFV Waste'!$L:$L&'FFV Waste'!$M:$M,'FFV Waste'!$U:$U,,0)","v":416.56553259080562},{"$f":"_xlfn.XLOOKUP(Y28&Z28,'FFV Waste'!$W:$W&'FFV Waste'!$X:$X,'FFV Waste'!$AF:$AF,,0)","v":345.74553259080562},381.15553259080559,0,27.62533484775156,null,null,"Food Supply","","","","",{"$f":"_xlfn.XLOOKUP(AH27,N$9:N$39,Q$9:Q$39,\"\",0)+AJ27","v":76199.30376000001},"",""]
[{"$nulls":13},"Netherlands","Eggplants",{"$f":"_xlfn.XLOOKUP($N29&$O29,'FFV Waste'!$A:$A&'FFV Waste'!$B:$B,'FFV Waste'!C:C,\"\",0)","v":5420.04},{"$f":"_xlfn.XLOOKUP($N29&$O29,'FFV Waste'!$A:$A&'FFV Waste'!$B:$B,'FFV Waste'!D:D,\"\",0)","v":13811.10224},{"$f":"_xlfn.XLOOKUP($N29&$O29,'FFV Waste'!$A:$A&'FFV Waste'!$B:$B,'FFV Waste'!E:E,\"\",0)","v":1339.67691728},{"$f":"_xlfn.XLOOKUP($N29&$O29,'FFV Waste'!$A:$A&'FFV Waste'!$B:$B,'FFV Waste'!F:F,\"\",0)","v":11099.568537220801},{"$f":"_xlfn.XLOOKUP($N29&$O29,'FFV Waste'!$A:$A&'FFV Waste'!$B:$B,'FFV Waste'!G:G,\"\",0)","v":3185.5761701823694},{"$f":"_xlfn.XLOOKUP($N29&$O29,'FFV Waste'!$A:$A&'FFV Waste'!$B:$B,'FFV Waste'!H:H,\"\",0)","v":1371.8567854991998},{"$f":"_xlfn.XLOOKUP($N29&$O29,'FFV Waste'!$A:$A&'FFV Waste'!$B:$B,'FFV Waste'!I:I,\"\",0)","v":467.80316385522713},{"$f":"_xlfn.XLOOKUP($N29&$O29,'FFV Waste'!$A:$A&'FFV Waste'!$B:$B,'FFV Waste'!J:J,\"\",0)","v":10413.096251317598},null,"Netherlands","Eggplants",10413.096251317598,{"$f":"_xlfn.XLOOKUP(Y29&Z29,'FFV Waste'!$L:$L&'FFV Waste'!$M:$M,'FFV Waste'!$U:$U,,0)","v":11441.198431060802},{"$f":"_xlfn.XLOOKUP(Y29&Z29,'FFV Waste'!$W:$W&'FFV Waste'!$X:$X,'FFV Waste'!$AF:$AF,,0)","v":11441.198431060802},11441.198431060802,0,1028.102179743204,null,"Germany","Food Waste",5338.26,3959.0040245599998,7478.7120648178834,1382.4486967835551,null,0,4973.5212538144624]
[{"$nulls":13},"Norway","Eggplants",{"$f":"_xlfn.XLOOKUP($N30&$O30,'FFV Waste'!$A:$A&'FFV Waste'!$B:$B,'FFV Waste'!C:C,\"\",0)","v":200.34},{"$f":"_xlfn.XLOOKUP($N30&$O30,'FFV Waste'!$A:$A&'FFV Waste'!$B:$B,'FFV Waste'!D:D,\"\",0)","v":1572.24216},{"$f":"_xlfn.XLOOKUP($N30&$O30,'FFV Waste'!$A:$A&'FFV Waste'!$B:$B,'FFV Waste'!E:E,\"\",0)","v":152.50748952000001},{"$f":"_xlfn.XLOOKUP($N30&$O30,'FFV Waste'!$A:$A&'FFV Waste'!$B:$B,'FFV Waste'!F:F,\"\",0)","v":1263.5638567271999},{"$f":"_xlfn.XLOOKUP($N30&$O30,'FFV Waste'!$A:$A&'FFV Waste'!$B:$B,'FFV Waste'!G:G,\"\",0)","v":284.51246173974118},{"$f":"_xlfn.XLOOKUP($N30&$O30,'FFV Waste'!$A:$A&'FFV Waste'!$B:$B,'FFV Waste'!H:H,\"\",0)","v":156.17081375280009},{"$f":"_xlfn.XLOOKUP($N30&$O30,'FFV Waste'!$A:$A&'FFV Waste'!$B:$B,'FFV Waste'!I:I,\"\",0)","v":53.254247489704831},{"$f":"_xlfn.XLOOKUP($N30&$O30,'FFV Waste'!$A:$A&'FFV Waste'!$B:$B,'FFV Waste'!J:J,\"\",0)","v":690.61419874944602},null,"Norway","Eggplants",690.61419874944602,{"$f":"_xlfn.XLOOKUP(Y30&Z30,'FFV Waste'!$L:$L&'FFV Waste'!$M:$M,'FFV Waste'!$U:$U,,0)","v":885.7826947861945},{"$f":"_xlfn.XLOOKUP(Y30&Z30,'FFV Waste'!$W:$W&'FFV Waste'!$X:$X,'FFV Waste'!$AF:$AF,,0)","v":885.7826947861945},885.7826947861945,0,195.16849603674848,null,null,"Food Supply","","","","",{"$f":"_xlfn.XLOOKUP(AH29,N$9:N$39,Q$9:Q$39,\"\",0)+AJ29","v":46152.734479999999},"",""]
[{"$nulls":13},"Poland","Eggplants",{"$f":"_xlfn.XLOOKUP($N31&$O31,'FFV Waste'!$A:$A&'FFV Waste'!$B:$B,'FFV Waste'!C:C,\"\",0)","v":360.86},{"$f":"_xlfn.XLOOKUP($N31&$O31,'FFV Waste'!$A:$A&'FFV Waste'!$B:$B,'FFV Waste'!D:D,\"\",0)","v":3160.2239199999999},{"$f":"_xlfn.XLOOKUP($N31&$O31,'FFV Waste'!$A:$A&'FFV Waste'!$B:$B,'FFV Waste'!E:E,\"\",0)","v":306.54172024000002},{"$f":"_xlfn.XLOOKUP($N31&$O31,'FFV Waste'!$A:$A&'FFV Waste'!$B:$B,'FFV Waste'!F:F,\"\",0)","v":2539.7771577864},{"$f":"_xlfn.XLOOKUP($N31&$O31,'FFV Waste'!$A:$A&'FFV Waste'!$B:$B,'FFV Waste'!G:G,\"\",0)","v":571.87315669490442},{"$f":"_xlfn.XLOOKUP($N31&$O31,'FFV Waste'!$A:$A&'FFV Waste'!$B:$B,'FFV Waste'!H:H,\"\",0)","v":313.90504197359996},{"$f":"_xlfn.XLOOKUP($N31&$O31,'FFV Waste'!$A:$A&'FFV Waste'!$B:$B,'FFV Waste'!I:I,\"\",0)","v":107.0416193129976},{"$f":"_xlfn.XLOOKUP($N31&$O31,'FFV Waste'!$A:$A&'FFV Waste'!$B:$B,'FFV Waste'!J:J,\"\",0)","v":1346.3164962479023},null,"Poland","Eggplants",1346.3164962479023,{"$f":"_xlfn.XLOOKUP(Y31&Z31,'FFV Waste'!$L:$L&'FFV Waste'!$M:$M,'FFV Waste'!$U:$U,,0)","v":1738.607305702953},{"$f":"_xlfn.XLOOKUP(Y31&Z31,'FFV Waste'!$W:$W&'FFV Waste'!$X:$X,'FFV Waste'!$AF:$AF,,0)","v":1738.607305702953},1738.607305702953,0,392.29080945505075,null,"Greece","Food Waste",3827.74,3433.0175747200001,6404.513538669803,1198.7789461098528,null,0,4393.3375274527825]
[{"$nulls":13},"Portugal","Eggplants",{"$f":"_xlfn.XLOOKUP($N32&$O32,'FFV Waste'!$A:$A&'FFV Waste'!$B:$B,'FFV Waste'!C:C,\"\",0)","v":478.72},{"$f":"_xlfn.XLOOKUP($N32&$O32,'FFV Waste'!$A:$A&'FFV Waste'!$B:$B,'FFV Waste'!D:D,\"\",0)","v":7594.9979200000007},{"$f":"_xlfn.XLOOKUP($N32&$O32,'FFV Waste'!$A:$A&'FFV Waste'!$B:$B,'FFV Waste'!E:E,\"\",0)","v":736.71479824000005},{"$f":"_xlfn.XLOOKUP($N32&$O32,'FFV Waste'!$A:$A&'FFV Waste'!$B:$B,'FFV Waste'!F:F,\"\",0)","v":6103.871978366401},{"$f":"_xlfn.XLOOKUP($N32&$O32,'FFV Waste'!$A:$A&'FFV Waste'!$B:$B,'FFV Waste'!G:G,\"\",0)","v":1374.3885071288346},{"$f":"_xlfn.XLOOKUP($N32&$O32,'FFV Waste'!$A:$A&'FFV Waste'!$B:$B,'FFV Waste'!H:H,\"\",0)","v":754.41114339359956},{"$f":"_xlfn.XLOOKUP($N32&$O32,'FFV Waste'!$A:$A&'FFV Waste'!$B:$B,'FFV Waste'!I:I,\"\",0)","v":257.25419989721746},{"$f":"_xlfn.XLOOKUP($N32&$O32,'FFV Waste'!$A:$A&'FFV Waste'!$B:$B,'FFV Waste'!J:J,\"\",0)","v":2847.077505266052},null,"Portugal","Eggplants",2847.077505266052,{"$f":"_xlfn.XLOOKUP(Y32&Z32,'FFV Waste'!$L:$L&'FFV Waste'!$M:$M,'FFV Waste'!$U:$U,,0)","v":3789.8739517426129},{"$f":"_xlfn.XLOOKUP(Y32&Z32,'FFV Waste'!$W:$W&'FFV Waste'!$X:$X,'FFV Waste'!$AF:$AF,,0)","v":3311.1539517426127},3550.5139517426128,0,464.0764464765607,null,null,"Food Supply","","","","",{"$f":"_xlfn.XLOOKUP(AH31,N$9:N$39,Q$9:Q$39,\"\",0)+AJ31","v":39219.673759999998},"",""]
[{"$nulls":13},"Romania","Eggplants",{"$f":"_xlfn.XLOOKUP($N33&$O33,'FFV Waste'!$A:$A&'FFV Waste'!$B:$B,'FFV Waste'!C:C,\"\",0)","v":4231.21},{"$f":"_xlfn.XLOOKUP($N33&$O33,'FFV Waste'!$A:$A&'FFV Waste'!$B:$B,'FFV Waste'!D:D,\"\",0)","v":56347.148880000001},{"$f":"_xlfn.XLOOKUP($N33&$O33,'FFV Waste'!$A:$A&'FFV Waste'!$B:$B,'FFV Waste'!E:E,\"\",0)","v":5465.6734413600007},{"$f":"_xlfn.XLOOKUP($N33&$O33,'FFV Waste'!$A:$A&'FFV Waste'!$B:$B,'FFV Waste'!F:F,\"\",0)","v":45284.513140389601},{"$f":"_xlfn.XLOOKUP($N33&$O33,'FFV Waste'!$A:$A&'FFV Waste'!$B:$B,'FFV Waste'!G:G,\"\",0)","v":10196.562875444391},{"$f":"_xlfn.XLOOKUP($N33&$O33,'FFV Waste'!$A:$A&'FFV Waste'!$B:$B,'FFV Waste'!H:H,\"\",0)","v":5596.9622982504006},{"$f":"_xlfn.XLOOKUP($N33&$O33,'FFV Waste'!$A:$A&'FFV Waste'!$B:$B,'FFV Waste'!I:I,\"\",0)","v":1908.5641437033867},{"$f":"_xlfn.XLOOKUP($N33&$O33,'FFV Waste'!$A:$A&'FFV Waste'!$B:$B,'FFV Waste'!J:J,\"\",0)","v":21802.010460507783},null,"Romania","Eggplants",21802.010460507783,{"$f":"_xlfn.XLOOKUP(Y33&Z33,'FFV Waste'!$L:$L&'FFV Waste'!$M:$M,'FFV Waste'!$U:$U,,0)","v":28796.5998327126},{"$f":"_xlfn.XLOOKUP(Y33&Z33,'FFV Waste'!$W:$W&'FFV Waste'!$X:$X,'FFV Waste'!$AF:$AF,,0)","v":24565.389832712601},26680.9948327126,0,2763.3793722048176,null,"Hungary","Food Waste",{"$f":"_xlfn.XLOOKUP($AH33,$N$9:$N$39,P$9:P$39,\"\",0)","v":36.9},177.95120256000001,331.97933340351364,62.138963876774369,null,0,190.8295933522752]
[{"$nulls":13},"Slovakia","Eggplants",{"$f":"_xlfn.XLOOKUP($N34&$O34,'FFV Waste'!$A:$A&'FFV Waste'!$B:$B,'FFV Waste'!C:C,\"\",0)","v":39.64},{"$f":"_xlfn.XLOOKUP($N34&$O34,'FFV Waste'!$A:$A&'FFV Waste'!$B:$B,'FFV Waste'!D:D,\"\",0)","v":632.92376000000002},{"$f":"_xlfn.XLOOKUP($N34&$O34,'FFV Waste'!$A:$A&'FFV Waste'!$B:$B,'FFV Waste'!E:E,\"\",0)","v":61.393604720000006},{"$f":"_xlfn.XLOOKUP($N34&$O34,'FFV Waste'!$A:$A&'FFV Waste'!$B:$B,'FFV Waste'!F:F,\"\",0)","v":508.66183819920002},{"$f":"_xlfn.XLOOKUP($N34&$O34,'FFV Waste'!$A:$A&'FFV Waste'!$B:$B,'FFV Waste'!G:G,\"\",0)","v":114.5336905678532},{"$f":"_xlfn.XLOOKUP($N34&$O34,'FFV Waste'!$A:$A&'FFV Waste'!$B:$B,'FFV Waste'!H:H,\"\",0)","v":62.868317080800011},{"$f":"_xlfn.XLOOKUP($N34&$O34,'FFV Waste'!$A:$A&'FFV Waste'!$B:$B,'FFV Waste'!I:I,\"\",0)","v":21.438096124552807},{"$f":"_xlfn.XLOOKUP($N34&$O34,'FFV Waste'!$A:$A&'FFV Waste'!$B:$B,'FFV Waste'!J:J,\"\",0)","v":237.005391412406},null,"Slovakia","Eggplants",237.005391412406,{"$f":"_xlfn.XLOOKUP(Y34&Z34,'FFV Waste'!$L:$L&'FFV Waste'!$M:$M,'FFV Waste'!$U:$U,,0)","v":315.57266399153838},{"$f":"_xlfn.XLOOKUP(Y34&Z34,'FFV Waste'!$W:$W&'FFV Waste'!$X:$X,'FFV Waste'!$AF:$AF,,0)","v":275.93266399153839},295.75266399153838,0,38.927272579132392,null,null,"Food Supply",{"$f":"_xlfn.XLOOKUP($AH34,$N$9:$N$39,P$9:P$39,\"\",0)","v":""},"","","",{"$f":"_xlfn.XLOOKUP(AH33,N$9:N$39,Q$9:Q$39,\"\",0)+AJ33","v":1871.4484800000002},"",""]
[{"$nulls":13},"Slovenia","Eggplants",{"$f":"_xlfn.XLOOKUP($N35&$O35,'FFV Waste'!$A:$A&'FFV Waste'!$B:$B,'FFV Waste'!C:C,\"\",0)","v":85.94},{"$f":"_xlfn.XLOOKUP($N35&$O35,'FFV Waste'!$A:$A&'FFV Waste'!$B:$B,'FFV Waste'!D:D,\"\",0)","v":96.661199999999994},{"$f":"_xlfn.XLOOKUP($N35&$O35,'FFV Waste'!$A:$A&'FFV Waste'!$B:$B,'FFV Waste'!E:E,\"\",0)","v":9.3761364},{"$f":"_xlfn.XLOOKUP($N35&$O35,'FFV Waste'!$A:$A&'FFV Waste'!$B:$B,'FFV Waste'!F:F,\"\",0)","v":77.683706604000008},{"$f":"_xlfn.XLOOKUP($N35&$O35,'FFV Waste'!$A:$A&'FFV Waste'!$B:$B,'FFV Waste'!G:G,\"\",0)","v":17.491781270334002},{"$f":"_xlfn.XLOOKUP($N35&$O35,'FFV Waste'!$A:$A&'FFV Waste'!$B:$B,'FFV Waste'!H:H,\"\",0)","v":9.6013569959999927},{"$f":"_xlfn.XLOOKUP($N35&$O35,'FFV Waste'!$A:$A&'FFV Waste'!$B:$B,'FFV Waste'!I:I,\"\",0)","v":3.2740627356359977},{"$f":"_xlfn.XLOOKUP($N35&$O35,'FFV Waste'!$A:$A&'FFV Waste'!$B:$B,'FFV Waste'!J:J,\"\",0)","v":116.08198040597},null,"Slovenia","Eggplants",116.08198040597,{"$f":"_xlfn.XLOOKUP(Y35&Z35,'FFV Waste'!$L:$L&'FFV Waste'!$M:$M,'FFV Waste'!$U:$U,,0)","v":128.08090875750798},{"$f":"_xlfn.XLOOKUP(Y35&Z35,'FFV Waste'!$W:$W&'FFV Waste'!$X:$X,'FFV Waste'!$AF:$AF,,0)","v":128.08090875750798},128.08090875750798,0,11.998928351537984,null,"Iceland","Food Waste",null,10.3488524,19.306445091794,3.6137264384760011,null,0,13.243742749757999]
[{"$nulls":13},"Spain","Eggplants",{"$f":"_xlfn.XLOOKUP($N36&$O36,'FFV Waste'!$A:$A&'FFV Waste'!$B:$B,'FFV Waste'!C:C,\"\",0)","v":24230.172278578804},{"$f":"_xlfn.XLOOKUP($N36&$O36,'FFV Waste'!$A:$A&'FFV Waste'!$B:$B,'FFV Waste'!D:D,\"\",0)","v":83435.22},{"$f":"_xlfn.XLOOKUP($N36&$O36,'FFV Waste'!$A:$A&'FFV Waste'!$B:$B,'FFV Waste'!E:E,\"\",0)","v":8093.2163399999999},{"$f":"_xlfn.XLOOKUP($N36&$O36,'FFV Waste'!$A:$A&'FFV Waste'!$B:$B,'FFV Waste'!F:F,\"\",0)","v":67054.383257399997},{"$f":"_xlfn.XLOOKUP($N36&$O36,'FFV Waste'!$A:$A&'FFV Waste'!$B:$B,'FFV Waste'!G:G,\"\",0)","v":9454.6680392933995},{"$f":"_xlfn.XLOOKUP($N36&$O36,'FFV Waste'!$A:$A&'FFV Waste'!$B:$B,'FFV Waste'!H:H,\"\",0)","v":8287.620402600005},{"$f":"_xlfn.XLOOKUP($N36&$O36,'FFV Waste'!$A:$A&'FFV Waste'!$B:$B,'FFV Waste'!I:I,\"\",0)","v":2826.0785572866021},{"$f":"_xlfn.XLOOKUP($N36&$O36,'FFV Waste'!$A:$A&'FFV Waste'!$B:$B,'FFV Waste'!J:J,\"\",0)","v":44604.135215158807},null,"Spain","Eggplants",44604.135215158807,{"$f":"_xlfn.XLOOKUP(Y36&Z36,'FFV Waste'!$L:$L&'FFV Waste'!$M:$M,'FFV Waste'!$U:$U,,0)","v":60605.015475048604},{"$f":"_xlfn.XLOOKUP(Y36&Z36,'FFV Waste'!$W:$W&'FFV Waste'!$X:$X,'FFV Waste'!$AF:$AF,,0)","v":60605.015475048604},60605.015475048604,0,16000.880259889796,null,null,"Food Supply",{"$f":"_xlfn.XLOOKUP($AH36,$N$9:$N$39,P$9:P$39,\"\",0)","v":""},"","","",{"$f":"_xlfn.XLOOKUP(AH35,N$9:N$39,Q$9:Q$39,\"\",0)+AJ35","v":106.6892},"",""]
[{"$nulls":13},"Sweden","Eggplants",{"$f":"_xlfn.XLOOKUP($N37&$O37,'FFV Waste'!$A:$A&'FFV Waste'!$B:$B,'FFV Waste'!C:C,\"\",0)","v":673.5},{"$f":"_xlfn.XLOOKUP($N37&$O37,'FFV Waste'!$A:$A&'FFV Waste'!$B:$B,'FFV Waste'!D:D,\"\",0)","v":5262.1973600000001},{"$f":"_xlfn.XLOOKUP($N37&$O37,'FFV Waste'!$A:$A&'FFV Waste'!$B:$B,'FFV Waste'!E:E,\"\",0)","v":510.43314392000002},{"$f":"_xlfn.XLOOKUP($N37&$O37,'FFV Waste'!$A:$A&'FFV Waste'!$B:$B,'FFV Waste'!F:F,\"\",0)","v":4229.0701523112002},{"$f":"_xlfn.XLOOKUP($N37&$O37,'FFV Waste'!$A:$A&'FFV Waste'!$B:$B,'FFV Waste'!G:G,\"\",0)","v":952.24562929540525},{"$f":"_xlfn.XLOOKUP($N37&$O37,'FFV Waste'!$A:$A&'FFV Waste'!$B:$B,'FFV Waste'!H:H,\"\",0)","v":522.69406376880033},{"$f":"_xlfn.XLOOKUP($N37&$O37,'FFV Waste'!$A:$A&'FFV Waste'!$B:$B,'FFV Waste'!I:I,\"\",0)","v":178.23867574516092},{"$f":"_xlfn.XLOOKUP($N37&$O37,'FFV Waste'!$A:$A&'FFV Waste'!$B:$B,'FFV Waste'!J:J,\"\",0)","v":2314.4174489605662},null,"Sweden","Eggplants",2314.4174489605662,{"$f":"_xlfn.XLOOKUP(Y37&Z37,'FFV Waste'!$L:$L&'FFV Waste'!$M:$M,'FFV Waste'!$U:$U,,0)","v":2967.6343456501622},{"$f":"_xlfn.XLOOKUP(Y37&Z37,'FFV Waste'!$W:$W&'FFV Waste'!$X:$X,'FFV Waste'!$AF:$AF,,0)","v":2967.6343456501622},2967.6343456501622,0,653.21689668959607,null,"Ireland","Food Waste",null,123.79545071999999,230.94831963586319,43.228261061092773,null,0,158.42482234320244]
[{"$nulls":13},"Switzerland","Eggplants",{"$f":"_xlfn.XLOOKUP($N38&$O38,'FFV Waste'!$A:$A&'FFV Waste'!$B:$B,'FFV Waste'!C:C,\"\",0)","v":708.53},{"$f":"_xlfn.XLOOKUP($N38&$O38,'FFV Waste'!$A:$A&'FFV Waste'!$B:$B,'FFV Waste'!D:D,\"\",0)","v":5560.09},{"$f":"_xlfn.XLOOKUP($N38&$O38,'FFV Waste'!$A:$A&'FFV Waste'!$B:$B,'FFV Waste'!E:E,\"\",0)","v":539.32873000000006},{"$f":"_xlfn.XLOOKUP($N38&$O38,'FFV Waste'!$A:$A&'FFV Waste'!$B:$B,'FFV Waste'!F:F,\"\",0)","v":4468.4775302999997},{"$f":"_xlfn.XLOOKUP($N38&$O38,'FFV Waste'!$A:$A&'FFV Waste'!$B:$B,'FFV Waste'!G:G,\"\",0)","v":1006.1521905725499},{"$f":"_xlfn.XLOOKUP($N38&$O38,'FFV Waste'!$A:$A&'FFV Waste'!$B:$B,'FFV Waste'!H:H,\"\",0)","v":552.2837397000003},{"$f":"_xlfn.XLOOKUP($N38&$O38,'FFV Waste'!$A:$A&'FFV Waste'!$B:$B,'FFV Waste'!I:I,\"\",0)","v":188.32875523770011},{"$f":"_xlfn.XLOOKUP($N38&$O38,'FFV Waste'!$A:$A&'FFV Waste'!$B:$B,'FFV Waste'!J:J,\"\",0)","v":2442.3396758102499},null,"Switzerland","Eggplants",2442.3396758102499,{"$f":"_xlfn.XLOOKUP(Y38&Z38,'FFV Waste'!$L:$L&'FFV Waste'!$M:$M,'FFV Waste'!$U:$U,,0)","v":3132.5351372580999},{"$f":"_xlfn.XLOOKUP(Y38&Z38,'FFV Waste'!$W:$W&'FFV Waste'!$X:$X,'FFV Waste'!$AF:$AF,,0)","v":3132.5351372580999},3132.5351372580999,0,690.19546144784999,null,null,"Food Supply",{"$f":"_xlfn.XLOOKUP($AH38,$N$9:$N$39,P$9:P$39,\"\",0)","v":""},"","","",{"$f":"_xlfn.XLOOKUP(AH37,N$9:N$39,Q$9:Q$39,\"\",0)+AJ37","v":1276.2417599999999},"",""]
[{"$nulls":13},"United Kingdom","Eggplants",{"$f":"_xlfn.XLOOKUP($N39&$O39,'FFV Waste'!$A:$A&'FFV Waste'!$B:$B,'FFV Waste'!C:C,\"\",0)","v":1498.75},{"$f":"_xlfn.XLOOKUP($N39&$O39,'FFV Waste'!$A:$A&'FFV Waste'!$B:$B,'FFV Waste'!D:D,\"\",0)","v":24803.403440000002},{"$f":"_xlfn.XLOOKUP($N39&$O39,'FFV Waste'!$A:$A&'FFV Waste'!$B:$B,'FFV Waste'!E:E,\"\",0)","v":2405.9301336800004},{"$f":"_xlfn.XLOOKUP($N39&$O39,'FFV Waste'!$A:$A&'FFV Waste'!$B:$B,'FFV Waste'!F:F,\"\",0)","v":19933.751242624799},{"$f":"_xlfn.XLOOKUP($N39&$O39,'FFV Waste'!$A:$A&'FFV Waste'!$B:$B,'FFV Waste'!G:G,\"\",0)","v":4146.2202584659581},{"$f":"_xlfn.XLOOKUP($N39&$O39,'FFV Waste'!$A:$A&'FFV Waste'!$B:$B,'FFV Waste'!H:H,\"\",0)","v":2463.7220636952006},{"$f":"_xlfn.XLOOKUP($N39&$O39,'FFV Waste'!$A:$A&'FFV Waste'!$B:$B,'FFV Waste'!I:I,\"\",0)","v":840.12922372006346},{"$f":"_xlfn.XLOOKUP($N39&$O39,'FFV Waste'!$A:$A&'FFV Waste'!$B:$B,'FFV Waste'!J:J,\"\",0)","v":8891.0296158660221},null,"United Kingdom","Eggplants",8891.0296158660221,{"$f":"_xlfn.XLOOKUP(Y39&Z39,'FFV Waste'!$L:$L&'FFV Waste'!$M:$M,'FFV Waste'!$U:$U,,0)","v":12312.16801302591},{"$f":"_xlfn.XLOOKUP(Y39&Z39,'FFV Waste'!$W:$W&'FFV Waste'!$X:$X,'FFV Waste'!$AF:$AF,,0)","v":12312.16801302591},12312.16801302591,0,3421.138397159888,null,"Italy","Food Waste",{"$f":"_xlfn.XLOOKUP($AH39,$N$9:$N$39,P$9:P$39,\"\",0)","v":44053.11},24077.728807039999,44918.540837264663,8407.7269445311249,null,0,0]
[{"$nulls":13},"EU+","Eggplants",{"$f":"SUM(P9:P11,P13,P15,P18:P21,P24,P26:P39)","v":108195.5822785788},{"$f":"SUM(Q9:Q39)","v":631297.33328000002},{"$f":"SUM(R9:R39)","v":61235.841328159986},507354.72783713753,109235.03806112127,62706.764114702382,21383.006563113518,300049.4682309737,null,"EU+","Eggplants",{"$f":"SUM(AA9:AA39)","v":300049.4682309737},{"$f":"SUM(AB9:AB39)","v":383419.18099875399},{"$f":"SUM(AC9:AC39)","v":333607.20099875401},{"$nulls":5},"Food Supply",{"$f":"_xlfn.XLOOKUP($AH40,$N$9:$N$39,P$9:P$39,\"\",0)","v":""},"","","",{"$f":"_xlfn.XLOOKUP(AH39,N$9:N$39,Q$9:Q$39,\"\",0)+AJ39","v":292277.11832000001},"",""]
[{"$nulls":33},"Latvia","Food Waste",null,{"$f":"_xlfn.XLOOKUP($AH41,$N$9:$N$39,R$9:R$39,\"\",0)","v":64.816719199999994},{"$f":"_xlfn.XLOOKUP($AH41,$N$9:$N$39,T$9:T$39,\"\",0)","v":120.91972925085197},{"$f":"_xlfn.XLOOKUP($AH41,$N$9:$N$39,V$9:V$39,\"\",0)","v":22.633416998808013},null,0,82.947936813563956]
[{"$nulls":13},"Climate Impact","Unit: Tonnes CO2-eq",{"$nulls":9},"Economic Cost","Unit: Million EUR","Avg. Exchange Rate 2022 (USD to EUR)",null,null,0.94969999999999999,"European Central Bank (2025)",null,null,null,"Food Supply",{"$f":"_xlfn.XLOOKUP($AH42,$N$9:$N$39,P$9:P$39,\"\",0)","v":""},"","","",{"$f":"_xlfn.XLOOKUP(AH41,N$9:N$39,Q$9:Q$39,\"\",0)+AJ41","v":668.21359999999993},"",""]
[{"$nulls":13},"Country","Product","Pre R&D","R&D","Households","Food Service","Total",{"$nulls":4},"Country","Product","Pre R&D","R&D","Households","Food Service","Total",null,null,"Lithuania","Food Waste",38.71,78.90672192000001,147.20552919683519,27.553519574380818,null,0,62.269343983606404]
[{"$nulls":13},"Austria","Eggplants",{"$f":"'FFV Coeffs for Calcs'!J107*'Eggplants - Summary'!P9","v":1199.2625},{"$f":"'FFV Coeffs for Calcs'!K107*R9","v":463.91321268000002},{"$f":"'FFV Coeffs for Calcs'!L107*T9","v":975.27964214458029},{"$f":"'FFV Coeffs for Calcs'!L107*V9","v":182.55011789939974},{"$f":"SUM(_xlfn.IFNA(P44,0),Q44:S44)","v":2821.0054727239799},{"$nulls":4},"Austria","Eggplants",{"$f":"'FFV Coeffs for Calcs'!N107*P9/1000*$AD$42","v":0.82003650929999994},{"$f":"R9*'FFV Coeffs for Calcs'!O107/1000*$AD$42","v":0.42442383755251545},{"$f":"T9*'FFV Coeffs for Calcs'!P107/1000*$AD$42","v":1.1441362251615084},{"$f":"V9*'FFV Coeffs for Calcs'!O107/1000*$AD$42","v":0.14820499738531084},{"$f":"SUM(_xlfn.IFNA(AA44,0),AB44:AD44)","v":2.5368015693993344},null,null,null,"Food Supply","","","","",{"$f":"_xlfn.XLOOKUP(AH43,N$9:N$39,Q$9:Q$39,\"\",0)+AJ43","v":852.18136000000004},"",""]
[{"$nulls":13},"Belgium","Eggplants",{"$f":"'FFV Coeffs for Calcs'!J108*'Eggplants - Summary'!P10","v":1137.7124999999999},{"$f":"'FFV Coeffs for Calcs'!K108*R10","v":1422.9701654400001},{"$f":"'FFV Coeffs for Calcs'!L108*T10","v":2991.49452052795},{"$f":"'FFV Coeffs for Calcs'!L108*V10","v":559.93958431958083},6112.1167702875309,{"$nulls":4},"Belgium","Eggplants",{"$f":"'FFV Coeffs for Calcs'!N108*P10/1000*$AD$42","v":0.97675894737000002},{"$f":"R10*'FFV Coeffs for Calcs'!O108/1000*$AD$42","v":1.6345369954491682},{"$f":"T10*'FFV Coeffs for Calcs'!P108/1000*$AD$42","v":4.4062864108773026},{"$f":"V10*'FFV Coeffs for Calcs'!O108/1000*$AD$42","v":0.57076565853058137},7.5883480122270512,null,null,"Luxembourg","Food Waste",14.08,52.428546560000008,97.808802008153606,18.307578223334396,null,0,67.094413616755219]
[{"$nulls":13},"Bulgaria","Eggplants",{"$f":"'FFV Coeffs for Calcs'!J109*'Eggplants - Summary'!P11","v":1078.5875000000001},{"$f":"'FFV Coeffs for Calcs'!K109*R11","v":1410.320374488},{"$f":"'FFV Coeffs for Calcs'!L109*T11","v":2964.9010042070854},{"$f":"'FFV Coeffs for Calcs'!L109*V11","v":554.961884252902},6008.7707629479864,{"$nulls":4},"Bulgaria","Eggplants",{"$f":"'FFV Coeffs for Calcs'!N109*P11/1000*$AD$42","v":0.31959237920999994},{"$f":"R11*'FFV Coeffs for Calcs'!O109/1000*$AD$42","v":0.55911726583441768},{"$f":"T11*'FFV Coeffs for Calcs'!P109/1000*$AD$42","v":1.5072346587395935},{"$f":"V11*'FFV Coeffs for Calcs'!O109/1000*$AD$42","v":0.1952387344662728},2.5811830382502841,null,null,null,"Food Supply","","","","",{"$f":"_xlfn.XLOOKUP(AH45,N$9:N$39,Q$9:Q$39,\"\",0)+AJ45","v":554.58048000000008},"",""]
[{"$nulls":13},"Croatia","Eggplants",{"$f":"'FFV Coeffs for Calcs'!J110*'Eggplants - Summary'!P12","v":{"$error":"#N/A"}},{"$f":"'FFV Coeffs for Calcs'!K110*R12","v":332.508627612},{"$f":"'FFV Coeffs for Calcs'!L110*T12","v":699.0292289241313},{"$f":"'FFV Coeffs for Calcs'!L110*V12","v":130.842337562409},1162.3801940985404,{"$nulls":4},"Croatia","Eggplants",{"$f":"'FFV Coeffs for Calcs'!N110*P12/1000*$AD$42","v":{"$error":"#N/A"}},{"$f":"R12*'FFV Coeffs for Calcs'!O110/1000*$AD$42","v":0.33124513669853117},{"$f":"T12*'FFV Coeffs for Calcs'!P110/1000*$AD$42","v":0.8929506940299311},{"$f":"V12*'FFV Coeffs for Calcs'!O110/1000*$AD$42","v":0.11566783077359175},1.339863661502054,null,null,"Malta","Food Waste",70.819999999999993,76.926610480000008,143.51150484375879,26.862082419295209,null,0,27.62533484775156]
[{"$nulls":13},"Cyprus","Eggplants",{"$f":"'FFV Coeffs for Calcs'!J111*'Eggplants - Summary'!P13","v":140.5},{"$f":"'FFV Coeffs for Calcs'!K111*R13","v":135.75630499200003},{"$f":"'FFV Coeffs for Calcs'!L111*T13","v":285.3989861306149},{"$f":"'FFV Coeffs for Calcs'!L111*V13","v":53.420184647706805},615.07547577032176,{"$nulls":4},"Cyprus","Eggplants",{"$f":"'FFV Coeffs for Calcs'!N111*P13/1000*$AD$42","v":8.3262098400000012E-2},{"$f":"R13*'FFV Coeffs for Calcs'!O111/1000*$AD$42","v":0.10764035667352009},{"$f":"T13*'FFV Coeffs for Calcs'!P111/1000*$AD$42","v":0.29017039210065865},{"$f":"V13*'FFV Coeffs for Calcs'!O111/1000*$AD$42","v":3.7587047116266356E-2},0.51865989429044512,null,null,null,"Food Supply",{"$f":"_xlfn.XLOOKUP($AH48,$N$9:$N$39,P$9:P$39,\"\",0)","v":""},"","","",{"$f":"_xlfn.XLOOKUP(AH47,N$9:N$39,Q$9:Q$39,\"\",0)+AJ47","v":863.87784000000011},"",""]
[{"$nulls":13},"Czechia","Eggplants",{"$f":"'FFV Coeffs for Calcs'!J112*'Eggplants - Summary'!P14","v":{"$error":"#N/A"}},{"$f":"'FFV Coeffs for Calcs'!K112*R14","v":240.57212112000005},{"$f":"'FFV Coeffs for Calcs'!L112*T14","v":505.75212298968722},{"$f":"'FFV Coeffs for Calcs'!L112*V14","v":94.665269005945618},840.98951311563292,{"$nulls":4},"Czechia","Eggplants",{"$f":"'FFV Coeffs for Calcs'!N112*P14/1000*$AD$42","v":{"$error":"#N/A"}},{"$f":"R14*'FFV Coeffs for Calcs'!O112/1000*$AD$42","v":0.37660539298487467},{"$f":"T14*'FFV Coeffs for Calcs'!P112/1000*$AD$42","v":1.0152301416196154},{"$f":"V14*'FFV Coeffs for Calcs'!O112/1000*$AD$42","v":0.13150722542937077},1.5233427600338609,null,null,"Netherlands","Food Waste",5420.04,1339.67691728,3185.5761701823694,467.80316385522713,null,0,1028.102179743204]
[{"$nulls":13},"Denmark","Eggplants",{"$f":"'FFV Coeffs for Calcs'!J113*'Eggplants - Summary'!P15","v":174.27499999999998},{"$f":"'FFV Coeffs for Calcs'!K113*R15","v":510.14923772399999},{"$f":"'FFV Coeffs for Calcs'!L113*T15","v":1452.731654873156},{"$f":"'FFV Coeffs for Calcs'!L113*V15","v":200.74402053524446},2337.8999131324003,{"$nulls":4},"Denmark","Eggplants",{"$f":"'FFV Coeffs for Calcs'!N113*P15/1000*$AD$42","v":0.14697196313999999},{"$f":"R15*'FFV Coeffs for Calcs'!O113/1000*$AD$42","v":0.57562644458821122},{"$f":"T15*'FFV Coeffs for Calcs'!P113/1000*$AD$42","v":2.1019115980793295},{"$f":"V15*'FFV Coeffs for Calcs'!O113/1000*$AD$42","v":0.20100359161508188},3.0255135974226226,null,null,null,"Food Supply","","","","",{"$f":"_xlfn.XLOOKUP(AH49,N$9:N$39,Q$9:Q$39,\"\",0)+AJ49","v":19231.142240000001},"",""]
[{"$nulls":13},"Estonia","Eggplants",{"$f":"'FFV Coeffs for Calcs'!J114*'Eggplants - Summary'!P16","v":{"$error":"#N/A"}},{"$f":"'FFV Coeffs for Calcs'!K114*R16","v":52.710507324000012},{"$f":"'FFV Coeffs for Calcs'!L114*T16","v":110.81271952405046},{"$f":"'FFV Coeffs for Calcs'!L114*V16","v":20.741615163202287},184.26484201125277,{"$nulls":4},"Estonia","Eggplants",{"$f":"'FFV Coeffs for Calcs'!N114*P16/1000*$AD$42","v":{"$error":"#N/A"}},{"$f":"R16*'FFV Coeffs for Calcs'!O114/1000*$AD$42","v":7.5550409987389211E-2},{"$f":"T16*'FFV Coeffs for Calcs'!P114/1000*$AD$42","v":0.20366424607731956},{"$f":"V16*'FFV Coeffs for Calcs'!O114/1000*$AD$42","v":2.6381525550517045E-2},0.30559618161522578,null,null,"Norway","Food Waste",200.34,152.50748952000001,284.51246173974118,53.254247489704831,null,0,195.16849603674848]
[{"$nulls":13},"Finland","Eggplants",{"$f":"'FFV Coeffs for Calcs'!J115*'Eggplants - Summary'!P17","v":{"$error":"#N/A"}},{"$f":"'FFV Coeffs for Calcs'!K115*R17","v":179.69600131200002},{"$f":"'FFV Coeffs for Calcs'!L115*T17","v":305.35013723487066},{"$f":"'FFV Coeffs for Calcs'!L115*V17","v":70.710480600567934},555.75661914743864,{"$nulls":4},"Finland","Eggplants",{"$f":"'FFV Coeffs for Calcs'!N115*P17/1000*$AD$42","v":{"$error":"#N/A"}},{"$f":"R17*'FFV Coeffs for Calcs'!O115/1000*$AD$42","v":0.33610637715217917},{"$f":"T17*'FFV Coeffs for Calcs'!P115/1000*$AD$42","v":0.73235560621637419},{"$f":"V17*'FFV Coeffs for Calcs'!O115/1000*$AD$42","v":0.11736533233918914},1.1858273157077426,null,null,null,"Food Supply","","","","",{"$f":"_xlfn.XLOOKUP(AH51,N$9:N$39,Q$9:Q$39,\"\",0)+AJ51","v":1772.5821599999999},"",""]
[{"$nulls":13},"France","Eggplants",{"$f":"'FFV Coeffs for Calcs'!J116*'Eggplants - Summary'!P18","v":17379.987499999999},{"$f":"'FFV Coeffs for Calcs'!K116*R18","v":8157.5713368720017},{"$f":"'FFV Coeffs for Calcs'!L116*T18","v":17149.572456090562},{"$f":"'FFV Coeffs for Calcs'!L116*V18","v":3210.0090461229247},{"$f":"SUM(_xlfn.IFNA(P53,0),Q53:S53)","v":45897.14033908549},{"$nulls":4},"France","Eggplants",{"$f":"'FFV Coeffs for Calcs'!N116*P18/1000*$AD$42","v":15.317358391479997},{"$f":"R18*'FFV Coeffs for Calcs'!O116/1000*$AD$42","v":9.6192095591104785},{"$f":"T18*'FFV Coeffs for Calcs'!P116/1000*$AD$42","v":25.930885921638147},{"$f":"V18*'FFV Coeffs for Calcs'!O116/1000*$AD$42","v":3.3589417026566744},54.226395574885295,null,null,"Poland","Food Waste",360.86,306.54172024000002,571.87315669490442,107.0416193129976,null,0,392.29080945505075]
[{"$nulls":13},"Germany","Eggplants",{"$f":"'FFV Coeffs for Calcs'!J117*'Eggplants - Summary'!P19","v":6672.8250000000007},{"$f":"'FFV Coeffs for Calcs'!K117*R19","v":5344.6554331560001},{"$f":"'FFV Coeffs for Calcs'!L117*T19","v":11377.396074798118},{"$f":"'FFV Coeffs for Calcs'!L117*V19","v":2103.1250087013491},25498.001516655469,{"$nulls":4},"Germany","Eggplants",{"$f":"'FFV Coeffs for Calcs'!N117*P19/1000*$AD$42","v":8.3143826560799994},{"$f":"R19*'FFV Coeffs for Calcs'!O117/1000*$AD$42","v":8.9101307362109541},{"$f":"T19*'FFV Coeffs for Calcs'!P117/1000*$AD$42","v":24.321636485764742},{"$f":"V19*'FFV Coeffs for Calcs'!O117/1000*$AD$42","v":3.1113377374792943},44.65748761553499,null,null,null,"Food Supply","","","","",{"$f":"_xlfn.XLOOKUP(AH53,N$9:N$39,Q$9:Q$39,\"\",0)+AJ53","v":3521.08392},"",""]
[{"$nulls":13},"Greece","Eggplants",{"$f":"'FFV Coeffs for Calcs'!J118*'Eggplants - Summary'!P20","v":4784.6749999999993},{"$f":"'FFV Coeffs for Calcs'!K118*R20","v":4634.5737258720001},{"$f":"'FFV Coeffs for Calcs'!L118*T20","v":9743.2133453352344},{"$f":"'FFV Coeffs for Calcs'!L118*V20","v":1823.7074455884929},20986.16951679573,{"$nulls":4},"Greece","Eggplants",{"$f":"'FFV Coeffs for Calcs'!N118*P20/1000*$AD$42","v":2.5809953213799997},{"$f":"R20*'FFV Coeffs for Calcs'!O118/1000*$AD$42","v":3.3449425304305493},{"$f":"T20*'FFV Coeffs for Calcs'!P118/1000*$AD$42","v":9.0170946623031174},{"$f":"V20*'FFV Coeffs for Calcs'!O118/1000*$AD$42","v":1.1680239305954048},16.111056444709071,null,null,"Portugal","Food Waste",{"$f":"_xlfn.XLOOKUP($AH55,$N$9:$N$39,P$9:P$39,\"\",0)","v":478.72},736.71479824000005,1374.3885071288346,257.25419989721746,null,0,464.0764464765607]
[{"$nulls":13},"Hungary","Eggplants",{"$f":"'FFV Coeffs for Calcs'!J119*'Eggplants - Summary'!P21","v":46.125},{"$f":"'FFV Coeffs for Calcs'!K119*R21","v":240.23412345600002},{"$f":"'FFV Coeffs for Calcs'!L119*T21","v":505.04155421996563},{"$f":"'FFV Coeffs for Calcs'!L119*V21","v":94.532266729385142},885.93294440535078,{"$nulls":4},"Hungary","Eggplants",{"$f":"'FFV Coeffs for Calcs'!N119*P21/1000*$AD$42","v":4.1702276699999992E-2},{"$f":"R21*'FFV Coeffs for Calcs'!O119/1000*$AD$42","v":0.29060439204683697},{"$f":"T21*'FFV Coeffs for Calcs'!P119/1000*$AD$42","v":0.78339382172586591},{"$f":"V21*'FFV Coeffs for Calcs'!O119/1000*$AD$42","v":0.1014764472509917},1.2171769377236945,null,null,null,"Food Supply",{"$f":"_xlfn.XLOOKUP($AH56,$N$9:$N$39,P$9:P$39,\"\",0)","v":""},"","","",{"$f":"_xlfn.XLOOKUP(AH55,N$9:N$39,Q$9:Q$39,\"\",0)+AJ55","v":8073.717920000001},"",""]
[{"$nulls":13},"Iceland","Eggplants",{"$f":"'FFV Coeffs for Calcs'!J120*'Eggplants - Summary'!P22","v":{"$error":"#N/A"}},{"$f":"'FFV Coeffs for Calcs'!K120*R22","v":13.970950740000001},{"$f":"'FFV Coeffs for Calcs'!L120*T22","v":29.370976005215599},{"$f":"'FFV Coeffs for Calcs'!L120*V22","v":5.4975772085045822},48.839503953720182,{"$nulls":4},"Iceland","Eggplants",{"$f":"'FFV Coeffs for Calcs'!N120*P22/1000*$AD$42","v":{"$error":"#N/A"}},{"$f":"R22*'FFV Coeffs for Calcs'!O120/1000*$AD$42","v":3.9055227487607654E-2},{"$f":"T22*'FFV Coeffs for Calcs'!P120/1000*$AD$42","v":0.10528273060291161},{"$f":"V22*'FFV Coeffs for Calcs'!O120/1000*$AD$42","v":1.3637735149518842E-2},0.15797569324003813,null,null,"Romania","Food Waste",{"$f":"_xlfn.XLOOKUP($AH57,$N$9:$N$39,P$9:P$39,\"\",0)","v":4231.21},5465.6734413600007,10196.562875444391,1908.5641437033867,null,0,2763.3793722048176]
[{"$nulls":13},"Ireland","Eggplants",{"$f":"'FFV Coeffs for Calcs'!J121*'Eggplants - Summary'!P23","v":{"$error":"#N/A"}},{"$f":"'FFV Coeffs for Calcs'!K121*R23","v":167.12385847199999},{"$f":"'FFV Coeffs for Calcs'!L121*T23","v":351.34264864498118},{"$f":"'FFV Coeffs for Calcs'!L121*V23","v":65.763335110936893},584.22984222791797,{"$nulls":4},"Ireland","Eggplants",{"$f":"'FFV Coeffs for Calcs'!N121*P23/1000*$AD$42","v":{"$error":"#N/A"}},{"$f":"R23*'FFV Coeffs for Calcs'!O121/1000*$AD$42","v":0.3227844253311864},{"$f":"T23*'FFV Coeffs for Calcs'!P121/1000*$AD$42","v":0.8701428177762387},{"$f":"V23*'FFV Coeffs for Calcs'!O121/1000*$AD$42","v":0.11271342624884571},1.3056406693562708,null,null,null,"Food Supply",{"$f":"_xlfn.XLOOKUP($AH58,$N$9:$N$39,P$9:P$39,\"\",0)","v":""},"","","",{"$f":"_xlfn.XLOOKUP(AH57,N$9:N$39,Q$9:Q$39,\"\",0)+AJ57","v":60578.35888},"",""]
[{"$nulls":13},"Italy","Eggplants",{"$f":"'FFV Coeffs for Calcs'!J122*'Eggplants - Summary'!P24","v":55066.387499999997},{"$f":"'FFV Coeffs for Calcs'!K122*R24","v":32504.933889504002},{"$f":"'FFV Coeffs for Calcs'!L122*T24","v":68334.764833602254},{"$f":"'FFV Coeffs for Calcs'!L122*V24","v":12790.710313168369},168696.7965362746,{"$nulls":4},"Italy","Eggplants",{"$f":"'FFV Coeffs for Calcs'!N122*P24/1000*$AD$42","v":36.816769938959993},{"$f":"R24*'FFV Coeffs for Calcs'!O122/1000*$AD$42","v":29.077192781495153},{"$f":"T24*'FFV Coeffs for Calcs'!P122/1000*$AD$42","v":78.384545456160737},{"$f":"V24*'FFV Coeffs for Calcs'!O122/1000*$AD$42","v":10.153494923857691},154.43200310047359,null,null,"Slovakia","Food Waste",{"$f":"_xlfn.XLOOKUP($AH59,$N$9:$N$39,P$9:P$39,\"\",0)","v":39.64},61.393604720000006,114.5336905678532,21.438096124552807,null,0,38.927272579132392]
[{"$nulls":13},"Latvia","Eggplants",{"$f":"'FFV Coeffs for Calcs'!J123*'Eggplants - Summary'!P25","v":{"$error":"#N/A"}},{"$f":"'FFV Coeffs for Calcs'!K123*R25","v":87.502570919999997},{"$f":"'FFV Coeffs for Calcs'!L123*T25","v":183.95569197218398},{"$f":"'FFV Coeffs for Calcs'!L123*V25","v":34.432312340638028},305.89057523282202,{"$nulls":4},"Latvia","Eggplants",{"$f":"'FFV Coeffs for Calcs'!N123*P25/1000*$AD$42","v":{"$error":"#N/A"}},{"$f":"R25*'FFV Coeffs for Calcs'!O123/1000*$AD$42","v":0.13164459878635965},{"$f":"T25*'FFV Coeffs for Calcs'!P123/1000*$AD$42","v":0.35487958260518326},{"$f":"V25*'FFV Coeffs for Calcs'!O123/1000*$AD$42","v":4.5969113166290182E-2},0.53249329455783312,null,null,null,"Food Supply",{"$f":"_xlfn.XLOOKUP($AH60,$N$9:$N$39,P$9:P$39,\"\",0)","v":""},"","","",{"$f":"_xlfn.XLOOKUP(AH59,N$9:N$39,Q$9:Q$39,\"\",0)+AJ59","v":672.56376},"",""]
[{"$nulls":13},"Lithuania","Eggplants",{"$f":"'FFV Coeffs for Calcs'!J124*'Eggplants - Summary'!P26","v":48.387500000000003},{"$f":"'FFV Coeffs for Calcs'!K124*R26","v":106.52407459200002},{"$f":"'FFV Coeffs for Calcs'!L124*T26","v":223.94438983036801},{"$f":"'FFV Coeffs for Calcs'!L124*V26","v":41.917285053287756},420.7732494756558,{"$nulls":4},"Lithuania","Eggplants",{"$f":"'FFV Coeffs for Calcs'!N124*P26/1000*$AD$42","v":5.2203299539999998E-2},{"$f":"R26*'FFV Coeffs for Calcs'!O124/1000*$AD$42","v":0.15376469496145331},{"$f":"T26*'FFV Coeffs for Calcs'!P124/1000*$AD$42","v":0.41450960594205499},{"$f":"V26*'FFV Coeffs for Calcs'!O124/1000*$AD$42","v":5.3693252353893994E-2},0.6741708527974023,null,null,"Slovenia","Food Waste",85.94,9.3761364,17.491781270334002,3.2740627356359977,null,0,11.998928351537984]
[{"$nulls":13},"Luxembourg","Eggplants",{"$f":"'FFV Coeffs for Calcs'!J125*'Eggplants - Summary'!P27","v":17.600000000000001},{"$f":"'FFV Coeffs for Calcs'!K125*R27","v":70.778537856000014},{"$f":"'FFV Coeffs for Calcs'!L125*T27","v":148.79694129197253},{"$f":"'FFV Coeffs for Calcs'!L125*V27","v":27.851395642987157},265.02687479095971,{"$nulls":4},"Luxembourg","Eggplants",{"$f":"'FFV Coeffs for Calcs'!N125*P27/1000*$AD$42","v":2.9150471680000001E-2},{"$f":"R27*'FFV Coeffs for Calcs'!O125/1000*$AD$42","v":0.15684785974336765},{"$f":"T27*'FFV Coeffs for Calcs'!P125/1000*$AD$42","v":0.42282101591250459},{"$f":"V27*'FFV Coeffs for Calcs'!O125/1000*$AD$42","v":5.476986584261101E-2},0.66358921317848329,null,null,null,"Food Supply","","","","",{"$f":"_xlfn.XLOOKUP(AH61,N$9:N$39,Q$9:Q$39,\"\",0)+AJ61","v":182.60120000000001},"",""]
[{"$nulls":13},"Malta","Eggplants",{"$f":"'FFV Coeffs for Calcs'!J126*'Eggplants - Summary'!P28","v":88.524999999999991},{"$f":"'FFV Coeffs for Calcs'!K126*R28","v":103.85092414800002},{"$f":"'FFV Coeffs for Calcs'!L126*T28","v":218.32465506713061},{"$f":"'FFV Coeffs for Calcs'!L126*V28","v":40.865398805219968},451.5659780203506,{"$nulls":4},"Malta","Eggplants",{"$f":"'FFV Coeffs for Calcs'!N126*P28/1000*$AD$42","v":5.716909089999999E-2},{"$f":"R28*'FFV Coeffs for Calcs'!O126/1000*$AD$42","v":8.973250832316039E-2},{"$f":"T28*'FFV Coeffs for Calcs'!P126/1000*$AD$42","v":0.24189549281484715},{"$f":"V28*'FFV Coeffs for Calcs'!O126/1000*$AD$42","v":3.1333787089104927E-2},0.42013087912711244,null,null,"Spain","Food Waste",24230.172278578804,8093.2163399999999,9454.6680392933995,2826.0785572866021,null,0,16000.880259889796]
[{"$nulls":13},"Netherlands","Eggplants",{"$f":"'FFV Coeffs for Calcs'!J127*'Eggplants - Summary'!P29","v":6775.05},{"$f":"'FFV Coeffs for Calcs'!K127*R29","v":1808.5638383280002},{"$f":"'FFV Coeffs for Calcs'!L127*T29","v":4846.2304071183535},{"$f":"'FFV Coeffs for Calcs'!L127*V29","v":711.67091794624525},14141.5151633926,{"$nulls":4},"Netherlands","Eggplants",{"$f":"'FFV Coeffs for Calcs'!N127*P29/1000*$AD$42","v":5.3018343476399998},{"$f":"R29*'FFV Coeffs for Calcs'!O127/1000*$AD$42","v":1.8936145604000534},{"$f":"T29*'FFV Coeffs for Calcs'!P127/1000*$AD$42","v":6.5064987521970563},{"$f":"V29*'FFV Coeffs for Calcs'!O127/1000*$AD$42","v":0.66123322052605371},14.363180880763164,null,null,null,"Food Supply","","","","",{"$f":"_xlfn.XLOOKUP(AH63,N$9:N$39,Q$9:Q$39,\"\",0)+AJ63","v":107665.3922785788},"",""]
[{"$nulls":13},"Norway","Eggplants",{"$f":"'FFV Coeffs for Calcs'!J128*'Eggplants - Summary'!P30","v":250.42500000000001},{"$f":"'FFV Coeffs for Calcs'!K128*R30","v":205.88511085200003},{"$f":"'FFV Coeffs for Calcs'!L128*T30","v":432.83000299700763},{"$f":"'FFV Coeffs for Calcs'!L128*V30","v":81.015910373927426},970.15602422293512,{"$nulls":4},"Norway","Eggplants",{"$f":"'FFV Coeffs for Calcs'!N128*P30/1000*$AD$42","v":0.42618889152000006},{"$f":"R30*'FFV Coeffs for Calcs'!O128/1000*$AD$42","v":0.46880633910179581},{"$f":"T30*'FFV Coeffs for Calcs'!P128/1000*$AD$42","v":1.2637799004052093},{"$f":"V30*'FFV Coeffs for Calcs'!O128/1000*$AD$42","v":0.16370296885646038},2.3224780998834653,null,null,"Sweden","Food Waste",673.5,510.43314392000002,952.24562929540525,178.23867574516092,null,0,653.21689668959607]
[{"$nulls":13},"Poland","Eggplants",{"$f":"'FFV Coeffs for Calcs'!J129*'Eggplants - Summary'!P31","v":451.07500000000005},{"$f":"'FFV Coeffs for Calcs'!K129*R31","v":413.83132232400004},{"$f":"'FFV Coeffs for Calcs'!L129*T31","v":869.99303514721623},{"$f":"'FFV Coeffs for Calcs'!L129*V31","v":162.84286503566437},1897.7422225068806,{"$nulls":4},"Poland","Eggplants",{"$f":"'FFV Coeffs for Calcs'!N129*P31/1000*$AD$42","v":0.47979223879999999},{"$f":"R31*'FFV Coeffs for Calcs'!O129/1000*$AD$42","v":0.58894116487323034},{"$f":"T31*'FFV Coeffs for Calcs'!P129/1000*$AD$42","v":1.5876321299623144},{"$f":"V31*'FFV Coeffs for Calcs'!O129/1000*$AD$42","v":0.20565297251792339},2.862018506153468,null,null,null,"Food Supply","","","","",{"$f":"_xlfn.XLOOKUP(AH65,N$9:N$39,Q$9:Q$39,\"\",0)+AJ65","v":5935.6973600000001},"",""]
[{"$nulls":13},"Portugal","Eggplants",{"$f":"'FFV Coeffs for Calcs'!J130*'Eggplants - Summary'!P32","v":598.40000000000009},{"$f":"'FFV Coeffs for Calcs'!K130*R32","v":994.56497762400011},{"$f":"'FFV Coeffs for Calcs'!L130*T32","v":2090.8630083268263},{"$f":"'FFV Coeffs for Calcs'!L130*V32","v":391.36189477127652},4075.1898807221032,{"$nulls":4},"Portugal","Eggplants",{"$f":"'FFV Coeffs for Calcs'!N130*P32/1000*$AD$42","v":0.40008353792000001},{"$f":"R32*'FFV Coeffs for Calcs'!O130/1000*$AD$42","v":0.88968516860865232},{"$f":"T32*'FFV Coeffs for Calcs'!P130/1000*$AD$42","v":2.398359706335139},{"$f":"V32*'FFV Coeffs for Calcs'!O130/1000*$AD$42","v":0.31067008122765988},3.9987984940914507,null,null,"Switzerland","Food Waste",708.53,539.32873000000006,1006.1521905725499,188.32875523770011,null,0,690.19546144784999]
[{"$nulls":13},"Romania","Eggplants",{"$f":"'FFV Coeffs for Calcs'!J131*'Eggplants - Summary'!P33","v":5289.0124999999998},{"$f":"'FFV Coeffs for Calcs'!K131*R33","v":7378.6591458360017},{"$f":"'FFV Coeffs for Calcs'!L131*T33","v":15512.07392797763},{"$f":"'FFV Coeffs for Calcs'!L131*V33","v":2903.5066477853661},31083.252221598999,{"$nulls":4},"Romania","Eggplants",{"$f":"'FFV Coeffs for Calcs'!N131*P33/1000*$AD$42","v":3.6165421232999999},{"$f":"R33*'FFV Coeffs for Calcs'!O131/1000*$AD$42","v":6.7505704624711012},{"$f":"T33*'FFV Coeffs for Calcs'!P131/1000*$AD$42","v":18.197781376176351},{"$f":"V33*'FFV Coeffs for Calcs'!O131/1000*$AD$42","v":2.3572386591412755},30.922132621088728,null,null,null,"Food Supply","","","","",{"$f":"_xlfn.XLOOKUP(AH67,N$9:N$39,Q$9:Q$39,\"\",0)+AJ67","v":6268.62},"",""]
[{"$nulls":13},"Slovakia","Eggplants",{"$f":"'FFV Coeffs for Calcs'!J132*'Eggplants - Summary'!P34","v":49.55},{"$f":"'FFV Coeffs for Calcs'!K132*R34","v":82.881366372000016},{"$f":"'FFV Coeffs for Calcs'!L132*T34","v":174.24058450237547},{"$f":"'FFV Coeffs for Calcs'!L132*V34","v":32.613865674285911},339.28581654866144,{"$nulls":4},"Slovakia","Eggplants",{"$f":"'FFV Coeffs for Calcs'!N132*P34/1000*$AD$42","v":5.5716239840000001E-2},{"$f":"R34*'FFV Coeffs for Calcs'!O132/1000*$AD$42","v":0.12469215599256618},{"$f":"T34*'FFV Coeffs for Calcs'!P132/1000*$AD$42","v":0.33613760595369996},{"$f":"V34*'FFV Coeffs for Calcs'!O132/1000*$AD$42","v":4.3541382499658624E-2},0.56008738428592486,null,null,"United Kingdom","Food Waste",1498.75,2405.9301336800004,4146.2202584659581,840.12922372006346,null,0,3421.138397159888]
[{"$nulls":13},"Slovenia","Eggplants",{"$f":"'FFV Coeffs for Calcs'!J133*'Eggplants - Summary'!P35","v":107.425},{"$f":"'FFV Coeffs for Calcs'!K133*R35","v":12.65778414},{"$f":"'FFV Coeffs for Calcs'!L133*T35","v":26.610320312040454},{"$f":"'FFV Coeffs for Calcs'!L133*V35","v":4.9808453907865333},151.67394984282697,{"$nulls":4},"Slovenia","Eggplants",{"$f":"'FFV Coeffs for Calcs'!N133*P35/1000*$AD$42","v":9.0595111980000004E-2},{"$f":"R35*'FFV Coeffs for Calcs'!O133/1000*$AD$42","v":1.4282399623647369E-2},{"$f":"T35*'FFV Coeffs for Calcs'!P133/1000*$AD$42","v":3.8501632909876599E-2},{"$f":"V35*'FFV Coeffs for Calcs'!O133/1000*$AD$42","v":4.9872858487047447E-3},0.14836643036222871,null,null,null,"Food Supply","","","","",{"$f":"_xlfn.XLOOKUP(AH69,N$9:N$39,Q$9:Q$39,\"\",0)+AJ69","v":26302.153440000002},"",""]
[{"$nulls":13},"Spain","Eggplants",{"$f":"'FFV Coeffs for Calcs'!J134*'Eggplants - Summary'!P36","v":30287.715348223504},{"$f":"'FFV Coeffs for Calcs'!K134*R36","v":10925.842059000001},{"$f":"'FFV Coeffs for Calcs'!L134*T36","v":14383.426197782816},{"$f":"'FFV Coeffs for Calcs'!L134*V36","v":4299.3251787300487},59896.308783736364,{"$nulls":4},"Spain","Eggplants",{"$f":"'FFV Coeffs for Calcs'!N134*P36/1000*$AD$42","v":20.019913313280668},{"$f":"R36*'FFV Coeffs for Calcs'!O134/1000*$AD$42","v":9.6626152596628998},{"$f":"T36*'FFV Coeffs for Calcs'!P134/1000*$AD$42","v":16.311265988640493},{"$f":"V36*'FFV Coeffs for Calcs'!O134/1000*$AD$42","v":3.3740985839807212},49.367893145564778]
[{"$nulls":13},"Sweden","Eggplants",{"$f":"'FFV Coeffs for Calcs'!J135*'Eggplants - Summary'!P37","v":841.875},{"$f":"'FFV Coeffs for Calcs'!K135*R37","v":689.0847442920001},{"$f":"'FFV Coeffs for Calcs'!L135*T37","v":1448.6552752787431},{"$f":"'FFV Coeffs for Calcs'!L135*V37","v":271.15524601355145},3250.7702655842945,{"$nulls":4},"Sweden","Eggplants",{"$f":"'FFV Coeffs for Calcs'!N135*P37/1000*$AD$42","v":0.84430229400000012},{"$f":"R37*'FFV Coeffs for Calcs'!O135/1000*$AD$42","v":0.92462808972374388},{"$f":"T37*'FFV Coeffs for Calcs'!P135/1000*$AD$42","v":2.4925567290360382},{"$f":"V37*'FFV Coeffs for Calcs'!O135/1000*$AD$42","v":0.32287183587546908},4.5843589486352521]
[{"$nulls":13},"Switzerland","Eggplants",{"$f":"'FFV Coeffs for Calcs'!J136*'Eggplants - Summary'!P38","v":885.66249999999991},{"$f":"'FFV Coeffs for Calcs'!K136*R38","v":728.09378550000008},{"$f":"'FFV Coeffs for Calcs'!L136*T38","v":1530.6635533572207},{"$f":"'FFV Coeffs for Calcs'!L136*V38","v":286.50532632388519},3430.925165181106,{"$nulls":4},"Switzerland","Eggplants",{"$f":"'FFV Coeffs for Calcs'!N136*P38/1000*$AD$42","v":1.4669022513800001},{"$f":"R38*'FFV Coeffs for Calcs'!O136/1000*$AD$42","v":1.6134827789246386},{"$f":"T38*'FFV Coeffs for Calcs'!P136/1000*$AD$42","v":4.3495297217219067},{"$f":"V38*'FFV Coeffs for Calcs'!O136/1000*$AD$42","v":0.56341371495700299},7.9933284669835478]
[{"$nulls":13},"United Kingdom","Eggplants",{"$f":"'FFV Coeffs for Calcs'!J137*'Eggplants - Summary'!P39","v":1873.4375},{"$f":"'FFV Coeffs for Calcs'!K137*R39","v":3248.0056804680007},{"$f":"'FFV Coeffs for Calcs'!L137*T39","v":6307.6622933293484},{"$f":"'FFV Coeffs for Calcs'!L137*V39","v":1278.0921165880723},12707.197590385422,{"$nulls":4},"United Kingdom","Eggplants",{"$f":"'FFV Coeffs for Calcs'!N137*P39/1000*$AD$42","v":2.7470903487500005},{"$f":"R39*'FFV Coeffs for Calcs'!O137/1000*$AD$42","v":6.3722764071718023},{"$f":"T39*'FFV Coeffs for Calcs'!P137/1000*$AD$42","v":15.868351445138277},{"$f":"V39*'FFV Coeffs for Calcs'!O137/1000*$AD$42","v":2.2251417679774423},27.212859969037524]
[{"$nulls":13},"EU+","Eggplants",{"$f":"SUM(P44:P46,P48,P50,P53:P56,P59,P61:P74)","v":135244.4778482235},{"$f":"SUM(Q44:Q74)","v":82668.38579301603},{"$f":"SUM(R44:R74)","v":166179.72218954368},{"$f":"SUM(S44:S74)","v":32530.057693092163},{"$f":"SUM(T44:T74)","v":416622.64352387533},{"$nulls":4},"EU+","Eggplants",{"$f":"SUM(AA44:AA46,AA48,AA50,AA53:AA56,AA59,AA61:AA74)","v":101.00531404255064},{"$f":"SUM(AB44:AB74)","v":85.860356317402022},{"$f":"SUM(AC44:AC74)","v":222.49142255462431},{"$f":"SUM(AD44:AD74)","v":29.981666338304876},{"$f":"SUM(AE44:AE74)","v":439.33875925288186}]
{"$rows_empty":9}
[{"$nulls":13},"Country","Food Availability ","Total Food Waste","% Waste",null,"Food Availablility ","% Waste"]
[{"$nulls":13},"Austria",4502.0843999999997,2064.12649792814,0.45848240826585573,null,{"$f":"Q9+_xlfn.IFNA(P9,0)","v":4502.0843999999997},{"$f":"W9/S86","v":0.45848240826585573}]
[{"$nulls":13},"Belgium",11776.6852,4298.6887462971199,0.36501686792962079,null,11776.6852,0.36501686792962079]
[{"$nulls":13},"Bulgaria",11632.785040000001,4221.2658000691235,0.36287662718377917,null,11632.785040000001,0.36287662718377917]
[{"$nulls":13},"Croatia",2539.2029600000001,791.80276954042597,0.31183122499999999,null,2539.2029600000001,0.31183122499999999]
[{"$nulls":13},"Cyprus",1149.1033600000003,435.67647871041606,0.37914472611969036,null,1149.1033600000003,0.37914472611969036]
[{"$nulls":13},"Czechia",1837.1296000000002,572.87437365176004,0.31183122499999999,null,1837.1296000000002,0.31183122499999999]
[{"$nulls":13},"Denmark",4035.1759199999997,1604.1886966260095,0.39755111757953038,null,4035.1759199999997,0.39755111757953038]
[{"$nulls":13},"Estonia",402.52392000000003,125.51952706540202,0.31183122499999999,null,402.52392000000003,0.31183122499999999]
[{"$nulls":13},"Finland",1372.2489600000001,380.30434948245119,0.27713946999999994,null,1372.2489600000001,0.27713946999999994]
[{"$nulls":13},"France",76199.30376000001,33329.614001540162,0.43740050573842876,null,76199.30376000001,0.43740050573842876]
[{"$nulls":13},"Germany",46152.734479999999,18158.424786161439,0.39344201358275488,null,46152.734479999999,0.39344201358275488]
[{"$nulls":13},"Greece",39219.673759999998,14864.050059499656,0.37899473999856281,null,39219.673759999998,0.37899473999856281]
[{"$nulls":13},"Hungary",1871.4484800000002,608.96949984028799,0.32540008787219615,null,1871.4484800000002,0.32540008787219615]
[{"$nulls":13},"Iceland",106.6892,33.269023930270002,0.31183122500000005,null,106.6892,0.31183122500000005]
[{"$nulls":13},"Ireland",1276.2417599999999,397.97203141695593,0.31183122499999999,null,1276.2417599999999,0.31183122499999999]
[{"$nulls":13},"Italy",292277.11832000001,121457.10658883578,0.41555461914695047,null,292277.11832000001,0.41555461914695047]
[{"$nulls":13},"Latvia",668.21359999999993,208.36986544965998,0.31183122499999999,null,668.21359999999993,0.31183122499999999]
[{"$nulls":13},"Lithuania",852.18136000000004,292.37577069121602,0.34309101843205769,null,852.18136000000004,0.34309101843205769]
[{"$nulls":13},"Luxembourg",554.58048000000008,182.62492679148801,0.32930283949317507,null,554.58048000000008,0.32930283949317507]
[{"$nulls":13},"Malta",863.87784000000011,318.12019774305406,0.36824673931102808,null,863.87784000000011,0.36824673931102808]
[{"$nulls":13},"Netherlands",19231.142240000001,10413.096251317598,0.54147050244674377,null,19231.142240000001,0.54147050244674377]
[{"$nulls":13},"Norway",1772.5821599999999,690.61419874944602,0.38960913312443923,null,1772.5821599999999,0.38960913312443923]
[{"$nulls":13},"Poland",3521.08392,1346.3164962479023,0.38235853698366334,null,3521.08392,0.38235853698366334]
[{"$nulls":13},"Portugal",8073.717920000001,2847.077505266052,0.35263524605105989,null,8073.717920000001,0.35263524605105989]
[{"$nulls":13},"Romania",60578.35888,21802.010460507783,0.35989767408020251,null,60578.35888,0.35989767408020251]
[{"$nulls":13},"Slovakia",672.56376,237.005391412406,0.3523909635160925,null,672.56376,0.3523909635160925]
[{"$nulls":13},"Slovenia",182.60120000000001,116.08198040597,0.6357131300668889,null,182.60120000000001,0.6357131300668889]
[{"$nulls":13},"Spain",107665.3922785788,44604.135215158807,0.4142847972888804,null,107665.3922785788,0.4142847972888804]
[{"$nulls":13},"Sweden",5935.6973600000001,2314.4174489605662,0.38991500216253716,null,5935.6973600000001,0.38991500216253716]
[{"$nulls":13},"Switzerland",6268.62,2442.3396758102499,0.38961361125897725,null,6268.62,0.38961361125897725]
[{"$nulls":13},"United Kingdom",26302.153440000002,8891.0296158660221,0.33803428438466371,null,26302.153440000002,0.33803428438466371]

{"sheet":"Peppers - Summary","index":6,"n_rows":116,"n_cols":42,"rows_kept":116,"cut":false,"hidden":false,"merged":[]}
["Homepage"]
[]
[]
[]
[]
[]
[{"$nulls":13},"Food Waste","Unit: Tonnes",{"$nulls":9},"Difference (Worst and Best Case)","Unit: Tonnes",{"$nulls":7},"Data for the illustration","Unit: Tonnes"]
[{"$nulls":13},"Country","Product","Food Waste - Pre R&D","Food Supply Quantity","Food Waste - R&D","Consumption - Households","Food Waste - Households","Consumption - Food Service","Food Waste - Food Service","Total Food Waste",null,"Country","Product","Total FW","Best Case","Worst Case","Average B/W case","Lower Error","Higher Error",null,"Country",null,"Food Waste - Pre R&D","Food Waste - R&D","Food Waste - Households","Food Waste - Food Service","Food Availability","Lower Error","Higher Error"]
[{"$nulls":13},"Austria","Peppers",{"$f":"_xlfn.XLOOKUP($N9&$O9,'FFV Waste'!$A:$A&'FFV Waste'!$B:$B,'FFV Waste'!C:C,\"\",0)","v":7550.52},{"$f":"_xlfn.XLOOKUP($N9&$O9,'FFV Waste'!$A:$A&'FFV Waste'!$B:$B,'FFV Waste'!D:D,\"\",0)","v":23808.244198038872},{"$f":"_xlfn.XLOOKUP($N9&$O9,'FFV Waste'!$A:$A&'FFV Waste'!$B:$B,'FFV Waste'!E:E,\"\",0)","v":952.32976792155489},{"$f":"_xlfn.XLOOKUP($N9&$O9,'FFV Waste'!$A:$A&'FFV Waste'!$B:$B,'FFV Waste'!F:F,\"\",0)","v":20341.763842804412},{"$f":"_xlfn.XLOOKUP($N9&$O9,'FFV Waste'!$A:$A&'FFV Waste'!$B:$B,'FFV Waste'!G:G,\"\",0)","v":5800.7929891730582},{"$f":"_xlfn.XLOOKUP($N9&$O9,'FFV Waste'!$A:$A&'FFV Waste'!$B:$B,'FFV Waste'!H:H,\"\",0)","v":2514.1505873129063},{"$f":"_xlfn.XLOOKUP($N9&$O9,'FFV Waste'!$A:$A&'FFV Waste'!$B:$B,'FFV Waste'!I:I,\"\",0)","v":857.32535027370113},{"$f":"_xlfn.XLOOKUP($N9&$O9,'FFV Waste'!$A:$A&'FFV Waste'!$B:$B,'FFV Waste'!J:J,\"\",0)","v":15160.968107368315},null,"Austria","Peppers",{"$f":"W9","v":15160.968107368315},{"$f":"_xlfn.XLOOKUP(Y9&Z9,'FFV Waste'!$L:$L&'FFV Waste'!$M:$M,'FFV Waste'!$U:$U,,0)","v":13437.365507002452},{"$f":"_xlfn.XLOOKUP(Y9&Z9,'FFV Waste'!$W:$W&'FFV Waste'!$X:$X,'FFV Waste'!$AF:$AF,,0)","v":17584.571180347237},{"$f":"AVERAGE(AB9:AC9)","v":15510.968343674846},{"$f":"AA9-MIN(AB9,AA9)","v":1723.6026003658626},{"$f":"AC9-MIN(AA9,AC9)","v":2423.6030729789218},null,"Austria","Food Waste",{"$f":"_xlfn.XLOOKUP($AH9,$N$9:$N$39,P$9:P$39,\"\",0)","v":7550.52},{"$f":"_xlfn.XLOOKUP($AH9,$N$9:$N$39,R$9:R$39,\"\",0)","v":952.32976792155489},{"$f":"_xlfn.XLOOKUP($AH9,$N$9:$N$39,T$9:T$39,\"\",0)","v":5800.7929891730582},{"$f":"_xlfn.XLOOKUP($AH9,$N$9:$N$39,V$9:V$39,\"\",0)","v":857.32535027370113},null,{"$f":"IF(ISBLANK($AH9),\"\",_xlfn.XLOOKUP($AH9,$Y$9:$Y$39,AE$9:AE$39,,0))","v":1723.6026003658626},{"$f":"IF(ISBLANK($AH9),\"\",_xlfn.XLOOKUP($AH9,$Y$9:$Y$39,AF$9:AF$39,,0))","v":2423.6030729789218}]
[{"$nulls":13},"Belgium","Peppers",{"$f":"_xlfn.XLOOKUP($N10&$O10,'FFV Waste'!$A:$A&'FFV Waste'!$B:$B,'FFV Waste'!C:C,\"\",0)","v":2400.1256453567357},{"$f":"_xlfn.XLOOKUP($N10&$O10,'FFV Waste'!$A:$A&'FFV Waste'!$B:$B,'FFV Waste'!D:D,\"\",0)","v":40846.89},{"$f":"_xlfn.XLOOKUP($N10&$O10,'FFV Waste'!$A:$A&'FFV Waste'!$B:$B,'FFV Waste'!E:E,\"\",0)","v":1633.8756000000001},{"$f":"_xlfn.XLOOKUP($N10&$O10,'FFV Waste'!$A:$A&'FFV Waste'!$B:$B,'FFV Waste'!F:F,\"\",0)","v":34899.582816000002},{"$f":"_xlfn.XLOOKUP($N10&$O10,'FFV Waste'!$A:$A&'FFV Waste'!$B:$B,'FFV Waste'!G:G,\"\",0)","v":9952.1976996960002},{"$f":"_xlfn.XLOOKUP($N10&$O10,'FFV Waste'!$A:$A&'FFV Waste'!$B:$B,'FFV Waste'!H:H,\"\",0)","v":4313.4315839999981},{"$f":"_xlfn.XLOOKUP($N10&$O10,'FFV Waste'!$A:$A&'FFV Waste'!$B:$B,'FFV Waste'!I:I,\"\",0)","v":1470.8801701439995},{"$f":"_xlfn.XLOOKUP($N10&$O10,'FFV Waste'!$A:$A&'FFV Waste'!$B:$B,'FFV Waste'!J:J,\"\",0)","v":15457.079115196735},null,"Belgium","Peppers",{"$f":"W10","v":15457.079115196735},{"$f":"_xlfn.XLOOKUP(Y10&Z10,'FFV Waste'!$L:$L&'FFV Waste'!$M:$M,'FFV Waste'!$U:$U,,0)","v":12499.960344268737},{"$f":"_xlfn.XLOOKUP(Y10&Z10,'FFV Waste'!$W:$W&'FFV Waste'!$X:$X,'FFV Waste'!$AF:$AF,,0)","v":19615.161807148732},{"$f":"AVERAGE(AB10:AC10)","v":16057.561075708734},{"$f":"AA10-MIN(AB10,AA10)","v":2957.1187709279984},{"$f":"AC10-MIN(AA10,AC10)","v":4158.0826919519968},null,null,"Food Supply","","","","",{"$f":"_xlfn.XLOOKUP(AH9,N$9:N$39,Q$9:Q$39,\"\",0)+AJ9","v":31358.764198038873},{"$f":"IF(ISBLANK($AH10),\"\",_xlfn.XLOOKUP($AH10,$Y$9:$Y$39,AE$9:AE$39,,0))","v":""},""]
[{"$nulls":13},"Bulgaria","Peppers",{"$f":"_xlfn.XLOOKUP($N11&$O11,'FFV Waste'!$A:$A&'FFV Waste'!$B:$B,'FFV Waste'!C:C,\"\",0)","v":5198.4540400371397},{"$f":"_xlfn.XLOOKUP($N11&$O11,'FFV Waste'!$A:$A&'FFV Waste'!$B:$B,'FFV Waste'!D:D,\"\",0)","v":61395.86},{"$f":"_xlfn.XLOOKUP($N11&$O11,'FFV Waste'!$A:$A&'FFV Waste'!$B:$B,'FFV Waste'!E:E,\"\",0)","v":2455.8344000000002},{"$f":"_xlfn.XLOOKUP($N11&$O11,'FFV Waste'!$A:$A&'FFV Waste'!$B:$B,'FFV Waste'!F:F,\"\",0)","v":52456.622783999999},{"$f":"_xlfn.XLOOKUP($N11&$O11,'FFV Waste'!$A:$A&'FFV Waste'!$B:$B,'FFV Waste'!G:G,\"\",0)","v":14958.880263904},{"$f":"_xlfn.XLOOKUP($N11&$O11,'FFV Waste'!$A:$A&'FFV Waste'!$B:$B,'FFV Waste'!H:H,\"\",0)","v":6483.4028160000016},{"$f":"_xlfn.XLOOKUP($N11&$O11,'FFV Waste'!$A:$A&'FFV Waste'!$B:$B,'FFV Waste'!I:I,\"\",0)","v":2210.8403602560006},{"$f":"_xlfn.XLOOKUP($N11&$O11,'FFV Waste'!$A:$A&'FFV Waste'!$B:$B,'FFV Waste'!J:J,\"\",0)","v":24824.00906419714},null,"Bulgaria","Peppers",24824.00906419714,{"$f":"_xlfn.XLOOKUP(Y11&Z11,'FFV Waste'!$L:$L&'FFV Waste'!$M:$M,'FFV Waste'!$U:$U,,0)","v":20379.243500325145},{"$f":"_xlfn.XLOOKUP(Y11&Z11,'FFV Waste'!$W:$W&'FFV Waste'!$X:$X,'FFV Waste'!$AF:$AF,,0)","v":25875.457105408001},23127.350302866573,4444.7655638719953,1051.4480412108605,null,"Belgium","Food Waste",2400.1256453567357,1633.8756000000001,9952.1976996960002,1470.8801701439995,null,2957.1187709279984,4158.0826919519968]
[{"$nulls":13},"Croatia","Peppers",{"$f":"_xlfn.XLOOKUP($N12&$O12,'FFV Waste'!$A:$A&'FFV Waste'!$B:$B,'FFV Waste'!C:C,\"\",0)","v":1373.99},{"$f":"_xlfn.XLOOKUP($N12&$O12,'FFV Waste'!$A:$A&'FFV Waste'!$B:$B,'FFV Waste'!D:D,\"\",0)","v":18248.163159657146},{"$f":"_xlfn.XLOOKUP($N12&$O12,'FFV Waste'!$A:$A&'FFV Waste'!$B:$B,'FFV Waste'!E:E,\"\",0)","v":729.9265263862859},{"$f":"_xlfn.XLOOKUP($N12&$O12,'FFV Waste'!$A:$A&'FFV Waste'!$B:$B,'FFV Waste'!F:F,\"\",0)","v":15591.230603611064},{"$f":"_xlfn.XLOOKUP($N12&$O12,'FFV Waste'!$A:$A&'FFV Waste'!$B:$B,'FFV Waste'!G:G,\"\",0)","v":4446.0992604630883},{"$f":"_xlfn.XLOOKUP($N12&$O12,'FFV Waste'!$A:$A&'FFV Waste'!$B:$B,'FFV Waste'!H:H,\"\",0)","v":1927.0060296597949},{"$f":"_xlfn.XLOOKUP($N12&$O12,'FFV Waste'!$A:$A&'FFV Waste'!$B:$B,'FFV Waste'!I:I,\"\",0)","v":657.10905611399005},{"$f":"_xlfn.XLOOKUP($N12&$O12,'FFV Waste'!$A:$A&'FFV Waste'!$B:$B,'FFV Waste'!J:J,\"\",0)","v":7207.1248429633642},null,"Croatia","Peppers",7207.1248429633642,{"$f":"_xlfn.XLOOKUP(Y12&Z12,'FFV Waste'!$L:$L&'FFV Waste'!$M:$M,'FFV Waste'!$U:$U,,0)","v":5886.0454213873536},{"$f":"_xlfn.XLOOKUP(Y12&Z12,'FFV Waste'!$W:$W&'FFV Waste'!$X:$X,'FFV Waste'!$AF:$AF,,0)","v":7690.7394584943513},6788.3924399408525,1321.0794215760106,483.61461553098707,null,null,"Food Supply","","","","",{"$f":"_xlfn.XLOOKUP(AH11,N$9:N$39,Q$9:Q$39,\"\",0)+AJ11","v":43247.015645356732},"",""]
[{"$nulls":13},"Cyprus","Peppers",{"$f":"_xlfn.XLOOKUP($N13&$O13,'FFV Waste'!$A:$A&'FFV Waste'!$B:$B,'FFV Waste'!C:C,\"\",0)","v":282.83999999999997},{"$f":"_xlfn.XLOOKUP($N13&$O13,'FFV Waste'!$A:$A&'FFV Waste'!$B:$B,'FFV Waste'!D:D,\"\",0)","v":1732.7973215187374},{"$f":"_xlfn.XLOOKUP($N13&$O13,'FFV Waste'!$A:$A&'FFV Waste'!$B:$B,'FFV Waste'!E:E,\"\",0)","v":69.311892860749495},{"$f":"_xlfn.XLOOKUP($N13&$O13,'FFV Waste'!$A:$A&'FFV Waste'!$B:$B,'FFV Waste'!F:F,\"\",0)","v":1480.5020315056092},{"$f":"_xlfn.XLOOKUP($N13&$O13,'FFV Waste'!$A:$A&'FFV Waste'!$B:$B,'FFV Waste'!G:G,\"\",0)","v":422.18982931768289},{"$f":"_xlfn.XLOOKUP($N13&$O13,'FFV Waste'!$A:$A&'FFV Waste'!$B:$B,'FFV Waste'!H:H,\"\",0)","v":182.98339715237853},{"$f":"_xlfn.XLOOKUP($N13&$O13,'FFV Waste'!$A:$A&'FFV Waste'!$B:$B,'FFV Waste'!I:I,\"\",0)","v":62.397338428961085},{"$f":"_xlfn.XLOOKUP($N13&$O13,'FFV Waste'!$A:$A&'FFV Waste'!$B:$B,'FFV Waste'!J:J,\"\",0)","v":836.73906060739341},null,"Cyprus","Peppers",836.73906060739341,{"$f":"_xlfn.XLOOKUP(Y13&Z13,'FFV Waste'!$L:$L&'FFV Waste'!$M:$M,'FFV Waste'!$U:$U,,0)","v":711.29285195658008},{"$f":"_xlfn.XLOOKUP(Y13&Z13,'FFV Waste'!$W:$W&'FFV Waste'!$X:$X,'FFV Waste'!$AF:$AF,,0)","v":1013.132282986572},862.21256747157599,125.44620865081333,176.39322237917861,null,"Bulgaria","Food Waste",5198.4540400371397,2455.8344000000002,14958.880263904,2210.8403602560006,null,4444.7655638719953,1051.4480412108605]
[{"$nulls":13},"Czechia","Peppers",{"$f":"_xlfn.XLOOKUP($N14&$O14,'FFV Waste'!$A:$A&'FFV Waste'!$B:$B,'FFV Waste'!C:C,\"\",0)","v":238.09},{"$f":"_xlfn.XLOOKUP($N14&$O14,'FFV Waste'!$A:$A&'FFV Waste'!$B:$B,'FFV Waste'!D:D,\"\",0)","v":39801.030093800095},{"$f":"_xlfn.XLOOKUP($N14&$O14,'FFV Waste'!$A:$A&'FFV Waste'!$B:$B,'FFV Waste'!E:E,\"\",0)","v":1592.0412037520039},{"$f":"_xlfn.XLOOKUP($N14&$O14,'FFV Waste'!$A:$A&'FFV Waste'!$B:$B,'FFV Waste'!F:F,\"\",0)","v":34006.000112142799},{"$f":"_xlfn.XLOOKUP($N14&$O14,'FFV Waste'!$A:$A&'FFV Waste'!$B:$B,'FFV Waste'!G:G,\"\",0)","v":9697.3776986460562},{"$f":"_xlfn.XLOOKUP($N14&$O14,'FFV Waste'!$A:$A&'FFV Waste'!$B:$B,'FFV Waste'!H:H,\"\",0)","v":4202.9887779052879},{"$f":"_xlfn.XLOOKUP($N14&$O14,'FFV Waste'!$A:$A&'FFV Waste'!$B:$B,'FFV Waste'!I:I,\"\",0)","v":1433.2191732657034},{"$f":"_xlfn.XLOOKUP($N14&$O14,'FFV Waste'!$A:$A&'FFV Waste'!$B:$B,'FFV Waste'!J:J,\"\",0)","v":12960.728075663763},null,"Czechia","Peppers",12960.728075663763,{"$f":"_xlfn.XLOOKUP(Y14&Z14,'FFV Waste'!$L:$L&'FFV Waste'!$M:$M,'FFV Waste'!$U:$U,,0)","v":10079.324541817088},{"$f":"_xlfn.XLOOKUP(Y14&Z14,'FFV Waste'!$W:$W&'FFV Waste'!$X:$X,'FFV Waste'!$AF:$AF,,0)","v":16774.255575916311},13426.7900588667,2881.4035338466747,3813.5275002525486,null,null,"Food Supply","","","","",{"$f":"_xlfn.XLOOKUP(AH13,N$9:N$39,Q$9:Q$39,\"\",0)+AJ13","v":66594.314040037134},"",""]
[{"$nulls":13},"Denmark","Peppers",{"$f":"_xlfn.XLOOKUP($N15&$O15,'FFV Waste'!$A:$A&'FFV Waste'!$B:$B,'FFV Waste'!C:C,\"\",0)","v":664.09},{"$f":"_xlfn.XLOOKUP($N15&$O15,'FFV Waste'!$A:$A&'FFV Waste'!$B:$B,'FFV Waste'!D:D,\"\",0)","v":14762.881569981624},{"$f":"_xlfn.XLOOKUP($N15&$O15,'FFV Waste'!$A:$A&'FFV Waste'!$B:$B,'FFV Waste'!E:E,\"\",0)","v":590.51526279926497},{"$f":"_xlfn.XLOOKUP($N15&$O15,'FFV Waste'!$A:$A&'FFV Waste'!$B:$B,'FFV Waste'!F:F,\"\",0)","v":12613.406013392299},{"$f":"_xlfn.XLOOKUP($N15&$O15,'FFV Waste'!$A:$A&'FFV Waste'!$B:$B,'FFV Waste'!G:G,\"\",0)","v":4603.8931948881891},{"$f":"_xlfn.XLOOKUP($N15&$O15,'FFV Waste'!$A:$A&'FFV Waste'!$B:$B,'FFV Waste'!H:H,\"\",0)","v":1558.9602937900599},{"$f":"_xlfn.XLOOKUP($N15&$O15,'FFV Waste'!$A:$A&'FFV Waste'!$B:$B,'FFV Waste'!I:I,\"\",0)","v":531.60546018241052},{"$f":"_xlfn.XLOOKUP($N15&$O15,'FFV Waste'!$A:$A&'FFV Waste'!$B:$B,'FFV Waste'!J:J,\"\",0)","v":6390.1039178698647},null,"Denmark","Peppers",6390.1039178698647,{"$f":"_xlfn.XLOOKUP(Y15&Z15,'FFV Waste'!$L:$L&'FFV Waste'!$M:$M,'FFV Waste'!$U:$U,,0)","v":4314.3719072989124},{"$f":"_xlfn.XLOOKUP(Y15&Z15,'FFV Waste'!$W:$W&'FFV Waste'!$X:$X,'FFV Waste'!$AF:$AF,,0)","v":6885.9477737371508},5600.1598405180321,2075.7320105709523,495.84385586728604,null,"Croatia","Food Waste",1373.99,729.9265263862859,4446.0992604630883,657.10905611399005,null,1321.0794215760106,483.61461553098707]
[{"$nulls":13},"Estonia","Peppers",{"$f":"_xlfn.XLOOKUP($N16&$O16,'FFV Waste'!$A:$A&'FFV Waste'!$B:$B,'FFV Waste'!C:C,\"\",0)","v":{"$error":"#N/A"}},{"$f":"_xlfn.XLOOKUP($N16&$O16,'FFV Waste'!$A:$A&'FFV Waste'!$B:$B,'FFV Waste'!D:D,\"\",0)","v":2857.5916623370099},{"$f":"_xlfn.XLOOKUP($N16&$O16,'FFV Waste'!$A:$A&'FFV Waste'!$B:$B,'FFV Waste'!E:E,\"\",0)","v":114.30366649348039},{"$f":"_xlfn.XLOOKUP($N16&$O16,'FFV Waste'!$A:$A&'FFV Waste'!$B:$B,'FFV Waste'!F:F,\"\",0)","v":2441.5263163007412},{"$f":"_xlfn.XLOOKUP($N16&$O16,'FFV Waste'!$A:$A&'FFV Waste'!$B:$B,'FFV Waste'!G:G,\"\",0)","v":696.24192119842803},{"$f":"_xlfn.XLOOKUP($N16&$O16,'FFV Waste'!$A:$A&'FFV Waste'!$B:$B,'FFV Waste'!H:H,\"\",0)","v":301.76167954278844},{"$f":"_xlfn.XLOOKUP($N16&$O16,'FFV Waste'!$A:$A&'FFV Waste'!$B:$B,'FFV Waste'!I:I,\"\",0)","v":102.90073272409087},{"$f":"_xlfn.XLOOKUP($N16&$O16,'FFV Waste'!$A:$A&'FFV Waste'!$B:$B,'FFV Waste'!J:J,\"\",0)","v":913.44632041599925},null,"Estonia","Peppers",913.44632041599925,{"$f":"_xlfn.XLOOKUP(Y16&Z16,'FFV Waste'!$L:$L&'FFV Waste'!$M:$M,'FFV Waste'!$U:$U,,0)","v":706.57040050277897},{"$f":"_xlfn.XLOOKUP(Y16&Z16,'FFV Waste'!$W:$W&'FFV Waste'!$X:$X,'FFV Waste'!$AF:$AF,,0)","v":1204.3400073485873},955.45520392568312,206.87591991322029,290.89368693258803,null,null,"Food Supply","","","","",{"$f":"_xlfn.XLOOKUP(AH15,N$9:N$39,Q$9:Q$39,\"\",0)+AJ15","v":19622.153159657148},"",""]
[{"$nulls":13},"Finland","Peppers",{"$f":"_xlfn.XLOOKUP($N17&$O17,'FFV Waste'!$A:$A&'FFV Waste'!$B:$B,'FFV Waste'!C:C,\"\",0)","v":1657.39},{"$f":"_xlfn.XLOOKUP($N17&$O17,'FFV Waste'!$A:$A&'FFV Waste'!$B:$B,'FFV Waste'!D:D,\"\",0)","v":10733.473247924843},{"$f":"_xlfn.XLOOKUP($N17&$O17,'FFV Waste'!$A:$A&'FFV Waste'!$B:$B,'FFV Waste'!E:E,\"\",0)","v":429.33892991699372},{"$f":"_xlfn.XLOOKUP($N17&$O17,'FFV Waste'!$A:$A&'FFV Waste'!$B:$B,'FFV Waste'!F:F,\"\",0)","v":9170.6795430269867},{"$f":"_xlfn.XLOOKUP($N17&$O17,'FFV Waste'!$A:$A&'FFV Waste'!$B:$B,'FFV Waste'!G:G,\"\",0)","v":2219.3044494125306},{"$f":"_xlfn.XLOOKUP($N17&$O17,'FFV Waste'!$A:$A&'FFV Waste'!$B:$B,'FFV Waste'!H:H,\"\",0)","v":1133.4547749808626},{"$f":"_xlfn.XLOOKUP($N17&$O17,'FFV Waste'!$A:$A&'FFV Waste'!$B:$B,'FFV Waste'!I:I,\"\",0)","v":386.50807826847415},{"$f":"_xlfn.XLOOKUP($N17&$O17,'FFV Waste'!$A:$A&'FFV Waste'!$B:$B,'FFV Waste'!J:J,\"\",0)","v":4692.5414575979994},null,"Finland","Peppers",4692.5414575979994,{"$f":"_xlfn.XLOOKUP(Y17&Z17,'FFV Waste'!$L:$L&'FFV Waste'!$M:$M,'FFV Waste'!$U:$U,,0)","v":4311.3571820604957},{"$f":"_xlfn.XLOOKUP(Y17&Z17,'FFV Waste'!$W:$W&'FFV Waste'!$X:$X,'FFV Waste'!$AF:$AF,,0)","v":6181.042354063019},5246.1997680617569,381.18427553750371,1488.5008964650197,null,"Cyprus","Food Waste",282.83999999999997,69.311892860749495,422.18982931768289,62.397338428961085,null,125.44620865081333,176.39322237917861]
[{"$nulls":13},"France","Peppers",{"$f":"_xlfn.XLOOKUP($N18&$O18,'FFV Waste'!$A:$A&'FFV Waste'!$B:$B,'FFV Waste'!C:C,\"\",0)","v":32239.74},{"$f":"_xlfn.XLOOKUP($N18&$O18,'FFV Waste'!$A:$A&'FFV Waste'!$B:$B,'FFV Waste'!D:D,\"\",0)","v":94411.163911314216},{"$f":"_xlfn.XLOOKUP($N18&$O18,'FFV Waste'!$A:$A&'FFV Waste'!$B:$B,'FFV Waste'!E:E,\"\",0)","v":3776.4465564525685},{"$f":"_xlfn.XLOOKUP($N18&$O18,'FFV Waste'!$A:$A&'FFV Waste'!$B:$B,'FFV Waste'!F:F,\"\",0)","v":80664.898445826868},{"$f":"_xlfn.XLOOKUP($N18&$O18,'FFV Waste'!$A:$A&'FFV Waste'!$B:$B,'FFV Waste'!G:G,\"\",0)","v":23002.940206801628},{"$f":"_xlfn.XLOOKUP($N18&$O18,'FFV Waste'!$A:$A&'FFV Waste'!$B:$B,'FFV Waste'!H:H,\"\",0)","v":9969.8189090347732},{"$f":"_xlfn.XLOOKUP($N18&$O18,'FFV Waste'!$A:$A&'FFV Waste'!$B:$B,'FFV Waste'!I:I,\"\",0)","v":3399.7082479808578},{"$f":"_xlfn.XLOOKUP($N18&$O18,'FFV Waste'!$A:$A&'FFV Waste'!$B:$B,'FFV Waste'!J:J,\"\",0)","v":62418.83501123506},null,"France","Peppers",62418.83501123506,{"$f":"_xlfn.XLOOKUP(Y18&Z18,'FFV Waste'!$L:$L&'FFV Waste'!$M:$M,'FFV Waste'!$U:$U,,0)","v":55583.919917642692},{"$f":"_xlfn.XLOOKUP(Y18&Z18,'FFV Waste'!$W:$W&'FFV Waste'!$X:$X,'FFV Waste'!$AF:$AF,,0)","v":72029.589381682323},63806.754649662507,6834.9150935923681,9610.7543704472628,null,null,"Food Supply","","","","",{"$f":"_xlfn.XLOOKUP(AH17,N$9:N$39,Q$9:Q$39,\"\",0)+AJ17","v":2015.6373215187373},"",""]
[{"$nulls":13},"Germany","Peppers",{"$f":"_xlfn.XLOOKUP($N19&$O19,'FFV Waste'!$A:$A&'FFV Waste'!$B:$B,'FFV Waste'!C:C,\"\",0)","v":42065.61},{"$f":"_xlfn.XLOOKUP($N19&$O19,'FFV Waste'!$A:$A&'FFV Waste'!$B:$B,'FFV Waste'!D:D,\"\",0)","v":261352.76613262828},{"$f":"_xlfn.XLOOKUP($N19&$O19,'FFV Waste'!$A:$A&'FFV Waste'!$B:$B,'FFV Waste'!E:E,\"\",0)","v":10454.110645305131},{"$f":"_xlfn.XLOOKUP($N19&$O19,'FFV Waste'!$A:$A&'FFV Waste'!$B:$B,'FFV Waste'!F:F,\"\",0)","v":223299.8033837176},{"$f":"_xlfn.XLOOKUP($N19&$O19,'FFV Waste'!$A:$A&'FFV Waste'!$B:$B,'FFV Waste'!G:G,\"\",0)","v":64310.343374510667},{"$f":"_xlfn.XLOOKUP($N19&$O19,'FFV Waste'!$A:$A&'FFV Waste'!$B:$B,'FFV Waste'!H:H,\"\",0)","v":27598.852103605546},{"$f":"_xlfn.XLOOKUP($N19&$O19,'FFV Waste'!$A:$A&'FFV Waste'!$B:$B,'FFV Waste'!I:I,\"\",0)","v":9411.2085673294914},{"$f":"_xlfn.XLOOKUP($N19&$O19,'FFV Waste'!$A:$A&'FFV Waste'!$B:$B,'FFV Waste'!J:J,\"\",0)","v":126241.27258714529},null,"Germany","Peppers",126241.27258714529,{"$f":"_xlfn.XLOOKUP(Y19&Z19,'FFV Waste'!$L:$L&'FFV Waste'!$M:$M,'FFV Waste'!$U:$U,,0)","v":106687.90403616658},{"$f":"_xlfn.XLOOKUP(Y19&Z19,'FFV Waste'!$W:$W&'FFV Waste'!$X:$X,'FFV Waste'!$AF:$AF,,0)","v":152213.46507434134},129450.68455525396,19553.368550978703,25972.192487196051,null,"Czechia","Food Waste",238.09,1592.0412037520039,9697.3776986460562,1433.2191732657034,null,2881.4035338466747,3813.5275002525486]
[{"$nulls":13},"Greece","Peppers",{"$f":"_xlfn.XLOOKUP($N20&$O20,'FFV Waste'!$A:$A&'FFV Waste'!$B:$B,'FFV Waste'!C:C,\"\",0)","v":13416.61},{"$f":"_xlfn.XLOOKUP($N20&$O20,'FFV Waste'!$A:$A&'FFV Waste'!$B:$B,'FFV Waste'!D:D,\"\",0)","v":80352.946716199876},{"$f":"_xlfn.XLOOKUP($N20&$O20,'FFV Waste'!$A:$A&'FFV Waste'!$B:$B,'FFV Waste'!E:E,\"\",0)","v":3214.1178686479952},{"$f":"_xlfn.XLOOKUP($N20&$O20,'FFV Waste'!$A:$A&'FFV Waste'!$B:$B,'FFV Waste'!F:F,\"\",0)","v":68653.557674321171},{"$f":"_xlfn.XLOOKUP($N20&$O20,'FFV Waste'!$A:$A&'FFV Waste'!$B:$B,'FFV Waste'!G:G,\"\",0)","v":19577.706196793923},{"$f":"_xlfn.XLOOKUP($N20&$O20,'FFV Waste'!$A:$A&'FFV Waste'!$B:$B,'FFV Waste'!H:H,\"\",0)","v":8485.2711732307071},{"$f":"_xlfn.XLOOKUP($N20&$O20,'FFV Waste'!$A:$A&'FFV Waste'!$B:$B,'FFV Waste'!I:I,\"\",0)","v":2893.4774700716712},{"$f":"_xlfn.XLOOKUP($N20&$O20,'FFV Waste'!$A:$A&'FFV Waste'!$B:$B,'FFV Waste'!J:J,\"\",0)","v":39101.911535513595},null,"Greece","Peppers",39101.911535513595,{"$f":"_xlfn.XLOOKUP(Y20&Z20,'FFV Waste'!$L:$L&'FFV Waste'!$M:$M,'FFV Waste'!$U:$U,,0)","v":33284.743887404955},{"$f":"_xlfn.XLOOKUP(Y20&Z20,'FFV Waste'!$W:$W&'FFV Waste'!$X:$X,'FFV Waste'!$AF:$AF,,0)","v":47281.584381793247},40283.164134599101,5817.1676481086397,8179.6728462796527,null,null,"Food Supply","","","","",{"$f":"_xlfn.XLOOKUP(AH19,N$9:N$39,Q$9:Q$39,\"\",0)+AJ19","v":40039.120093800091},"",""]
[{"$nulls":13},"Hungary","Peppers",{"$f":"_xlfn.XLOOKUP($N21&$O21,'FFV Waste'!$A:$A&'FFV Waste'!$B:$B,'FFV Waste'!C:C,\"\",0)","v":2211.3331753591506},{"$f":"_xlfn.XLOOKUP($N21&$O21,'FFV Waste'!$A:$A&'FFV Waste'!$B:$B,'FFV Waste'!D:D,\"\",0)","v":43753.59},{"$f":"_xlfn.XLOOKUP($N21&$O21,'FFV Waste'!$A:$A&'FFV Waste'!$B:$B,'FFV Waste'!E:E,\"\",0)","v":1750.1435999999999},{"$f":"_xlfn.XLOOKUP($N21&$O21,'FFV Waste'!$A:$A&'FFV Waste'!$B:$B,'FFV Waste'!F:F,\"\",0)","v":37383.067295999994},{"$f":"_xlfn.XLOOKUP($N21&$O21,'FFV Waste'!$A:$A&'FFV Waste'!$B:$B,'FFV Waste'!G:G,\"\",0)","v":10660.404690575999},{"$f":"_xlfn.XLOOKUP($N21&$O21,'FFV Waste'!$A:$A&'FFV Waste'!$B:$B,'FFV Waste'!H:H,\"\",0)","v":4620.3791039999996},{"$f":"_xlfn.XLOOKUP($N21&$O21,'FFV Waste'!$A:$A&'FFV Waste'!$B:$B,'FFV Waste'!I:I,\"\",0)","v":1575.5492744640001},{"$f":"_xlfn.XLOOKUP($N21&$O21,'FFV Waste'!$A:$A&'FFV Waste'!$B:$B,'FFV Waste'!J:J,\"\",0)","v":16197.430740399148},null,"Hungary","Peppers",16197.430740399148,{"$f":"_xlfn.XLOOKUP(Y21&Z21,'FFV Waste'!$L:$L&'FFV Waste'!$M:$M,'FFV Waste'!$U:$U,,0)","v":13029.880841631149},{"$f":"_xlfn.XLOOKUP(Y21&Z21,'FFV Waste'!$W:$W&'FFV Waste'!$X:$X,'FFV Waste'!$AF:$AF,,0)","v":18440.073015551996},15734.976928591572,3167.5498987679985,2242.642275152848,null,"Denmark","Food Waste",664.09,590.51526279926497,4603.8931948881891,531.60546018241052,null,2075.7320105709523,495.84385586728604]
[{"$nulls":13},"Iceland","Peppers",{"$f":"_xlfn.XLOOKUP($N22&$O22,'FFV Waste'!$A:$A&'FFV Waste'!$B:$B,'FFV Waste'!C:C,\"\",0)","v":{"$error":"#N/A"}},{"$f":"_xlfn.XLOOKUP($N22&$O22,'FFV Waste'!$A:$A&'FFV Waste'!$B:$B,'FFV Waste'!D:D,\"\",0)","v":1142.9530440702849},{"$f":"_xlfn.XLOOKUP($N22&$O22,'FFV Waste'!$A:$A&'FFV Waste'!$B:$B,'FFV Waste'!E:E,\"\",0)","v":45.7181217628114},{"$f":"_xlfn.XLOOKUP($N22&$O22,'FFV Waste'!$A:$A&'FFV Waste'!$B:$B,'FFV Waste'!F:F,\"\",0)","v":976.5390808536514},{"$f":"_xlfn.XLOOKUP($N22&$O22,'FFV Waste'!$A:$A&'FFV Waste'!$B:$B,'FFV Waste'!G:G,\"\",0)","v":278.47639455676625},{"$f":"_xlfn.XLOOKUP($N22&$O22,'FFV Waste'!$A:$A&'FFV Waste'!$B:$B,'FFV Waste'!H:H,\"\",0)","v":120.69584145382203},{"$f":"_xlfn.XLOOKUP($N22&$O22,'FFV Waste'!$A:$A&'FFV Waste'!$B:$B,'FFV Waste'!I:I,\"\",0)","v":41.157281935753318},{"$f":"_xlfn.XLOOKUP($N22&$O22,'FFV Waste'!$A:$A&'FFV Waste'!$B:$B,'FFV Waste'!J:J,\"\",0)","v":365.35179825533095},null,"Iceland","Peppers",365.35179825533095,{"$f":"_xlfn.XLOOKUP(Y22&Z22,'FFV Waste'!$L:$L&'FFV Waste'!$M:$M,'FFV Waste'!$U:$U,,0)","v":282.6074840392539},{"$f":"_xlfn.XLOOKUP(Y22&Z22,'FFV Waste'!$W:$W&'FFV Waste'!$X:$X,'FFV Waste'!$AF:$AF,,0)","v":481.70076069194494},382.15412236559939,82.744314216077044,116.34896243661399,null,null,"Food Supply","","","","",{"$f":"_xlfn.XLOOKUP(AH21,N$9:N$39,Q$9:Q$39,\"\",0)+AJ21","v":15426.971569981624},"",""]
[{"$nulls":13},"Ireland","Peppers",{"$f":"_xlfn.XLOOKUP($N23&$O23,'FFV Waste'!$A:$A&'FFV Waste'!$B:$B,'FFV Waste'!C:C,\"\",0)","v":2294.7800000000002},{"$f":"_xlfn.XLOOKUP($N23&$O23,'FFV Waste'!$A:$A&'FFV Waste'!$B:$B,'FFV Waste'!D:D,\"\",0)","v":14613.250683359147},{"$f":"_xlfn.XLOOKUP($N23&$O23,'FFV Waste'!$A:$A&'FFV Waste'!$B:$B,'FFV Waste'!E:E,\"\",0)","v":584.53002733436585},{"$f":"_xlfn.XLOOKUP($N23&$O23,'FFV Waste'!$A:$A&'FFV Waste'!$B:$B,'FFV Waste'!F:F,\"\",0)","v":12485.561383862056},{"$f":"_xlfn.XLOOKUP($N23&$O23,'FFV Waste'!$A:$A&'FFV Waste'!$B:$B,'FFV Waste'!G:G,\"\",0)","v":3560.4659212979964},{"$f":"_xlfn.XLOOKUP($N23&$O23,'FFV Waste'!$A:$A&'FFV Waste'!$B:$B,'FFV Waste'!H:H,\"\",0)","v":1543.1592721627258},{"$f":"_xlfn.XLOOKUP($N23&$O23,'FFV Waste'!$A:$A&'FFV Waste'!$B:$B,'FFV Waste'!I:I,\"\",0)","v":526.21731180748952},{"$f":"_xlfn.XLOOKUP($N23&$O23,'FFV Waste'!$A:$A&'FFV Waste'!$B:$B,'FFV Waste'!J:J,\"\",0)","v":6965.9932604398527},null,"Ireland","Peppers",6965.9932604398527,{"$f":"_xlfn.XLOOKUP(Y23&Z23,'FFV Waste'!$L:$L&'FFV Waste'!$M:$M,'FFV Waste'!$U:$U,,0)","v":5908.0640545679289},{"$f":"_xlfn.XLOOKUP(Y23&Z23,'FFV Waste'!$W:$W&'FFV Waste'!$X:$X,'FFV Waste'!$AF:$AF,,0)","v":8453.5754176036262},7180.8197360857775,1057.9292058719238,1487.5821571637734,null,"Estonia","Food Waste",null,114.30366649348039,696.24192119842803,102.90073272409087,null,206.87591991322029,290.89368693258803]
[{"$nulls":13},"Italy","Peppers",{"$f":"_xlfn.XLOOKUP($N24&$O24,'FFV Waste'!$A:$A&'FFV Waste'!$B:$B,'FFV Waste'!C:C,\"\",0)","v":38841.94},{"$f":"_xlfn.XLOOKUP($N24&$O24,'FFV Waste'!$A:$A&'FFV Waste'!$B:$B,'FFV Waste'!D:D,\"\",0)","v":196005.90794564638},{"$f":"_xlfn.XLOOKUP($N24&$O24,'FFV Waste'!$A:$A&'FFV Waste'!$B:$B,'FFV Waste'!E:E,\"\",0)","v":7840.2363178258556},{"$f":"_xlfn.XLOOKUP($N24&$O24,'FFV Waste'!$A:$A&'FFV Waste'!$B:$B,'FFV Waste'!F:F,\"\",0)","v":167467.44774876029},{"$f":"_xlfn.XLOOKUP($N24&$O24,'FFV Waste'!$A:$A&'FFV Waste'!$B:$B,'FFV Waste'!G:G,\"\",0)","v":47756.133849688144},{"$f":"_xlfn.XLOOKUP($N24&$O24,'FFV Waste'!$A:$A&'FFV Waste'!$B:$B,'FFV Waste'!H:H,\"\",0)","v":20698.223879060242},{"$f":"_xlfn.XLOOKUP($N24&$O24,'FFV Waste'!$A:$A&'FFV Waste'!$B:$B,'FFV Waste'!I:I,\"\",0)","v":7058.094342759543},{"$f":"_xlfn.XLOOKUP($N24&$O24,'FFV Waste'!$A:$A&'FFV Waste'!$B:$B,'FFV Waste'!J:J,\"\",0)","v":101496.40451027354},null,"Italy","Peppers",101496.40451027354,{"$f":"_xlfn.XLOOKUP(Y24&Z24,'FFV Waste'!$L:$L&'FFV Waste'!$M:$M,'FFV Waste'!$U:$U,,0)","v":87306.517603366883},{"$f":"_xlfn.XLOOKUP(Y24&Z24,'FFV Waste'!$W:$W&'FFV Waste'!$X:$X,'FFV Waste'!$AF:$AF,,0)","v":82607.238720234905},84956.878161800894,14189.886906906657,0,null,null,"Food Supply",{"$f":"_xlfn.XLOOKUP($AH24,$N$9:$N$39,P$9:P$39,\"\",0)","v":""},"","","",{"$f":"_xlfn.XLOOKUP(AH23,N$9:N$39,Q$9:Q$39,\"\",0)+AJ23","v":2857.5916623370099},"",""]
[{"$nulls":13},"Latvia","Peppers",{"$f":"_xlfn.XLOOKUP($N25&$O25,'FFV Waste'!$A:$A&'FFV Waste'!$B:$B,'FFV Waste'!C:C,\"\",0)","v":{"$error":"#N/A"}},{"$f":"_xlfn.XLOOKUP($N25&$O25,'FFV Waste'!$A:$A&'FFV Waste'!$B:$B,'FFV Waste'!D:D,\"\",0)","v":3639.8360151313159},{"$f":"_xlfn.XLOOKUP($N25&$O25,'FFV Waste'!$A:$A&'FFV Waste'!$B:$B,'FFV Waste'!E:E,\"\",0)","v":145.59344060525265},{"$f":"_xlfn.XLOOKUP($N25&$O25,'FFV Waste'!$A:$A&'FFV Waste'!$B:$B,'FFV Waste'!F:F,\"\",0)","v":3109.8758913281963},{"$f":"_xlfn.XLOOKUP($N25&$O25,'FFV Waste'!$A:$A&'FFV Waste'!$B:$B,'FFV Waste'!G:G,\"\",0)","v":886.83294167709073},{"$f":"_xlfn.XLOOKUP($N25&$O25,'FFV Waste'!$A:$A&'FFV Waste'!$B:$B,'FFV Waste'!H:H,\"\",0)","v":384.36668319786713},{"$f":"_xlfn.XLOOKUP($N25&$O25,'FFV Waste'!$A:$A&'FFV Waste'!$B:$B,'FFV Waste'!I:I,\"\",0)","v":131.06903897047269},{"$f":"_xlfn.XLOOKUP($N25&$O25,'FFV Waste'!$A:$A&'FFV Waste'!$B:$B,'FFV Waste'!J:J,\"\",0)","v":1163.4954212528162},null,"Latvia","Peppers",1163.4954212528162,{"$f":"_xlfn.XLOOKUP(Y25&Z25,'FFV Waste'!$L:$L&'FFV Waste'!$M:$M,'FFV Waste'!$U:$U,,0)","v":899.98876497018136},{"$f":"_xlfn.XLOOKUP(Y25&Z25,'FFV Waste'!$W:$W&'FFV Waste'!$X:$X,'FFV Waste'!$AF:$AF,,0)","v":1534.0190801179356},1217.0039225440585,263.50665628263482,370.52365886511939,null,"Finland","Food Waste",1657.39,429.33892991699372,2219.3044494125306,386.50807826847415,null,381.18427553750371,1488.5008964650197]
[{"$nulls":13},"Lithuania","Peppers",{"$f":"_xlfn.XLOOKUP($N26&$O26,'FFV Waste'!$A:$A&'FFV Waste'!$B:$B,'FFV Waste'!C:C,\"\",0)","v":{"$error":"#N/A"}},{"$f":"_xlfn.XLOOKUP($N26&$O26,'FFV Waste'!$A:$A&'FFV Waste'!$B:$B,'FFV Waste'!D:D,\"\",0)","v":4371.5041622820672},{"$f":"_xlfn.XLOOKUP($N26&$O26,'FFV Waste'!$A:$A&'FFV Waste'!$B:$B,'FFV Waste'!E:E,\"\",0)","v":174.86016649128268},{"$f":"_xlfn.XLOOKUP($N26&$O26,'FFV Waste'!$A:$A&'FFV Waste'!$B:$B,'FFV Waste'!F:F,\"\",0)","v":3735.0131562537981},{"$f":"_xlfn.XLOOKUP($N26&$O26,'FFV Waste'!$A:$A&'FFV Waste'!$B:$B,'FFV Waste'!G:G,\"\",0)","v":1065.1012517250415},{"$f":"_xlfn.XLOOKUP($N26&$O26,'FFV Waste'!$A:$A&'FFV Waste'!$B:$B,'FFV Waste'!H:H,\"\",0)","v":461.63083953698606},{"$f":"_xlfn.XLOOKUP($N26&$O26,'FFV Waste'!$A:$A&'FFV Waste'!$B:$B,'FFV Waste'!I:I,\"\",0)","v":157.41611628211226},{"$f":"_xlfn.XLOOKUP($N26&$O26,'FFV Waste'!$A:$A&'FFV Waste'!$B:$B,'FFV Waste'!J:J,\"\",0)","v":1397.3775344984363},null,"Lithuania","Peppers",1397.3775344984363,{"$f":"_xlfn.XLOOKUP(Y26&Z26,'FFV Waste'!$L:$L&'FFV Waste'!$M:$M,'FFV Waste'!$U:$U,,0)","v":1080.9016163691938},{"$f":"_xlfn.XLOOKUP(Y26&Z26,'FFV Waste'!$W:$W&'FFV Waste'!$X:$X,'FFV Waste'!$AF:$AF,,0)","v":1842.3826694054314},1461.6421428873127,316.47591812924247,445.00513490699518,null,null,"Food Supply","","","","",{"$f":"_xlfn.XLOOKUP(AH25,N$9:N$39,Q$9:Q$39,\"\",0)+AJ25","v":12390.863247924843},"",""]
[{"$nulls":13},"Luxembourg","Peppers",{"$f":"_xlfn.XLOOKUP($N27&$O27,'FFV Waste'!$A:$A&'FFV Waste'!$B:$B,'FFV Waste'!C:C,\"\",0)","v":83.14},{"$f":"_xlfn.XLOOKUP($N27&$O27,'FFV Waste'!$A:$A&'FFV Waste'!$B:$B,'FFV Waste'!D:D,\"\",0)","v":1278.0800359158466},{"$f":"_xlfn.XLOOKUP($N27&$O27,'FFV Waste'!$A:$A&'FFV Waste'!$B:$B,'FFV Waste'!E:E,\"\",0)","v":51.123201436633863},{"$f":"_xlfn.XLOOKUP($N27&$O27,'FFV Waste'!$A:$A&'FFV Waste'!$B:$B,'FFV Waste'!F:F,\"\",0)","v":1091.9915826864992},{"$f":"_xlfn.XLOOKUP($N27&$O27,'FFV Waste'!$A:$A&'FFV Waste'!$B:$B,'FFV Waste'!G:G,\"\",0)","v":311.39959966276672},{"$f":"_xlfn.XLOOKUP($N27&$O27,'FFV Waste'!$A:$A&'FFV Waste'!$B:$B,'FFV Waste'!H:H,\"\",0)","v":134.96525179271339},{"$f":"_xlfn.XLOOKUP($N27&$O27,'FFV Waste'!$A:$A&'FFV Waste'!$B:$B,'FFV Waste'!I:I,\"\",0)","v":46.023150861315266},{"$f":"_xlfn.XLOOKUP($N27&$O27,'FFV Waste'!$A:$A&'FFV Waste'!$B:$B,'FFV Waste'!J:J,\"\",0)","v":491.68595196071584},null,"Luxembourg","Peppers",491.68595196071584,{"$f":"_xlfn.XLOOKUP(Y27&Z27,'FFV Waste'!$L:$L&'FFV Waste'!$M:$M,'FFV Waste'!$U:$U,,0)","v":399.15909214458094},{"$f":"_xlfn.XLOOKUP(Y27&Z27,'FFV Waste'!$W:$W&'FFV Waste'!$X:$X,'FFV Waste'!$AF:$AF,,0)","v":621.79040976083411},510.4747509527075,92.526859816134902,130.10445780011827,null,"France","Food Waste",32239.74,3776.4465564525685,23002.940206801628,3399.7082479808578,null,6834.9150935923681,9610.7543704472628]
[{"$nulls":13},"Malta","Peppers",{"$f":"_xlfn.XLOOKUP($N28&$O28,'FFV Waste'!$A:$A&'FFV Waste'!$B:$B,'FFV Waste'!C:C,\"\",0)","v":{"$error":"#N/A"}},{"$f":"_xlfn.XLOOKUP($N28&$O28,'FFV Waste'!$A:$A&'FFV Waste'!$B:$B,'FFV Waste'!D:D,\"\",0)","v":610.92250226341207},{"$f":"_xlfn.XLOOKUP($N28&$O28,'FFV Waste'!$A:$A&'FFV Waste'!$B:$B,'FFV Waste'!E:E,\"\",0)","v":24.436900090536483},{"$f":"_xlfn.XLOOKUP($N28&$O28,'FFV Waste'!$A:$A&'FFV Waste'!$B:$B,'FFV Waste'!F:F,\"\",0)","v":521.97218593385924},{"$f":"_xlfn.XLOOKUP($N28&$O28,'FFV Waste'!$A:$A&'FFV Waste'!$B:$B,'FFV Waste'!G:G,\"\",0)","v":148.84906835547221},{"$f":"_xlfn.XLOOKUP($N28&$O28,'FFV Waste'!$A:$A&'FFV Waste'!$B:$B,'FFV Waste'!H:H,\"\",0)","v":64.513416239016351},{"$f":"_xlfn.XLOOKUP($N28&$O28,'FFV Waste'!$A:$A&'FFV Waste'!$B:$B,'FFV Waste'!I:I,\"\",0)","v":21.999074937504577},{"$f":"_xlfn.XLOOKUP($N28&$O28,'FFV Waste'!$A:$A&'FFV Waste'!$B:$B,'FFV Waste'!J:J,\"\",0)","v":195.28504338351328},null,"Malta","Peppers",195.28504338351328,{"$f":"_xlfn.XLOOKUP(Y28&Z28,'FFV Waste'!$L:$L&'FFV Waste'!$M:$M,'FFV Waste'!$U:$U,,0)","v":151.05718664765308},{"$f":"_xlfn.XLOOKUP(Y28&Z28,'FFV Waste'!$W:$W&'FFV Waste'!$X:$X,'FFV Waste'!$AF:$AF,,0)","v":257.47499916192135},204.26609290478723,44.2278567358602,62.189955778408063,null,null,"Food Supply","","","","",{"$f":"_xlfn.XLOOKUP(AH27,N$9:N$39,Q$9:Q$39,\"\",0)+AJ27","v":126650.90391131422},"",""]
[{"$nulls":13},"Netherlands","Peppers",{"$f":"_xlfn.XLOOKUP($N29&$O29,'FFV Waste'!$A:$A&'FFV Waste'!$B:$B,'FFV Waste'!C:C,\"\",0)","v":14383.62},{"$f":"_xlfn.XLOOKUP($N29&$O29,'FFV Waste'!$A:$A&'FFV Waste'!$B:$B,'FFV Waste'!D:D,\"\",0)","v":68080.683761135573},{"$f":"_xlfn.XLOOKUP($N29&$O29,'FFV Waste'!$A:$A&'FFV Waste'!$B:$B,'FFV Waste'!E:E,\"\",0)","v":2723.2273504454229},{"$f":"_xlfn.XLOOKUP($N29&$O29,'FFV Waste'!$A:$A&'FFV Waste'!$B:$B,'FFV Waste'!F:F,\"\",0)","v":58168.136205514238},{"$f":"_xlfn.XLOOKUP($N29&$O29,'FFV Waste'!$A:$A&'FFV Waste'!$B:$B,'FFV Waste'!G:G,\"\",0)","v":20184.34326331344},{"$f":"_xlfn.XLOOKUP($N29&$O29,'FFV Waste'!$A:$A&'FFV Waste'!$B:$B,'FFV Waste'!H:H,\"\",0)","v":7189.3202051759145},{"$f":"_xlfn.XLOOKUP($N29&$O29,'FFV Waste'!$A:$A&'FFV Waste'!$B:$B,'FFV Waste'!I:I,\"\",0)","v":2451.5581899649869},{"$f":"_xlfn.XLOOKUP($N29&$O29,'FFV Waste'!$A:$A&'FFV Waste'!$B:$B,'FFV Waste'!J:J,\"\",0)","v":39742.748803723851},null,"Netherlands","Peppers",39742.748803723851,{"$f":"_xlfn.XLOOKUP(Y29&Z29,'FFV Waste'!$L:$L&'FFV Waste'!$M:$M,'FFV Waste'!$U:$U,,0)","v":31217.304331325395},{"$f":"_xlfn.XLOOKUP(Y29&Z29,'FFV Waste'!$W:$W&'FFV Waste'!$X:$X,'FFV Waste'!$AF:$AF,,0)","v":43076.414797045116},37146.859564185259,8525.4444723984561,3333.665993321265,null,"Germany","Food Waste",42065.61,10454.110645305131,64310.343374510667,9411.2085673294914,null,19553.368550978703,25972.192487196051]
[{"$nulls":13},"Norway","Peppers",{"$f":"_xlfn.XLOOKUP($N30&$O30,'FFV Waste'!$A:$A&'FFV Waste'!$B:$B,'FFV Waste'!C:C,\"\",0)","v":2100.19},{"$f":"_xlfn.XLOOKUP($N30&$O30,'FFV Waste'!$A:$A&'FFV Waste'!$B:$B,'FFV Waste'!D:D,\"\",0)","v":13625.659438608976},{"$f":"_xlfn.XLOOKUP($N30&$O30,'FFV Waste'!$A:$A&'FFV Waste'!$B:$B,'FFV Waste'!E:E,\"\",0)","v":545.02637754435909},{"$f":"_xlfn.XLOOKUP($N30&$O30,'FFV Waste'!$A:$A&'FFV Waste'!$B:$B,'FFV Waste'!F:F,\"\",0)","v":11641.763424347509},{"$f":"_xlfn.XLOOKUP($N30&$O30,'FFV Waste'!$A:$A&'FFV Waste'!$B:$B,'FFV Waste'!G:G,\"\",0)","v":3319.8428698430985},{"$f":"_xlfn.XLOOKUP($N30&$O30,'FFV Waste'!$A:$A&'FFV Waste'!$B:$B,'FFV Waste'!H:H,\"\",0)","v":1438.8696367171087},{"$f":"_xlfn.XLOOKUP($N30&$O30,'FFV Waste'!$A:$A&'FFV Waste'!$B:$B,'FFV Waste'!I:I,\"\",0)","v":490.65454612053412},{"$f":"_xlfn.XLOOKUP($N30&$O30,'FFV Waste'!$A:$A&'FFV Waste'!$B:$B,'FFV Waste'!J:J,\"\",0)","v":6455.7137935079918},null,"Norway","Peppers",6455.7137935079918,{"$f":"_xlfn.XLOOKUP(Y30&Z30,'FFV Waste'!$L:$L&'FFV Waste'!$M:$M,'FFV Waste'!$U:$U,,0)","v":5469.2814533180062},{"$f":"_xlfn.XLOOKUP(Y30&Z30,'FFV Waste'!$W:$W&'FFV Waste'!$X:$X,'FFV Waste'!$AF:$AF,,0)","v":7842.7623222481807},6656.0218877830939,986.43234018998555,1387.0485287401889,null,null,"Food Supply","","","","",{"$f":"_xlfn.XLOOKUP(AH29,N$9:N$39,Q$9:Q$39,\"\",0)+AJ29","v":303418.3761326283},"",""]
[{"$nulls":13},"Poland","Peppers",{"$f":"_xlfn.XLOOKUP($N31&$O31,'FFV Waste'!$A:$A&'FFV Waste'!$B:$B,'FFV Waste'!C:C,\"\",0)","v":16944.848572385865},{"$f":"_xlfn.XLOOKUP($N31&$O31,'FFV Waste'!$A:$A&'FFV Waste'!$B:$B,'FFV Waste'!D:D,\"\",0)","v":115478.31},{"$f":"_xlfn.XLOOKUP($N31&$O31,'FFV Waste'!$A:$A&'FFV Waste'!$B:$B,'FFV Waste'!E:E,\"\",0)","v":4619.1324000000004},{"$f":"_xlfn.XLOOKUP($N31&$O31,'FFV Waste'!$A:$A&'FFV Waste'!$B:$B,'FFV Waste'!F:F,\"\",0)","v":98664.668063999998},{"$f":"_xlfn.XLOOKUP($N31&$O31,'FFV Waste'!$A:$A&'FFV Waste'!$B:$B,'FFV Waste'!G:G,\"\",0)","v":28135.874509584002},{"$f":"_xlfn.XLOOKUP($N31&$O31,'FFV Waste'!$A:$A&'FFV Waste'!$B:$B,'FFV Waste'!H:H,\"\",0)","v":12194.509535999998},{"$f":"_xlfn.XLOOKUP($N31&$O31,'FFV Waste'!$A:$A&'FFV Waste'!$B:$B,'FFV Waste'!I:I,\"\",0)","v":4158.3277517759998},{"$f":"_xlfn.XLOOKUP($N31&$O31,'FFV Waste'!$A:$A&'FFV Waste'!$B:$B,'FFV Waste'!J:J,\"\",0)","v":53858.183233745862},null,"Poland","Peppers",53858.183233745862,{"$f":"_xlfn.XLOOKUP(Y31&Z31,'FFV Waste'!$L:$L&'FFV Waste'!$M:$M,'FFV Waste'!$U:$U,,0)","v":45498.107885633857},{"$f":"_xlfn.XLOOKUP(Y31&Z31,'FFV Waste'!$W:$W&'FFV Waste'!$X:$X,'FFV Waste'!$AF:$AF,,0)","v":65613.50566115386},55555.806773393859,8360.0753481120046,11755.322427407998,null,"Greece","Food Waste",13416.61,3214.1178686479952,19577.706196793923,2893.4774700716712,null,5817.1676481086397,8179.6728462796527]
[{"$nulls":13},"Portugal","Peppers",{"$f":"_xlfn.XLOOKUP($N32&$O32,'FFV Waste'!$A:$A&'FFV Waste'!$B:$B,'FFV Waste'!C:C,\"\",0)","v":134.35226924816536},{"$f":"_xlfn.XLOOKUP($N32&$O32,'FFV Waste'!$A:$A&'FFV Waste'!$B:$B,'FFV Waste'!D:D,\"\",0)","v":48718.75},{"$f":"_xlfn.XLOOKUP($N32&$O32,'FFV Waste'!$A:$A&'FFV Waste'!$B:$B,'FFV Waste'!E:E,\"\",0)","v":1948.75},{"$f":"_xlfn.XLOOKUP($N32&$O32,'FFV Waste'!$A:$A&'FFV Waste'!$B:$B,'FFV Waste'!F:F,\"\",0)","v":41625.300000000003},{"$f":"_xlfn.XLOOKUP($N32&$O32,'FFV Waste'!$A:$A&'FFV Waste'!$B:$B,'FFV Waste'!G:G,\"\",0)","v":11870.148050000002},{"$f":"_xlfn.XLOOKUP($N32&$O32,'FFV Waste'!$A:$A&'FFV Waste'!$B:$B,'FFV Waste'!H:H,\"\",0)","v":5144.6999999999971},{"$f":"_xlfn.XLOOKUP($N32&$O32,'FFV Waste'!$A:$A&'FFV Waste'!$B:$B,'FFV Waste'!I:I,\"\",0)","v":1754.3426999999992},{"$f":"_xlfn.XLOOKUP($N32&$O32,'FFV Waste'!$A:$A&'FFV Waste'!$B:$B,'FFV Waste'!J:J,\"\",0)","v":15707.593019248166},null,"Portugal","Peppers",15707.593019248166,{"$f":"_xlfn.XLOOKUP(Y32&Z32,'FFV Waste'!$L:$L&'FFV Waste'!$M:$M,'FFV Waste'!$U:$U,,0)","v":12180.589369248166},{"$f":"_xlfn.XLOOKUP(Y32&Z32,'FFV Waste'!$W:$W&'FFV Waste'!$X:$X,'FFV Waste'!$AF:$AF,,0)","v":20532.653599999998},16356.621484624082,3527.0036500000006,4825.0605807518314,null,null,"Food Supply","","","","",{"$f":"_xlfn.XLOOKUP(AH31,N$9:N$39,Q$9:Q$39,\"\",0)+AJ31","v":93769.556716199877},"",""]
[{"$nulls":13},"Romania","Peppers",{"$f":"_xlfn.XLOOKUP($N33&$O33,'FFV Waste'!$A:$A&'FFV Waste'!$B:$B,'FFV Waste'!C:C,\"\",0)","v":8554.08},{"$f":"_xlfn.XLOOKUP($N33&$O33,'FFV Waste'!$A:$A&'FFV Waste'!$B:$B,'FFV Waste'!D:D,\"\",0)","v":102249.77654262935},{"$f":"_xlfn.XLOOKUP($N33&$O33,'FFV Waste'!$A:$A&'FFV Waste'!$B:$B,'FFV Waste'!E:E,\"\",0)","v":4089.9910617051742},{"$f":"_xlfn.XLOOKUP($N33&$O33,'FFV Waste'!$A:$A&'FFV Waste'!$B:$B,'FFV Waste'!F:F,\"\",0)","v":87362.209078022512},{"$f":"_xlfn.XLOOKUP($N33&$O33,'FFV Waste'!$A:$A&'FFV Waste'!$B:$B,'FFV Waste'!G:G,\"\",0)","v":24912.789955416087},{"$f":"_xlfn.XLOOKUP($N33&$O33,'FFV Waste'!$A:$A&'FFV Waste'!$B:$B,'FFV Waste'!H:H,\"\",0)","v":10797.576402901657},{"$f":"_xlfn.XLOOKUP($N33&$O33,'FFV Waste'!$A:$A&'FFV Waste'!$B:$B,'FFV Waste'!I:I,\"\",0)","v":3681.9735533894655},{"$f":"_xlfn.XLOOKUP($N33&$O33,'FFV Waste'!$A:$A&'FFV Waste'!$B:$B,'FFV Waste'!J:J,\"\",0)","v":41238.834570510728},null,"Romania","Peppers",41238.834570510728,{"$f":"_xlfn.XLOOKUP(Y33&Z33,'FFV Waste'!$L:$L&'FFV Waste'!$M:$M,'FFV Waste'!$U:$U,,0)","v":33836.441547751769},{"$f":"_xlfn.XLOOKUP(Y33&Z33,'FFV Waste'!$W:$W&'FFV Waste'!$X:$X,'FFV Waste'!$AF:$AF,,0)","v":43093.454623265454},38464.948085508615,7402.393022758959,1854.6200527547262,null,"Hungary","Food Waste",{"$f":"_xlfn.XLOOKUP($AH33,$N$9:$N$39,P$9:P$39,\"\",0)","v":2211.3331753591506},1750.1435999999999,10660.404690575999,1575.5492744640001,null,3167.5498987679985,2242.642275152848]
[{"$nulls":13},"Slovakia","Peppers",{"$f":"_xlfn.XLOOKUP($N34&$O34,'FFV Waste'!$A:$A&'FFV Waste'!$B:$B,'FFV Waste'!C:C,\"\",0)","v":441.29},{"$f":"_xlfn.XLOOKUP($N34&$O34,'FFV Waste'!$A:$A&'FFV Waste'!$B:$B,'FFV Waste'!D:D,\"\",0)","v":16473.209388508491},{"$f":"_xlfn.XLOOKUP($N34&$O34,'FFV Waste'!$A:$A&'FFV Waste'!$B:$B,'FFV Waste'!E:E,\"\",0)","v":658.92837554033963},{"$f":"_xlfn.XLOOKUP($N34&$O34,'FFV Waste'!$A:$A&'FFV Waste'!$B:$B,'FFV Waste'!F:F,\"\",0)","v":14074.710101541656},{"$f":"_xlfn.XLOOKUP($N34&$O34,'FFV Waste'!$A:$A&'FFV Waste'!$B:$B,'FFV Waste'!G:G,\"\",0)","v":4013.6381639562956},{"$f":"_xlfn.XLOOKUP($N34&$O34,'FFV Waste'!$A:$A&'FFV Waste'!$B:$B,'FFV Waste'!H:H,\"\",0)","v":1739.5709114264955},{"$f":"_xlfn.XLOOKUP($N34&$O34,'FFV Waste'!$A:$A&'FFV Waste'!$B:$B,'FFV Waste'!I:I,\"\",0)","v":593.19368079643505},{"$f":"_xlfn.XLOOKUP($N34&$O34,'FFV Waste'!$A:$A&'FFV Waste'!$B:$B,'FFV Waste'!J:J,\"\",0)","v":5707.0502202930702},null,"Slovakia","Peppers",5707.0502202930702,{"$f":"_xlfn.XLOOKUP(Y34&Z34,'FFV Waste'!$L:$L&'FFV Waste'!$M:$M,'FFV Waste'!$U:$U,,0)","v":4514.4689319701201},{"$f":"_xlfn.XLOOKUP(Y34&Z34,'FFV Waste'!$W:$W&'FFV Waste'!$X:$X,'FFV Waste'!$AF:$AF,,0)","v":6942.6802217731911},5728.5745768716552,1192.5812883229501,1235.6300014801209,null,null,"Food Supply",{"$f":"_xlfn.XLOOKUP($AH34,$N$9:$N$39,P$9:P$39,\"\",0)","v":""},"","","",{"$f":"_xlfn.XLOOKUP(AH33,N$9:N$39,Q$9:Q$39,\"\",0)+AJ33","v":45964.923175359145},"",""]
[{"$nulls":13},"Slovenia","Peppers",{"$f":"_xlfn.XLOOKUP($N35&$O35,'FFV Waste'!$A:$A&'FFV Waste'!$B:$B,'FFV Waste'!C:C,\"\",0)","v":1652.41},{"$f":"_xlfn.XLOOKUP($N35&$O35,'FFV Waste'!$A:$A&'FFV Waste'!$B:$B,'FFV Waste'!D:D,\"\",0)","v":6982.868422086729},{"$f":"_xlfn.XLOOKUP($N35&$O35,'FFV Waste'!$A:$A&'FFV Waste'!$B:$B,'FFV Waste'!E:E,\"\",0)","v":279.31473688346915},{"$f":"_xlfn.XLOOKUP($N35&$O35,'FFV Waste'!$A:$A&'FFV Waste'!$B:$B,'FFV Waste'!F:F,\"\",0)","v":5966.1627798309019},{"$f":"_xlfn.XLOOKUP($N35&$O35,'FFV Waste'!$A:$A&'FFV Waste'!$B:$B,'FFV Waste'!G:G,\"\",0)","v":1701.3507527151123},{"$f":"_xlfn.XLOOKUP($N35&$O35,'FFV Waste'!$A:$A&'FFV Waste'!$B:$B,'FFV Waste'!H:H,\"\",0)","v":737.39090537235825},{"$f":"_xlfn.XLOOKUP($N35&$O35,'FFV Waste'!$A:$A&'FFV Waste'!$B:$B,'FFV Waste'!I:I,\"\",0)","v":251.45029873197419},{"$f":"_xlfn.XLOOKUP($N35&$O35,'FFV Waste'!$A:$A&'FFV Waste'!$B:$B,'FFV Waste'!J:J,\"\",0)","v":3884.5257883305558},null,"Slovenia","Peppers",3884.5257883305558,{"$f":"_xlfn.XLOOKUP(Y35&Z35,'FFV Waste'!$L:$L&'FFV Waste'!$M:$M,'FFV Waste'!$U:$U,,0)","v":3378.9996323399023},{"$f":"_xlfn.XLOOKUP(Y35&Z35,'FFV Waste'!$W:$W&'FFV Waste'!$X:$X,'FFV Waste'!$AF:$AF,,0)","v":4595.3594485200338},3987.1795404299683,505.52615599065348,710.833660189478,null,"Iceland","Food Waste",null,45.7181217628114,278.47639455676625,41.157281935753318,null,82.744314216077044,116.34896243661399]
[{"$nulls":13},"Spain","Peppers",{"$f":"_xlfn.XLOOKUP($N36&$O36,'FFV Waste'!$A:$A&'FFV Waste'!$B:$B,'FFV Waste'!C:C,\"\",0)","v":162285.1},{"$f":"_xlfn.XLOOKUP($N36&$O36,'FFV Waste'!$A:$A&'FFV Waste'!$B:$B,'FFV Waste'!D:D,\"\",0)","v":454300.02469763602},{"$f":"_xlfn.XLOOKUP($N36&$O36,'FFV Waste'!$A:$A&'FFV Waste'!$B:$B,'FFV Waste'!E:E,\"\",0)","v":18172.000987905441},{"$f":"_xlfn.XLOOKUP($N36&$O36,'FFV Waste'!$A:$A&'FFV Waste'!$B:$B,'FFV Waste'!F:F,\"\",0)","v":388153.94110166025},{"$f":"_xlfn.XLOOKUP($N36&$O36,'FFV Waste'!$A:$A&'FFV Waste'!$B:$B,'FFV Waste'!G:G,\"\",0)","v":78018.942161433719},{"$f":"_xlfn.XLOOKUP($N36&$O36,'FFV Waste'!$A:$A&'FFV Waste'!$B:$B,'FFV Waste'!H:H,\"\",0)","v":47974.082608070341},{"$f":"_xlfn.XLOOKUP($N36&$O36,'FFV Waste'!$A:$A&'FFV Waste'!$B:$B,'FFV Waste'!I:I,\"\",0)","v":16359.162169351988},{"$f":"_xlfn.XLOOKUP($N36&$O36,'FFV Waste'!$A:$A&'FFV Waste'!$B:$B,'FFV Waste'!J:J,\"\",0)","v":274835.20531869115},{"$f":"W36/W40","v":0.28473265128421521},"Spain","Peppers",274835.20531869115,{"$f":"_xlfn.XLOOKUP(Y36&Z36,'FFV Waste'!$L:$L&'FFV Waste'!$M:$M,'FFV Waste'!$U:$U,,0)","v":274615.68754675728},{"$f":"_xlfn.XLOOKUP(Y36&Z36,'FFV Waste'!$W:$W&'FFV Waste'!$X:$X,'FFV Waste'!$AF:$AF,,0)","v":353751.1174488879},314183.40249782259,219.51777193386806,78915.912130196753,null,null,"Food Supply",{"$f":"_xlfn.XLOOKUP($AH36,$N$9:$N$39,P$9:P$39,\"\",0)","v":""},"","","",{"$f":"_xlfn.XLOOKUP(AH35,N$9:N$39,Q$9:Q$39,\"\",0)+AJ35","v":1142.9530440702849},"",""]
[{"$nulls":13},"Sweden","Peppers",{"$f":"_xlfn.XLOOKUP($N37&$O37,'FFV Waste'!$A:$A&'FFV Waste'!$B:$B,'FFV Waste'!C:C,\"\",0)","v":3515.66},{"$f":"_xlfn.XLOOKUP($N37&$O37,'FFV Waste'!$A:$A&'FFV Waste'!$B:$B,'FFV Waste'!D:D,\"\",0)","v":22653.584232935926},{"$f":"_xlfn.XLOOKUP($N37&$O37,'FFV Waste'!$A:$A&'FFV Waste'!$B:$B,'FFV Waste'!E:E,\"\",0)","v":906.14336931743708},{"$f":"_xlfn.XLOOKUP($N37&$O37,'FFV Waste'!$A:$A&'FFV Waste'!$B:$B,'FFV Waste'!F:F,\"\",0)","v":19355.222368620456},{"$f":"_xlfn.XLOOKUP($N37&$O37,'FFV Waste'!$A:$A&'FFV Waste'!$B:$B,'FFV Waste'!G:G,\"\",0)","v":5519.4642454516006},{"$f":"_xlfn.XLOOKUP($N37&$O37,'FFV Waste'!$A:$A&'FFV Waste'!$B:$B,'FFV Waste'!H:H,\"\",0)","v":2392.2184949980328},{"$f":"_xlfn.XLOOKUP($N37&$O37,'FFV Waste'!$A:$A&'FFV Waste'!$B:$B,'FFV Waste'!I:I,\"\",0)","v":815.74650679432921},{"$f":"_xlfn.XLOOKUP($N37&$O37,'FFV Waste'!$A:$A&'FFV Waste'!$B:$B,'FFV Waste'!J:J,\"\",0)","v":10757.014121563365},{"$f":"P36/W36","v":0.59048148439287018},"Sweden","Peppers",10757.014121563365,{"$f":"_xlfn.XLOOKUP(Y37&Z37,'FFV Waste'!$L:$L&'FFV Waste'!$M:$M,'FFV Waste'!$U:$U,,0)","v":9117.0033603031243},{"$f":"_xlfn.XLOOKUP(Y37&Z37,'FFV Waste'!$W:$W&'FFV Waste'!$X:$X,'FFV Waste'!$AF:$AF,,0)","v":13063.076505006697},11090.03993265491,1640.0107612602405,2306.0623834433318,null,"Ireland","Food Waste",{"$f":"_xlfn.XLOOKUP($AH37,$N$9:$N$39,P$9:P$39,\"\",0)","v":2294.7800000000002},584.53002733436585,3560.4659212979964,526.21731180748952,null,1057.9292058719238,1487.5821571637734]
[{"$nulls":13},"Switzerland","Peppers",{"$f":"_xlfn.XLOOKUP($N38&$O38,'FFV Waste'!$A:$A&'FFV Waste'!$B:$B,'FFV Waste'!C:C,\"\",0)","v":2130.65},{"$f":"_xlfn.XLOOKUP($N38&$O38,'FFV Waste'!$A:$A&'FFV Waste'!$B:$B,'FFV Waste'!D:D,\"\",0)","v":26107.962146215508},{"$f":"_xlfn.XLOOKUP($N38&$O38,'FFV Waste'!$A:$A&'FFV Waste'!$B:$B,'FFV Waste'!E:E,\"\",0)","v":1044.3184858486204},{"$f":"_xlfn.XLOOKUP($N38&$O38,'FFV Waste'!$A:$A&'FFV Waste'!$B:$B,'FFV Waste'!F:F,\"\",0)","v":22306.642857726532},{"$f":"_xlfn.XLOOKUP($N38&$O38,'FFV Waste'!$A:$A&'FFV Waste'!$B:$B,'FFV Waste'!G:G,\"\",0)","v":6361.1109882616829},{"$f":"_xlfn.XLOOKUP($N38&$O38,'FFV Waste'!$A:$A&'FFV Waste'!$B:$B,'FFV Waste'!H:H,\"\",0)","v":2757.0008026403557},{"$f":"_xlfn.XLOOKUP($N38&$O38,'FFV Waste'!$A:$A&'FFV Waste'!$B:$B,'FFV Waste'!I:I,\"\",0)","v":940.13727370036133},{"$f":"_xlfn.XLOOKUP($N38&$O38,'FFV Waste'!$A:$A&'FFV Waste'!$B:$B,'FFV Waste'!J:J,\"\",0)","v":10476.216747810666},null,"Switzerland","Peppers",10476.216747810666,{"$f":"_xlfn.XLOOKUP(Y38&Z38,'FFV Waste'!$L:$L&'FFV Waste'!$M:$M,'FFV Waste'!$U:$U,,0)","v":8586.1256066429632},{"$f":"_xlfn.XLOOKUP(Y38&Z38,'FFV Waste'!$W:$W&'FFV Waste'!$X:$X,'FFV Waste'!$AF:$AF,,0)","v":13133.923748816534},10860.024677729749,1890.0911411677025,2657.7070010058687,null,null,"Food Supply",{"$f":"_xlfn.XLOOKUP($AH38,$N$9:$N$39,P$9:P$39,\"\",0)","v":""},"","","",{"$f":"_xlfn.XLOOKUP(AH37,N$9:N$39,Q$9:Q$39,\"\",0)+AJ37","v":16908.030683359146},"",""]
[{"$nulls":13},"United Kingdom","Peppers",{"$f":"_xlfn.XLOOKUP($N39&$O39,'FFV Waste'!$A:$A&'FFV Waste'!$B:$B,'FFV Waste'!C:C,\"\",0)","v":1526.29},{"$f":"_xlfn.XLOOKUP($N39&$O39,'FFV Waste'!$A:$A&'FFV Waste'!$B:$B,'FFV Waste'!D:D,\"\",0)","v":185489.93544981352},{"$f":"_xlfn.XLOOKUP($N39&$O39,'FFV Waste'!$A:$A&'FFV Waste'!$B:$B,'FFV Waste'!E:E,\"\",0)","v":7419.5974179925406},{"$f":"_xlfn.XLOOKUP($N39&$O39,'FFV Waste'!$A:$A&'FFV Waste'!$B:$B,'FFV Waste'!F:F,\"\",0)","v":158482.60084832067},{"$f":"_xlfn.XLOOKUP($N39&$O39,'FFV Waste'!$A:$A&'FFV Waste'!$B:$B,'FFV Waste'!G:G,\"\",0)","v":42473.337027349939},{"$f":"_xlfn.XLOOKUP($N39&$O39,'FFV Waste'!$A:$A&'FFV Waste'!$B:$B,'FFV Waste'!H:H,\"\",0)","v":19587.737183500314},{"$f":"_xlfn.XLOOKUP($N39&$O39,'FFV Waste'!$A:$A&'FFV Waste'!$B:$B,'FFV Waste'!I:I,\"\",0)","v":6679.418379573608},{"$f":"_xlfn.XLOOKUP($N39&$O39,'FFV Waste'!$A:$A&'FFV Waste'!$B:$B,'FFV Waste'!J:J,\"\",0)","v":58098.642824916089},null,"United Kingdom","Peppers",58098.642824916089,{"$f":"_xlfn.XLOOKUP(Y39&Z39,'FFV Waste'!$L:$L&'FFV Waste'!$M:$M,'FFV Waste'!$U:$U,,0)","v":47390.679831269255},{"$f":"_xlfn.XLOOKUP(Y39&Z39,'FFV Waste'!$W:$W&'FFV Waste'!$X:$X,'FFV Waste'!$AF:$AF,,0)","v":79701.542667143163},63546.111249206209,10707.962993646834,21602.899842227074,null,"Italy","Food Waste",{"$f":"_xlfn.XLOOKUP($AH39,$N$9:$N$39,P$9:P$39,\"\",0)","v":38841.94},7840.2363178258556,47756.133849688144,7058.094342759543,null,14189.886906906657,0]
[{"$nulls":13},"EU+","Eggplants",{"$f":"SUM(P9:P15,P17:P21,P23:P24,P27,P29:P39)","v":364187.14370238711},{"$f":"SUM(Q9:Q39)","v":1975880.6164816394},{"$f":"SUM(R9:R39)","v":79035.224659265557},1688192.3987219126,450866.47278966953,208652.99310046106,71150.670647257226,965239.51179857971,null,"EU+","Eggplants",{"$f":"SUM(AA9:AA39)","v":965239.51179857971},{"$f":"SUM(AB9:AB39)","v":852744.96563813044},{"$f":"SUM(AC9:AC39)","v":1139934.0324996556},{"$nulls":5},"Food Supply",{"$f":"_xlfn.XLOOKUP($AH40,$N$9:$N$39,P$9:P$39,\"\",0)","v":""},"","","",{"$f":"_xlfn.XLOOKUP(AH39,N$9:N$39,Q$9:Q$39,\"\",0)+AJ39","v":234847.84794564638},"",""]
[{"$nulls":33},"Latvia","Food Waste",null,{"$f":"_xlfn.XLOOKUP($AH41,$N$9:$N$39,R$9:R$39,\"\",0)","v":145.59344060525265},{"$f":"_xlfn.XLOOKUP($AH41,$N$9:$N$39,T$9:T$39,\"\",0)","v":886.83294167709073},{"$f":"_xlfn.XLOOKUP($AH41,$N$9:$N$39,V$9:V$39,\"\",0)","v":131.06903897047269},null,263.50665628263482,370.52365886511939]
[{"$nulls":13},"Climate Impact","Unit: Tonnes CO2-eq",{"$nulls":9},"Economic Cost","Unit: Million EUR","Avg. Exchange Rate 2022 (USD to EUR)",null,null,0.94969999999999999,"European Central Bank (2025)",null,null,null,"Food Supply",{"$f":"_xlfn.XLOOKUP($AH42,$N$9:$N$39,P$9:P$39,\"\",0)","v":""},"","","",{"$f":"_xlfn.XLOOKUP(AH41,N$9:N$39,Q$9:Q$39,\"\",0)+AJ41","v":3639.8360151313159},"",""]
[{"$nulls":13},"Country","Product","Pre R&D","R&D","Households","Food Service","Total",{"$nulls":4},"Country","Product","Pre R&D","R&D","Households","Food Service","Total",null,null,"Lithuania","Food Waste",null,174.86016649128268,1065.1012517250415,157.41611628211226,null,316.47591812924247,445.00513490699518]
[{"$nulls":13},"Austria","Peppers",{"$f":"'FFV Coeffs for Calcs'!J141*P9","v":4204.3320568268227},{"$f":"'FFV Coeffs for Calcs'!K141*R9","v":625.51573505821409},{"$f":"'FFV Coeffs for Calcs'!L141*T9","v":4083.2945835133669},{"$f":"'FFV Coeffs for Calcs'!L141*V9","v":603.4885171070988},{"$f":"SUM(_xlfn.IFNA(P44,0),Q44:S44)","v":9516.6308925055018},{"$nulls":4},"Austria","Peppers",{"$f":"'FFV Coeffs for Calcs'!N141*P9/1000*$AD$42","v":8.9634110550000017},{"$f":"R9*'FFV Coeffs for Calcs'!O141/1000*$AD$42","v":1.6336223174499005},{"$f":"T9*'FFV Coeffs for Calcs'!P141/1000*$AD$42","v":14.378696352403509},{"$f":"V9*'FFV Coeffs for Calcs'!O141/1000*$AD$42","v":1.4706521550610996},{"$f":"SUM(_xlfn.IFNA(AA44,0),AB44:AD44)","v":26.446381879914508},null,null,null,"Food Supply",{"$f":"_xlfn.XLOOKUP($AH44,$N$9:$N$39,P$9:P$39,\"\",0)","v":""},"","","",{"$f":"_xlfn.XLOOKUP(AH43,N$9:N$39,Q$9:Q$39,\"\",0)+AJ43","v":4371.5041622820672},"",""]
[{"$nulls":13},"Belgium","Peppers",{"$f":"'FFV Coeffs for Calcs'!J142*P10","v":1505.4927843490389},{"$f":"'FFV Coeffs for Calcs'!K142*R10","v":1188.2455423654828},{"$f":"'FFV Coeffs for Calcs'!L142*T10","v":7756.7298711891362},{"$f":"'FFV Coeffs for Calcs'!L142*V10","v":1146.4020809237165},11596.870278827375,{"$nulls":4},"Belgium","Peppers",{"$f":"'FFV Coeffs for Calcs'!N142*P10/1000*$AD$42","v":3.5102749611087494},{"$f":"R10*'FFV Coeffs for Calcs'!O142/1000*$AD$42","v":3.4529794450341966},{"$f":"T10*'FFV Coeffs for Calcs'!P142/1000*$AD$42","v":30.392179649418946},{"$f":"V10*'FFV Coeffs for Calcs'!O142/1000*$AD$42","v":3.1085102155975837},40.463944271159477,null,null,"Luxembourg","Food Waste",{"$f":"_xlfn.XLOOKUP($AH45,$N$9:$N$39,P$9:P$39,\"\",0)","v":83.14},51.123201436633863,311.39959966276672,46.023150861315266,null,92.526859816134902,130.10445780011827]
[{"$nulls":13},"Bulgaria","Peppers",{"$f":"'FFV Coeffs for Calcs'!J143*P11","v":3678.4400413144031},{"$f":"'FFV Coeffs for Calcs'!K143*R11","v":1983.3384575922673},{"$f":"'FFV Coeffs for Calcs'!L143*T11","v":12947.00473107453},{"$f":"'FFV Coeffs for Calcs'!L143*V11","v":1913.4962041881249},20522.279434169326,{"$nulls":4},"Bulgaria","Peppers",{"$f":"'FFV Coeffs for Calcs'!N143*P11/1000*$AD$42","v":2.814073927039265},{"$f":"R11*'FFV Coeffs for Calcs'!O143/1000*$AD$42","v":1.9210037789809322},{"$f":"T11*'FFV Coeffs for Calcs'!P143/1000*$AD$42","v":16.908149291755482},{"$f":"V11*'FFV Coeffs for Calcs'!O143/1000*$AD$42","v":1.7293644419897949},23.372591439765472,null,null,null,"Food Supply",{"$f":"_xlfn.XLOOKUP($AH46,$N$9:$N$39,P$9:P$39,\"\",0)","v":""},"","","",{"$f":"_xlfn.XLOOKUP(AH45,N$9:N$39,Q$9:Q$39,\"\",0)+AJ45","v":1361.2200359158467},"",""]
[{"$nulls":13},"Croatia","Peppers",{"$f":"'FFV Coeffs for Calcs'!J144*P12","v":815.70794872680563},{"$f":"'FFV Coeffs for Calcs'!K144*R12","v":506.3341395197848},{"$f":"'FFV Coeffs for Calcs'!L144*T12","v":3305.290871950046},{"$f":"'FFV Coeffs for Calcs'!L144*V12","v":488.5038407404025},5115.8368009370388,{"$nulls":4},"Croatia","Peppers",{"$f":"'FFV Coeffs for Calcs'!N144*P12/1000*$AD$42","v":1.5136588314799999},{"$f":"R12*'FFV Coeffs for Calcs'!O144/1000*$AD$42","v":1.1619606504991993},{"$f":"T12*'FFV Coeffs for Calcs'!P144/1000*$AD$42","v":10.227259500867842},{"$f":"V12*'FFV Coeffs for Calcs'!O144/1000*$AD$42","v":1.0460434560053991},13.94892243885244,null,null,"Malta","Food Waste",null,24.436900090536483,148.84906835547221,21.999074937504577,null,44.2278567358602,62.189955778408063]
[{"$nulls":13},"Cyprus","Peppers",{"$f":"'FFV Coeffs for Calcs'!J145*P13","v":173.00455834673926},{"$f":"'FFV Coeffs for Calcs'!K145*R13","v":49.327149590665805},{"$f":"'FFV Coeffs for Calcs'!L145*T13","v":322.00194408374756},{"$f":"'FFV Coeffs for Calcs'!L145*V13","v":47.59011914675574},591.9237711679084,{"$nulls":4},"Cyprus","Peppers",{"$f":"'FFV Coeffs for Calcs'!N145*P13/1000*$AD$42","v":0.49693432379999997},{"$f":"R13*'FFV Coeffs for Calcs'!O145/1000*$AD$42","v":0.17596803030522168},{"$f":"T13*'FFV Coeffs for Calcs'!P145/1000*$AD$42","v":1.5488224226998639},{"$f":"V13*'FFV Coeffs for Calcs'!O145/1000*$AD$42","v":0.15841345960197267},2.3801382364070585,null,null,null,"Food Supply",{"$f":"_xlfn.XLOOKUP($AH48,$N$9:$N$39,P$9:P$39,\"\",0)","v":""},"","","",{"$f":"_xlfn.XLOOKUP(AH47,N$9:N$39,Q$9:Q$39,\"\",0)+AJ47","v":610.92250226341207},"",""]
[{"$nulls":13},"Czechia","Peppers",{"$f":"'FFV Coeffs for Calcs'!J146*P14","v":134.89319076678143},{"$f":"'FFV Coeffs for Calcs'!K146*R14","v":1061.197139008051},{"$f":"'FFV Coeffs for Calcs'!L146*T14","v":6927.3725453895831},{"$f":"'FFV Coeffs for Calcs'!L146*V14","v":1023.8276223677452},9147.2904975321617,{"$nulls":4},"Czechia","Peppers",{"$f":"'FFV Coeffs for Calcs'!N146*P14/1000*$AD$42","v":0.38213278337000001},{"$f":"R14*'FFV Coeffs for Calcs'!O146/1000*$AD$42","v":3.6922856572749652},{"$f":"T14*'FFV Coeffs for Calcs'!P146/1000*$AD$42","v":32.498487407521289},{"$f":"V14*'FFV Coeffs for Calcs'!O146/1000*$AD$42","v":3.3239432401052134},39.896849088271473,null,null,"Netherlands","Food Waste",14383.62,2723.2273504454229,20184.34326331344,2451.5581899649869,null,8525.4444723984561,3333.665993321265]
[{"$nulls":13},"Denmark","Peppers",{"$f":"'FFV Coeffs for Calcs'!J147*P15","v":332.04500000000002},{"$f":"'FFV Coeffs for Calcs'!K147*R15","v":354.30915767955895},{"$f":"'FFV Coeffs for Calcs'!L147*T15","v":2960.3901902224429},{"$f":"'FFV Coeffs for Calcs'!L147*V15","v":341.83234118899151},3988.5766890909936,{"$nulls":4},"Denmark","Peppers",{"$f":"'FFV Coeffs for Calcs'!N147*P15/1000*$AD$42","v":1.6587048979900001},{"$f":"R15*'FFV Coeffs for Calcs'!O147/1000*$AD$42","v":2.1312831956265335},{"$f":"T15*'FFV Coeffs for Calcs'!P147/1000*$AD$42","v":24.010605962723009},{"$f":"V15*'FFV Coeffs for Calcs'!O147/1000*$AD$42","v":1.9186663840308313},29.719260440370373,null,null,null,"Food Supply","","","","",{"$f":"_xlfn.XLOOKUP(AH49,N$9:N$39,Q$9:Q$39,\"\",0)+AJ49","v":82464.303761135568},"",""]
[{"$nulls":13},"Estonia","Peppers",{"$f":"'FFV Coeffs for Calcs'!J148*P16","v":{"$error":"#N/A"}},{"$f":"'FFV Coeffs for Calcs'!K148*R16","v":68.582199896088227},{"$f":"'FFV Coeffs for Calcs'!L148*T16","v":447.69669197061177},{"$f":"'FFV Coeffs for Calcs'!L148*V16","v":66.16711266484937},582.44600453154931,{"$nulls":4},"Estonia","Peppers",{"$f":"'FFV Coeffs for Calcs'!N148*P16/1000*$AD$42","v":{"$error":"#N/A"}},{"$f":"R16*'FFV Coeffs for Calcs'!O148/1000*$AD$42","v":0.31529022315439559},{"$f":"T16*'FFV Coeffs for Calcs'!P148/1000*$AD$42","v":2.7750982177418897},{"$f":"V16*'FFV Coeffs for Calcs'!O148/1000*$AD$42","v":0.28383687049251327},3.3742253113887983,null,null,"Norway","Food Waste",2100.19,545.02637754435909,3319.8428698430985,490.65454612053412,null,986.43234018998555,1387.0485287401889]
[{"$nulls":13},"Finland","Peppers",{"$f":"'FFV Coeffs for Calcs'!J149*P17","v":873.71902716562033},{"$f":"'FFV Coeffs for Calcs'!K149*R17","v":269.26661623209793},{"$f":"'FFV Coeffs for Calcs'!L149*T17","v":1491.6660081831549},{"$f":"'FFV Coeffs for Calcs'!L149*V17","v":259.78452951504363},2894.4361810959172,{"$nulls":4},"Finland","Peppers",{"$f":"'FFV Coeffs for Calcs'!N149*P17/1000*$AD$42","v":4.2970835625900001},{"$f":"R17*'FFV Coeffs for Calcs'!O149/1000*$AD$42","v":1.6084856904955951},{"$f":"T17*'FFV Coeffs for Calcs'!P149/1000*$AD$42","v":12.014388273296886},{"$f":"V17*'FFV Coeffs for Calcs'!O149/1000*$AD$42","v":1.4480231580117535},19.367980684394237,null,null,null,"Food Supply","","","","",{"$f":"_xlfn.XLOOKUP(AH51,N$9:N$39,Q$9:Q$39,\"\",0)+AJ51","v":15725.849438608977},"",""]
[{"$nulls":13},"France","Peppers",{"$f":"'FFV Coeffs for Calcs'!J150*P18","v":17452.445938000001},{"$f":"'FFV Coeffs for Calcs'!K150*R18","v":2421.9610603133688},{"$f":"'FFV Coeffs for Calcs'!L150*T18","v":15810.282499348303},{"$f":"'FFV Coeffs for Calcs'!L150*V18","v":2336.6729354036511},38021.362433065326,{"$nulls":4},"France","Peppers",{"$f":"'FFV Coeffs for Calcs'!N150*P18/1000*$AD$42","v":50.213652967919998},{"$f":"R18*'FFV Coeffs for Calcs'!O150/1000*$AD$42","v":8.4992670700923885},{"$f":"T18*'FFV Coeffs for Calcs'!P150/1000*$AD$42","v":74.80822165162941},{"$f":"V18*'FFV Coeffs for Calcs'!O150/1000*$AD$42","v":7.6513801871799663},141.17252187682178,null,null,"Poland","Food Waste",16944.848572385865,4619.1324000000004,28135.874509584002,4158.3277517759998,null,8360.0753481120046,11755.322427407998]
[{"$nulls":13},"Germany","Peppers",{"$f":"'FFV Coeffs for Calcs'!J151*P19","v":21602.32498646115},{"$f":"'FFV Coeffs for Calcs'!K151*R19","v":6414.0030237177089},{"$f":"'FFV Coeffs for Calcs'!L151*T19","v":42285.878982445385},{"$f":"'FFV Coeffs for Calcs'!L151*V19","v":6188.1371747484645},76490.344167372707,{"$nulls":4},"Germany","Peppers",{"$f":"'FFV Coeffs for Calcs'!N151*P19/1000*$AD$42","v":87.889361597399997},{"$f":"R19*'FFV Coeffs for Calcs'!O151/1000*$AD$42","v":31.561966769031336},{"$f":"T19*'FFV Coeffs for Calcs'!P151/1000*$AD$42","v":280.55992801521774},{"$f":"V19*'FFV Coeffs for Calcs'!O151/1000*$AD$42","v":28.41334496415277},428.42460134580188,null,null,null,"Food Supply","","","","",{"$f":"_xlfn.XLOOKUP(AH53,N$9:N$39,Q$9:Q$39,\"\",0)+AJ53","v":132423.15857238587},"",""]
[{"$nulls":13},"Greece","Peppers",{"$f":"'FFV Coeffs for Calcs'!J152*P20","v":10999.987500425679},{"$f":"'FFV Coeffs for Calcs'!K152*R20","v":2956.5973054140286},{"$f":"'FFV Coeffs for Calcs'!L152*T20","v":19300.326252710121},{"$f":"'FFV Coeffs for Calcs'!L152*V20","v":2852.4822374949536},36109.393296044778,{"$nulls":4},"Greece","Peppers",{"$f":"'FFV Coeffs for Calcs'!N152*P20/1000*$AD$42","v":8.4095579812200008},{"$f":"R20*'FFV Coeffs for Calcs'!O152/1000*$AD$42","v":2.9111194094997148},{"$f":"T20*'FFV Coeffs for Calcs'!P152/1000*$AD$42","v":25.62287597792217},{"$f":"V20*'FFV Coeffs for Calcs'!O152/1000*$AD$42","v":2.6207061372080234},39.564259505849911,null,null,"Portugal","Food Waste",{"$f":"_xlfn.XLOOKUP($AH55,$N$9:$N$39,P$9:P$39,\"\",0)","v":134.35226924816536},1948.75,11870.148050000002,1754.3426999999992,null,3527.0036500000006,4825.0605807518314]
[{"$nulls":13},"Hungary","Peppers",{"$f":"'FFV Coeffs for Calcs'!J153*P21","v":1755.6580022925516},{"$f":"'FFV Coeffs for Calcs'!K153*R21","v":1564.5171498733773},{"$f":"'FFV Coeffs for Calcs'!L153*T21","v":10212.987533074916},{"$f":"'FFV Coeffs for Calcs'!L153*V21","v":1509.4234754587574},15042.586160699602,{"$nulls":4},"Hungary","Peppers",{"$f":"'FFV Coeffs for Calcs'!N153*P21/1000*$AD$42","v":1.7010835244772544},{"$f":"R21*'FFV Coeffs for Calcs'!O153/1000*$AD$42","v":1.9454182611160138},{"$f":"T21*'FFV Coeffs for Calcs'!P153/1000*$AD$42","v":17.123038878823262},{"$f":"V21*'FFV Coeffs for Calcs'!O153/1000*$AD$42","v":1.7513433353870809},22.520883999803612,null,null,null,"Food Supply",{"$f":"_xlfn.XLOOKUP($AH56,$N$9:$N$39,P$9:P$39,\"\",0)","v":""},"","","",{"$f":"_xlfn.XLOOKUP(AH55,N$9:N$39,Q$9:Q$39,\"\",0)+AJ55","v":48853.102269248164},"",""]
[{"$nulls":13},"Iceland","Peppers",{"$f":"'FFV Coeffs for Calcs'!J154*P22","v":{"$error":"#N/A"}},{"$f":"'FFV Coeffs for Calcs'!K154*R22","v":27.430873057686838},{"$f":"'FFV Coeffs for Calcs'!L154*T22","v":179.06557597159608},{"$f":"'FFV Coeffs for Calcs'!L154*V22","v":26.464908837178733},232.96135786646167,{"$nulls":4},"Iceland","Peppers",{"$f":"'FFV Coeffs for Calcs'!N154*P22/1000*$AD$42","v":{"$error":"#N/A"}},{"$f":"R22*'FFV Coeffs for Calcs'!O154/1000*$AD$42","v":0.16751508669378751},{"$f":"T22*'FFV Coeffs for Calcs'!P154/1000*$AD$42","v":1.4744219274479808},{"$f":"V22*'FFV Coeffs for Calcs'!O154/1000*$AD$42","v":0.15080378164521518},1.7927407957869836,null,null,"Romania","Food Waste",{"$f":"_xlfn.XLOOKUP($AH57,$N$9:$N$39,P$9:P$39,\"\",0)","v":8554.08},4089.9910617051742,24912.789955416087,3681.9735533894655,null,7402.393022758959,1854.6200527547262]
[{"$nulls":13},"Ireland","Peppers",{"$f":"'FFV Coeffs for Calcs'!J155*P23","v":1147.3900000000001},{"$f":"'FFV Coeffs for Calcs'!K155*R23","v":350.71801640061949},{"$f":"'FFV Coeffs for Calcs'!L155*T23","v":2289.4467659969},{"$f":"'FFV Coeffs for Calcs'!L155*V23","v":338.36766012074037},4125.9224425182601,{"$nulls":4},"Ireland","Peppers",{"$f":"'FFV Coeffs for Calcs'!N155*P23/1000*$AD$42","v":4.7291950682200001},{"$f":"R23*'FFV Coeffs for Calcs'!O155/1000*$AD$42","v":1.7406876367263908},{"$f":"T23*'FFV Coeffs for Calcs'!P155/1000*$AD$42","v":15.321055978190756},{"$f":"V23*'FFV Coeffs for Calcs'!O155/1000*$AD$42","v":1.5670366380865661},23.357975321223716,null,null,null,"Food Supply",{"$f":"_xlfn.XLOOKUP($AH58,$N$9:$N$39,P$9:P$39,\"\",0)","v":""},"","","",{"$f":"_xlfn.XLOOKUP(AH57,N$9:N$39,Q$9:Q$39,\"\",0)+AJ57","v":110803.85654262935},"",""]
[{"$nulls":13},"Italy","Peppers",{"$f":"'FFV Coeffs for Calcs'!J156*P24","v":28798.766574448284},{"$f":"'FFV Coeffs for Calcs'!K156*R24","v":6597.0477908636904},{"$f":"'FFV Coeffs for Calcs'!L156*T24","v":43064.767202228024},{"$f":"'FFV Coeffs for Calcs'!L156*V24","v":6364.7361136686159},84825.317681208631,{"$nulls":4},"Italy","Peppers",{"$f":"'FFV Coeffs for Calcs'!N156*P24/1000*$AD$42","v":43.528064693240005},{"$f":"R24*'FFV Coeffs for Calcs'!O156/1000*$AD$42","v":12.695957082164968},{"$f":"T24*'FFV Coeffs for Calcs'!P156/1000*$AD$42","v":111.74633808416695},{"$f":"V24*'FFV Coeffs for Calcs'!O156/1000*$AD$42","v":11.42940840364818},179.3997682632201,null,null,"Slovakia","Food Waste",{"$f":"_xlfn.XLOOKUP($AH59,$N$9:$N$39,P$9:P$39,\"\",0)","v":441.29},658.92837554033963,4013.6381639562956,593.19368079643505,null,1192.5812883229501,1235.6300014801209]
[{"$nulls":13},"Latvia","Peppers",{"$f":"'FFV Coeffs for Calcs'!J157*P25","v":{"$error":"#N/A"}},{"$f":"'FFV Coeffs for Calcs'!K157*R25","v":87.356064363151589},{"$f":"'FFV Coeffs for Calcs'!L157*T25","v":570.25031419538209},{"$f":"'FFV Coeffs for Calcs'!L157*V25","v":84.279865058749223},741.88624361728296,{"$nulls":4},"Latvia","Peppers",{"$f":"'FFV Coeffs for Calcs'!N157*P25/1000*$AD$42","v":{"$error":"#N/A"}},{"$f":"R25*'FFV Coeffs for Calcs'!O157/1000*$AD$42","v":0.36563451392687552},{"$f":"T25*'FFV Coeffs for Calcs'!P157/1000*$AD$42","v":3.2182148808544455},{"$f":"V25*'FFV Coeffs for Calcs'!O157/1000*$AD$42","v":0.32915881481753051},3.9130082095988516,null,null,null,"Food Supply",{"$f":"_xlfn.XLOOKUP($AH60,$N$9:$N$39,P$9:P$39,\"\",0)","v":""},"","","",{"$f":"_xlfn.XLOOKUP(AH59,N$9:N$39,Q$9:Q$39,\"\",0)+AJ59","v":16914.499388508491},"",""]
[{"$nulls":13},"Lithuania","Peppers",{"$f":"'FFV Coeffs for Calcs'!J158*P26","v":{"$error":"#N/A"}},{"$f":"'FFV Coeffs for Calcs'!K158*R26","v":104.9160998947696},{"$f":"'FFV Coeffs for Calcs'!L158*T26","v":684.88020110923412},{"$f":"'FFV Coeffs for Calcs'!L158*V26","v":101.22153288479971},891.01783388880335,{"$nulls":4},"Lithuania","Peppers",{"$f":"'FFV Coeffs for Calcs'!N158*P26/1000*$AD$42","v":{"$error":"#N/A"}},{"$f":"R26*'FFV Coeffs for Calcs'!O158/1000*$AD$42","v":0.45833026908728253},{"$f":"T26*'FFV Coeffs for Calcs'!P158/1000*$AD$42","v":4.0340975376785853},{"$f":"V26*'FFV Coeffs for Calcs'!O158/1000*$AD$42","v":0.4126072414431351},4.9050350482090028,null,null,"Slovenia","Food Waste",1652.41,279.31473688346915,1701.3507527151123,251.45029873197419,null,505.52615599065348,710.833660189478]
[{"$nulls":13},"Luxembourg","Peppers",{"$f":"'FFV Coeffs for Calcs'!J159*P27","v":41.57},{"$f":"'FFV Coeffs for Calcs'!K159*R27","v":30.673920861980317},{"$f":"'FFV Coeffs for Calcs'!L159*T27","v":200.23581804730355},{"$f":"'FFV Coeffs for Calcs'!L159*V27","v":29.593754365162717},302.07349327444661,{"$nulls":4},"Luxembourg","Peppers",{"$f":"'FFV Coeffs for Calcs'!N159*P27/1000*$AD$42","v":0.21239717601999999},{"$f":"R27*'FFV Coeffs for Calcs'!O159/1000*$AD$42","v":0.18872290260501098},{"$f":"T27*'FFV Coeffs for Calcs'!P159/1000*$AD$42","v":1.6610873163985733},{"$f":"V27*'FFV Coeffs for Calcs'!O159/1000*$AD$42","v":0.16989590584113509},2.2321033008647193,null,null,null,"Food Supply","","","","",{"$f":"_xlfn.XLOOKUP(AH61,N$9:N$39,Q$9:Q$39,\"\",0)+AJ61","v":8635.2784220867288},"",""]
[{"$nulls":13},"Malta","Peppers",{"$f":"'FFV Coeffs for Calcs'!J160*P28","v":{"$error":"#N/A"}},{"$f":"'FFV Coeffs for Calcs'!K160*R28","v":14.662140054321888},{"$f":"'FFV Coeffs for Calcs'!L160*T28","v":95.712759425556456},{"$f":"'FFV Coeffs for Calcs'!L160*V28","v":14.145820261701054},124.5207197415794,{"$nulls":4},"Malta","Peppers",{"$f":"'FFV Coeffs for Calcs'!N160*P28/1000*$AD$42","v":{"$error":"#N/A"}},{"$f":"R28*'FFV Coeffs for Calcs'!O160/1000*$AD$42","v":7.1429893362591743E-2},{"$f":"T28*'FFV Coeffs for Calcs'!P160/1000*$AD$42","v":0.62870636387272982},{"$f":"V28*'FFV Coeffs for Calcs'!O160/1000*$AD$42","v":6.4304047200739622E-2},0.76444030443606126,null,null,"Spain","Food Waste",162285.1,18172.000987905441,78018.942161433719,16359.162169351988,null,219.51777193386806,78915.912130196753]
[{"$nulls":13},"Netherlands","Peppers",{"$f":"'FFV Coeffs for Calcs'!J161*P29","v":11089.4092774004},{"$f":"'FFV Coeffs for Calcs'!K161*R29","v":2371.8625341006896},{"$f":"'FFV Coeffs for Calcs'!L161*T29","v":18840.512152699812},{"$f":"'FFV Coeffs for Calcs'!L161*V29","v":2288.3386032696617},34590.122567470564,{"$nulls":4},"Netherlands","Peppers",{"$f":"'FFV Coeffs for Calcs'!N161*P29/1000*$AD$42","v":18.714369762180002},{"$f":"R29*'FFV Coeffs for Calcs'!O161/1000*$AD$42","v":5.1198678619865259},{"$f":"T29*'FFV Coeffs for Calcs'!P161/1000*$AD$42","v":54.834933700223921},{"$f":"V29*'FFV Coeffs for Calcs'!O161/1000*$AD$42","v":4.609109844074748},83.278281168465199,null,null,null,"Food Supply","","","","",{"$f":"_xlfn.XLOOKUP(AH63,N$9:N$39,Q$9:Q$39,\"\",0)+AJ63","v":616585.124697636},"",""]
[{"$nulls":13},"Norway","Peppers",{"$f":"'FFV Coeffs for Calcs'!J162*P30","v":1050.095},{"$f":"'FFV Coeffs for Calcs'!K162*R30","v":327.01582652661546},{"$f":"'FFV Coeffs for Calcs'!L162*T30","v":2134.7216038538263},{"$f":"'FFV Coeffs for Calcs'!L162*V30","v":315.5001307884491},3827.3325611688911,{"$nulls":4},"Norway","Peppers",{"$f":"'FFV Coeffs for Calcs'!N162*P30/1000*$AD$42","v":5.9637058245700008},{"$f":"R30*'FFV Coeffs for Calcs'!O162/1000*$AD$42","v":2.2363665856096673},{"$f":"T30*'FFV Coeffs for Calcs'!P162/1000*$AD$42","v":19.683886369365155},{"$f":"V30*'FFV Coeffs for Calcs'!O162/1000*$AD$42","v":2.013266655029248},29.897225434574072,null,null,"Sweden","Food Waste",3515.66,906.14336931743708,5519.4642454516006,815.74650679432921,null,1640.0107612602405,2306.0623834433318]
[{"$nulls":13},"Poland","Peppers",{"$f":"'FFV Coeffs for Calcs'!J163*P31","v":13259.37847134004},{"$f":"'FFV Coeffs for Calcs'!K163*R31","v":4076.3937376681824},{"$f":"'FFV Coeffs for Calcs'!L163*T31","v":26610.228226695544},{"$f":"'FFV Coeffs for Calcs'!L163*V31","v":3932.8456088496105},47878.846044553378,{"$nulls":4},"Poland","Peppers",{"$f":"'FFV Coeffs for Calcs'!N163*P31/1000*$AD$42","v":19.793802907709672},{"$f":"R31*'FFV Coeffs for Calcs'!O163/1000*$AD$42","v":7.796861278091658},{"$f":"T31*'FFV Coeffs for Calcs'!P163/1000*$AD$42","v":68.625838189144829},{"$f":"V31*'FFV Coeffs for Calcs'!O163/1000*$AD$42","v":7.0190463969892338},103.2355487719354,null,null,null,"Food Supply","","","","",{"$f":"_xlfn.XLOOKUP(AH65,N$9:N$39,Q$9:Q$39,\"\",0)+AJ65","v":26169.244232935926},"",""]
[{"$nulls":13},"Portugal","Peppers",{"$f":"'FFV Coeffs for Calcs'!J164*P32","v":95.178873812367172},{"$f":"'FFV Coeffs for Calcs'!K164*R32","v":1575.4235488246291},{"$f":"'FFV Coeffs for Calcs'!L164*T32","v":10284.183247694529},{"$f":"'FFV Coeffs for Calcs'!L164*V32","v":1519.9458111270296},13474.731481458555,{"$nulls":4},"Portugal","Peppers",{"$f":"'FFV Coeffs for Calcs'!N164*P32/1000*$AD$42","v":0.14800944612177985},{"$f":"R32*'FFV Coeffs for Calcs'!O164/1000*$AD$42","v":3.1021900640749998},{"$f":"T32*'FFV Coeffs for Calcs'!P164/1000*$AD$42","v":27.304627564348607},{"$f":"V32*'FFV Coeffs for Calcs'!O164/1000*$AD$42","v":2.7927155832828769},33.347542657828264,null,null,"Switzerland","Food Waste",2130.65,1044.3184858486204,6361.1109882616829,940.13727370036133,null,1890.0911411677025,2657.7070010058687]
[{"$nulls":13},"Romania","Peppers",{"$f":"'FFV Coeffs for Calcs'!J165*P33","v":6275.3391399261654},{"$f":"'FFV Coeffs for Calcs'!K165*R33","v":3409.4481306672078},{"$f":"'FFV Coeffs for Calcs'!L165*T33","v":22256.484216863933},{"$f":"'FFV Coeffs for Calcs'!L165*V33","v":3289.3861516344318},35230.65763909174,{"$nulls":4},"Romania","Peppers",{"$f":"'FFV Coeffs for Calcs'!N165*P33/1000*$AD$42","v":11.210857490879999},{"$f":"R33*'FFV Coeffs for Calcs'!O165/1000*$AD$42","v":7.7456118619861289},{"$f":"T33*'FFV Coeffs for Calcs'!P165/1000*$AD$42","v":68.174754860674085},{"$f":"V33*'FFV Coeffs for Calcs'!O165/1000*$AD$42","v":6.9729096226343916},94.104133836174597,null,null,null,"Food Supply","","","","",{"$f":"_xlfn.XLOOKUP(AH67,N$9:N$39,Q$9:Q$39,\"\",0)+AJ67","v":28238.61214621551},"",""]
[{"$nulls":13},"Slovakia","Peppers",{"$f":"'FFV Coeffs for Calcs'!J166*P34","v":232.128521564555},{"$f":"'FFV Coeffs for Calcs'!K166*R34","v":412.50406742806899},{"$f":"'FFV Coeffs for Calcs'!L166*T34","v":2692.7789818900551},{"$f":"'FFV Coeffs for Calcs'!L166*V34","v":397.97794683717086},3735.3895177198501,{"$nulls":4},"Slovakia","Peppers",{"$f":"'FFV Coeffs for Calcs'!N166*P34/1000*$AD$42","v":0.69569456757999992},{"$f":"R34*'FFV Coeffs for Calcs'!O166/1000*$AD$42","v":1.5010687482398595},{"$f":"T34*'FFV Coeffs for Calcs'!P166/1000*$AD$42","v":13.211996129383976},{"$f":"V34*'FFV Coeffs for Calcs'!O166/1000*$AD$42","v":1.3513221299154503},16.760081575119287,null,null,"United Kingdom","Food Waste",1526.29,7419.5974179925406,42473.337027349939,6679.418379573608,null,10707.962993646834,21602.899842227074]
[{"$nulls":13},"Slovenia","Peppers",{"$f":"'FFV Coeffs for Calcs'!J167*P35","v":935.5662877301628},{"$f":"'FFV Coeffs for Calcs'!K167*R35","v":186.07470175789044},{"$f":"'FFV Coeffs for Calcs'!L167*T35","v":1214.6741948004685},{"$f":"'FFV Coeffs for Calcs'!L167*V35","v":179.52217592825883},2515.8373602167808,{"$nulls":4},"Slovenia","Peppers",{"$f":"'FFV Coeffs for Calcs'!N167*P35/1000*$AD$42","v":1.7105302169300003},{"$f":"R35*'FFV Coeffs for Calcs'!O167/1000*$AD$42","v":0.41780596210899429},{"$f":"T35*'FFV Coeffs for Calcs'!P167/1000*$AD$42","v":3.6774136832109434},{"$f":"V35*'FFV Coeffs for Calcs'!O167/1000*$AD$42","v":0.37612563932900084},6.1818755015789382,null,null,null,"Food Supply","","","","",{"$f":"_xlfn.XLOOKUP(AH69,N$9:N$39,Q$9:Q$39,\"\",0)+AJ69","v":187016.22544981353},"",""]
[{"$nulls":13},"Spain","Peppers",{"$f":"'FFV Coeffs for Calcs'!J168*P36","v":132660.75768254508},{"$f":"'FFV Coeffs for Calcs'!K168*R36","v":16671.992187919448},{"$f":"'FFV Coeffs for Calcs'!L168*T36","v":76710.933901505457},{"$f":"'FFV Coeffs for Calcs'!L168*V36","v":16084.896476300899},242128.58024827088,{"$f":"T71/T75","v":0.27856782222575643},null,null,null,"Spain","Peppers",{"$f":"'FFV Coeffs for Calcs'!N168*P36/1000*$AD$42","v":171.07559701169998},{"$f":"R36*'FFV Coeffs for Calcs'!O168/1000*$AD$42","v":27.680887841028024},{"$f":"T36*'FFV Coeffs for Calcs'!P168/1000*$AD$42","v":171.72960401757052},{"$f":"V36*'FFV Coeffs for Calcs'!O168/1000*$AD$42","v":24.919442470007059},395.40553134030563]
[{"$nulls":13},"Sweden","Peppers",{"$f":"'FFV Coeffs for Calcs'!J169*P37","v":1759.509997610694},{"$f":"'FFV Coeffs for Calcs'!K169*R37","v":544.11903237517959},{"$f":"'FFV Coeffs for Calcs'!L169*T37","v":3551.9462951277037},{"$f":"'FFV Coeffs for Calcs'!L169*V37","v":524.95815784280205},6380.5334829563799,{"$nulls":4},"Sweden","Peppers",{"$f":"'FFV Coeffs for Calcs'!N169*P37/1000*$AD$42","v":7.5123501794999994},{"$f":"R37*'FFV Coeffs for Calcs'!O169/1000*$AD$42","v":2.7979098684298034},{"$f":"T37*'FFV Coeffs for Calcs'!P169/1000*$AD$42","v":24.626436594197159},{"$f":"V37*'FFV Coeffs for Calcs'!O169/1000*$AD$42","v":2.5187903799552451},37.45548702208221]
[{"$nulls":13},"Switzerland","Peppers",{"$f":"'FFV Coeffs for Calcs'!J170*P38","v":1078.7390862004534},{"$f":"'FFV Coeffs for Calcs'!K170*R38","v":633.16588238984252},{"$f":"'FFV Coeffs for Calcs'!L170*T38","v":4133.2338630734739},{"$f":"'FFV Coeffs for Calcs'!L170*V38","v":610.86926839768807},6456.0081000614573,{"$nulls":4},"Switzerland","Peppers",{"$f":"'FFV Coeffs for Calcs'!N170*P38/1000*$AD$42","v":5.0991653285999998},{"$f":"R38*'FFV Coeffs for Calcs'!O170/1000*$AD$42","v":3.6115014332503974},{"$f":"T38*'FFV Coeffs for Calcs'!P170/1000*$AD$42","v":31.787446786377579},{"$f":"V38*'FFV Coeffs for Calcs'!O170/1000*$AD$42","v":3.2512180502693355},43.749331598497314]
[{"$nulls":13},"United Kingdom","Peppers",{"$f":"'FFV Coeffs for Calcs'!J171*P39","v":3602.0443999999998},{"$f":"'FFV Coeffs for Calcs'!K171*R39","v":18252.209648261651},{"$f":"'FFV Coeffs for Calcs'!L171*T39","v":112554.34312247734},{"$f":"'FFV Coeffs for Calcs'!L171*V39","v":17700.45870587006},152109.05587660905,{"$f":"T74/T75","v":0.17500077187465968},null,null,null,"United Kingdom","Peppers",{"$f":"'FFV Coeffs for Calcs'!N171*P39/1000*$AD$42","v":3.0729773395600004},{"$f":"R39*'FFV Coeffs for Calcs'!O171/1000*$AD$42","v":21.585916235345348},{"$f":"T39*'FFV Coeffs for Calcs'!P171/1000*$AD$42","v":178.5559706389646},{"$f":"V39*'FFV Coeffs for Calcs'!O171/1000*$AD$42","v":19.432505231707307},222.64736944557723]
[{"$nulls":13},"EU+","Eggplants",{"$f":"SUM(P44:P50,P52:P56,P58:P59,P62,P64:P74)","v":265553.92434725381},{"$f":"SUM(Q44:Q74)","v":75136.208879676313},{"$f":"SUM(R44:R74)","v":455919.32114881143},{"$f":"SUM(S44:S74)","v":72581.316882991567},{"$f":"SUM(T44:T74)","v":869190.77125873312},{"$nulls":4},"EU+","Eggplants",{"$f":"SUM(AA44:AA50,AA52:AA56,AA58:AA59,AA62,AA64:AA74)","v":465.31664742620671},{"$f":"SUM(AB44:AB74)","v":160.29491562327868},{"$f":"SUM(AC44:AC74)","v":1343.164582224093},{"$f":"SUM(AD44:AD74)","v":144.30389484070039},{"$f":"SUM(AE44:AE74)","v":2113.0800401142787}]
{"$rows_empty":9}
[{"$nulls":13},"Country","Food Availability ","Total Food Waste","% Waste",null,"Food Availablility ","% Waste"]
[{"$nulls":13},"Austria",31358.764198038873,15160.968107368315,0.48346829012848846,null,{"$f":"Q9+_xlfn.IFNA(P9,0)","v":31358.764198038873},{"$f":"W9/S86","v":0.48346829012848846}]
[{"$nulls":13},"Belgium",43247.015645356732,15457.079115196735,0.35741377490532811,null,43247.015645356732,0.35741377490532811]
[{"$nulls":13},"Bulgaria",66594.314040037134,24824.00906419714,0.37276469353333547,null,66594.314040037134,0.37276469353333547]
[{"$nulls":13},"Croatia",19622.153159657148,7207.1248429633642,0.36729531078073047,null,19622.153159657148,0.36729531078073047]
[{"$nulls":13},"Cyprus",2015.6373215187373,836.73906060739341,0.41512381799763926,null,2015.6373215187373,0.41512381799763926]
[{"$nulls":13},"Czechia",40039.120093800091,12960.728075663763,0.32370162094722665,null,40039.120093800091,0.32370162094722665]
[{"$nulls":13},"Denmark",15426.971569981624,6390.1039178698647,0.41421635405771845,null,15426.971569981624,0.41421635405771845]
[{"$nulls":13},"Estonia",2857.5916623370099,913.44632041599925,0.319656,null,2857.5916623370099,0.319656]
[{"$nulls":13},"Finland",12390.863247924843,4692.5414575979994,0.3787098092930597,null,12390.863247924843,0.3787098092930597]
[{"$nulls":13},"France",126650.90391131422,62418.83501123506,0.49284160699668678,null,126650.90391131422,0.49284160699668678]
[{"$nulls":13},"Germany",303418.3761326283,126241.27258714529,0.41606337162638929,null,303418.3761326283,0.41606337162638929]
[{"$nulls":13},"Greece",93769.556716199877,39101.911535513595,0.41700006809095053,null,93769.556716199877,0.41700006809095053]
[{"$nulls":13},"Hungary",45964.923175359145,16197.430740399148,0.35238676846265804,null,45964.923175359145,0.35238676846265804]
[{"$nulls":13},"Iceland",1142.9530440702849,365.35179825533095,0.31965599999999994,null,1142.9530440702849,0.31965599999999994]
[{"$nulls":13},"Ireland",16908.030683359146,6965.9932604398527,0.41199317595843798,null,16908.030683359146,0.41199317595843798]
[{"$nulls":13},"Italy",234847.84794564638,101496.40451027354,0.43217941061893,null,234847.84794564638,0.43217941061893]
[{"$nulls":13},"Latvia",3639.8360151313159,1163.4954212528162,0.31965600000000005,null,3639.8360151313159,0.31965600000000005]
[{"$nulls":13},"Lithuania",4371.5041622820672,1397.3775344984363,0.31965599999999994,null,4371.5041622820672,0.31965599999999994]
[{"$nulls":13},"Luxembourg",1361.2200359158467,491.68595196071584,0.36120975227190444,null,1361.2200359158467,0.36120975227190444]
[{"$nulls":13},"Malta",610.92250226341207,195.28504338351328,0.31965600000000005,null,610.92250226341207,0.31965600000000005]
[{"$nulls":13},"Netherlands",82464.303761135568,39742.748803723851,0.48193881462750104,null,82464.303761135568,0.48193881462750104]
[{"$nulls":13},"Norway",15725.849438608977,6455.7137935079918,0.41051606265912649,null,15725.849438608977,0.41051606265912649]
[{"$nulls":13},"Poland",132423.15857238587,53858.183233745862,0.40671272165967559,null,132423.15857238587,0.40671272165967559]
[{"$nulls":13},"Portugal",48853.102269248164,15707.593019248166,0.32152703287250017,null,48853.102269248164,0.32152703287250017]
[{"$nulls":13},"Romania",110803.85654262935,41238.834570510728,0.37217869356961408,null,110803.85654262935,0.37217869356961408]
[{"$nulls":13},"Slovakia",16914.499388508491,5707.0502202930702,0.33740580133103859,null,16914.499388508491,0.33740580133103859]
[{"$nulls":13},"Slovenia",8635.2784220867288,3884.5257883305558,0.44984372228172509,null,8635.2784220867288,0.44984372228172509]
[{"$nulls":13},"Spain",616585.124697636,274835.20531869115,0.44573765131532517,null,616585.124697636,0.44573765131532517]
[{"$nulls":13},"Sweden",26169.244232935926,10757.014121563365,0.41105558975313733,null,26169.244232935926,0.41105558975313733]
[{"$nulls":13},"Switzerland",28238.61214621551,10476.216747810666,0.37098908025530108,null,28238.61214621551,0.37098908025530108]
[{"$nulls":13},"United Kingdom",187016.22544981353,58098.642824916089,0.31066097438966367,null,187016.22544981353,0.31066097438966367]

{"sheet":"FFV Coefficients","index":7,"n_rows":154,"n_cols":43,"rows_kept":154,"cut":false,"hidden":false,"merged":[[36,2,55,2],[56,2,70,2],[5,2,9,2],[11,2,35,2]]}
["Homepage"]
[]
[]
[]
["Coeff ID unique","Coeff ID in schemes","Scheme link","Food category","Product","FSC stage","Coeff type","Average","Min ","Max","Austria","Belgium","Bulgaria","Croatia","Cyprus","Czechia","Denmark","Estonia","Finland","France","Germany","Greece","Hungary","Iceland","Ireland","Italy","Latvia","Lithuania","Luxembourg","Malta","Netherlands","Norway","Poland","Portugal","Romania","Slovakia","Slovenia","Spain","Sweden","Switzerland","United Kingdom","EU+ - Proxy","Extra EU+ proxy"]
["PP01.A","FFP","Scheme ","Fruits","Avocados","PP","Fresh for Processing",{"$f":"IFERROR(AVERAGE(K6:AO6),AQ6)","v":0.25},{"$f":"IFERROR(MIN(K6:AO6),\"\")","v":0},{"$f":"IFERROR(MAX(K6:AO6),\"\")","v":0},{"$nulls":32},0.25]
["PP02.B","FFP",null,"Fruits","Bananas","PP","Fresh for Processing",{"$f":"IFERROR(AVERAGE(K7:AO7),\"\")","v":0.16529522313417541},{"$f":"IFERROR(MIN(K7:AO7),\"\")","v":0},{"$f":"IFERROR(MAX(K7:AO7),\"\")","v":0.58696108709274419},null,0,0,{"$nulls":5},1.0026635371062772E-2,0,{"$nulls":4},0.27804479092308737,0,null,0.23946936882349781,null,null,9.8387398431161982E-2,null,0.58696108709274419,2.141256948734965E-2,null,3.935268372418136E-2,null,0.37291733277810074,0.50226603411309434]
["PP03.C","FFP",null,"Vegetables","Cucumbers","PP","Fresh for Processing",0.21752795858822579,0,0.74315164649609133,"",0.56641133279271139,6.1328337143891597E-2,0,0.16746522807308117,"",0.19572828559617605,"","","","",7.289355210928615E-2,0.28530795644709106,"","","","",8.0120434528171067E-2,"","",0.74315164649609133,"",2.8728126957583717E-3,"","","","","","","",""]
["PP04.E","FFP",null,"Vegetables","Eggplants","PP","Fresh for Processing",0.128,0.128,0.128,{"$nulls":27},0.128]
["PP05.P","FFP",null,"Vegetables","Peppers","PP","Fresh for Processing",0.27913047828454707,5.4752637017595938E-2,0.61971262692418572,"",0.1072190043198161,5.4752637017595938E-2,"","","","","","","","","",0.38584143838672263,"","","","","","","","","",0.61971262692418572,0.22812668477441489,"","","","","","",""]
["PP06.C","%C&G","Scheme","Vegetables","Cucumbers","PP","Share of cucumbers vs gherkins",{"$nulls":34},0.88500000000000001]
["R&D01.A","FW.R&D","Scheme ","Fruits","Avocados","R&D","Food waste at R&D",{"$f":"IFERROR(AVERAGE(K12:AO12),\"\")","v":3.125E-2},{"$f":"IFERROR(MIN(K12:AO12),\"\")","v":2.5000000000000001E-2},0.05,{"$nulls":28},2.5000000000000001E-2,null,{"$f":"AVERAGE(0.025,0.05)","v":3.7500000000000006E-2}]
["R&D02.B","FW.R&D",null,"Fruits","Bananas","R&D","Food waste at R&D",1.8000000000000002E-2,1.6E-2,0.02,{"$nulls":28},1.6E-2,null,0.02]
["R&D03.C","FW.R&D",null,"Vegetables","Cucumbers","R&D","Food waste at R&D",2.513333333333333E-2,9.4000000000000004E-3,4.5999999999999999E-2,4.5999999999999999E-2,{"$nulls":27},9.4000000000000004E-3,null,0.02]
["R&D04.E","FW.R&D",null,"Vegetables","Eggplants","R&D","Food waste at R&D",9.7000000000000003E-2,9.7000000000000003E-2,9.7000000000000003E-2,{"$nulls":28},9.7000000000000003E-2]
["R&D05.P","FW.R&D",null,"Vegetables","Peppers","R&D","Food waste at R&D",0.04,0.04,0.04,{"$nulls":28},0.04]
["R&D06.A","Share.HH",null,"Fruits","Avocados","R&D","Share Households",{"$nulls":32},0.85]
["R&D07.B","Share.HH",null,"Fruits","Bananas","R&D","Share Households",{"$nulls":32},0.85]
["R&D08.C","Share.HH",null,"Vegetables","Cucumbers","R&D","Share Households",{"$nulls":32},0.89]
["R&D09.E","Share.HH",null,"Vegetables","Eggplants","R&D","Share Households",{"$nulls":32},0.89]
["R&D10.P","Share.HH",null,"Vegetables","Peppers","R&D","Share Households",{"$nulls":32},0.89]
["R&D11.A","Share.FS",null,"Fruits","Avocados","R&D","Share Food Service",{"$nulls":32},{"$f":"1-AN17","v":0.15000000000000002}]
["R&D12.B","Share.FS",null,"Fruits","Bananas","R&D","Share Food Service",{"$nulls":32},{"$f":"1-AN18","v":0.15000000000000002}]
["R&D13.C","Share.FS",null,"Vegetables","Cucumbers","R&D","Share Food Service",{"$nulls":32},{"$f":"1-AN19","v":0.10999999999999999}]
["R&D14.E","Share.FS",null,"Vegetables","Eggplants","R&D","Share Food Service",{"$nulls":32},{"$f":"1-AN20","v":0.10999999999999999}]
["R&D15.P","Share.FS",null,"Vegetables","Peppers","R&D","Share Food Service",{"$nulls":32},{"$f":"1-AN21","v":0.10999999999999999}]
["CON01.A","FW.HH",null,"Fruits","Avocados","CON","Food Waste Households",0.3691666666666667,0.32700000000000001,0.40600000000000003,{"$nulls":6},0.36399999999999999,null,0.32700000000000001,null,0.38,{"$nulls":9},0.40600000000000003,{"$nulls":6},0.33700000000000002,null,null,0.40100000000000002]
["CON02.B","FW.HH",null,"Fruits","Bananas","CON","Food Waste Households",{"$f":"IFERROR(AVERAGE(K28:AO28),\"\")","v":0.45916666666666667},{"$f":"IFERROR(MIN(K28:AO28),\"\")","v":0.41699999999999998},{"$f":"IFERROR(MAX(K28:AO28),\"\")","v":0.496},{"$nulls":6},0.45400000000000001,null,0.41699999999999998,null,0.47,{"$nulls":9},0.496,{"$nulls":6},0.42699999999999999,null,null,0.49099999999999999]
["CON03.C","FW.HH",null,"Vegetables","Cucumbers","CON","Food Waste Households",0.23516666666666666,0.151,0.315,{"$nulls":6},0.315,null,0.192,null,0.23799999999999999,{"$nulls":9},0.29699999999999999,{"$nulls":6},0.151,null,null,0.218]
["CON04.E","FW.HH",null,"Vegetables","Eggplants","CON","Food Waste Households",0.22516666666666665,0.14099999999999999,0.30499999999999999,{"$nulls":6},0.30499999999999999,null,0.182,null,0.22800000000000001,{"$nulls":9},0.28699999999999998,{"$nulls":6},0.14099999999999999,null,null,0.20799999999999999]
["CON05.P","FW.HH",null,"Vegetables","Peppers","CON","Food Waste Households",0.28516666666666668,0.20100000000000001,0.36499999999999999,{"$nulls":6},0.36499999999999999,null,0.24199999999999999,null,0.28799999999999998,{"$nulls":9},0.34699999999999998,{"$nulls":6},0.20100000000000001,null,null,0.26800000000000002]
["CON06.A","FW.FS",null,"Fruits","Avocados","CON","Food Waste Food Service",{"$f":"IFERROR(AVERAGE(K32:AO32),\"\")","v":0.442},0.34599999999999997,0.58799999999999997,{"$nulls":29},0.442]
["CON07.B","FW.FS",null,"Fruits","Bananas","CON","Food Waste Food Service",{"$f":"IFERROR(AVERAGE(K33:AO33),\"\")","v":0.442},0.34599999999999997,0.58799999999999997,{"$nulls":29},0.442]
["CON08.C","FW.FS",null,"Vegetables","Cucumbers","CON","Food Waste Food Service",{"$f":"IFERROR(AVERAGE(K34:AO34),\"\")","v":0.34100000000000003},0.24399999999999999,0.47799999999999998,{"$nulls":29},0.34100000000000003]
["CON09.E","FW.FS",null,"Vegetables","Eggplants","CON","Food Waste Food Service",0.34100000000000003,0.24399999999999999,0.47799999999999998,{"$nulls":29},0.34100000000000003]
["CON10.P","FW.FS",null,"Vegetables","Peppers","CON","Food Waste Food Service",0.34100000000000003,0.24399999999999999,0.47799999999999998,{"$nulls":29},0.34100000000000003]
["PP06.CO2A","CO2.LPP","Scheme","Fruits","Avocados","PP","kg CO2-eq/kg Pre R&D",{"$f":"IFERROR(AVERAGE(K37:AO37),\"\")","v":2.39},{"$f":"IFERROR(MIN(K37:AO37),\"\")","v":2.39},{"$f":"IFERROR(MAX(K37:AO37),\"\")","v":2.39},{"$f":"IF(ISNUMBER(K42),K42-0.1,\"\")","v":""},{"$f":"IF(ISNUMBER(L42),L42-0.1,\"\")","v":""},"","","","","","","","","","","","","","","","","","","","","","","","","","","","",2.39,1.2,""]
["PP07.CO2B","CO2.LPP",null,"Fruits","Bananas","PP","kg CO2-eq/kg Pre R&D",0.82499999999999996,0.38,1.27,{"$f":"IF(ISNUMBER(K43),K43-0.1,\"\")","v":""},{"$f":"IF(ISNUMBER(L43),L43-0.1,\"\")","v":""},"","","","","","","","","","","","","","","","","","",1.02,1.27,"","","","","","","",0.38,0.63,"",""]
["PP08.CO2C","CO2.LPP",null,"Vegetables","Cucumbers","PP","kg CO2-eq/kg Pre R&D",1.1568069295059531,0.24753821342934143,1.8740146276111234,{"$f":"IF(ISNUMBER(K44),K44-0.1,\"\")","v":1.2104563138285083},0.82542804917926249,1.2806817574906497,1.072533705409676,1.8187161820909246,0.63504757943686385,0.86445950077464484,0.99392001592709345,1.7237105591216959,1.3940214758209286,0.72905009061045811,1.8740146276111234,1.0319662648074721,1.8245976692563814,0.54809341972437864,1.483618727413426,1.0460205517958259,1.3444359871866212,0.24753821342934143,1.1863272563075011,1.535245151845692,1.5036880755957516,1.6449685746174796,1.2685164159162292,1.4692540913699639,0.53866140813346386,0.5781463092354201,1.8539654665403771,1.0706982827806668,0.9332330914267194,0.32999999999999996,"",""]
["PP09.CO2E","CO2.LPP",null,"Vegetables","Eggplants","PP","kg CO2-eq/kg Pre R&D","",0,0,{"$f":"IF(ISNUMBER(K45),K45-0.1,\"\")","v":""},"","","","","","","","","","","","","","","","","","","","","","","","","","","","","","",{"$f":"IF(ISNUMBER(AP45),AP45-0.1,\"\")","v":1.25},""]
["PP10.CO2P","CO2.LPP",null,"Vegetables","Peppers","PP","kg CO2-eq/kg Pre R&D",0.65718808336055312,0.5,2.36,{"$f":"IF(ISNUMBER(K46),K46-0.1,\"\")","v":0.55682682210322232},0.627255821903138,0.70760268591085262,0.59367822817255267,0.61166934785298854,0.56656386562552574,0.5,0.5,0.52716562014107737,0.5413333338916505,0.51353885005973166,0.81987830759228142,0.79393644605698499,0.5,0.5,0.74143481439001968,0.5,0.5,0.5,0.5,0.77097485037844438,0.5,0.78250203385990458,0.70842773512488988,0.73360772168674659,0.52602261905902015,0.56618290117474646,0.81745494615676406,0.50047786122966786,0.50629577180693841,2.36,"",""]
["R&D16.CO2A","CO2.R&D",null,"Fruits","Avocados","R&D","kg CO2-eq/kg at R&D",2.4900000000000002,2.4900000000000002,2.4900000000000002,{"$nulls":30},2.4900000000000002,1.3]
["R&D17.CO2B","CO2.R&D",null,"Fruits","Bananas","R&D","kg CO2-eq/kg at R&D",0.92500000000000004,0.48,1.37,{"$nulls":20},1.1200000000000001,1.37,{"$nulls":7},0.48,0.73]
["R&D18.CO2C","CO2.R&D",null,"Vegetables","Cucumbers","R&D","kg CO2-eq/kg at R&D",1.2568069295059532,0.34753821342934144,1.9740146276111235,{"$f":"K74*'Coefficient Calculations'!$D$9+(1-K74)*'Coefficient Calculations'!$D$7","v":1.3104563138285084},{"$f":"L74*'Coefficient Calculations'!$D$9+(1-L74)*'Coefficient Calculations'!$D$7","v":0.92542804917926247},{"$f":"M74*'Coefficient Calculations'!$D$9+(1-M74)*'Coefficient Calculations'!$D$7","v":1.3806817574906498},{"$f":"N74*'Coefficient Calculations'!$D$9+(1-N74)*'Coefficient Calculations'!$D$7","v":1.1725337054096761},{"$f":"O74*'Coefficient Calculations'!$D$9+(1-O74)*'Coefficient Calculations'!$D$7","v":1.9187161820909246},{"$f":"P74*'Coefficient Calculations'!$D$9+(1-P74)*'Coefficient Calculations'!$D$7","v":0.73504757943686383},{"$f":"Q74*'Coefficient Calculations'!$D$9+(1-Q74)*'Coefficient Calculations'!$D$7","v":0.96445950077464482},{"$f":"R74*'Coefficient Calculations'!$D$9+(1-R74)*'Coefficient Calculations'!$D$7","v":1.0939200159270934},{"$f":"S74*'Coefficient Calculations'!$D$9+(1-S74)*'Coefficient Calculations'!$D$7","v":1.823710559121696},{"$f":"T74*'Coefficient Calculations'!$D$9+(1-T74)*'Coefficient Calculations'!$D$7","v":1.4940214758209287},{"$f":"U74*'Coefficient Calculations'!$D$9+(1-U74)*'Coefficient Calculations'!$D$7","v":0.82905009061045809},{"$f":"V74*'Coefficient Calculations'!$D$9+(1-V74)*'Coefficient Calculations'!$D$7","v":1.9740146276111235},{"$f":"W74*'Coefficient Calculations'!$D$9+(1-W74)*'Coefficient Calculations'!$D$7","v":1.1319662648074722},{"$f":"X74*'Coefficient Calculations'!$D$9+(1-X74)*'Coefficient Calculations'!$D$7","v":1.9245976692563815},{"$f":"Y74*'Coefficient Calculations'!$D$9+(1-Y74)*'Coefficient Calculations'!$D$7","v":0.64809341972437862},{"$f":"Z74*'Coefficient Calculations'!$D$9+(1-Z74)*'Coefficient Calculations'!$D$7","v":1.5836187274134261},{"$f":"AA74*'Coefficient Calculations'!$D$9+(1-AA74)*'Coefficient Calculations'!$D$7","v":1.146020551795826},{"$f":"AB74*'Coefficient Calculations'!$D$9+(1-AB74)*'Coefficient Calculations'!$D$7","v":1.4444359871866213},{"$f":"AC74*'Coefficient Calculations'!$D$9+(1-AC74)*'Coefficient Calculations'!$D$7","v":0.34753821342934144},{"$f":"AD74*'Coefficient Calculations'!$D$9+(1-AD74)*'Coefficient Calculations'!$D$7","v":1.2863272563075012},{"$f":"AE74*'Coefficient Calculations'!$D$9+(1-AE74)*'Coefficient Calculations'!$D$7","v":1.6352451518456921},{"$f":"AF74*'Coefficient Calculations'!$D$9+(1-AF74)*'Coefficient Calculations'!$D$7","v":1.6036880755957517},{"$f":"AG74*'Coefficient Calculations'!$D$9+(1-AG74)*'Coefficient Calculations'!$D$7","v":1.7449685746174797},{"$f":"AH74*'Coefficient Calculations'!$D$9+(1-AH74)*'Coefficient Calculations'!$D$7","v":1.3685164159162293},{"$f":"AI74*'Coefficient Calculations'!$D$9+(1-AI74)*'Coefficient Calculations'!$D$7","v":1.569254091369964},{"$f":"AJ74*'Coefficient Calculations'!$D$9+(1-AJ74)*'Coefficient Calculations'!$D$7","v":0.63866140813346384},{"$f":"AK74*'Coefficient Calculations'!$D$9+(1-AK74)*'Coefficient Calculations'!$D$7","v":0.67814630923542008},{"$f":"AL74*'Coefficient Calculations'!$D$9+(1-AL74)*'Coefficient Calculations'!$D$7","v":1.9539654665403772},{"$f":"AM74*'Coefficient Calculations'!$D$9+(1-AM74)*'Coefficient Calculations'!$D$7","v":1.1706982827806669},{"$f":"AN74*'Coefficient Calculations'!$D$9+(1-AN74)*'Coefficient Calculations'!$D$7","v":1.0332330914267194},0.43]
["R&D19.CO2E","CO2.R&D",null,"Vegetables","Eggplants","R&D","kg CO2-eq/kg at R&D","",0,0,{"$nulls":31},1.35]
["R&D20.CO2P","CO2.R&D",null,"Vegetables","Peppers","R&D","kg CO2-eq/kg at R&D",0.75718808336055299,0.6,2.46,{"$f":"K76*'Coefficient Calculations'!$D$13+(1-K76)*'Coefficient Calculations'!$D$11","v":0.6568268221032223},{"$f":"L76*'Coefficient Calculations'!$D$13+(1-L76)*'Coefficient Calculations'!$D$11","v":0.72725582190313798},{"$f":"M76*'Coefficient Calculations'!$D$13+(1-M76)*'Coefficient Calculations'!$D$11","v":0.8076026859108526},{"$f":"N76*'Coefficient Calculations'!$D$13+(1-N76)*'Coefficient Calculations'!$D$11","v":0.69367822817255265},{"$f":"O76*'Coefficient Calculations'!$D$13+(1-O76)*'Coefficient Calculations'!$D$11","v":0.71166934785298852},{"$f":"P76*'Coefficient Calculations'!$D$13+(1-P76)*'Coefficient Calculations'!$D$11","v":0.66656386562552572},{"$f":"Q76*'Coefficient Calculations'!$D$13+(1-Q76)*'Coefficient Calculations'!$D$11","v":0.6},{"$f":"R76*'Coefficient Calculations'!$D$13+(1-R76)*'Coefficient Calculations'!$D$11","v":0.6},{"$f":"S76*'Coefficient Calculations'!$D$13+(1-S76)*'Coefficient Calculations'!$D$11","v":0.62716562014107735},{"$f":"T76*'Coefficient Calculations'!$D$13+(1-T76)*'Coefficient Calculations'!$D$11","v":0.64133333389165048},{"$f":"U76*'Coefficient Calculations'!$D$13+(1-U76)*'Coefficient Calculations'!$D$11","v":0.61353885005973163},{"$f":"V76*'Coefficient Calculations'!$D$13+(1-V76)*'Coefficient Calculations'!$D$11","v":0.9198783075922814},{"$f":"W76*'Coefficient Calculations'!$D$13+(1-W76)*'Coefficient Calculations'!$D$11","v":0.89393644605698497},{"$f":"X76*'Coefficient Calculations'!$D$13+(1-X76)*'Coefficient Calculations'!$D$11","v":0.6},{"$f":"Y76*'Coefficient Calculations'!$D$13+(1-Y76)*'Coefficient Calculations'!$D$11","v":0.6},{"$f":"Z76*'Coefficient Calculations'!$D$13+(1-Z76)*'Coefficient Calculations'!$D$11","v":0.84143481439001966},{"$f":"AA76*'Coefficient Calculations'!$D$13+(1-AA76)*'Coefficient Calculations'!$D$11","v":0.6},{"$f":"AB76*'Coefficient Calculations'!$D$13+(1-AB76)*'Coefficient Calculations'!$D$11","v":0.6},{"$f":"AC76*'Coefficient Calculations'!$D$13+(1-AC76)*'Coefficient Calculations'!$D$11","v":0.6},{"$f":"AD76*'Coefficient Calculations'!$D$13+(1-AD76)*'Coefficient Calculations'!$D$11","v":0.6},{"$f":"AE76*'Coefficient Calculations'!$D$13+(1-AE76)*'Coefficient Calculations'!$D$11","v":0.87097485037844435},{"$f":"AF76*'Coefficient Calculations'!$D$13+(1-AF76)*'Coefficient Calculations'!$D$11","v":0.6},{"$f":"AG76*'Coefficient Calculations'!$D$13+(1-AG76)*'Coefficient Calculations'!$D$11","v":0.88250203385990456},{"$f":"AH76*'Coefficient Calculations'!$D$13+(1-AH76)*'Coefficient Calculations'!$D$11","v":0.80842773512488986},{"$f":"AI76*'Coefficient Calculations'!$D$13+(1-AI76)*'Coefficient Calculations'!$D$11","v":0.83360772168674657},{"$f":"AJ76*'Coefficient Calculations'!$D$13+(1-AJ76)*'Coefficient Calculations'!$D$11","v":0.62602261905902012},{"$f":"AK76*'Coefficient Calculations'!$D$13+(1-AK76)*'Coefficient Calculations'!$D$11","v":0.66618290117474643},{"$f":"AL76*'Coefficient Calculations'!$D$13+(1-AL76)*'Coefficient Calculations'!$D$11","v":0.91745494615676404},{"$f":"AM76*'Coefficient Calculations'!$D$13+(1-AM76)*'Coefficient Calculations'!$D$11","v":0.60047786122966784},{"$f":"AN76*'Coefficient Calculations'!$D$13+(1-AN76)*'Coefficient Calculations'!$D$11","v":0.60629577180693839},2.46]
["CON11.CO2A","CO2.CON",null,"Fruits","Avocados","CON","kg CO2-eq/kg at HH&FS",2.62,2.62,2.62,{"$f":"IF(IF(ISNUMBER(K52),K42*(1+K52),K42*(1+$H52))=0,\"\",K42*(1+$H52))","v":""},"","","","","","","","","","","","","","","","","","","","","","","","","","","","","",2.62,{"$f":"IF(IF(ISNUMBER(AP52),AP42*(1+AP52),AP42*(1+$H52))=0,\"\",AP42*(1+$H52))","v":1.3645038167938932},""]
["CON12.CO2B","CO2.CON",null,"Fruits","Bananas","CON","kg CO2-eq/kg at HH&FS",1.1386112906976746,0.59708204651162788,1.7041716744186048,{"$f":"IF(IF(ISNUMBER(K53),K43*(1+K53),K43*(1+$H53))=0,\"\",K43*(1+$H53))","v":""},"","","","","","","","","","","","","","","","","","","",1.3931914418604654,1.7041716744186048,"","","","","","","",0.59708204651162788,0.86,"",""]
["CON13.CO2C","CO2.CON",null,"Vegetables","Cucumbers","CON","kg CO2-eq/kg at HH&FS",1.5495391833025538,0.42821672726115284,2.432268023306563,{"$f":"IF(IF(ISNUMBER(K54),K44*(1+K54),K44*(1+$H54))=0,\"\",K44*(1+$H54))","v":1.6146693866815551},{"$f":"IF(IF(ISNUMBER(L54),L44*(1+L54),L44*(1+$H54))=0,\"\",L44*(1+$H54))","v":1.140259560595877},1.7011971654795508,1.4447290298797795,2.3641324386477467,0.90568362466327867,1.1883518848830446,1.3478657339101687,2.247071938917804,1.8408478898507872,1.0215081473593144,2.432268023306563,1.3947441477092068,2.3713792710480415,0.79854367787468084,1.9512445034201145,1.4120610370341429,1.779751484212087,0.42821672726115284,1.584938940807457,2.0148556335241565,1.9759728074304799,2.1500505651536805,1.6862077267539255,1.9335452197237057,0.78692209216444653,0.83557313102221409,2.4075645927015361,1.4424675269976075,1.2730907733650649,0.56000000000000005,"",""]
["CON14.CO2E","CO2.CON",null,"Vegetables","Eggplants","CON","kg CO2-eq/kg at HH&FS","",0,0,{"$f":"IF(IF(ISNUMBER(K55),K45*(1+K55),K45*(1+$AP55))=0,\"\",K45*(1+$AP55))","v":""},"","","","","","","","","","","","","","","","","","","","","","","","","","","","","","",1.5213042000000001,""]
["CON15.CO2P","CO2.CON",null,"Vegetables","Peppers","CON","kg CO2-eq/kg at HH&FS",0.81191648032943486,0.64301886792452823,2.65,{"$f":"IF(IF(ISNUMBER(K56),K46*(1+K56),K46*(1+$H56))=0,\"\",K46*(1+$H56))","v":0.70392006595213252},{"$f":"IF(IF(ISNUMBER(L56),L46*(1+L56),L46*(1+$H56))=0,\"\",L46*(1+$H56))","v":0.77939869215279689},0.86550627471200803,{"$f":"IF(IF(ISNUMBER(N56),N46*(1+N56),N46*(1+$H56))=0,\"\",N46*(1+$H56))","v":0.74341364830567902},0.76269469732169337,0.71435523712320492,0.64301886792452823,0.64301886792452823,0.67213221177383387,0.6873157238687877,0.65752842798854261,0.98583184662719969,0.9580300025667311,0.64301886792452823,0.64301886792452823,0.90176410296892673,0.64301886792452823,0.64301886792452823,0.64301886792452823,0.64301886792452823,0.93342210380180446,0.64301886792452823,0.94577576458948265,0.8663904783979951,0.89337582248692837,0.67090725967079889,0.71394695824010557,0.98323473474913581,0.64353099090273835,0.64976603469120942,2.65,{"$f":"IF(IF(ISNUMBER(AP56),AP46*(1+AP56),AP46*(1+$H56))=0,\"\",AP46*(1+$H56))","v":""},{"$f":"IF(IF(ISNUMBER(AQ56),AQ46*(1+AQ56),AQ46*(1+$H56))=0,\"\",AQ46*(1+$H56))","v":""}]
["CON16.CO2INC","CO2.INC",null,"Fruits","Avocados","CON","Increase of kg CO2-eq/kg from R&D to CON",4.9618320610686939E-2,4.9618320610686939E-2,4.9618320610686939E-2,{"$nulls":30},{"$f":"1-AO42/AO47","v":4.9618320610686939E-2}]
["CON17.CO2INC","CO2.INC",null,"Fruits","Bananas","CON","Increase of kg CO2-eq/kg from R&D to CON",0.24392093023255815,0.15116279069767447,0.34300000000000003,{"$nulls":21},0.34300000000000003,{"$nulls":5},0.23760000000000001,null,null,{"$f":"1-AO43/AO48","v":0.15116279069767447}]
["CON18.CO2INC","CO2.INC",null,"Vegetables","Cucumbers","CON","Increase of kg CO2-eq/kg from R&D to CON",{"$f":"IFERROR(AVERAGE(K54:AO54),\"\")","v":0.23214285714285721},{"$f":"IFERROR(MIN(K54:AO54),\"\")","v":0.23214285714285721},{"$f":"IFERROR(MAX(K54:AO54),\"\")","v":0.23214285714285721},{"$nulls":30},0.23214285714285721]
["CON19.CO2INC","CO2.INC",null,"Vegetables","Eggplants","CON","Increase of kg CO2-eq/kg from R&D to CON","",{"$f":"IFERROR(MIN(K55:AO55),\"\")","v":0},0,{"$nulls":31},0.126892]
["CON20.CO2INC","CO2.INC",null,"Vegetables","Peppers","CON","Increase of kg CO2-eq/kg from R&D to CON",7.1698113207547154E-2,7.1698113207547154E-2,7.1698113207547154E-2,{"$nulls":30},{"$f":"1-AO46/AO51","v":7.1698113207547154E-2}]
["PP11.PA","Value.FG","Scheme","Fruits","Avocados","PP","price/kg at farm-gate (USD)",{"$f":"IFERROR(AVERAGE(K57:AO57),\"\")","v":2.7653712580645164},{"$f":"IFERROR(MIN(K57:AO57),\"\")","v":1.2364919999999999},{"$f":"IFERROR(MAX(K57:AO57),\"\")","v":4.5948250000000002},3.0059830000000001,2.4737399999999998,2.5517940000000001,2.08846,2.0111059999999998,2.8060839999999998,3.1789290000000001,3.0780110000000001,3.3447840000000002,2.6495199999999999,3.0054979999999998,2.6191499999999999,1.8471569999999999,4.1252940000000002,3.0564719999999999,2.268662,2.6543320000000001,2.2794490000000001,4.5948250000000002,3.1501350000000001,1.9713590000000001,4.0895169999999998,2.6644459999999999,2.7014049999999998,2.6565050000000001,3.2500369999999998,1.2364919999999999,2.0468220000000001,2.7191000000000001,3.358123,2.2433179999999999]
["PP12.PB","Value.FG",null,"Fruits","Bananas","PP","price/kg at farm-gate (USD)",0.81322580645161302,0.18,1.31,0.91,0.18,0.84,0.87,0.69,0.82,0.99,0.95,0.74,0.94,0.74,0.73,0.86,0.99,0.66,0.65,0.88,0.85,1.31,0.87,0.5,0.85,0.77,0.67,0.82,0.96,0.68,0.85,0.83,1.08,0.73]
["PP13.PC","Value.FG",null,"Vegetables","Cucumbers","PP","price/kg at farm-gate (USD)",1.4451612903225808,0.57999999999999996,2.99,1.18,1.06,0.75,0.86,1.1100000000000001,1.25,2.0499999999999998,1.33,1.44,1.34,1.46,0.82,0.87,2.99,1.91,1.07,2.1,1.85,2.1,1.68,1.1000000000000001,2.93,0.76,1.1399999999999999,1.1200000000000001,1.35,0.57999999999999996,1.01,1.52,2.38,1.69]
["PP14.PE","Value.FG",null,"Vegetables","Eggplants","PP","price/kg at farm-gate (USD)",1.3412903225806452,0.39,2.75,0.9,1.1299999999999999,0.39,0.98,0.78,1.54,1.1100000000000001,1.41,1.84,1.1599999999999999,1.64,0.71,1.19,2.75,1.9,0.88,1.48,1.42,2.1800000000000002,0.85,1.03,2.2400000000000002,1.4,0.88,0.9,1.48,1.1100000000000001,0.87,1.32,2.1800000000000002,1.93,1.34]
["PP15.PP","Value.FG",null,"Vegetables","Peppers","PP","price/kg at farm-gate (USD)",1.7483870967741935,0.56999999999999995,2.99,1.25,1.54,0.56999999999999995,1.1599999999999999,1.85,1.69,2.63,2.0099999999999998,2.73,1.64,2.2000000000000002,0.66,0.81,2.67,2.17,1.18,1.83,1.91,2.69,2.13,1.37,2.99,1.23,1.1599999999999999,1.38,1.66,1.0900000000000001,1.1100000000000001,2.25,2.52,2.12,1.75]
["R&D21.PA","Value.WG",null,"Fruits","Avocados","R&D","price/kg at wholesale-gate (USD)",3.9959614679032263,1.78673094,6.6395221250000009,{"$f":"K57*1.445","v":4.343645435},{"$f":"L57*1.445","v":3.5745543},3.6873423300000003,3.0178247000000002,2.90604817,4.0547913800000002,4.5935524050000005,4.4477258950000005,4.8332128800000005,3.8285564000000001,4.34294461,3.7846717499999998,2.6691418649999998,5.9610498300000003,4.4166020399999999,3.27821659,3.8355097400000004,3.293803805,6.6395221250000009,4.5519450750000008,2.8486137550000001,5.9093520650000002,3.8501244699999999,3.9035302249999999,3.8386497250000002,4.6963034649999997,1.78673094,2.9576577900000003,3.9290995000000004,4.8524877350000004,3.2415945100000001]
["R&D22.PB","Value.WG",null,"Fruits","Bananas","R&D","price/kg at wholesale-gate (USD)",1.1751112903225809,0.2601,1.8929500000000001,{"$f":"K58*1.445","v":1.3149500000000001},0.2601,1.2138,1.25715,0.99704999999999999,1.1849000000000001,1.43055,1.3727499999999999,1.0693000000000001,1.3583000000000001,1.0693000000000001,1.0548500000000001,1.2427000000000001,1.43055,0.9537000000000001,0.93925000000000003,1.2716000000000001,1.2282500000000001,1.8929500000000001,1.25715,0.72250000000000003,1.2282500000000001,1.1126500000000001,0.96815000000000007,1.1849000000000001,1.3872,0.98260000000000014,1.2282500000000001,1.1993499999999999,1.5606000000000002,1.0548500000000001]
["R&D23.PC","Value.WG",null,"Vegetables","Cucumbers","R&D","price/kg at wholesale-gate (USD)",2.0882580645161286,0.83809999999999996,4.3205500000000008,{"$f":"K59*1.445","v":1.7051000000000001},1.5317000000000001,1.08375,1.2427000000000001,1.6039500000000002,1.8062500000000001,2.96225,1.9218500000000003,2.0808,1.9363000000000001,2.1097000000000001,1.1849000000000001,1.25715,4.3205500000000008,2.7599499999999999,1.5461500000000001,3.0345000000000004,2.6732500000000003,3.0345000000000004,2.4276,1.5895000000000001,4.2338500000000003,1.0982000000000001,1.6473,1.6184000000000003,1.9507500000000002,0.83809999999999996,1.4594500000000001,2.1964000000000001,3.4390999999999998,2.4420500000000001]
["R&D24.PE","Value.WG",null,"Vegetables","Eggplants","R&D","price/kg at wholesale-gate (USD)",1.9381645161290328,0.56355,3.9737500000000003,1.3005,1.6328499999999999,0.56355,1.4161000000000001,1.1271,2.2253000000000003,1.6039500000000002,2.0374499999999998,2.6588000000000003,1.6761999999999999,2.3698000000000001,1.0259499999999999,1.7195499999999999,3.9737500000000003,2.7454999999999998,1.2716000000000001,2.1386000000000003,2.0518999999999998,3.1501000000000006,1.2282500000000001,1.4883500000000001,3.2368000000000006,2.0230000000000001,1.2716000000000001,1.3005,2.1386000000000003,1.6039500000000002,1.25715,1.9074000000000002,3.1501000000000006,2.7888500000000001]
["R&D25.PP","Value.WG",null,"Vegetables","Peppers","R&D","price/kg at wholesale-gate (USD)",2.5264193548387102,0.82364999999999999,4.3205500000000008,1.8062500000000001,2.2253000000000003,0.82364999999999999,1.6761999999999999,2.6732500000000003,2.4420500000000001,3.8003499999999999,2.9044499999999998,3.9448500000000002,2.3698000000000001,3.1790000000000003,0.9537000000000001,1.1704500000000002,3.8581500000000002,3.13565,1.7051000000000001,2.6443500000000002,2.7599499999999999,3.8870499999999999,3.0778500000000002,1.9796500000000001,4.3205500000000008,1.77735,1.6761999999999999,1.9941,2.3986999999999998,1.5750500000000003,1.6039500000000002,3.2512500000000002,3.6414,3.0634000000000001]
["R&D26.PA","Value.RG",null,"Fruits","Avocados","R&D","price/kg at retail-gate (USD)",5.7741643211201614,2.5818262083000003,9.5941094706250016,{"$f":"K62*1.445","v":6.2765676535750003},{"$f":"L62*1.445","v":5.1652309635},5.3282096668500003,4.3607566915000007,4.1992396056499999,5.8591735441000008,6.6376832252250013,6.4269639182750007,6.9839926116000006,5.5322639980000003,6.2755549614500001,5.46885067875,3.8569099949250001,8.6137170043500006,6.3819899478000002,4.7370229725500002,5.5423115743000011,4.7595464982250002,9.5941094706250016,6.5775606333750014,4.1162468759750004,8.5390137339250014,5.5634298591500002,5.640601175125,5.5468488526250006,6.7861585069250001,2.5818262083000003,4.273815506550001,5.6775487775000011,7.0118447770750008,4.6841040669500007]
["R&D27.PB","Value.RG",null,"Fruits","Bananas","R&D","price/kg at retail-gate (USD)",1.6980358145161296,0.37584450000000003,2.7353127500000003,{"$f":"K63*1.445","v":1.9001027500000001},{"$f":"L63*1.445","v":0.37584450000000003},1.753941,1.8165817500000001,1.44073725,1.7121805000000001,2.0671447500000002,1.98362375,1.5451385000000002,1.9627435000000002,1.5451385000000002,1.5242582500000001,1.7957015000000003,2.0671447500000002,1.3780965000000003,1.35721625,1.8374620000000002,1.7748212500000002,2.7353127500000003,1.8165817500000001,1.0440125,1.7748212500000002,1.6077792500000003,1.3989767500000001,1.7121805000000001,2.0045040000000003,1.4198570000000004,1.7748212500000002,1.7330607499999999,2.2550670000000004,1.5242582500000001]
["R&D28.PC","Value.RG",null,"Vegetables","Cucumbers","R&D","price/kg at retail-gate (USD)",3.0175329032258067,1.2110544999999999,6.2431947500000016,2.4638695000000004,2.2133065000000003,1.56601875,1.7957015000000003,2.3177077500000003,2.6100312500000005,4.2804512500000005,2.7770732500000004,3.0067560000000002,2.7979535000000002,3.0485165000000003,1.7121805000000001,1.8165817500000001,6.2431947500000016,3.9881277499999999,2.2341867500000001,4.3848525000000009,3.8628462500000005,4.3848525000000009,3.5078819999999999,2.2968275000000005,6.1179132500000009,1.5868990000000001,2.3803485000000002,2.3385880000000006,2.8188337500000005,1.2110544999999999,2.1089052500000003,3.1737980000000001,4.9694995000000004,3.5287622500000002]
["R&D29.PE","Value.RG",null,"Vegetables","Eggplants","R&D","price/kg at retail-gate (USD)",2.8006477258064519,0.81432975000000007,5.7420687500000005,1.8792225,2.3594682499999999,0.81432975000000007,2.0462645000000004,1.6286595000000001,3.2155585000000007,2.3177077500000003,2.9441152499999999,3.8419660000000007,2.4221089999999998,3.4243610000000002,1.4824977499999998,2.4847497500000002,5.7420687500000005,3.9672475,1.8374620000000002,3.0902770000000004,2.9649954999999997,4.5518945000000013,1.7748212500000002,2.1506657500000004,4.6771760000000011,2.9232350000000005,1.8374620000000002,1.8792225,3.0902770000000004,2.3177077500000003,1.8165817500000001,2.7561930000000006,4.5518945000000013,4.0298882499999999]
["R&D30.PP","Value.RG",null,"Vegetables","Peppers","R&D","price/kg at retail-gate (USD)",3.6506759677419356,1.1901742500000001,6.2431947500000016,2.6100312500000005,3.2155585000000007,1.1901742500000001,2.4221089999999998,3.8628462500000005,3.5287622500000002,5.49150575,4.1969302499999994,5.7003082500000009,3.4243610000000002,4.5936550000000009,1.3780965000000003,1.6913002500000003,5.5750267500000001,4.5310142500000001,2.4638695000000004,3.8210857500000004,3.9881277499999999,5.6167872499999998,4.4474932500000008,2.8605942500000001,6.2431947500000016,2.5682707499999999,2.4221089999999998,2.8814744999999999,3.4661214999999999,2.2759472500000006,2.3177077500000003,4.6980562500000005,5.2618230000000006,4.4266130000000006]
["PP16.WA","%P&I",null,"Fruits","Avocados","PP","Weight of Production compared with Imports",{"$f":"IFERROR(AVERAGE(K72:AO72),\"\")","v":7.6402320301933668E-2},{"$f":"IFERROR(MIN(K72:AO72),\"\")","v":0},{"$f":"IFERROR(MAX(K72:AO72),\"\")","v":0.74133480507982508},{"$f":"_xlfn.XLOOKUP($E72&K$5,'FFV Data'!$B:$B&'FFV Data'!$A:$A,'FFV Data'!$K:$K,\"N/A\",0)","v":0},{"$f":"_xlfn.XLOOKUP($E72&L$5,'FFV Data'!$B:$B&'FFV Data'!$A:$A,'FFV Data'!$K:$K,\"N/A\",0)","v":0},{"$f":"_xlfn.XLOOKUP($E72&M$5,'FFV Data'!$B:$B&'FFV Data'!$A:$A,'FFV Data'!$K:$K,\"N/A\",0)","v":0},{"$f":"_xlfn.XLOOKUP($E72&N$5,'FFV Data'!$B:$B&'FFV Data'!$A:$A,'FFV Data'!$K:$K,\"N/A\",0)","v":0},{"$f":"_xlfn.XLOOKUP($E72&O$5,'FFV Data'!$B:$B&'FFV Data'!$A:$A,'FFV Data'!$K:$K,\"N/A\",0)","v":0.63630072408235683},{"$f":"_xlfn.XLOOKUP($E72&P$5,'FFV Data'!$B:$B&'FFV Data'!$A:$A,'FFV Data'!$K:$K,\"N/A\",0)","v":0},{"$f":"_xlfn.XLOOKUP($E72&Q$5,'FFV Data'!$B:$B&'FFV Data'!$A:$A,'FFV Data'!$K:$K,\"N/A\",0)","v":0},{"$f":"_xlfn.XLOOKUP($E72&R$5,'FFV Data'!$B:$B&'FFV Data'!$A:$A,'FFV Data'!$K:$K,\"N/A\",0)","v":0},{"$f":"_xlfn.XLOOKUP($E72&S$5,'FFV Data'!$B:$B&'FFV Data'!$A:$A,'FFV Data'!$K:$K,\"N/A\",0)","v":0},{"$f":"_xlfn.XLOOKUP($E72&T$5,'FFV Data'!$B:$B&'FFV Data'!$A:$A,'FFV Data'!$K:$K,\"N/A\",0)","v":5.3513943553492342E-3},{"$f":"_xlfn.XLOOKUP($E72&U$5,'FFV Data'!$B:$B&'FFV Data'!$A:$A,'FFV Data'!$K:$K,\"N/A\",0)","v":0},{"$f":"_xlfn.XLOOKUP($E72&V$5,'FFV Data'!$B:$B&'FFV Data'!$A:$A,'FFV Data'!$K:$K,\"N/A\",0)","v":0.64867167079422361},{"$f":"_xlfn.XLOOKUP($E72&W$5,'FFV Data'!$B:$B&'FFV Data'!$A:$A,'FFV Data'!$K:$K,\"N/A\",0)","v":0},{"$f":"_xlfn.XLOOKUP($E72&X$5,'FFV Data'!$B:$B&'FFV Data'!$A:$A,'FFV Data'!$K:$K,\"N/A\",0)","v":0},{"$f":"_xlfn.XLOOKUP($E72&Y$5,'FFV Data'!$B:$B&'FFV Data'!$A:$A,'FFV Data'!$K:$K,\"N/A\",0)","v":0},{"$f":"_xlfn.XLOOKUP($E72&Z$5,'FFV Data'!$B:$B&'FFV Data'!$A:$A,'FFV Data'!$K:$K,\"N/A\",0)","v":0},{"$f":"_xlfn.XLOOKUP($E72&AA$5,'FFV Data'!$B:$B&'FFV Data'!$A:$A,'FFV Data'!$K:$K,\"N/A\",0)","v":0},{"$f":"_xlfn.XLOOKUP($E72&AB$5,'FFV Data'!$B:$B&'FFV Data'!$A:$A,'FFV Data'!$K:$K,\"N/A\",0)","v":0},{"$f":"_xlfn.XLOOKUP($E72&AC$5,'FFV Data'!$B:$B&'FFV Data'!$A:$A,'FFV Data'!$K:$K,\"N/A\",0)","v":0},{"$f":"_xlfn.XLOOKUP($E72&AD$5,'FFV Data'!$B:$B&'FFV Data'!$A:$A,'FFV Data'!$K:$K,\"N/A\",0)","v":0},{"$f":"_xlfn.XLOOKUP($E72&AE$5,'FFV Data'!$B:$B&'FFV Data'!$A:$A,'FFV Data'!$K:$K,\"N/A\",0)","v":0},{"$f":"_xlfn.XLOOKUP($E72&AF$5,'FFV Data'!$B:$B&'FFV Data'!$A:$A,'FFV Data'!$K:$K,\"N/A\",0)","v":0},{"$f":"_xlfn.XLOOKUP($E72&AG$5,'FFV Data'!$B:$B&'FFV Data'!$A:$A,'FFV Data'!$K:$K,\"N/A\",0)","v":0},{"$f":"_xlfn.XLOOKUP($E72&AH$5,'FFV Data'!$B:$B&'FFV Data'!$A:$A,'FFV Data'!$K:$K,\"N/A\",0)","v":0.74133480507982508},{"$f":"_xlfn.XLOOKUP($E72&AI$5,'FFV Data'!$B:$B&'FFV Data'!$A:$A,'FFV Data'!$K:$K,\"N/A\",0)","v":0},{"$f":"_xlfn.XLOOKUP($E72&AJ$5,'FFV Data'!$B:$B&'FFV Data'!$A:$A,'FFV Data'!$K:$K,\"N/A\",0)","v":0},{"$f":"_xlfn.XLOOKUP($E72&AK$5,'FFV Data'!$B:$B&'FFV Data'!$A:$A,'FFV Data'!$K:$K,\"N/A\",0)","v":0},{"$f":"_xlfn.XLOOKUP($E72&AL$5,'FFV Data'!$B:$B&'FFV Data'!$A:$A,'FFV Data'!$K:$K,\"N/A\",0)","v":0.336813335048189},{"$f":"_xlfn.XLOOKUP($E72&AM$5,'FFV Data'!$B:$B&'FFV Data'!$A:$A,'FFV Data'!$K:$K,\"N/A\",0)","v":0},{"$f":"_xlfn.XLOOKUP($E72&AN$5,'FFV Data'!$B:$B&'FFV Data'!$A:$A,'FFV Data'!$K:$K,\"N/A\",0)","v":0},{"$f":"_xlfn.XLOOKUP($E72&AO$5,'FFV Data'!$B:$B&'FFV Data'!$A:$A,'FFV Data'!$K:$K,\"N/A\",0)","v":0}]
["PP17.WB","%P&I",null,"Fruits","Bananas","PP","Weight of Production compared with Imports",4.1152992269805878E-2,0,0.46353680535647485,{"$f":"_xlfn.XLOOKUP($E73&K$5,'FFV Data'!$B:$B&'FFV Data'!$A:$A,'FFV Data'!$K:$K,\"N/A\",0)","v":0},{"$f":"_xlfn.XLOOKUP($E73&L$5,'FFV Data'!$B:$B&'FFV Data'!$A:$A,'FFV Data'!$K:$K,\"N/A\",0)","v":0},{"$f":"_xlfn.XLOOKUP($E73&M$5,'FFV Data'!$B:$B&'FFV Data'!$A:$A,'FFV Data'!$K:$K,\"N/A\",0)","v":0},{"$f":"_xlfn.XLOOKUP($E73&N$5,'FFV Data'!$B:$B&'FFV Data'!$A:$A,'FFV Data'!$K:$K,\"N/A\",0)","v":0},{"$f":"_xlfn.XLOOKUP($E73&O$5,'FFV Data'!$B:$B&'FFV Data'!$A:$A,'FFV Data'!$K:$K,\"N/A\",0)","v":0.44546543822256041},{"$f":"_xlfn.XLOOKUP($E73&P$5,'FFV Data'!$B:$B&'FFV Data'!$A:$A,'FFV Data'!$K:$K,\"N/A\",0)","v":0},{"$f":"_xlfn.XLOOKUP($E73&Q$5,'FFV Data'!$B:$B&'FFV Data'!$A:$A,'FFV Data'!$K:$K,\"N/A\",0)","v":0},{"$f":"_xlfn.XLOOKUP($E73&R$5,'FFV Data'!$B:$B&'FFV Data'!$A:$A,'FFV Data'!$K:$K,\"N/A\",0)","v":0},{"$f":"_xlfn.XLOOKUP($E73&S$5,'FFV Data'!$B:$B&'FFV Data'!$A:$A,'FFV Data'!$K:$K,\"N/A\",0)","v":0},{"$f":"_xlfn.XLOOKUP($E73&T$5,'FFV Data'!$B:$B&'FFV Data'!$A:$A,'FFV Data'!$K:$K,\"N/A\",0)","v":0.22875960291033173},{"$f":"_xlfn.XLOOKUP($E73&U$5,'FFV Data'!$B:$B&'FFV Data'!$A:$A,'FFV Data'!$K:$K,\"N/A\",0)","v":0},{"$f":"_xlfn.XLOOKUP($E73&V$5,'FFV Data'!$B:$B&'FFV Data'!$A:$A,'FFV Data'!$K:$K,\"N/A\",0)","v":2.2613341072548841E-2},{"$f":"_xlfn.XLOOKUP($E73&W$5,'FFV Data'!$B:$B&'FFV Data'!$A:$A,'FFV Data'!$K:$K,\"N/A\",0)","v":0},{"$f":"_xlfn.XLOOKUP($E73&X$5,'FFV Data'!$B:$B&'FFV Data'!$A:$A,'FFV Data'!$K:$K,\"N/A\",0)","v":0},{"$f":"_xlfn.XLOOKUP($E73&Y$5,'FFV Data'!$B:$B&'FFV Data'!$A:$A,'FFV Data'!$K:$K,\"N/A\",0)","v":0},{"$f":"_xlfn.XLOOKUP($E73&Z$5,'FFV Data'!$B:$B&'FFV Data'!$A:$A,'FFV Data'!$K:$K,\"N/A\",0)","v":0},{"$f":"_xlfn.XLOOKUP($E73&AA$5,'FFV Data'!$B:$B&'FFV Data'!$A:$A,'FFV Data'!$K:$K,\"N/A\",0)","v":0},{"$f":"_xlfn.XLOOKUP($E73&AB$5,'FFV Data'!$B:$B&'FFV Data'!$A:$A,'FFV Data'!$K:$K,\"N/A\",0)","v":0},{"$f":"_xlfn.XLOOKUP($E73&AC$5,'FFV Data'!$B:$B&'FFV Data'!$A:$A,'FFV Data'!$K:$K,\"N/A\",0)","v":0},{"$f":"_xlfn.XLOOKUP($E73&AD$5,'FFV Data'!$B:$B&'FFV Data'!$A:$A,'FFV Data'!$K:$K,\"N/A\",0)","v":0},{"$f":"_xlfn.XLOOKUP($E73&AE$5,'FFV Data'!$B:$B&'FFV Data'!$A:$A,'FFV Data'!$K:$K,\"N/A\",0)","v":0},{"$f":"_xlfn.XLOOKUP($E73&AF$5,'FFV Data'!$B:$B&'FFV Data'!$A:$A,'FFV Data'!$K:$K,\"N/A\",0)","v":0},{"$f":"_xlfn.XLOOKUP($E73&AG$5,'FFV Data'!$B:$B&'FFV Data'!$A:$A,'FFV Data'!$K:$K,\"N/A\",0)","v":0},{"$f":"_xlfn.XLOOKUP($E73&AH$5,'FFV Data'!$B:$B&'FFV Data'!$A:$A,'FFV Data'!$K:$K,\"N/A\",0)","v":0.11536757280206635},{"$f":"_xlfn.XLOOKUP($E73&AI$5,'FFV Data'!$B:$B&'FFV Data'!$A:$A,'FFV Data'!$K:$K,\"N/A\",0)","v":0},{"$f":"_xlfn.XLOOKUP($E73&AJ$5,'FFV Data'!$B:$B&'FFV Data'!$A:$A,'FFV Data'!$K:$K,\"N/A\",0)","v":0},{"$f":"_xlfn.XLOOKUP($E73&AK$5,'FFV Data'!$B:$B&'FFV Data'!$A:$A,'FFV Data'!$K:$K,\"N/A\",0)","v":0},{"$f":"_xlfn.XLOOKUP($E73&AL$5,'FFV Data'!$B:$B&'FFV Data'!$A:$A,'FFV Data'!$K:$K,\"N/A\",0)","v":0.46353680535647485},{"$f":"_xlfn.XLOOKUP($E73&AM$5,'FFV Data'!$B:$B&'FFV Data'!$A:$A,'FFV Data'!$K:$K,\"N/A\",0)","v":0},{"$f":"_xlfn.XLOOKUP($E73&AN$5,'FFV Data'!$B:$B&'FFV Data'!$A:$A,'FFV Data'!$K:$K,\"N/A\",0)","v":0},{"$f":"_xlfn.XLOOKUP($E73&AO$5,'FFV Data'!$B:$B&'FFV Data'!$A:$A,'FFV Data'!$K:$K,\"N/A\",0)","v":0}]
["PP18.WC","%P&I",null,"Vegetables","Cucumbers","PP","Weight of Production compared with Imports",0.56462290720103259,1.0609929479335393E-2,0.9945642030315327,{"$f":"_xlfn.XLOOKUP($E74&K$5,'FFV Data'!$B:$B&'FFV Data'!$A:$A,'FFV Data'!$K:$K,\"N/A\",0)","v":0.59313751592771224},{"$f":"_xlfn.XLOOKUP($E74&L$5,'FFV Data'!$B:$B&'FFV Data'!$A:$A,'FFV Data'!$K:$K,\"N/A\",0)","v":0.36021055606730945},{"$f":"_xlfn.XLOOKUP($E74&M$5,'FFV Data'!$B:$B&'FFV Data'!$A:$A,'FFV Data'!$K:$K,\"N/A\",0)","v":0.63562114790722923},{"$f":"_xlfn.XLOOKUP($E74&N$5,'FFV Data'!$B:$B&'FFV Data'!$A:$A,'FFV Data'!$K:$K,\"N/A\",0)","v":0.50969976128837036},{"$f":"_xlfn.XLOOKUP($E74&O$5,'FFV Data'!$B:$B&'FFV Data'!$A:$A,'FFV Data'!$K:$K,\"N/A\",0)","v":0.96111081796184206},{"$f":"_xlfn.XLOOKUP($E74&P$5,'FFV Data'!$B:$B&'FFV Data'!$A:$A,'FFV Data'!$K:$K,\"N/A\",0)","v":0.24503785809852624},{"$f":"_xlfn.XLOOKUP($E74&Q$5,'FFV Data'!$B:$B&'FFV Data'!$A:$A,'FFV Data'!$K:$K,\"N/A\",0)","v":0.38382304947044454},{"$f":"_xlfn.XLOOKUP($E74&R$5,'FFV Data'!$B:$B&'FFV Data'!$A:$A,'FFV Data'!$K:$K,\"N/A\",0)","v":0.46214157043381338},{"$f":"_xlfn.XLOOKUP($E74&S$5,'FFV Data'!$B:$B&'FFV Data'!$A:$A,'FFV Data'!$K:$K,\"N/A\",0)","v":0.90363615191875146},{"$f":"_xlfn.XLOOKUP($E74&T$5,'FFV Data'!$B:$B&'FFV Data'!$A:$A,'FFV Data'!$K:$K,\"N/A\",0)","v":0.70418722070231632},{"$f":"_xlfn.XLOOKUP($E74&U$5,'FFV Data'!$B:$B&'FFV Data'!$A:$A,'FFV Data'!$K:$K,\"N/A\",0)","v":0.30190568095006542},{"$f":"_xlfn.XLOOKUP($E74&V$5,'FFV Data'!$B:$B&'FFV Data'!$A:$A,'FFV Data'!$K:$K,\"N/A\",0)","v":0.9945642030315327},{"$f":"_xlfn.XLOOKUP($E74&W$5,'FFV Data'!$B:$B&'FFV Data'!$A:$A,'FFV Data'!$K:$K,\"N/A\",0)","v":0.4851580549349499},{"$f":"_xlfn.XLOOKUP($E74&X$5,'FFV Data'!$B:$B&'FFV Data'!$A:$A,'FFV Data'!$K:$K,\"N/A\",0)","v":0.96466888642249349},{"$f":"_xlfn.XLOOKUP($E74&Y$5,'FFV Data'!$B:$B&'FFV Data'!$A:$A,'FFV Data'!$K:$K,\"N/A\",0)","v":0.19243401072255209},{"$f":"_xlfn.XLOOKUP($E74&Z$5,'FFV Data'!$B:$B&'FFV Data'!$A:$A,'FFV Data'!$K:$K,\"N/A\",0)","v":0.75839003473286526},{"$f":"_xlfn.XLOOKUP($E74&AA$5,'FFV Data'!$B:$B&'FFV Data'!$A:$A,'FFV Data'!$K:$K,\"N/A\",0)","v":0.49366034591399033},{"$f":"_xlfn.XLOOKUP($E74&AB$5,'FFV Data'!$B:$B&'FFV Data'!$A:$A,'FFV Data'!$K:$K,\"N/A\",0)","v":0.67418994990116232},{"$f":"_xlfn.XLOOKUP($E74&AC$5,'FFV Data'!$B:$B&'FFV Data'!$A:$A,'FFV Data'!$K:$K,\"N/A\",0)","v":1.0609929479335393E-2},{"$f":"_xlfn.XLOOKUP($E74&AD$5,'FFV Data'!$B:$B&'FFV Data'!$A:$A,'FFV Data'!$K:$K,\"N/A\",0)","v":0.57854038494101712},{"$f":"_xlfn.XLOOKUP($E74&AE$5,'FFV Data'!$B:$B&'FFV Data'!$A:$A,'FFV Data'!$K:$K,\"N/A\",0)","v":0.78962199143720047},{"$f":"_xlfn.XLOOKUP($E74&AF$5,'FFV Data'!$B:$B&'FFV Data'!$A:$A,'FFV Data'!$K:$K,\"N/A\",0)","v":0.7705312012073513},{"$f":"_xlfn.XLOOKUP($E74&AG$5,'FFV Data'!$B:$B&'FFV Data'!$A:$A,'FFV Data'!$K:$K,\"N/A\",0)","v":0.85600034762097987},{"$f":"_xlfn.XLOOKUP($E74&AH$5,'FFV Data'!$B:$B&'FFV Data'!$A:$A,'FFV Data'!$K:$K,\"N/A\",0)","v":0.628261594625668},{"$f":"_xlfn.XLOOKUP($E74&AI$5,'FFV Data'!$B:$B&'FFV Data'!$A:$A,'FFV Data'!$K:$K,\"N/A\",0)","v":0.74969999477916749},{"$f":"_xlfn.XLOOKUP($E74&AJ$5,'FFV Data'!$B:$B&'FFV Data'!$A:$A,'FFV Data'!$K:$K,\"N/A\",0)","v":0.18672801459979668},{"$f":"_xlfn.XLOOKUP($E74&AK$5,'FFV Data'!$B:$B&'FFV Data'!$A:$A,'FFV Data'!$K:$K,\"N/A\",0)","v":0.21061482712366614},{"$f":"_xlfn.XLOOKUP($E74&AL$5,'FFV Data'!$B:$B&'FFV Data'!$A:$A,'FFV Data'!$K:$K,\"N/A\",0)","v":0.98243524896574552},{"$f":"_xlfn.XLOOKUP($E74&AM$5,'FFV Data'!$B:$B&'FFV Data'!$A:$A,'FFV Data'!$K:$K,\"N/A\",0)","v":0.50858940277112341},{"$f":"_xlfn.XLOOKUP($E74&AN$5,'FFV Data'!$B:$B&'FFV Data'!$A:$A,'FFV Data'!$K:$K,\"N/A\",0)","v":0.42542836746927976},{"$f":"_xlfn.XLOOKUP($E74&AO$5,'FFV Data'!$B:$B&'FFV Data'!$A:$A,'FFV Data'!$K:$K,\"N/A\",0)","v":0.18267200182574575}]
["PP19.WE","%P&I",null,"Vegetables","Eggplants","PP","Weight of Production compared with Imports",0.33266350104021747,0,0.99416707583592945,{"$f":"_xlfn.XLOOKUP($E75&K$5,'FFV Data'!$B:$B&'FFV Data'!$A:$A,'FFV Data'!$K:$K,\"N/A\",0)","v":0.18448915266321034},{"$f":"_xlfn.XLOOKUP($E75&L$5,'FFV Data'!$B:$B&'FFV Data'!$A:$A,'FFV Data'!$K:$K,\"N/A\",0)","v":0.59412871669488776},{"$f":"_xlfn.XLOOKUP($E75&M$5,'FFV Data'!$B:$B&'FFV Data'!$A:$A,'FFV Data'!$K:$K,\"N/A\",0)","v":0.71596400230527102},{"$f":"_xlfn.XLOOKUP($E75&N$5,'FFV Data'!$B:$B&'FFV Data'!$A:$A,'FFV Data'!$K:$K,\"N/A\",0)","v":0.50457311432617624},{"$f":"_xlfn.XLOOKUP($E75&O$5,'FFV Data'!$B:$B&'FFV Data'!$A:$A,'FFV Data'!$K:$K,\"N/A\",0)","v":0.95726193631999057},{"$f":"_xlfn.XLOOKUP($E75&P$5,'FFV Data'!$B:$B&'FFV Data'!$A:$A,'FFV Data'!$K:$K,\"N/A\",0)","v":0},{"$f":"_xlfn.XLOOKUP($E75&Q$5,'FFV Data'!$B:$B&'FFV Data'!$A:$A,'FFV Data'!$K:$K,\"N/A\",0)","v":0},{"$f":"_xlfn.XLOOKUP($E75&R$5,'FFV Data'!$B:$B&'FFV Data'!$A:$A,'FFV Data'!$K:$K,\"N/A\",0)","v":0},{"$f":"_xlfn.XLOOKUP($E75&S$5,'FFV Data'!$B:$B&'FFV Data'!$A:$A,'FFV Data'!$K:$K,\"N/A\",0)","v":0},{"$f":"_xlfn.XLOOKUP($E75&T$5,'FFV Data'!$B:$B&'FFV Data'!$A:$A,'FFV Data'!$K:$K,\"N/A\",0)","v":0.45828555030406726},{"$f":"_xlfn.XLOOKUP($E75&U$5,'FFV Data'!$B:$B&'FFV Data'!$A:$A,'FFV Data'!$K:$K,\"N/A\",0)","v":0},{"$f":"_xlfn.XLOOKUP($E75&V$5,'FFV Data'!$B:$B&'FFV Data'!$A:$A,'FFV Data'!$K:$K,\"N/A\",0)","v":0.95663889117598444},{"$f":"_xlfn.XLOOKUP($E75&W$5,'FFV Data'!$B:$B&'FFV Data'!$A:$A,'FFV Data'!$K:$K,\"N/A\",0)","v":0.34322501646552445},{"$f":"_xlfn.XLOOKUP($E75&X$5,'FFV Data'!$B:$B&'FFV Data'!$A:$A,'FFV Data'!$K:$K,\"N/A\",0)","v":0},{"$f":"_xlfn.XLOOKUP($E75&Y$5,'FFV Data'!$B:$B&'FFV Data'!$A:$A,'FFV Data'!$K:$K,\"N/A\",0)","v":0},{"$f":"_xlfn.XLOOKUP($E75&Z$5,'FFV Data'!$B:$B&'FFV Data'!$A:$A,'FFV Data'!$K:$K,\"N/A\",0)","v":0.92030507680729123},{"$f":"_xlfn.XLOOKUP($E75&AA$5,'FFV Data'!$B:$B&'FFV Data'!$A:$A,'FFV Data'!$K:$K,\"N/A\",0)","v":0},{"$f":"_xlfn.XLOOKUP($E75&AB$5,'FFV Data'!$B:$B&'FFV Data'!$A:$A,'FFV Data'!$K:$K,\"N/A\",0)","v":0},{"$f":"_xlfn.XLOOKUP($E75&AC$5,'FFV Data'!$B:$B&'FFV Data'!$A:$A,'FFV Data'!$K:$K,\"N/A\",0)","v":0},{"$f":"_xlfn.XLOOKUP($E75&AD$5,'FFV Data'!$B:$B&'FFV Data'!$A:$A,'FFV Data'!$K:$K,\"N/A\",0)","v":0.8237811555037623},{"$f":"_xlfn.XLOOKUP($E75&AE$5,'FFV Data'!$B:$B&'FFV Data'!$A:$A,'FFV Data'!$K:$K,\"N/A\",0)","v":0.80103902043122843},{"$f":"_xlfn.XLOOKUP($E75&AF$5,'FFV Data'!$B:$B&'FFV Data'!$A:$A,'FFV Data'!$K:$K,\"N/A\",0)","v":0},{"$f":"_xlfn.XLOOKUP($E75&AG$5,'FFV Data'!$B:$B&'FFV Data'!$A:$A,'FFV Data'!$K:$K,\"N/A\",0)","v":0.14685725474838457},{"$f":"_xlfn.XLOOKUP($E75&AH$5,'FFV Data'!$B:$B&'FFV Data'!$A:$A,'FFV Data'!$K:$K,\"N/A\",0)","v":0.58108821975699942},{"$f":"_xlfn.XLOOKUP($E75&AI$5,'FFV Data'!$B:$B&'FFV Data'!$A:$A,'FFV Data'!$K:$K,\"N/A\",0)","v":0.9310064517189659},{"$f":"_xlfn.XLOOKUP($E75&AJ$5,'FFV Data'!$B:$B&'FFV Data'!$A:$A,'FFV Data'!$K:$K,\"N/A\",0)","v":0},{"$f":"_xlfn.XLOOKUP($E75&AK$5,'FFV Data'!$B:$B&'FFV Data'!$A:$A,'FFV Data'!$K:$K,\"N/A\",0)","v":0.3967883484268509},{"$f":"_xlfn.XLOOKUP($E75&AL$5,'FFV Data'!$B:$B&'FFV Data'!$A:$A,'FFV Data'!$K:$K,\"N/A\",0)","v":0.99416707583592945},{"$f":"_xlfn.XLOOKUP($E75&AM$5,'FFV Data'!$B:$B&'FFV Data'!$A:$A,'FFV Data'!$K:$K,\"N/A\",0)","v":2.9695487622178373E-3},{"$f":"_xlfn.XLOOKUP($E75&AN$5,'FFV Data'!$B:$B&'FFV Data'!$A:$A,'FFV Data'!$K:$K,\"N/A\",0)","v":0},{"$f":"_xlfn.XLOOKUP($E75&AO$5,'FFV Data'!$B:$B&'FFV Data'!$A:$A,'FFV Data'!$K:$K,\"N/A\",0)","v":0}]
["PP20.WP","%P&I",null,"Vegetables","Peppers","PP","Weight of Production compared with Imports",0.29152252125153411,0,0.95201877259607548,{"$f":"_xlfn.XLOOKUP($E76&K$5,'FFV Data'!$B:$B&'FFV Data'!$A:$A,'FFV Data'!$K:$K,\"N/A\",0)","v":0.16912744673578067},{"$f":"_xlfn.XLOOKUP($E76&L$5,'FFV Data'!$B:$B&'FFV Data'!$A:$A,'FFV Data'!$K:$K,\"N/A\",0)","v":0.37873756518791046},{"$f":"_xlfn.XLOOKUP($E76&M$5,'FFV Data'!$B:$B&'FFV Data'!$A:$A,'FFV Data'!$K:$K,\"N/A\",0)","v":0.6178651366394422},{"$f":"_xlfn.XLOOKUP($E76&N$5,'FFV Data'!$B:$B&'FFV Data'!$A:$A,'FFV Data'!$K:$K,\"N/A\",0)","v":0.27880425051354968},{"$f":"_xlfn.XLOOKUP($E76&O$5,'FFV Data'!$B:$B&'FFV Data'!$A:$A,'FFV Data'!$K:$K,\"N/A\",0)","v":0.33234924956246575},{"$f":"_xlfn.XLOOKUP($E76&P$5,'FFV Data'!$B:$B&'FFV Data'!$A:$A,'FFV Data'!$K:$K,\"N/A\",0)","v":0.19810674293311231},{"$f":"_xlfn.XLOOKUP($E76&Q$5,'FFV Data'!$B:$B&'FFV Data'!$A:$A,'FFV Data'!$K:$K,\"N/A\",0)","v":0},{"$f":"_xlfn.XLOOKUP($E76&R$5,'FFV Data'!$B:$B&'FFV Data'!$A:$A,'FFV Data'!$K:$K,\"N/A\",0)","v":0},{"$f":"_xlfn.XLOOKUP($E76&S$5,'FFV Data'!$B:$B&'FFV Data'!$A:$A,'FFV Data'!$K:$K,\"N/A\",0)","v":8.0850059943682509E-2},{"$f":"_xlfn.XLOOKUP($E76&T$5,'FFV Data'!$B:$B&'FFV Data'!$A:$A,'FFV Data'!$K:$K,\"N/A\",0)","v":0.12301587467753115},{"$f":"_xlfn.XLOOKUP($E76&U$5,'FFV Data'!$B:$B&'FFV Data'!$A:$A,'FFV Data'!$K:$K,\"N/A\",0)","v":4.0294196606344312E-2},{"$f":"_xlfn.XLOOKUP($E76&V$5,'FFV Data'!$B:$B&'FFV Data'!$A:$A,'FFV Data'!$K:$K,\"N/A\",0)","v":0.95201877259607548},{"$f":"_xlfn.XLOOKUP($E76&W$5,'FFV Data'!$B:$B&'FFV Data'!$A:$A,'FFV Data'!$K:$K,\"N/A\",0)","v":0.87481085136007408},{"$f":"_xlfn.XLOOKUP($E76&X$5,'FFV Data'!$B:$B&'FFV Data'!$A:$A,'FFV Data'!$K:$K,\"N/A\",0)","v":0},{"$f":"_xlfn.XLOOKUP($E76&Y$5,'FFV Data'!$B:$B&'FFV Data'!$A:$A,'FFV Data'!$K:$K,\"N/A\",0)","v":0},{"$f":"_xlfn.XLOOKUP($E76&Z$5,'FFV Data'!$B:$B&'FFV Data'!$A:$A,'FFV Data'!$K:$K,\"N/A\",0)","v":0.71855599520839153},{"$f":"_xlfn.XLOOKUP($E76&AA$5,'FFV Data'!$B:$B&'FFV Data'!$A:$A,'FFV Data'!$K:$K,\"N/A\",0)","v":0},{"$f":"_xlfn.XLOOKUP($E76&AB$5,'FFV Data'!$B:$B&'FFV Data'!$A:$A,'FFV Data'!$K:$K,\"N/A\",0)","v":0},{"$f":"_xlfn.XLOOKUP($E76&AC$5,'FFV Data'!$B:$B&'FFV Data'!$A:$A,'FFV Data'!$K:$K,\"N/A\",0)","v":0},{"$f":"_xlfn.XLOOKUP($E76&AD$5,'FFV Data'!$B:$B&'FFV Data'!$A:$A,'FFV Data'!$K:$K,\"N/A\",0)","v":0},{"$f":"_xlfn.XLOOKUP($E76&AE$5,'FFV Data'!$B:$B&'FFV Data'!$A:$A,'FFV Data'!$K:$K,\"N/A\",0)","v":0.8064727689834652},{"$f":"_xlfn.XLOOKUP($E76&AF$5,'FFV Data'!$B:$B&'FFV Data'!$A:$A,'FFV Data'!$K:$K,\"N/A\",0)","v":0},{"$f":"_xlfn.XLOOKUP($E76&AG$5,'FFV Data'!$B:$B&'FFV Data'!$A:$A,'FFV Data'!$K:$K,\"N/A\",0)","v":0.8407798626782873},{"$f":"_xlfn.XLOOKUP($E76&AH$5,'FFV Data'!$B:$B&'FFV Data'!$A:$A,'FFV Data'!$K:$K,\"N/A\",0)","v":0.62032064025264844},{"$f":"_xlfn.XLOOKUP($E76&AI$5,'FFV Data'!$B:$B&'FFV Data'!$A:$A,'FFV Data'!$K:$K,\"N/A\",0)","v":0.69526107644865054},{"$f":"_xlfn.XLOOKUP($E76&AJ$5,'FFV Data'!$B:$B&'FFV Data'!$A:$A,'FFV Data'!$K:$K,\"N/A\",0)","v":7.7448271008988587E-2},{"$f":"_xlfn.XLOOKUP($E76&AK$5,'FFV Data'!$B:$B&'FFV Data'!$A:$A,'FFV Data'!$K:$K,\"N/A\",0)","v":0.19697292016293599},{"$f":"_xlfn.XLOOKUP($E76&AL$5,'FFV Data'!$B:$B&'FFV Data'!$A:$A,'FFV Data'!$K:$K,\"N/A\",0)","v":0.94480638737132128},{"$f":"_xlfn.XLOOKUP($E76&AM$5,'FFV Data'!$B:$B&'FFV Data'!$A:$A,'FFV Data'!$K:$K,\"N/A\",0)","v":1.4222060406779372E-3},{"$f":"_xlfn.XLOOKUP($E76&AN$5,'FFV Data'!$B:$B&'FFV Data'!$A:$A,'FFV Data'!$K:$K,\"N/A\",0)","v":1.8737416092078633E-2},{"$f":"_xlfn.XLOOKUP($E76&AO$5,'FFV Data'!$B:$B&'FFV Data'!$A:$A,'FFV Data'!$K:$K,\"N/A\",0)","v":7.0440467794143632E-2}]
{"$rows_empty":70}
[{"$nulls":27},0.22812668477441489]
[{"$nulls":27},""]
[{"$nulls":27},""]
[{"$nulls":27},""]
[{"$nulls":27},""]
[{"$nulls":27},""]
[{"$nulls":27},""]
[{"$nulls":27},""]

{"sheet":"Schemes","index":8,"n_rows":89,"n_cols":11,"rows_kept":89,"cut":false,"hidden":false,"merged":[]}
["Homepage"]
[]
[]
["Depiction of the waste-estimation FFV model",{"$nulls":9},"FFV Coefficients"]
{"$rows_empty":28}
["Depiction of the adjusted model for waste of cucumbers",{"$nulls":9},"FFV Coefficients"]
{"$rows_empty":25}
["Depiction of the adjusted model to estimate the CO2-eq for each product",{"$nulls":9},"FFV Coefficients"]
{"$rows_empty":29}
["Depiction of the model to estimate economic cost of food waste",{"$nulls":9},"FFV Coefficients"]

{"sheet":"FFV Waste","index":9,"n_rows":158,"n_cols":41,"rows_kept":158,"cut":false,"hidden":false,"merged":[]}
["Homepage"]
[null,"Unit: Tonnes",null,null,{"$f":"'FFV Coefficients'!G12","v":"Food waste at R&D"},{"$f":"'FFV Coefficients'!G17","v":"Share Households"},{"$f":"'FFV Coefficients'!G27","v":"Food Waste Households"},{"$f":"'FFV Coefficients'!G22","v":"Share Food Service"},{"$f":"'FFV Coefficients'!G32","v":"Food Waste Food Service"},null,null,"Best Case","Unit: Tonnes",{"$nulls":9},"Worst Case","Unit: Tonnes",{"$nulls":9},"Difference (Worst and Best Case)",null,"Unit: Tonnes"]
["Country","Product","Food Waste - Pre R&D","Food Availability","Food Waste - R&D","Consumption - Households","Food Waste - Households","Consumption - Food Service","Food Waste - Food Service","Total Food Waste",null,"Country","Product","Food Waste - Pre R&D","Food Availability","Food Waste - R&D","Consumption - Households","Food Waste - Households","Consumption - Food Service","Food Waste - Food Service","Total Food Waste",null,"Country","Product","Food Waste - Pre R&D","Food Availability","Food Waste - R&D","Consumption - Households","Food Waste - Households","Consumption - Food Service","Food Waste - Food Service","Total Food Waste",null,"Country","Product","Total FW","Best Case","Worst Case","Average B/W case","Lower Error","Higher Error"]
["Austria","Avocados",{"$f":"_xlfn.XLOOKUP(A4&B4,'FFV Data'!$A:$A&'FFV Data'!$B:$B,'FFV Data'!$P:$P,\"N/A\",0)","v":740.94},{"$f":"_xlfn.XLOOKUP(A4&B4,'FFV Data'!$A:$A&'FFV Data'!$B:$B,'FFV Data'!$X:$X,\"N/A\",0)","v":9621.18},{"$f":"D4*'FFV Coeffs for Calcs'!E5","v":300.66187500000001},{"$f":"(D4-E4)*'FFV Coeffs for Calcs'!F5","v":7922.4404062499998},{"$f":"F4*'FFV Coeffs for Calcs'!H5","v":2924.7009166406251},{"$f":"D4-E4-F4","v":1398.0777187500007},{"$f":"H4*'FFV Coeffs for Calcs'!I5","v":617.9503516875003},{"$f":"SUM(IF(ISNUMBER(C4),C4,0),E4,G4,I4)","v":4584.2531433281256},null,{"$f":"A4","v":"Austria"},{"$f":"B4","v":"Avocados"},{"$f":"IF(ISNUMBER(C4),C4)","v":740.94},{"$f":"$D4","v":9621.18},{"$f":"O4*0.025","v":240.52950000000001},{"$f":"(O4-P4)*0.85","v":7973.552925},{"$f":"Q4*0.327","v":2607.3518064750001},{"$f":"O4-Q4","v":1647.6270750000003},{"$f":"S4*0.346","v":570.07896795000011},{"$f":"SUM(IF(ISNUMBER(N4),N4,0),P4,R4,T4)","v":4158.9002744250001},null,{"$f":"A4","v":"Austria"},{"$f":"B4","v":"Avocados"},{"$f":"$C4","v":740.94},{"$f":"$D4","v":9621.18},{"$f":"Z4*0.05","v":481.05900000000003},{"$f":"(Z4-AA4)*0.85","v":7769.1028500000002},{"$f":"AB4*0.406","v":3154.2557571000002},{"$f":"Z4-AB4","v":1852.0771500000001},{"$f":"AD4*0.588","v":1089.0213641999999},{"$f":"SUM(IF(ISNUMBER(Y4),Y4,0),AA4,AC4,AE4)","v":5465.2761213000003},null,{"$f":"L4","v":"Austria"},{"$f":"M4","v":"Avocados"},{"$f":"J4","v":4584.2531433281256},{"$f":"U4","v":4158.9002744250001},{"$f":"AF4","v":5465.2761213000003},{"$f":"AVERAGE(AK4:AL4)","v":4812.0881978625002},{"$f":"AJ4-MIN(AK4,AJ4)","v":425.35286890312545},{"$f":"AL4-MIN(AJ4,AL4)","v":881.02297797187475}]
["Belgium","Avocados",{"$f":"_xlfn.XLOOKUP(A5&B5,'FFV Data'!$A:$A&'FFV Data'!$B:$B,'FFV Data'!$P:$P,\"N/A\",0)","v":1434.55},{"$f":"_xlfn.XLOOKUP(A5&B5,'FFV Data'!A:A&'FFV Data'!B:B,'FFV Data'!X:X,\"N/A\",0)","v":8507.3325000000004},{"$f":"D5*'FFV Coeffs for Calcs'!E6","v":265.85414062500001},{"$f":"(D5-E5)*'FFV Coeffs for Calcs'!F6","v":7005.2566054687495},{"$f":"F5*'FFV Coeffs for Calcs'!H6","v":2586.107230185547},{"$f":"D5-E5-F5","v":1236.2217539062503},{"$f":"H5*'FFV Coeffs for Calcs'!I6","v":546.41001522656268},{"$f":"SUM(IF(ISNUMBER(C5),C5,0),E5,G5,I5)","v":4832.9213860371101},null,{"$f":"A5","v":"Belgium"},{"$f":"B5","v":"Avocados"},{"$f":"IF(ISNUMBER(C5),C5)","v":1434.55},{"$f":"$D5","v":8507.3325000000004},{"$f":"O5*0.025","v":212.68331250000003},{"$f":"(O5-P5)*0.85","v":7050.4518093750003},{"$f":"Q5*0.327","v":2305.4977416656252},{"$f":"O5-Q5","v":1456.8806906250002},{"$f":"S5*0.346","v":504.08071895625},{"$f":"SUM(IF(ISNUMBER(N5),N5,0),P5,R5,T5)","v":4456.8117731218754},null,{"$f":"A5","v":"Belgium"},{"$f":"B5","v":"Avocados"},{"$f":"$C5","v":1434.55},{"$f":"$D5","v":8507.3325000000004},{"$f":"Z5*0.05","v":425.36662500000006},{"$f":"(Z5-AA5)*0.85","v":6869.6709937500009},{"$f":"AB5*0.406","v":2789.0864234625005},{"$f":"Z5-AB5","v":1637.6615062499995},{"$f":"AD5*0.588","v":962.94496567499971},{"$f":"SUM(IF(ISNUMBER(Y5),Y5,0),AA5,AC5,AE5)","v":5611.9480141374997},null,{"$f":"L5","v":"Belgium"},{"$f":"M5","v":"Avocados"},{"$f":"J5","v":4832.9213860371101},{"$f":"U5","v":4456.8117731218754},{"$f":"AF5","v":5611.9480141374997},{"$f":"AVERAGE(AK5:AL5)","v":5034.379893629688},{"$f":"AJ5-MIN(AK5,AJ5)","v":376.10961291523472},{"$f":"AL5-MIN(AJ5,AL5)","v":779.02662810038964}]
["Bulgaria","Avocados",{"$f":"_xlfn.XLOOKUP(A6&B6,'FFV Data'!$A:$A&'FFV Data'!$B:$B,'FFV Data'!$P:$P,\"N/A\",0)","v":{"$error":"#N/A"}},{"$f":"_xlfn.XLOOKUP(A6&B6,'FFV Data'!A:A&'FFV Data'!B:B,'FFV Data'!X:X,\"N/A\",0)","v":2643.8175000000001},{"$f":"D6*'FFV Coeffs for Calcs'!E7","v":82.619296875000003},{"$f":"(D6-E6)*'FFV Coeffs for Calcs'!F7","v":2177.0184726562497},{"$f":"F6*'FFV Coeffs for Calcs'!H7","v":803.6826528222656},384.17973046875022,{"$f":"H6*'FFV Coeffs for Calcs'!I7","v":169.80744086718761},{"$f":"SUM(IF(ISNUMBER(C6),C6,0),E6,G6,I6)","v":1056.1093905644532},null,"Bulgaria","Avocados",null,2643.8175000000001,66.095437500000003,2191.0637531249999,716.47784727187502,452.75374687500016,156.65279641875006,939.22608119062511,null,"Bulgaria","Avocados",null,2643.8175000000001,132.19087500000001,2134.88263125,866.76234828750012,508.93486875000008,299.253702825,1298.2069261125002,null,"Bulgaria","Avocados",1056.1093905644532,939.22608119062511,1298.2069261125002,1118.7165036515626,{"$f":"AJ6-MIN(AK6,AJ6)","v":116.88330937382807},{"$f":"AL6-MIN(AJ6,AL6)","v":242.09753554804706}]
["Croatia","Avocados",{"$f":"_xlfn.XLOOKUP(A7&B7,'FFV Data'!$A:$A&'FFV Data'!$B:$B,'FFV Data'!$P:$P,\"N/A\",0)","v":{"$error":"#N/A"}},{"$f":"_xlfn.XLOOKUP(A7&B7,'FFV Data'!A:A&'FFV Data'!B:B,'FFV Data'!X:X,\"N/A\",0)","v":1853.4750000000001},{"$f":"D7*'FFV Coeffs for Calcs'!E8","v":57.921093750000004},{"$f":"(D7-E7)*'FFV Coeffs for Calcs'!F8","v":1526.2208203125001},{"$f":"F7*'FFV Coeffs for Calcs'!H8","v":563.42985283203132},269.33308593750007,{"$f":"H7*'FFV Coeffs for Calcs'!I8","v":119.04522398437503},740.39617056640634,null,"Croatia","Avocados",null,1853.4750000000001,46.336875000000006,1536.0674062500002,502.29404184375011,317.40759374999993,109.82302743749997,658.45394428125007,null,"Croatia","Avocados",null,1853.4750000000001,92.673750000000013,1496.6810625000001,607.65251137500002,356.79393750000008,209.79483525000003,910.12109662500006,null,"Croatia","Avocados",740.39617056640634,658.45394428125007,910.12109662500006,784.28752045312513,81.942226285156266,169.72492605859372]
["Cyprus","Avocados",{"$f":"_xlfn.XLOOKUP(A8&B8,'FFV Data'!$A:$A&'FFV Data'!$B:$B,'FFV Data'!$P:$P,\"N/A\",0)","v":167.69},{"$f":"_xlfn.XLOOKUP(A8&B8,'FFV Data'!A:A&'FFV Data'!B:B,'FFV Data'!X:X,\"N/A\",0)","v":1236.1125000000002},{"$f":"D8*'FFV Coeffs for Calcs'!E9","v":38.628515625000006},{"$f":"(D8-E8)*'FFV Coeffs for Calcs'!F9","v":1017.8613867187501},{"$f":"F8*'FFV Coeffs for Calcs'!H9","v":375.76049526367194},179.62259765625004,{"$f":"H8*'FFV Coeffs for Calcs'!I9","v":79.393188164062522},661.47219905273448,null,"Cyprus","Avocados",167.69,1236.1125000000002,30.902812500000007,1024.4282343750001,334.98803264062502,211.68426562500008,73.242755906250025,606.82360104687507,null,"Cyprus","Avocados",167.69,1236.1125000000002,61.805625000000013,998.16084375000014,405.2533025625001,237.95165625000004,139.91557387500001,774.66450143750012,null,"Cyprus","Avocados",661.47219905273448,606.82360104687507,774.66450143750012,690.74405124218765,54.648598005859412,113.19230238476564]
["Czechia","Avocados",{"$f":"_xlfn.XLOOKUP(A9&B9,'FFV Data'!$A:$A&'FFV Data'!$B:$B,'FFV Data'!$P:$P,\"N/A\",0)","v":{"$error":"#N/A"}},{"$f":"_xlfn.XLOOKUP(A9&B9,'FFV Data'!A:A&'FFV Data'!B:B,'FFV Data'!X:X,\"N/A\",0)","v":5793.1350000000002},{"$f":"D9*'FFV Coeffs for Calcs'!E10","v":181.03546875000001},{"$f":"(D9-E9)*'FFV Coeffs for Calcs'!F10","v":4770.2846015625},{"$f":"F9*'FFV Coeffs for Calcs'!H10","v":1761.0300654101563},841.8149296874999,{"$f":"H9*'FFV Coeffs for Calcs'!I10","v":372.08219892187498},2314.1477330820312,null,"Czechia","Avocados",null,5793.1350000000002,144.82837500000002,4801.0606312500004,1569.9468264187501,992.07436874999985,343.2577315874999,2058.03293300625,null,"Czechia","Avocados",null,5793.1350000000002,289.65675000000005,4677.9565124999999,1899.2503440750002,1115.1784875000003,655.7249506500001,2844.6320447250005,null,"Czechia","Avocados",2314.1477330820312,2058.03293300625,2844.6320447250005,2451.3324888656252,256.1148000757812,530.48431164296926]
["Denmark","Avocados",{"$f":"_xlfn.XLOOKUP(A10&B10,'FFV Data'!$A:$A&'FFV Data'!$B:$B,'FFV Data'!$P:$P,\"N/A\",0)","v":906.89},{"$f":"_xlfn.XLOOKUP(A10&B10,'FFV Data'!A:A&'FFV Data'!B:B,'FFV Data'!X:X,\"N/A\",0)","v":10110.09},{"$f":"D10*'FFV Coeffs for Calcs'!E11","v":315.9403125},{"$f":"(D10-E10)*'FFV Coeffs for Calcs'!F11","v":8325.0272343749984},{"$f":"F10*'FFV Coeffs for Calcs'!H11","v":3030.3099133124992},1469.1224531250009,{"$f":"H10*'FFV Coeffs for Calcs'!I11","v":649.35212428125044},4902.4923500937493,null,"Denmark","Avocados",906.89,10110.09,252.75225,8378.7370874999997,2739.8470276124999,1731.3529125000005,599.04810772500014,4498.5373853375004,null,"Denmark","Avocados",906.89,10110.09,505.50450000000001,8163.8976750000011,3314.5424560500005,1946.1923249999991,1144.3610870999994,5871.2980431499991,null,"Denmark","Avocados",4902.4923500937493,4498.5373853375004,5871.2980431499991,5184.9177142437493,403.95496475624896,968.80569305624977]
["Estonia","Avocados",{"$f":"_xlfn.XLOOKUP(A11&B11,'FFV Data'!$A:$A&'FFV Data'!$B:$B,'FFV Data'!$P:$P,\"N/A\",0)","v":{"$error":"#N/A"}},{"$f":"_xlfn.XLOOKUP(A11&B11,'FFV Data'!A:A&'FFV Data'!B:B,'FFV Data'!X:X,\"N/A\",0)","v":1391.2125000000001},{"$f":"D11*'FFV Coeffs for Calcs'!E12","v":43.475390625000003},{"$f":"(D11-E11)*'FFV Coeffs for Calcs'!F12","v":1145.5765429687501},{"$f":"F11*'FFV Coeffs for Calcs'!H12","v":422.90867377929698},202.16056640624993,{"$f":"H11*'FFV Coeffs for Calcs'!I12","v":89.354970351562471},555.73903475585939,null,"Estonia","Avocados",null,1391.2125000000001,34.780312500000001,1152.9673593750001,377.02032651562507,238.24514062499998,82.432818656249992,494.23345767187504,null,"Estonia","Avocados",null,1391.2125000000001,69.560625000000002,1123.4040937499999,456.10206206250001,267.80840625000019,157.47134287500009,683.13402993750015,null,"Estonia","Avocados",555.73903475585939,494.23345767187504,683.13402993750015,588.68374380468754,61.505577083984349,127.39499518164075]
["Finland","Avocados",{"$f":"_xlfn.XLOOKUP(A12&B12,'FFV Data'!$A:$A&'FFV Data'!$B:$B,'FFV Data'!$P:$P,\"N/A\",0)","v":327.84},{"$f":"_xlfn.XLOOKUP(A12&B12,'FFV Data'!A:A&'FFV Data'!B:B,'FFV Data'!X:X,\"N/A\",0)","v":4609.1025},{"$f":"D12*'FFV Coeffs for Calcs'!E13","v":144.034453125},{"$f":"(D12-E12)*'FFV Coeffs for Calcs'!F13","v":3795.3078398437497},{"$f":"F12*'FFV Coeffs for Calcs'!H13","v":1241.0656636289061},669.76020703125005,{"$f":"H12*'FFV Coeffs for Calcs'!I13","v":296.03401150781252},2008.9741282617185,null,"Finland","Avocados",327.84,4609.1025,115.2275625,3819.7936968749996,1249.072538878125,789.3088031250004,273.10084588125011,1965.2409472593752,null,"Finland","Avocados",327.84,4609.1025,230.45512500000001,3721.8502687499995,1511.0712091124999,887.25223125000048,521.70431197500022,2591.0706460874999,null,"Finland","Avocados",2008.9741282617185,1965.2409472593752,2591.0706460874999,2278.1557966734376,43.733181002343372,582.09651782578135]
["France","Avocados",{"$f":"_xlfn.XLOOKUP(A13&B13,'FFV Data'!$A:$A&'FFV Data'!$B:$B,'FFV Data'!$P:$P,\"N/A\",0)","v":30272.48},{"$f":"_xlfn.XLOOKUP(A13&B13,'FFV Data'!A:A&'FFV Data'!B:B,'FFV Data'!X:X,\"N/A\",0)","v":98802.45749999999},{"$f":"D13*'FFV Coeffs for Calcs'!E14","v":3087.5767968749997},{"$f":"(D13-E13)*'FFV Coeffs for Calcs'!F14","v":81357.64859765624},{"$f":"F13*'FFV Coeffs for Calcs'!H14","v":30034.531940634766},14357.232105468749,{"$f":"H13*'FFV Coeffs for Calcs'!I14","v":6345.896590617187},69740.485328126961,null,"France","Avocados",30272.48,98802.45749999999,2470.0614375,81882.536653124989,26775.589485571873,16919.920846875,5854.2926130187498,65372.423536090624,null,"France","Avocados",30272.48,98802.45749999999,4940.122875,79782.984431249992,32391.891679087497,19019.473068749998,11183.450164424998,78787.944718512488,null,"France","Avocados",69740.485328126961,65372.423536090624,78787.944718512488,72080.18412730156,4368.0617920363366,9047.4593903855275]
["Germany","Avocados",{"$f":"_xlfn.XLOOKUP(A14&B14,'FFV Data'!$A:$A&'FFV Data'!$B:$B,'FFV Data'!$P:$P,\"N/A\",0)","v":12735.75},{"$f":"_xlfn.XLOOKUP(A14&B14,'FFV Data'!A:A&'FFV Data'!B:B,'FFV Data'!X:X,\"N/A\",0)","v":74034.87},{"$f":"D14*'FFV Coeffs for Calcs'!E15","v":2313.5896874999999},{"$f":"(D14-E14)*'FFV Coeffs for Calcs'!F15","v":60963.088265624989},{"$f":"F14*'FFV Coeffs for Calcs'!H15","v":23165.973540937495},10758.192046875003,{"$f":"H14*'FFV Coeffs for Calcs'!I15","v":4755.1208847187518},42970.434113156247,null,"Germany","Avocados",12735.75,74034.87,1850.87175,61356.398512499989,20063.542313587499,12678.471487500006,4386.7511346750016,39036.915198262504,null,"Germany","Avocados",12735.75,74034.87,3701.7435,59783.157524999995,24271.96195515,14251.712475,8380.0069352999999,49089.462390450004,null,"Germany","Avocados",42970.434113156247,39036.915198262504,49089.462390450004,44063.188794356254,3933.5189148937425,6119.0282772937571]
["Greece","Avocados",{"$f":"_xlfn.XLOOKUP(A15&B15,'FFV Data'!$A:$A&'FFV Data'!$B:$B,'FFV Data'!$P:$P,\"N/A\",0)","v":917.34},{"$f":"_xlfn.XLOOKUP(A15&B15,'FFV Data'!A:A&'FFV Data'!B:B,'FFV Data'!X:X,\"N/A\",0)","v":14433.555},{"$f":"D15*'FFV Coeffs for Calcs'!E16","v":451.04859375000001},{"$f":"(D15-E15)*'FFV Coeffs for Calcs'!F16","v":11885.130445312499},{"$f":"F15*'FFV Coeffs for Calcs'!H16","v":4387.5939893945315},2097.3759609375011,{"$f":"H15*'FFV Coeffs for Calcs'!I16","v":927.04017473437546},6683.0227578789072,null,"Greece","Avocados",917.34,14433.555,360.83887500000003,11961.80870625,3911.5114469437503,2471.7462937500004,855.22421763750003,6044.9145395812502,null,"Greece","Avocados",917.34,14433.555,721.67775000000006,11655.0956625,4731.9688389749999,2778.4593375000004,1633.7340904500002,8004.7206794249996,null,"Greece","Avocados",6683.0227578789072,6044.9145395812502,8004.7206794249996,7024.8176095031249,638.108218297657,1321.6979215460924]
["Hungary","Avocados",{"$f":"_xlfn.XLOOKUP(A16&B16,'FFV Data'!$A:$A&'FFV Data'!$B:$B,'FFV Data'!$P:$P,\"N/A\",0)","v":{"$error":"#N/A"}},{"$f":"_xlfn.XLOOKUP(A16&B16,'FFV Data'!A:A&'FFV Data'!B:B,'FFV Data'!X:X,\"N/A\",0)","v":3705.4125000000004},{"$f":"D16*'FFV Coeffs for Calcs'!E17","v":115.79414062500001},{"$f":"(D16-E16)*'FFV Coeffs for Calcs'!F17","v":3051.1756054687503},{"$f":"F16*'FFV Coeffs for Calcs'!H17","v":1126.3923276855471},538.44275390624989,{"$f":"H16*'FFV Coeffs for Calcs'!I17","v":237.99169722656245},1480.1781655371096,null,"Hungary","Avocados",null,3705.4125000000004,92.635312500000012,3070.860609375,1004.171419265625,634.5518906250004,219.55495415625012,1316.3616859218751,null,"Hungary","Avocados",null,3705.4125000000004,185.27062500000002,2992.1205937500004,1214.8009610625002,713.29190625000001,419.41564087500001,1819.4872269375003,null,"Hungary","Avocados",1480.1781655371096,1316.3616859218751,1819.4872269375003,1567.9244564296878,163.81647961523458,339.30906140039065]
["Iceland","Avocados",{"$f":"_xlfn.XLOOKUP(A17&B17,'FFV Data'!$A:$A&'FFV Data'!$B:$B,'FFV Data'!$P:$P,\"N/A\",0)","v":19.53},{"$f":"_xlfn.XLOOKUP(A17&B17,'FFV Data'!A:A&'FFV Data'!B:B,'FFV Data'!X:X,\"N/A\",0)","v":716.21250000000009},{"$f":"D17*'FFV Coeffs for Calcs'!E18","v":22.381640625000003},{"$f":"(D17-E17)*'FFV Coeffs for Calcs'!F18","v":589.75623046875},{"$f":"F17*'FFV Coeffs for Calcs'!H18","v":217.7183417480469},104.07462890625004,{"$f":"H17*'FFV Coeffs for Calcs'!I18","v":46.000985976562518},305.63096834960942,null,"Iceland","Avocados",19.53,716.21250000000009,17.905312500000004,593.561109375,194.094482765625,122.65139062500009,42.437381156250026,273.96717642187502,null,"Iceland","Avocados",19.53,716.21250000000009,35.810625000000009,578.34159375000013,234.80668706250006,137.87090624999996,81.068092874999977,371.21540493750007,null,"Iceland","Avocados",305.63096834960942,273.96717642187502,371.21540493750007,322.59129067968752,31.663791927734394,65.58443658789065]
["Ireland","Avocados",{"$f":"_xlfn.XLOOKUP(A18&B18,'FFV Data'!$A:$A&'FFV Data'!$B:$B,'FFV Data'!$P:$P,\"N/A\",0)","v":420.72},{"$f":"_xlfn.XLOOKUP(A18&B18,'FFV Data'!A:A&'FFV Data'!B:B,'FFV Data'!X:X,\"N/A\",0)","v":5887.32},{"$f":"D18*'FFV Coeffs for Calcs'!E19","v":183.97874999999999},{"$f":"(D18-E18)*'FFV Coeffs for Calcs'!F19","v":4847.8400624999995},{"$f":"F18*'FFV Coeffs for Calcs'!H19","v":1789.6609564062499},855.50118750000001,{"$f":"H18*'FFV Coeffs for Calcs'!I19","v":378.13152487500003},2772.4912312812498,null,"Ireland","Avocados",420.72,5887.32,147.18299999999999,4879.1164499999995,1595.4710791499999,1008.2035500000002,348.83842830000003,2512.21250745,null,"Ireland","Avocados",420.72,5887.32,294.36599999999999,4754.0108999999993,1930.1284253999997,1133.3091000000004,666.38575080000021,3311.6001761999996,null,"Ireland","Avocados",2772.4912312812498,2512.21250745,3311.6001761999996,2911.9063418249998,260.27872383124986,539.10894491874978]
["Italy","Avocados",{"$f":"_xlfn.XLOOKUP(A19&B19,'FFV Data'!$A:$A&'FFV Data'!$B:$B,'FFV Data'!$P:$P,\"N/A\",0)","v":{"$error":"#N/A"}},{"$f":"_xlfn.XLOOKUP(A19&B19,'FFV Data'!A:A&'FFV Data'!B:B,'FFV Data'!X:X,\"N/A\",0)","v":33550.747499999998},{"$f":"D19*'FFV Coeffs for Calcs'!E20","v":1048.4608593749999},{"$f":"(D19-E19)*'FFV Coeffs for Calcs'!F20","v":27626.943644531246},{"$f":"F19*'FFV Coeffs for Calcs'!H20","v":10198.946695439452},4875.3429960937501,{"$f":"H19*'FFV Coeffs for Calcs'!I20","v":2154.9016042734374},13402.30915908789,null,"Italy","Avocados",null,33550.747499999998,838.76868749999994,27805.181990624998,9092.2945109343746,5745.5655093749992,1987.9656662437496,11919.028864678125,null,"Italy","Avocados",null,33550.747499999998,1677.5373749999999,27092.228606249999,10999.4448141375,6458.5188937499988,3797.609109524999,16474.591298662497,null,"Italy","Avocados",13402.30915908789,11919.028864678125,16474.591298662497,14196.810081670312,1483.2802944097657,3072.2821395746068]
["Latvia","Avocados",{"$f":"_xlfn.XLOOKUP(A20&B20,'FFV Data'!$A:$A&'FFV Data'!$B:$B,'FFV Data'!$P:$P,\"N/A\",0)","v":{"$error":"#N/A"}},{"$f":"_xlfn.XLOOKUP(A20&B20,'FFV Data'!A:A&'FFV Data'!B:B,'FFV Data'!X:X,\"N/A\",0)","v":2264.1075000000001},{"$f":"D20*'FFV Coeffs for Calcs'!E21","v":70.753359375000002},{"$f":"(D20-E20)*'FFV Coeffs for Calcs'!F21","v":1864.3510195312501},{"$f":"F20*'FFV Coeffs for Calcs'!H21","v":688.25625137695329},329.00312109375,{"$f":"H20*'FFV Coeffs for Calcs'!I21","v":145.4193795234375},904.42899027539079,null,"Latvia","Avocados",null,2264.1075000000001,56.602687500000002,1876.3790906250001,613.57596263437506,387.72840937499996,134.15402964374996,804.332679778125,null,"Latvia","Avocados",null,2264.1075000000001,113.205375,1828.2668062499999,742.2763233375,435.84069375000013,256.27432792500008,1111.7560262625002,null,"Latvia","Avocados",904.42899027539079,804.332679778125,1111.7560262625002,958.04435302031266,100.09631049726579,207.32703598710941]
["Lithuania","Avocados",{"$f":"_xlfn.XLOOKUP(A21&B21,'FFV Data'!$A:$A&'FFV Data'!$B:$B,'FFV Data'!$P:$P,\"N/A\",0)","v":{"$error":"#N/A"}},{"$f":"_xlfn.XLOOKUP(A21&B21,'FFV Data'!A:A&'FFV Data'!B:B,'FFV Data'!X:X,\"N/A\",0)","v":3375.4425000000001},{"$f":"D21*'FFV Coeffs for Calcs'!E22","v":105.482578125},{"$f":"(D21-E21)*'FFV Coeffs for Calcs'!F22","v":2779.4659335937499},{"$f":"F21*'FFV Coeffs for Calcs'!H22","v":1026.0861738183594},490.49398828125004,{"$f":"H21*'FFV Coeffs for Calcs'!I22","v":216.79834282031251},1348.3670947636717,null,"Lithuania","Avocados",null,3375.4425000000001,84.386062500000008,2797.3979718749997,914.749136803125,578.0445281250004,200.00340673125012,1199.138606034375,null,"Lithuania","Avocados",null,3375.4425000000001,168.77212500000002,2725.6698187500001,1106.6219464125002,649.77268125000001,382.06633657499998,1657.4604079875,null,"Lithuania","Avocados",1348.3670947636717,1199.138606034375,1657.4604079875,1428.2995070109375,149.22848872929671,309.09331322382832]
["Luxembourg","Avocados",{"$f":"_xlfn.XLOOKUP(A22&B22,'FFV Data'!$A:$A&'FFV Data'!$B:$B,'FFV Data'!$P:$P,\"N/A\",0)","v":60.57},{"$f":"_xlfn.XLOOKUP(A22&B22,'FFV Data'!A:A&'FFV Data'!B:B,'FFV Data'!X:X,\"N/A\",0)","v":815.98500000000001},{"$f":"D22*'FFV Coeffs for Calcs'!E23","v":25.49953125},{"$f":"(D22-E22)*'FFV Coeffs for Calcs'!F23","v":671.91264843750002},{"$f":"F22*'FFV Coeffs for Calcs'!H23","v":248.04775271484377},118.57282031249997,{"$f":"H22*'FFV Coeffs for Calcs'!I23","v":52.409186578124988},386.52647054296875,null,"Luxembourg","Avocados",60.57,815.98500000000001,20.399625,676.24756875000003,221.13295498125001,139.73743124999999,48.34915121249999,350.45173119374999,null,"Luxembourg","Avocados",60.57,815.98500000000001,40.799250000000001,658.90788750000002,267.51660232500001,157.0771125,92.361342149999999,461.24719447499996,null,"Luxembourg","Avocados",386.52647054296875,350.45173119374999,461.24719447499996,405.849462834375,36.07473934921876,74.720723932031206]
["Malta","Avocados",{"$f":"_xlfn.XLOOKUP(A23&B23,'FFV Data'!$A:$A&'FFV Data'!$B:$B,'FFV Data'!$P:$P,\"N/A\",0)","v":{"$error":"#N/A"}},{"$f":"_xlfn.XLOOKUP(A23&B23,'FFV Data'!A:A&'FFV Data'!B:B,'FFV Data'!X:X,\"N/A\",0)","v":472.245},{"$f":"D23*'FFV Coeffs for Calcs'!E24","v":14.75765625},{"$f":"(D23-E23)*'FFV Coeffs for Calcs'!F24","v":388.8642421875},{"$f":"F23*'FFV Coeffs for Calcs'!H24","v":143.55571607421876},68.623101562499983,{"$f":"H23*'FFV Coeffs for Calcs'!I24","v":30.331410890624994},188.64478321484376,null,"Malta","Avocados",null,472.245,11.806125000000002,391.37304374999997,127.97898530625,80.871956250000039,27.981696862500012,167.76680716875001,null,"Malta","Avocados",null,472.245,23.612250000000003,381.33783749999998,154.82316202499999,90.907162500000027,53.453411550000013,231.888823575,null,"Malta","Avocados",188.64478321484376,167.76680716875001,231.888823575,199.827815371875,20.87797604609375,43.244040360156248]
["Netherlands","Avocados",{"$f":"_xlfn.XLOOKUP(A24&B24,'FFV Data'!$A:$A&'FFV Data'!$B:$B,'FFV Data'!$P:$P,\"N/A\",0)","v":9248},{"$f":"_xlfn.XLOOKUP(A24&B24,'FFV Data'!A:A&'FFV Data'!B:B,'FFV Data'!X:X,\"N/A\",0)","v":26536.5},{"$f":"D24*'FFV Coeffs for Calcs'!E25","v":829.265625},{"$f":"(D24-E24)*'FFV Coeffs for Calcs'!F25","v":21851.149218750001},{"$f":"F24*'FFV Coeffs for Calcs'!H25","v":8871.5665828125002},3856.0851562499993,{"$f":"H24*'FFV Coeffs for Calcs'!I25","v":1704.3896390624998},20653.221846875,null,"Netherlands","Avocados",9248,26536.5,663.41250000000002,21992.124374999999,7191.4246706250005,4544.3756250000006,1572.35396625,18675.191136875001,null,"Netherlands","Avocados",9248,26536.5,1326.825,21428.223749999997,8699.8588424999998,5108.2762500000026,3003.6664350000015,22278.350277500005,null,"Netherlands","Avocados",20653.221846875,18675.191136875001,22278.350277500005,20476.770707187505,1978.0307099999991,1625.1284306250054]
["Norway","Avocados",{"$f":"_xlfn.XLOOKUP(A25&B25,'FFV Data'!$A:$A&'FFV Data'!$B:$B,'FFV Data'!$P:$P,\"N/A\",0)","v":744.04},{"$f":"_xlfn.XLOOKUP(A25&B25,'FFV Data'!A:A&'FFV Data'!B:B,'FFV Data'!X:X,\"N/A\",0)","v":10602.532499999999},{"$f":"D25*'FFV Coeffs for Calcs'!E26","v":331.32914062499998},{"$f":"(D25-E25)*'FFV Coeffs for Calcs'!F26","v":8730.5228554687492},{"$f":"F25*'FFV Coeffs for Calcs'!H26","v":3223.0180208105467},1540.680503906251,{"$f":"H25*'FFV Coeffs for Calcs'!I26","v":680.98078272656301},4979.3679441621098,null,"Norway","Avocados",744.04,10602.532499999999,265.06331249999999,8786.8488093749984,2873.2995606656245,1815.683690625001,628.22655695625031,4510.629430121875,null,"Norway","Avocados",744.04,10602.532499999999,530.12662499999999,8561.544993749998,3475.9872674624994,2040.9875062500014,1200.1006536750008,5950.2545461375003,null,"Norway","Avocados",4979.3679441621098,4510.629430121875,5950.2545461375003,5230.4419881296872,468.7385140402348,970.88660197539048]
["Poland","Avocados",{"$f":"_xlfn.XLOOKUP(A26&B26,'FFV Data'!$A:$A&'FFV Data'!$B:$B,'FFV Data'!$P:$P,\"N/A\",0)","v":985.87},{"$f":"_xlfn.XLOOKUP(A26&B26,'FFV Data'!A:A&'FFV Data'!B:B,'FFV Data'!X:X,\"N/A\",0)","v":18880.050000000003},{"$f":"D26*'FFV Coeffs for Calcs'!E27","v":590.00156250000009},{"$f":"(D26-E26)*'FFV Coeffs for Calcs'!F27","v":15546.541171875},{"$f":"F26*'FFV Coeffs for Calcs'!H27","v":5739.2647826171878},2743.5072656250013,{"$f":"H26*'FFV Coeffs for Calcs'!I27","v":1212.6302114062505},8527.7665565234383,null,"Poland","Avocados",985.87,18880.050000000003,472.00125000000008,15646.841437500001,5116.5171500625001,3233.2085625000018,1118.6901626250005,7693.0785626875004,null,"Poland","Avocados",985.87,18880.050000000003,944.00250000000017,15245.640375000003,6189.7299922500015,3634.4096250000002,2137.0328595000001,10256.635351750003,null,"Poland","Avocados",8527.7665565234383,7693.0785626875004,10256.635351750003,8974.8569572187516,834.68799383593796,1728.8687952265645]
["Portugal","Avocados",{"$f":"_xlfn.XLOOKUP(A27&B27,'FFV Data'!$A:$A&'FFV Data'!$B:$B,'FFV Data'!$P:$P,\"N/A\",0)","v":{"$error":"#N/A"}},{"$f":"_xlfn.XLOOKUP(A27&B27,'FFV Data'!A:A&'FFV Data'!B:B,'FFV Data'!X:X,\"N/A\",0)","v":18771.045000000002},{"$f":"D27*'FFV Coeffs for Calcs'!E28","v":586.59515625000006},{"$f":"(D27-E27)*'FFV Coeffs for Calcs'!F28","v":15456.782367187499},{"$f":"F27*'FFV Coeffs for Calcs'!H28","v":5706.1288238867191},2727.6674765625012,{"$f":"H27*'FFV Coeffs for Calcs'!I28","v":1205.6290246406256},7498.3530047773456,null,"Portugal","Avocados",null,18771.045000000002,469.27612500000009,15556.503543750001,5086.9766588062503,3214.5414562500009,1112.2313438625001,6668.4841276687512,null,"Portugal","Avocados",null,18771.045000000002,938.55225000000019,15157.6188375,6153.9932480250009,3613.4261625000017,2124.694583550001,9217.2400815750025,null,"Portugal","Avocados",7498.3530047773456,6668.4841276687512,9217.2400815750025,7942.8621046218768,829.86887710859446,1718.8870767976568]
["Romania","Avocados",{"$f":"_xlfn.XLOOKUP(A28&B28,'FFV Data'!$A:$A&'FFV Data'!$B:$B,'FFV Data'!$P:$P,\"N/A\",0)","v":{"$error":"#N/A"}},{"$f":"_xlfn.XLOOKUP(A28&B28,'FFV Data'!A:A&'FFV Data'!B:B,'FFV Data'!X:X,\"N/A\",0)","v":9789.7874999999985},{"$f":"D28*'FFV Coeffs for Calcs'!E29","v":305.93085937499995},{"$f":"(D28-E28)*'FFV Coeffs for Calcs'!F29","v":8061.2781445312494},{"$f":"F28*'FFV Coeffs for Calcs'!H29","v":2975.9551816894532},1422.5784960937499,{"$f":"H28*'FFV Coeffs for Calcs'!I29","v":628.77969527343748},3910.6657363378904,null,"Romania","Avocados",null,9789.7874999999985,244.74468749999997,8113.2863906249977,2653.0446497343742,1676.5011093750009,580.0693838437503,3477.8587210781243,null,"Romania","Avocados",null,9789.7874999999985,489.48937499999994,7905.253406249999,3209.5328829374998,1884.5340937499996,1108.1060471249996,4807.1283050624997,null,"Romania","Avocados",3910.6657363378904,3477.8587210781243,4807.1283050624997,4142.4935130703125,432.8070152597661,896.46256872460935]
["Slovakia","Avocados",{"$f":"_xlfn.XLOOKUP(A29&B29,'FFV Data'!$A:$A&'FFV Data'!$B:$B,'FFV Data'!$P:$P,\"N/A\",0)","v":{"$error":"#N/A"}},{"$f":"_xlfn.XLOOKUP(A29&B29,'FFV Data'!A:A&'FFV Data'!B:B,'FFV Data'!X:X,\"N/A\",0)","v":2112.9900000000002},{"$f":"D29*'FFV Coeffs for Calcs'!E30","v":66.030937500000007},{"$f":"(D29-E29)*'FFV Coeffs for Calcs'!F30","v":1739.9152031250003},{"$f":"F29*'FFV Coeffs for Calcs'!H30","v":642.31869582031266},307.04385937500001,{"$f":"H29*'FFV Coeffs for Calcs'!I30","v":135.71338584375002},844.06301916406278,null,"Slovakia","Avocados",null,2112.9900000000002,52.824750000000009,1751.1404625,572.62293123749998,361.84953750000022,125.19993997500006,750.6476212125001,null,"Slovakia","Avocados",null,2112.9900000000002,105.64950000000002,1706.2394250000002,692.73320655000009,406.75057500000003,239.1693381,1037.55204465,null,"Slovakia","Avocados",844.06301916406278,750.6476212125001,1037.55204465,894.09983293125003,93.415397951562682,193.48902548593719]
["Slovenia","Avocados",{"$f":"_xlfn.XLOOKUP(A30&B30,'FFV Data'!$A:$A&'FFV Data'!$B:$B,'FFV Data'!$P:$P,\"N/A\",0)","v":473.26},{"$f":"_xlfn.XLOOKUP(A30&B30,'FFV Data'!A:A&'FFV Data'!B:B,'FFV Data'!X:X,\"N/A\",0)","v":1816.3049999999998},{"$f":"D30*'FFV Coeffs for Calcs'!E31","v":56.759531249999995},{"$f":"(D30-E30)*'FFV Coeffs for Calcs'!F31","v":1495.6136484374997},{"$f":"F30*'FFV Coeffs for Calcs'!H31","v":552.13070521484372},263.93182031250012,{"$f":"H30*'FFV Coeffs for Calcs'!I31","v":116.65786457812506},1198.8081010429687,null,"Slovenia","Avocados",473.26,1816.3049999999998,45.407624999999996,1505.2627687499999,492.22092538124997,311.04223124999999,107.62061201249999,1118.5091623937501,null,"Slovenia","Avocados",473.26,1816.3049999999998,90.815249999999992,1466.6662874999997,595.46651272499992,349.63871250000011,205.58756295000006,1365.129325675,null,"Slovenia","Avocados",1198.8081010429687,1118.5091623937501,1365.129325675,1241.8192440343751,80.298938649218599,166.32122463203132]
["Spain","Avocados",{"$f":"_xlfn.XLOOKUP(A31&B31,'FFV Data'!$A:$A&'FFV Data'!$B:$B,'FFV Data'!$P:$P,\"N/A\",0)","v":37740.79},{"$f":"_xlfn.XLOOKUP(A31&B31,'FFV Data'!A:A&'FFV Data'!B:B,'FFV Data'!X:X,\"N/A\",0)","v":95136.547500000001},{"$f":"D31*'FFV Coeffs for Calcs'!E32","v":2973.017109375},{"$f":"(D31-E31)*'FFV Coeffs for Calcs'!F32","v":78339.000832031248},{"$f":"F31*'FFV Coeffs for Calcs'!H32","v":26400.243280394534},13824.529558593757,{"$f":"H31*'FFV Coeffs for Calcs'!I32","v":6110.4420648984405},73224.492454667983,null,"Spain","Avocados",37740.79,95136.547500000001,2378.4136874999999,78844.413740625008,25782.123293184377,16292.133759374992,5637.0782807437472,71538.405261428125,null,"Spain","Avocados",37740.79,95136.547500000001,4756.8273749999998,76822.762106250011,31190.041415137508,18313.785393749989,10768.505811524994,84456.164601662502,null,"Spain","Avocados",73224.492454667983,71538.405261428125,84456.164601662502,77997.28493154532,1686.0871932398586,11231.672146994519]
["Sweden","Avocados",{"$f":"_xlfn.XLOOKUP(A32&B32,'FFV Data'!$A:$A&'FFV Data'!$B:$B,'FFV Data'!$P:$P,\"N/A\",0)","v":1937.5},{"$f":"_xlfn.XLOOKUP(A32&B32,'FFV Data'!A:A&'FFV Data'!B:B,'FFV Data'!X:X,\"N/A\",0)","v":12973.987500000001},{"$f":"D32*'FFV Coeffs for Calcs'!E33","v":324.34968750000007},{"$f":"(D32-E32)*'FFV Coeffs for Calcs'!F33","v":10752.192140625},{"$f":"F32*'FFV Coeffs for Calcs'!H33","v":3969.350931914063},1897.4456718750007,{"$f":"H32*'FFV Coeffs for Calcs'!I33","v":838.6709869687503},7069.8716063828133,null,"Sweden","Avocados",1937.5,12973.987500000001,324.34968750000007,10752.192140625,3515.9668299843752,2221.7953593750008,768.74119434375018,6546.5577118281253,null,"Sweden","Avocados",1937.5,12973.987500000001,648.69937500000015,10476.49490625,4253.4569319375005,2497.4925937500011,1468.5256451250007,8308.1819520625013,null,"Sweden","Avocados",7069.8716063828133,6546.5577118281253,8308.1819520625013,7427.3698319453133,523.31389455468798,1238.310345679688]
["Switzerland","Avocados",{"$f":"_xlfn.XLOOKUP(A33&B33,'FFV Data'!$A:$A&'FFV Data'!$B:$B,'FFV Data'!$P:$P,\"N/A\",0)","v":961.65},{"$f":"_xlfn.XLOOKUP(A33&B33,'FFV Data'!A:A&'FFV Data'!B:B,'FFV Data'!X:X,\"N/A\",0)","v":13681.844999999999},{"$f":"D33*'FFV Coeffs for Calcs'!E34","v":427.55765624999998},{"$f":"(D33-E33)*'FFV Coeffs for Calcs'!F34","v":11266.1442421875},{"$f":"F33*'FFV Coeffs for Calcs'!H34","v":4159.0849160742191},1988.1431015625003,{"$f":"H33*'FFV Coeffs for Calcs'!I34","v":878.75925089062514},6427.0518232148443,null,"Switzerland","Avocados",961.65,13681.844999999999,342.04612500000002,11338.829043749998,3707.7970973062497,2343.0159562500012,810.68352086250036,5822.1767431687504,null,"Switzerland","Avocados",961.65,13681.844999999999,684.09225000000004,11048.0898375,4485.524474025,2633.7551624999996,1548.6480355499998,7679.9147595750001,null,"Switzerland","Avocados",6427.0518232148443,5822.1767431687504,7679.9147595750001,6751.0457513718757,604.8750800460939,1252.8629363601558]
["United Kingdom","Avocados",{"$f":"_xlfn.XLOOKUP(A34&B34,'FFV Data'!$A:$A&'FFV Data'!$B:$B,'FFV Data'!$P:$P,\"N/A\",0)","v":5795.71},{"$f":"_xlfn.XLOOKUP(A34&B34,'FFV Data'!A:A&'FFV Data'!B:B,'FFV Data'!X:X,\"N/A\",0)","v":76952.782500000001},{"$f":"D34*'FFV Coeffs for Calcs'!E35","v":2885.7293437500007},{"$f":"(D34-E34)*'FFV Coeffs for Calcs'!F35","v":62956.995182812498},{"$f":"F34*'FFV Coeffs for Calcs'!H35","v":25245.755068307812},11110.057973437499,{"$f":"H34*'FFV Coeffs for Calcs'!I35","v":4910.6456242593749},38837.84003631719,null,"United Kingdom","Avocados",5795.71,76952.782500000001,1923.8195625000001,63774.618496875002,20854.300248478128,13178.164003124999,4559.6447450812493,33133.47455605938,null,"United Kingdom","Avocados",5795.71,76952.782500000001,3847.6391250000001,62139.37186875,25228.584978712501,14813.410631250001,8710.2854511749993,43582.219554887495,null,"United Kingdom","Avocados",38837.84003631719,33133.47455605938,43582.219554887495,38357.847055473438,5704.3654802578094,4744.3795185703057]
["Austria","Bananas",{"$f":"_xlfn.XLOOKUP(A35&B35,'FFV Data'!$A:$A&'FFV Data'!$B:$B,'FFV Data'!$P:$P,\"N/A\",0)","v":8492},{"$f":"_xlfn.XLOOKUP(A35&B35,'FFV Data'!A:A&'FFV Data'!B:B,'FFV Data'!X:X,\"N/A\",0)","v":127028.71176254864},{"$f":"D35*'FFV Coeffs for Calcs'!E39","v":2286.5168117258759},{"$f":"(D35-E35)*'FFV Coeffs for Calcs'!F39","v":106030.86570819936},{"$f":"F35*'FFV Coeffs for Calcs'!H39","v":48685.839171014872},18711.329242623411,{"$f":"H35*'FFV Coeffs for Calcs'!I39","v":8270.4075252395469},{"$f":"SUM(IF(ISNUMBER(C35),C35,0),E35,G35,I35)","v":67734.763507980286},null,"Austria","Bananas",8492,127028.71176254864,{"$f":"O35*0.016","v":2032.4593882007782},106246.81451819568,{"$f":"Q35*0.417","v":44304.921654087593},20781.897244352964,{"$f":"S35*0.346","v":7190.5364465461253},62019.917488834493,null,"Austria","Bananas",8492,127028.71176254864,{"$f":"Z35*0.02","v":2540.5742352509728},105814.91689820302,{"$f":"AB35*0.496","v":52484.198781508698},21213.794864345618,{"$f":"AD35*0.588","v":12473.711380235223},75990.4843969949,null,"Austria","Bananas",67734.763507980286,62019.917488834493,75990.4843969949,69005.2009429147,5714.8460191457925,8255.7208890146139]
["Belgium","Bananas",{"$f":"_xlfn.XLOOKUP(A36&B36,'FFV Data'!$A:$A&'FFV Data'!$B:$B,'FFV Data'!$P:$P,\"N/A\",0)","v":{"$error":"#N/A"}},{"$f":"_xlfn.XLOOKUP(A36&B36,'FFV Data'!A:A&'FFV Data'!B:B,'FFV Data'!X:X,\"N/A\",0)","v":155191.59},{"$f":"D36*'FFV Coeffs for Calcs'!E40","v":2793.4486200000001},{"$f":"(D36-E36)*'FFV Coeffs for Calcs'!F40","v":129538.42017299999},{"$f":"F36*'FFV Coeffs for Calcs'!H40","v":59479.724596102496},{"$f":"D36-E36-F36","v":22859.721206999995},{"$f":"H36*'FFV Coeffs for Calcs'!I40","v":10103.996773493998},72377.169989596499,null,"Belgium","Bananas",null,155191.59,{"$f":"O36*0.016","v":2483.0654399999999},{"$f":"(O36-P36)*0.85","v":129802.24587599999},{"$f":"Q36*0.417","v":54127.536530291989},{"$f":"O36-Q36","v":25389.34412400001},{"$f":"S36*0.346","v":8784.7130669040034},65395.315037195993,null,{"$f":"A36","v":"Belgium"},{"$f":"B36","v":"Bananas"},null,155191.59,{"$f":"Z36*0.02","v":3103.8317999999999},{"$f":"(Z36-AA36)*0.85","v":129274.59446999998},{"$f":"AB36*0.496","v":64120.198857119991},{"$f":"Z36-AB36","v":25916.995530000015},{"$f":"AD36*0.588","v":15239.193371640007},82463.22402876,null,"Belgium","Bananas",72377.169989596499,65395.315037195993,82463.22402876,73929.269532977996,6981.8549524005066,10086.0540391635]
["Bulgaria","Bananas",{"$f":"_xlfn.XLOOKUP(A37&B37,'FFV Data'!$A:$A&'FFV Data'!$B:$B,'FFV Data'!$P:$P,\"N/A\",0)","v":2132.9},{"$f":"_xlfn.XLOOKUP(A37&B37,'FFV Data'!A:A&'FFV Data'!B:B,'FFV Data'!X:X,\"N/A\",0)","v":40256.86},{"$f":"D37*'FFV Coeffs for Calcs'!E41","v":724.62348000000009},{"$f":"(D37-E37)*'FFV Coeffs for Calcs'!F41","v":33602.401041999998},{"$f":"F37*'FFV Coeffs for Calcs'!H41","v":15429.102478451665},5929.8354780000009,{"$f":"H37*'FFV Coeffs for Calcs'!I41","v":2620.9872812760004},20907.613239727667,null,"Bulgaria","Bananas",2132.9,40256.86,644.10976000000005,33670.837703999998,14040.739322567999,6586.0222960000028,2278.7637144160008,19096.512796984,null,"Bulgaria","Bananas",null,40256.86,805.13720000000001,33533.964380000005,16632.846332480003,6722.8956199999957,3953.0626245599974,21391.04615704,null,"Bulgaria","Bananas",20907.613239727667,19096.512796984,21391.04615704,20243.779477012002,1811.1004427436674,483.4329173123333]
["Croatia","Bananas",{"$f":"_xlfn.XLOOKUP(A38&B38,'FFV Data'!$A:$A&'FFV Data'!$B:$B,'FFV Data'!$P:$P,\"N/A\",0)","v":4360.5},{"$f":"_xlfn.XLOOKUP(A38&B38,'FFV Data'!A:A&'FFV Data'!B:B,'FFV Data'!X:X,\"N/A\",0)","v":59557.245904443203},{"$f":"D38*'FFV Coeffs for Calcs'!E42","v":1072.0304262799777},{"$f":"(D38-E38)*'FFV Coeffs for Calcs'!F42","v":49712.433156438739},{"$f":"F38*'FFV Coeffs for Calcs'!H42","v":22826.292224331453},8772.7823217244877,{"$f":"H38*'FFV Coeffs for Calcs'!I42","v":3877.5697862022234},32136.392436813654,null,"Croatia","Bananas",4360.5,59557.245904443203,952.9159344710913,49813.680474476292,20772.304757856611,9743.5654299669113,3371.2736387685509,29456.994331096255,null,"Croatia","Bananas",null,59557.245904443203,1191.1449180888642,49611.185838401187,24607.148175846989,9946.0600660420168,5848.2833188327058,31646.576412768558,null,"Croatia","Bananas",32136.392436813654,29456.994331096255,31646.576412768558,30551.785371932405,2679.3981057173987,0]
["Cyprus","Bananas",{"$f":"_xlfn.XLOOKUP(A39&B39,'FFV Data'!$A:$A&'FFV Data'!$B:$B,'FFV Data'!$P:$P,\"N/A\",0)","v":1230.17},{"$f":"_xlfn.XLOOKUP(A39&B39,'FFV Data'!A:A&'FFV Data'!B:B,'FFV Data'!X:X,\"N/A\",0)","v":8772.2129938026228},{"$f":"D39*'FFV Coeffs for Calcs'!E43","v":157.89983388844723},{"$f":"(D39-E39)*'FFV Coeffs for Calcs'!F43","v":7322.1661859270498},{"$f":"F39*'FFV Coeffs for Calcs'!H43","v":3362.0946403715038},1292.1469739871263,{"$f":"H39*'FFV Coeffs for Calcs'!I43","v":571.12896250230983},5321.2934367622611,null,"Cyprus","Bananas",1230.17,8772.2129938026228,140.35540790084198,7337.0789480165131,3059.5619213228856,1435.1340457861097,496.55637984199393,4926.6437090657219,null,"Cyprus","Bananas",1230.17,8772.2129938026228,175.44425987605246,7307.2534238375847,3624.3976982234421,1464.9595699650381,861.39622713944232,5891.4081852389363,null,"Cyprus","Bananas",5321.2934367622611,4926.6437090657219,5891.4081852389363,5409.0259471523295,394.64972769653923,570.11474847667523]
["Czechia","Bananas",{"$f":"_xlfn.XLOOKUP(A40&B40,'FFV Data'!$A:$A&'FFV Data'!$B:$B,'FFV Data'!$P:$P,\"N/A\",0)","v":11395.37},{"$f":"_xlfn.XLOOKUP(A40&B40,'FFV Data'!A:A&'FFV Data'!B:B,'FFV Data'!X:X,\"N/A\",0)","v":97917.865152391358},{"$f":"D40*'FFV Coeffs for Calcs'!E44","v":1762.5215727430445},{"$f":"(D40-E40)*'FFV Coeffs for Calcs'!F44","v":81732.042042701069},{"$f":"F40*'FFV Coeffs for Calcs'!H44","v":37528.629304606904},14423.301536947241,{"$f":"H40*'FFV Coeffs for Calcs'!I44","v":6375.0992793306805},57061.620156680627,null,"Czechia","Bananas",11395.37,97917.865152391358,1566.6858424382617,81898.502413460126,34151.675506412874,16019.362738931231,5542.699507670206,52656.430856521343,null,"Czechia","Bananas",null,97917.865152391358,1958.3573030478271,81565.581671941996,40456.528509283227,16352.283480449361,9615.1426865042231,52030.02849883528,null,"Czechia","Bananas",57061.620156680627,52656.430856521343,52030.02849883528,52343.229677678311,4405.1893001592834,0]
["Denmark","Bananas",{"$f":"_xlfn.XLOOKUP(A41&B41,'FFV Data'!$A:$A&'FFV Data'!$B:$B,'FFV Data'!$P:$P,\"N/A\",0)","v":4066.92},{"$f":"_xlfn.XLOOKUP(A41&B41,'FFV Data'!A:A&'FFV Data'!B:B,'FFV Data'!X:X,\"N/A\",0)","v":61314.591606417664},{"$f":"D41*'FFV Coeffs for Calcs'!E45","v":1103.662648915518},{"$f":"(D41-E41)*'FFV Coeffs for Calcs'!F45","v":51179.289613876826},{"$f":"F41*'FFV Coeffs for Calcs'!H45","v":23235.397484700079},9031.6393436253202,{"$f":"H41*'FFV Coeffs for Calcs'!I45","v":3991.9845898823914},32397.964723497989,null,"Denmark","Bananas",4066.92,61314.591606417664,981.03346570268263,51283.524419607733,21385.229682976424,10031.067186809931,3470.749246636236,29903.93239531534,null,"Denmark","Bananas",4066.92,61314.591606417664,1226.2918321283532,51075.054808145913,25333.227184840373,10239.536798271751,6020.8476373837893,36647.286654352516,null,"Denmark","Bananas",32397.964723497989,29903.93239531534,36647.286654352516,33275.609524833926,2494.0323281826495,4249.3219308545267]
["Estonia","Bananas",{"$f":"_xlfn.XLOOKUP(A42&B42,'FFV Data'!$A:$A&'FFV Data'!$B:$B,'FFV Data'!$P:$P,\"N/A\",0)","v":{"$error":"#N/A"}},{"$f":"_xlfn.XLOOKUP(A42&B42,'FFV Data'!A:A&'FFV Data'!B:B,'FFV Data'!X:X,\"N/A\",0)","v":15476.920684642977},{"$f":"D42*'FFV Coeffs for Calcs'!E46","v":278.58457232357364},{"$f":"(D42-E42)*'FFV Coeffs for Calcs'!F46","v":12918.585695471493},{"$f":"F42*'FFV Coeffs for Calcs'!H46","v":5931.7839318373271},2279.7504168479099,{"$f":"H42*'FFV Coeffs for Calcs'!I46","v":1007.6496842467762},7218.0181884076765,null,"Estonia","Bananas",null,15476.920684642977,247.63073095428763,12944.896460635386,5398.0218240849554,2532.0242240075913,876.08038150662651,6521.73293654587,null,"Estonia","Bananas",null,15476.920684642977,309.53841369285954,12892.2749303076,6394.5683654325694,2584.6457543353772,1519.7717035492017,8223.8784826746305,null,"Estonia","Bananas",7218.0181884076765,6521.73293654587,8223.8784826746305,7372.8057096102502,696.2852518618065,1005.860294266954]
["Finland","Bananas",{"$f":"_xlfn.XLOOKUP(A43&B43,'FFV Data'!$A:$A&'FFV Data'!$B:$B,'FFV Data'!$P:$P,\"N/A\",0)","v":4984.8920807852583},{"$f":"_xlfn.XLOOKUP(A43&B43,'FFV Data'!A:A&'FFV Data'!B:B,'FFV Data'!X:X,\"N/A\",0)","v":89779.22},{"$f":"D43*'FFV Coeffs for Calcs'!E47","v":1616.0259600000002},{"$f":"(D43-E43)*'FFV Coeffs for Calcs'!F47","v":74938.714934000003},{"$f":"F43*'FFV Coeffs for Calcs'!H47","v":31249.444127478},13224.479105999999,{"$f":"H43*'FFV Coeffs for Calcs'!I47","v":5845.2197648519996},43695.58193311526,null,"Finland","Bananas",4984.8920807852583,89779.22,1436.4675200000001,75091.339607999995,31313.088616535995,14687.880392000006,5082.0066156320017,42816.454832953255,null,"Finland","Bananas",4984.8920807852583,89779.22,1795.5844,74786.090259999997,37093.900768959997,14993.129740000004,8815.9602871200022,52690.337536865256,null,"Finland","Bananas",43695.58193311526,42816.454832953255,52690.337536865256,47753.396184909259,879.12710016200435,8994.7556037499962]
["France","Bananas",{"$f":"_xlfn.XLOOKUP(A44&B44,'FFV Data'!$A:$A&'FFV Data'!$B:$B,'FFV Data'!$P:$P,\"N/A\",0)","v":49294.11},{"$f":"_xlfn.XLOOKUP(A44&B44,'FFV Data'!A:A&'FFV Data'!B:B,'FFV Data'!X:X,\"N/A\",0)","v":702656.69},{"$f":"D44*'FFV Coeffs for Calcs'!E48","v":12647.82042},{"$f":"(D44-E44)*'FFV Coeffs for Calcs'!F48","v":586507.53914299991},{"$f":"F44*'FFV Coeffs for Calcs'!H48","v":269304.71172316081},103501.33043700003,{"$f":"H44*'FFV Coeffs for Calcs'!I48","v":45747.58805315401},376994.23019631481,null,"France","Bananas",49294.11,702656.69,11242.507039999999,587702.05551599991,245071.75715017194,114954.63448400004,39774.303531464007,345382.67772163596,null,"France","Bananas",49294.11,702656.69,14053.1338,585313.02276999992,290315.25929391995,117343.66723000002,68998.076331240009,422660.57942515996,null,"France","Bananas",376994.23019631481,345382.67772163596,422660.57942515996,384021.62857339799,31611.552474678843,45666.349228845153]
["Germany","Bananas",{"$f":"_xlfn.XLOOKUP(A45&B45,'FFV Data'!$A:$A&'FFV Data'!$B:$B,'FFV Data'!$P:$P,\"N/A\",0)","v":48093.65},{"$f":"_xlfn.XLOOKUP(A45&B45,'FFV Data'!A:A&'FFV Data'!B:B,'FFV Data'!X:X,\"N/A\",0)","v":772680.12694687047},{"$f":"D45*'FFV Coeffs for Calcs'!E49","v":13908.242285043671},{"$f":"(D45-E45)*'FFV Coeffs for Calcs'!F49","v":644956.10196255276},{"$f":"F45*'FFV Coeffs for Calcs'!H49","v":303129.36792239978},113815.78269927402,{"$f":"H45*'FFV Coeffs for Calcs'!I49","v":50306.575953079118},415437.83616052254,null,"Germany","Bananas",48093.65,772680.12694687047,12362.882031149928,646269.65817836241,269494.44746037712,126410.46876850806,43738.022193903787,373689.00168543088,null,"Germany","Bananas",48093.65,772680.12694687047,15453.60253893741,643642.5457467431,319246.70269038458,129037.58120012737,75874.097745674895,458668.05297499691,null,"Germany","Bananas",415437.83616052254,373689.00168543088,458668.05297499691,416178.52733021392,41748.834475091659,43230.216814474377]
["Greece","Bananas",{"$f":"_xlfn.XLOOKUP(A46&B46,'FFV Data'!$A:$A&'FFV Data'!$B:$B,'FFV Data'!$P:$P,\"N/A\",0)","v":289.95999999999998},{"$f":"_xlfn.XLOOKUP(A46&B46,'FFV Data'!A:A&'FFV Data'!B:B,'FFV Data'!X:X,\"N/A\",0)","v":128286.62020833322},{"$f":"D46*'FFV Coeffs for Calcs'!E50","v":2309.1591637499982},{"$f":"(D46-E46)*'FFV Coeffs for Calcs'!F50","v":107080.84188789573},{"$f":"F46*'FFV Coeffs for Calcs'!H50","v":49167.953233525455},18896.619156687491,{"$f":"H46*'FFV Coeffs for Calcs'!I50","v":8352.3056672558705},60119.378064531324,null,"Greece","Bananas",289.95999999999998,128286.62020833322,2052.5859233333317,107298.92914224989,44743.653452318205,20987.691066083324,7261.7411088648296,54347.940484516366,null,"Greece","Bananas",289.95999999999998,128286.62020833322,2565.7324041666643,106862.75463354157,53003.92629823662,21423.865574791649,12597.232957977489,68456.85166038078,null,"Greece","Bananas",60119.378064531324,54347.940484516366,68456.85166038078,61402.396072448573,5771.4375800149573,8337.4735958494566]
["Hungary","Bananas",{"$f":"_xlfn.XLOOKUP(A47&B47,'FFV Data'!$A:$A&'FFV Data'!$B:$B,'FFV Data'!$P:$P,\"N/A\",0)","v":2478.42},{"$f":"_xlfn.XLOOKUP(A47&B47,'FFV Data'!A:A&'FFV Data'!B:B,'FFV Data'!X:X,\"N/A\",0)","v":24787.217765804384},{"$f":"D47*'FFV Coeffs for Calcs'!E51","v":446.16991978447896},{"$f":"(D47-E47)*'FFV Coeffs for Calcs'!F51","v":20689.890669116918},{"$f":"F47*'FFV Coeffs for Calcs'!H51","v":9500.1081322361842},3651.157176902987,{"$f":"H47*'FFV Coeffs for Calcs'!I51","v":1613.8114721911202},14038.509524211784,null,"Hungary","Bananas",{"$f":"IF(ISNUMBER(C47),C47)","v":2478.42},{"$f":"$D47","v":24787.217765804384},{"$f":"O47*0.016","v":396.59548425287016},20732.028939318785,8645.2560676959329,4055.1888264855988,1403.0953339640171,12923.366885912819,null,"Hungary","Bananas",null,24787.217765804384,495.74435531608771,20647.75239891505,10241.285189861865,4139.4653668893334,2434.0056357309277,13171.035180908881,null,"Hungary","Bananas",14038.509524211784,12923.366885912819,13171.035180908881,13047.201033410849,1115.1426382989648,0]
["Iceland","Bananas",{"$f":"_xlfn.XLOOKUP(A48&B48,'FFV Data'!$A:$A&'FFV Data'!$B:$B,'FFV Data'!$P:$P,\"N/A\",0)","v":105.89},{"$f":"_xlfn.XLOOKUP(A48&B48,'FFV Data'!A:A&'FFV Data'!B:B,'FFV Data'!X:X,\"N/A\",0)","v":3953.2119055231574},{"$f":"D48*'FFV Coeffs for Calcs'!E52","v":71.157814299416842},{"$f":"(D48-E48)*'FFV Coeffs for Calcs'!F52","v":3299.7459775401794},{"$f":"F48*'FFV Coeffs for Calcs'!H52","v":1515.1333613538657},582.30811368356126,{"$f":"H48*'FFV Coeffs for Calcs'!I52","v":257.38018624813407},1949.5613619014166,null,"Iceland","Bananas",105.89,3953.2119055231574,63.251390488370518,3306.4664377795689,1378.7965045540802,646.74546774358851,223.7739318392816,1771.7118268817323,null,"Iceland","Bananas",105.89,3953.2119055231574,79.064238110463151,3293.0255173007899,1633.3406565811918,660.18638822236744,388.18959627475203,2206.4844909664071,null,"Iceland","Bananas",1949.5613619014166,1771.7118268817323,2206.4844909664071,1989.0981589240696,177.84953501968425,256.92312906499046]
["Ireland","Bananas",{"$f":"_xlfn.XLOOKUP(A49&B49,'FFV Data'!$A:$A&'FFV Data'!$B:$B,'FFV Data'!$P:$P,\"N/A\",0)","v":3291.7331171299106},{"$f":"_xlfn.XLOOKUP(A49&B49,'FFV Data'!A:A&'FFV Data'!B:B,'FFV Data'!X:X,\"N/A\",0)","v":58388.44},{"$f":"D49*'FFV Coeffs for Calcs'!E53","v":1050.9919200000002},{"$f":"(D49-E49)*'FFV Coeffs for Calcs'!F53","v":48736.830867999997},{"$f":"F49*'FFV Coeffs for Calcs'!H53","v":22378.328173556667},8600.6172120000047,{"$f":"H49*'FFV Coeffs for Calcs'!I53","v":3801.4728077040022},30522.526018390581,null,"Ireland","Bananas",3291.7331171299106,58388.44,934.21504000000004,48836.091216000001,20364.650037071999,9552.3487840000016,3305.1126792640002,27895.710873465909,null,"Ireland","Bananas",3291.7331171299106,58388.44,1167.7688000000001,48637.570520000001,24124.234977920001,9750.8694800000012,5733.5112542400002,34317.24814928991,null,"Ireland","Bananas",30522.526018390581,27895.710873465909,34317.24814928991,31106.479511377911,2626.8151449246725,3794.7221308993285]
["Italy","Bananas",{"$f":"_xlfn.XLOOKUP(A50&B50,'FFV Data'!$A:$A&'FFV Data'!$B:$B,'FFV Data'!$P:$P,\"N/A\",0)","v":26.71},{"$f":"_xlfn.XLOOKUP(A50&B50,'FFV Data'!A:A&'FFV Data'!B:B,'FFV Data'!X:X,\"N/A\",0)","v":666681.27},{"$f":"D50*'FFV Coeffs for Calcs'!E54","v":12000.262860000003},{"$f":"(D50-E50)*'FFV Coeffs for Calcs'!F54","v":556478.85606899997},{"$f":"F50*'FFV Coeffs for Calcs'!H54","v":255516.5414116825},98202.151071000029,{"$f":"H50*'FFV Coeffs for Calcs'!I54","v":43405.350773382015},310948.86504506448,null,"Italy","Bananas",26.71,666681.27,10666.900320000001,557612.21422800003,232524.293333076,109069.05577199999,37737.893297111994,280955.796950188,null,"Italy","Bananas",null,666681.27,13333.625400000001,555345.49791000003,275451.36696335999,111335.77208999998,65465.433988919984,354250.42635228002,null,"Italy","Bananas",310948.86504506448,280955.796950188,354250.42635228002,317603.11165123398,29993.068094876478,43301.561307215539]
["Latvia","Bananas",{"$f":"_xlfn.XLOOKUP(A51&B51,'FFV Data'!$A:$A&'FFV Data'!$B:$B,'FFV Data'!$P:$P,\"N/A\",0)","v":{"$error":"#N/A"}},{"$f":"_xlfn.XLOOKUP(A51&B51,'FFV Data'!A:A&'FFV Data'!B:B,'FFV Data'!X:X,\"N/A\",0)","v":17266.669626055373},{"$f":"D51*'FFV Coeffs for Calcs'!E55","v":310.80005326899675},{"$f":"(D51-E51)*'FFV Coeffs for Calcs'!F55","v":14412.489136868418},{"$f":"F51*'FFV Coeffs for Calcs'!H55","v":6617.7345953454151},2543.3804359179558,{"$f":"H51*'FFV Coeffs for Calcs'!I55","v":1124.1741526757364},8052.7088012901477,null,"Latvia","Bananas",null,17266.669626055373,276.26671401688594,14441.842475232714,6022.2483121720416,2824.827150822659,977.39019418463988,7275.9052203735673,null,"Latvia","Bananas",null,17266.669626055373,345.33339252110744,14383.135798504125,7134.0353560580461,2883.5338275512477,1695.5178906001336,9174.8866391792872,null,"Latvia","Bananas",8052.7088012901477,7275.9052203735673,9174.8866391792872,8225.3959297764268,776.80358091658036,1122.1778378891395]
["Lithuania","Bananas",{"$f":"_xlfn.XLOOKUP(A52&B52,'FFV Data'!$A:$A&'FFV Data'!$B:$B,'FFV Data'!$P:$P,\"N/A\",0)","v":{"$error":"#N/A"}},{"$f":"_xlfn.XLOOKUP(A52&B52,'FFV Data'!A:A&'FFV Data'!B:B,'FFV Data'!X:X,\"N/A\",0)","v":26333.51},{"$f":"D52*'FFV Coeffs for Calcs'!E56","v":474.00318000000004},{"$f":"(D52-E52)*'FFV Coeffs for Calcs'!F56","v":21980.580796999999},{"$f":"F52*'FFV Coeffs for Calcs'!H56","v":10092.750015955833},3878.926023,{"$f":"H52*'FFV Coeffs for Calcs'!I56","v":1714.4853021660001},12281.238498121833,null,"Lithuania","Bananas",null,26333.51,421.33616000000001,22025.347763999998,9184.5700175879992,4308.1622360000001,1490.6241336559999,11096.530311244,null,"Lithuania","Bananas",null,26333.51,526.67020000000002,21935.813829999999,10880.16365968,4397.6961699999993,2585.8453479599993,13992.67920764,null,"Lithuania","Bananas",12281.238498121833,11096.530311244,13992.67920764,12544.604759442,1184.7081868778332,1711.4407095181668]
["Luxembourg","Bananas",{"$f":"_xlfn.XLOOKUP(A53&B53,'FFV Data'!$A:$A&'FFV Data'!$B:$B,'FFV Data'!$P:$P,\"N/A\",0)","v":329.97},{"$f":"_xlfn.XLOOKUP(A53&B53,'FFV Data'!A:A&'FFV Data'!B:B,'FFV Data'!X:X,\"N/A\",0)","v":4968.4883667683662},{"$f":"D53*'FFV Coeffs for Calcs'!E57","v":89.432790601830604},{"$f":"(D53-E53)*'FFV Coeffs for Calcs'!F57","v":4147.1972397415548},{"$f":"F53*'FFV Coeffs for Calcs'!H57","v":1904.2547325813305},731.85833642498073,{"$f":"H53*'FFV Coeffs for Calcs'!I57","v":323.4813846998415},2647.1389078830025,null,"Luxembourg","Bananas",329.97,4968.4883667683662,79.495813868293865,4155.6436699650612,1732.9034103754304,812.84469680330494,281.24426509394351,2423.6134893376675,null,"Luxembourg","Bananas",329.97,4968.4883667683662,99.369767335367328,4138.7508095180492,2052.8204015209526,829.73755725031697,487.88568366318634,2970.0458525195063,null,"Luxembourg","Bananas",2647.1389078830025,2423.6134893376675,2970.0458525195063,2696.8296709285869,223.52541854533501,322.90694463650379]
["Malta","Bananas",{"$f":"_xlfn.XLOOKUP(A54&B54,'FFV Data'!$A:$A&'FFV Data'!$B:$B,'FFV Data'!$P:$P,\"N/A\",0)","v":488.09},{"$f":"_xlfn.XLOOKUP(A54&B54,'FFV Data'!A:A&'FFV Data'!B:B,'FFV Data'!X:X,\"N/A\",0)","v":7577.8923579196944},{"$f":"D54*'FFV Coeffs for Calcs'!E58","v":136.40206244255452},{"$f":"(D54-E54)*'FFV Coeffs for Calcs'!F58","v":6325.2667511555683},{"$f":"F54*'FFV Coeffs for Calcs'!H58","v":2904.3516499055986},1116.2235443215714,{"$f":"H54*'FFV Coeffs for Calcs'!I58","v":493.37080659013452},4022.2145189382877,null,"Malta","Bananas",488.09,7577.8923579196944,121.24627772671511,6338.1491681640318,2643.008203124401,1239.7431897556626,428.95114365545919,3681.2956245065752,null,"Malta","Bananas",null,7577.8923579196944,151.55784715839388,6312.3843341471056,3130.9426297369646,1265.5080237725888,744.11871797828212,4026.6191948736405,null,"Malta","Bananas",4022.2145189382877,3681.2956245065752,4026.6191948736405,3853.9574096901079,340.91889443171249,4.4046759353527705]
["Netherlands","Bananas",{"$f":"_xlfn.XLOOKUP(A55&B55,'FFV Data'!$A:$A&'FFV Data'!$B:$B,'FFV Data'!$P:$P,\"N/A\",0)","v":12903.843489149147},{"$f":"_xlfn.XLOOKUP(A55&B55,'FFV Data'!A:A&'FFV Data'!B:B,'FFV Data'!X:X,\"N/A\",0)","v":369130.77},{"$f":"D55*'FFV Coeffs for Calcs'!E59","v":6644.3538600000011},{"$f":"(D55-E55)*'FFV Coeffs for Calcs'!F59","v":308113.45371900004},{"$f":"F55*'FFV Coeffs for Calcs'!H59","v":152824.27304462402},54372.962421000004,{"$f":"H55*'FFV Coeffs for Calcs'!I59","v":24032.849390082003},196405.31978385517,null,"Netherlands","Bananas",12903.843489149147,369130.77,5906.0923200000007,308740.976028,128744.987003676,60389.793972000014,20894.868714312004,168449.79152713716,null,"Netherlands","Bananas",12903.843489149147,369130.77,7382.6154000000006,307485.93141000002,152513.02197936,61644.838589999999,36247.165090919996,209046.64595942915,null,"Netherlands","Bananas",196405.31978385517,168449.79152713716,209046.64595942915,188748.21874328316,27955.528256718011,12641.32617557398]
["Norway","Bananas",{"$f":"_xlfn.XLOOKUP(A56&B56,'FFV Data'!$A:$A&'FFV Data'!$B:$B,'FFV Data'!$P:$P,\"N/A\",0)","v":3996.32},{"$f":"_xlfn.XLOOKUP(A56&B56,'FFV Data'!A:A&'FFV Data'!B:B,'FFV Data'!X:X,\"N/A\",0)","v":63379.233871995282},{"$f":"D56*'FFV Coeffs for Calcs'!E60","v":1140.8262096959152},{"$f":"(D56-E56)*'FFV Coeffs for Calcs'!F60","v":52902.646512954459},{"$f":"F56*'FFV Coeffs for Calcs'!H60","v":24291.131857198256},9335.7611493449076,{"$f":"H56*'FFV Coeffs for Calcs'!I60","v":4126.4064280104494},33554.684494904621,null,"Norway","Bananas",3996.32,63379.233871995282,1014.0677419519245,53010.391210536851,22105.333134793866,10368.842661458431,3587.6195608646171,30703.340437610408,null,"Norway","Bananas",3996.32,63379.233871995282,1267.5846774399056,52794.901815372068,26186.271300424545,10584.332056623214,6223.58724929445,37673.763227158903,null,"Norway","Bananas",33554.684494904621,30703.340437610408,37673.763227158903,34188.551832384655,2851.3440572942127,4119.0787322542819]
["Poland","Bananas",{"$f":"_xlfn.XLOOKUP(A57&B57,'FFV Data'!$A:$A&'FFV Data'!$B:$B,'FFV Data'!$P:$P,\"N/A\",0)","v":19379.174496017338},{"$f":"_xlfn.XLOOKUP(A57&B57,'FFV Data'!A:A&'FFV Data'!B:B,'FFV Data'!X:X,\"N/A\",0)","v":123386.11},{"$f":"D57*'FFV Coeffs for Calcs'!E61","v":2220.9499800000003},{"$f":"(D57-E57)*'FFV Coeffs for Calcs'!F61","v":102990.386017},{"$f":"F57*'FFV Coeffs for Calcs'!H61","v":47289.752246139164},18174.774002999999,{"$f":"H57*'FFV Coeffs for Calcs'!I61","v":8033.2501093259998},76923.126831482514,null,"Poland","Bananas",19379.174496017338,123386.11,1974.17776,103200.142404,43034.459382467998,20185.967596000002,6984.3447882159999,71372.156426701331,null,"Poland","Bananas",19379.174496017338,123386.11,2467.7222000000002,102780.62963,50979.192296479996,20605.480370000005,12116.022457560002,84942.111450057331,null,"Poland","Bananas",76923.126831482514,71372.156426701331,84942.111450057331,78157.133938379324,5550.9704047811829,8018.9846185748174]
["Portugal","Bananas",{"$f":"_xlfn.XLOOKUP(A58&B58,'FFV Data'!$A:$A&'FFV Data'!$B:$B,'FFV Data'!$P:$P,\"N/A\",0)","v":24140.753751567961},{"$f":"_xlfn.XLOOKUP(A58&B58,'FFV Data'!A:A&'FFV Data'!B:B,'FFV Data'!X:X,\"N/A\",0)","v":180477.47},{"$f":"D58*'FFV Coeffs for Calcs'!E62","v":3248.5944600000003},{"$f":"(D58-E58)*'FFV Coeffs for Calcs'!F62","v":150644.54420900001},{"$f":"F58*'FFV Coeffs for Calcs'!H62","v":69170.953215965841},26584.331330999994,{"$f":"H58*'FFV Coeffs for Calcs'!I62","v":11750.274448301998},108310.5758758358,null,"Portugal","Bananas",24140.753751567961,180477.47,2887.6395200000002,150951.355908,62946.715413635997,29526.114092000003,10216.035475832001,100191.14416103596,null,"Portugal","Bananas",null,180477.47,3609.5493999999999,150337.73251,74567.515324959997,30139.73749,17722.165644119999,95899.230369080004,null,"Portugal","Bananas",108310.5758758358,100191.14416103596,95899.230369080004,98045.18726505799,8119.4317147998372,0]
["Romania","Bananas",{"$f":"_xlfn.XLOOKUP(A59&B59,'FFV Data'!$A:$A&'FFV Data'!$B:$B,'FFV Data'!$P:$P,\"N/A\",0)","v":8472.7900000000009},{"$f":"_xlfn.XLOOKUP(A59&B59,'FFV Data'!A:A&'FFV Data'!B:B,'FFV Data'!X:X,\"N/A\",0)","v":121841.59752062359},{"$f":"D59*'FFV Coeffs for Calcs'!E63","v":2193.148755371225},{"$f":"(D59-E59)*'FFV Coeffs for Calcs'!F63","v":101701.18145046452},{"$f":"F59*'FFV Coeffs for Calcs'!H63","v":46697.792482671626},17947.267314787852,{"$f":"H59*'FFV Coeffs for Calcs'!I63","v":7932.6921531362304},65296.42339117908,null,"Romania","Bananas",8472.7900000000009,121841.59752062359,1949.4655603299775,101908.31216624957,42495.766173326068,19933.28535437402,6896.9167326134102,59814.938466269457,null,"Romania","Bananas",null,121841.59752062359,2436.831950412472,101494.05073467945,50341.049164401004,20347.546785944141,11964.357510135154,64742.23862494863,null,"Romania","Bananas",65296.42339117908,59814.938466269457,64742.23862494863,62278.588545609047,5481.4849249096224,0]
["Slovakia","Bananas",{"$f":"_xlfn.XLOOKUP(A60&B60,'FFV Data'!$A:$A&'FFV Data'!$B:$B,'FFV Data'!$P:$P,\"N/A\",0)","v":3392.9294693008897},{"$f":"_xlfn.XLOOKUP(A60&B60,'FFV Data'!A:A&'FFV Data'!B:B,'FFV Data'!X:X,\"N/A\",0)","v":49984.57},{"$f":"D60*'FFV Coeffs for Calcs'!E64","v":899.72226000000012},{"$f":"(D60-E60)*'FFV Coeffs for Calcs'!F64","v":41722.120578999995},{"$f":"F60*'FFV Coeffs for Calcs'!H64","v":19157.407032524163},7362.7271610000025,{"$f":"H60*'FFV Coeffs for Calcs'!I64","v":3254.3254051620011},26704.384166987056,null,"Slovakia","Bananas",3392.9294693008897,49984.57,799.75311999999997,41807.094347999999,17433.558343115998,8177.475652000001,2829.4065755920001,24455.647508008886,null,"Slovakia","Bananas",null,49984.57,999.69140000000004,41637.146809999998,20652.024817760001,8347.4231900000013,4908.284835720001,26560.001053480002,null,"Slovakia","Bananas",26704.384166987056,24455.647508008886,26560.001053480002,25507.824280744444,2248.7366589781705,0]
["Slovenia","Bananas",{"$f":"_xlfn.XLOOKUP(A61&B61,'FFV Data'!$A:$A&'FFV Data'!$B:$B,'FFV Data'!$P:$P,\"N/A\",0)","v":12372.91},{"$f":"_xlfn.XLOOKUP(A61&B61,'FFV Data'!A:A&'FFV Data'!B:B,'FFV Data'!X:X,\"N/A\",0)","v":18547.215265388539},{"$f":"D61*'FFV Coeffs for Calcs'!E65","v":333.84987477699372},{"$f":"(D61-E61)*'FFV Coeffs for Calcs'!F65","v":15481.360582019812},{"$f":"F61*'FFV Coeffs for Calcs'!H65","v":7108.5247339107636},2732.0048085917315,{"$f":"H61*'FFV Coeffs for Calcs'!I65","v":1207.5461253975454},21022.830734085303,null,"Slovenia","Bananas",12372.91,18547.215265388539,296.7554442462166,15512.890847970973,6468.8754836038961,3034.3244174175652,1049.8762484264776,20188.417176276591,null,"Slovenia","Bananas",12372.91,18547.215265388539,370.94430530777078,15449.830316068652,7663.1158367700509,3097.3849493198868,1821.2623502000934,22228.232492277915,null,"Slovenia","Bananas",21022.830734085303,20188.417176276591,22228.232492277915,21208.324834277253,834.41355780871163,1205.4017581926128]
["Spain","Bananas",{"$f":"_xlfn.XLOOKUP(A62&B62,'FFV Data'!$A:$A&'FFV Data'!$B:$B,'FFV Data'!$P:$P,\"N/A\",0)","v":61354.658618378075},{"$f":"_xlfn.XLOOKUP(A62&B62,'FFV Data'!A:A&'FFV Data'!B:B,'FFV Data'!X:X,\"N/A\",0)","v":329224.42},{"$f":"D62*'FFV Coeffs for Calcs'!E66","v":5926.0395600000002},{"$f":"(D62-E62)*'FFV Coeffs for Calcs'!F66","v":274803.62337399996},{"$f":"F62*'FFV Coeffs for Calcs'!H66","v":117341.14718069798},48494.75706600002,{"$f":"H62*'FFV Coeffs for Calcs'!I66","v":21434.682623172008},206056.52798224805,null,"Spain","Bananas",61354.658618378075,329224.42,5267.5907200000001,275363.30488800001,114826.498138296,53861.11511199997,18635.945828751988,200084.69330542607,null,"Spain","Bananas",61354.658618378075,329224.42,6584.4884000000002,274243.94186000002,136024.99516256002,54980.478139999963,32328.521146319978,236292.66332725808,null,"Spain","Bananas",206056.52798224805,200084.69330542607,236292.66332725808,218188.67831634206,5971.8346768219781,30236.135345010029]
["Sweden","Bananas",{"$f":"_xlfn.XLOOKUP(A63&B63,'FFV Data'!$A:$A&'FFV Data'!$B:$B,'FFV Data'!$P:$P,\"N/A\",0)","v":4802.0925068199358},{"$f":"_xlfn.XLOOKUP(A63&B63,'FFV Data'!A:A&'FFV Data'!B:B,'FFV Data'!X:X,\"N/A\",0)","v":73102.960000000006},{"$f":"D63*'FFV Coeffs for Calcs'!E67","v":1169.6473600000002},{"$f":"(D63-E63)*'FFV Coeffs for Calcs'!F67","v":61143.315744},{"$f":"F63*'FFV Coeffs for Calcs'!H67","v":28074.972479119999},10789.996896000004,{"$f":"H63*'FFV Coeffs for Calcs'!I67","v":4769.1786280320021},38815.890973971938,null,"Sweden","Bananas",4802.0925068199358,73102.960000000006,1169.6473600000002,61143.315744,25496.762665247999,11959.644256000007,4138.0369125760017,35606.539444643939,null,"Sweden","Bananas",4802.0925068199358,73102.960000000006,1462.0592000000001,60894.765680000004,30203.803777280002,12208.194320000002,7178.4182601600014,43646.373744259938,null,"Sweden","Bananas",38815.890973971938,35606.539444643939,43646.373744259938,39626.456594451942,3209.3515293279997,4830.4827702879993]
["Switzerland","Bananas",{"$f":"_xlfn.XLOOKUP(A64&B64,'FFV Data'!$A:$A&'FFV Data'!$B:$B,'FFV Data'!$P:$P,\"N/A\",0)","v":1373.45},{"$f":"_xlfn.XLOOKUP(A64&B64,'FFV Data'!A:A&'FFV Data'!B:B,'FFV Data'!X:X,\"N/A\",0)","v":81202.075637924121},{"$f":"D64*'FFV Coeffs for Calcs'!E68","v":1461.6373614826343},{"$f":"(D64-E64)*'FFV Coeffs for Calcs'!F68","v":67779.372534975264},{"$f":"F64*'FFV Coeffs for Calcs'!H68","v":31122.02855564281},11961.065741466227,{"$f":"H64*'FFV Coeffs for Calcs'!I68","v":5286.7910577280727},39243.906974853511,null,"Switzerland","Bananas",1373.45,81202.075637924121,1299.233210206786,67917.416063559736,28321.562498504409,13284.659574364385,4596.492212730077,35590.737921441272,null,"Switzerland","Bananas",1373.45,81202.075637924121,1624.0415127584824,67641.329006390792,33550.099187169835,13560.746631533329,7973.7190193415972,44521.309719269913,null,"Switzerland","Bananas",39243.906974853511,35590.737921441272,44521.309719269913,40056.023820355593,3653.169053412239,5277.4027444164021]
["United Kingdom","Bananas",{"$f":"_xlfn.XLOOKUP(A65&B65,'FFV Data'!$A:$A&'FFV Data'!$B:$B,'FFV Data'!$P:$P,\"N/A\",0)","v":42628.59},{"$f":"_xlfn.XLOOKUP(A65&B65,'FFV Data'!A:A&'FFV Data'!B:B,'FFV Data'!X:X,\"N/A\",0)","v":675013.43280888582},{"$f":"D65*'FFV Coeffs for Calcs'!E69","v":13500.268656177717},{"$f":"(D65-E65)*'FFV Coeffs for Calcs'!F69","v":562286.18952980195},{"$f":"F65*'FFV Coeffs for Calcs'!H69","v":276082.51905913273},99226.974622906186,{"$f":"H65*'FFV Coeffs for Calcs'!I69","v":43858.322783324533},376069.70049863495,null,"United Kingdom","Bananas",42628.59,675013.43280888582,10800.214924942173,564581.23520135216,235430.37507896384,110432.19760753366,38209.54037220664,327068.72037611267,null,"United Kingdom","Bananas",42628.59,675013.43280888582,13500.268656177717,562286.18952980195,278893.95000678179,112727.24327908386,66283.619048101304,401306.42771106079,null,"United Kingdom","Bananas",376069.70049863495,327068.72037611267,401306.42771106079,364187.57404358673,49000.980122522276,25236.727212425845]
["Austria","Cucumbers",{"$f":"_xlfn.XLOOKUP(A66&B66,'FFV Data'!$A:$A&'FFV Data'!$B:$B,'FFV Data'!$P:$P,\"N/A\",0)","v":2684.2049999999999},{"$f":"_xlfn.XLOOKUP(A66&B66,'FFV Data'!A:A&'FFV Data'!B:B,'FFV Data'!X:X,\"N/A\",0)","v":43524.240480929358},{"$f":"D66*'FFV Coeffs for Calcs'!E73","v":2002.1150621227505},{"$f":"(D66-E66)*'FFV Coeffs for Calcs'!F73","v":36954.691622737882},{"$f":"F66*'FFV Coeffs for Calcs'!H73","v":8690.5116466138588},4567.4337960687262,{"$f":"H66*'FFV Coeffs for Calcs'!I73","v":1557.4949244594357},{"$f":"SUM(IF(ISNUMBER(C66),C66,0),E66,G66,I66)","v":14934.326633196044},null,"Austria","Cucumbers",2684.2049999999999,43524.240480929358,{"$f":"O66*0.0094","v":409.12786052073596},{"$f":"(O66-P66)*0.89","v":38372.450232163676},{"$f":"Q66*0.151","v":5794.2399850567144},{"$f":"O66-Q66","v":5151.7902487656829},{"$f":"S66*0.244","v":1257.0368206988267},10144.609666276276,null,"Austria","Cucumbers",2684.2049999999999,43524.240480929358,{"$f":"Z66*0.046","v":2002.1150621227505},{"$f":"(Z66-AA66)*0.89","v":36954.691622737882},{"$f":"AB66*0.315","v":11640.727861162433},{"$f":"Z66-AB66","v":6569.548858191476},{"$f":"AD66*0.478","v":3140.2443542155256},19467.29227750071,null,"Austria","Cucumbers",14934.326633196044,10144.609666276276,19467.29227750071,14805.950971888493,4789.7169669197683,4532.9656443046661]
["Belgium","Cucumbers",{"$f":"_xlfn.XLOOKUP(A67&B67,'FFV Data'!$A:$A&'FFV Data'!$B:$B,'FFV Data'!$P:$P,\"N/A\",0)","v":620.44787232449278},{"$f":"_xlfn.XLOOKUP(A67&B67,'FFV Data'!A:A&'FFV Data'!B:B,'FFV Data'!X:X,\"N/A\",0)","v":18986.002350000002},{"$f":"D67*'FFV Coeffs for Calcs'!E74","v":477.18152573000003},{"$f":"(D67-E67)*'FFV Coeffs for Calcs'!F74","v":16472.850533600304},{"$f":"F67*'FFV Coeffs for Calcs'!H74","v":3873.8653504850045},{"$f":"D67-E67-F67","v":2035.9702906696984},{"$f":"H67*'FFV Coeffs for Calcs'!I74","v":694.26586911836728},5665.7606176578638,null,"Belgium","Cucumbers",620.44787232449278,18986.002350000002,{"$f":"O67*0.0094","v":178.46842209000002},{"$f":"(O67-P67)*0.89","v":16738.705195839902},{"$f":"Q67*0.151","v":2527.5444845718253},{"$f":"O67-Q67","v":2247.2971541601},{"$f":"S67*0.244","v":548.34050561506444},3874.8012846013826,null,"Belgium","Cucumbers",620.44787232449278,18986.002350000002,{"$f":"Z67*0.046","v":873.35610810000014},{"$f":"(Z67-AA67)*0.89","v":16120.255155291003},{"$f":"AB67*0.315","v":5077.880373916666},{"$f":"Z67-AB67","v":2865.7471947089998},{"$f":"AD67*0.478","v":1369.8271590709019},7941.5115134120606,null,"Belgium","Cucumbers",5665.7606176578638,3874.8012846013826,7941.5115134120606,5908.1563990067216,1790.9593330564812,2275.7508957541968]
["Bulgaria","Cucumbers",{"$f":"_xlfn.XLOOKUP(A68&B68,'FFV Data'!$A:$A&'FFV Data'!$B:$B,'FFV Data'!$P:$P,\"N/A\",0)","v":4198.2369200591374},{"$f":"_xlfn.XLOOKUP(A68&B68,'FFV Data'!A:A&'FFV Data'!B:B,'FFV Data'!X:X,\"N/A\",0)","v":54963.854250000004},{"$f":"D68*'FFV Coeffs for Calcs'!E75","v":1381.4248701499998},{"$f":"(D68-E68)*'FFV Coeffs for Calcs'!F75","v":47688.36214806651},{"$f":"F68*'FFV Coeffs for Calcs'!H75","v":11214.71316515364},5894.0672317834978,{"$f":"H68*'FFV Coeffs for Calcs'!I75","v":2009.876926038173},18804.251881400953,null,"Bulgaria","Cucumbers",4198.2369200591374,54963.854250000004,516.66022995000003,48458.002677844503,7317.1584043545199,6505.8515721555013,1587.4277836059423,13619.483337969601,null,"Bulgaria","Cucumbers",null,54963.854250000004,2528.3372955,46667.610089505004,14700.297178194076,8296.244160495,3965.6047087166098,21194.239182410689,null,"Bulgaria","Cucumbers",18804.251881400953,13619.483337969601,21194.239182410689,17406.861260190144,5184.7685434313516,2389.9873010097363]
["Croatia","Cucumbers",{"$f":"_xlfn.XLOOKUP(A69&B69,'FFV Data'!$A:$A&'FFV Data'!$B:$B,'FFV Data'!$P:$P,\"N/A\",0)","v":931.51559999999995},{"$f":"_xlfn.XLOOKUP(A69&B69,'FFV Data'!A:A&'FFV Data'!B:B,'FFV Data'!X:X,\"N/A\",0)","v":11354.142900000001},{"$f":"D69*'FFV Coeffs for Calcs'!E76","v":285.36745822},{"$f":"(D69-E69)*'FFV Coeffs for Calcs'!F76","v":9851.2101431842002},{"$f":"F69*'FFV Coeffs for Calcs'!H76","v":2316.6762520054845},1217.5652985958004,{"$f":"H69*'FFV Coeffs for Calcs'!I76","v":415.18976682116795},3948.749077046652,null,{"$f":"A69","v":"Croatia"},{"$f":"B69","v":"Cucumbers"},{"$f":"IF(ISNUMBER(C69),C69)","v":931.51559999999995},{"$f":"$D69","v":11354.142900000001},106.72894326000001,10010.198421498602,1511.5399616462889,1343.9444785013984,327.92245275434118,{"$f":"SUM(IF(ISNUMBER(N69),N69,0),P69,R69,T69)","v":2877.70695766063},null,"Croatia","Cucumbers",null,{"$f":"$D69","v":11354.142900000001},522.29057339999997,9640.3485706740012,3036.7097997623105,1713.7943293259996,819.19368941782773,{"$f":"SUM(IF(ISNUMBER(Y69),Y69,0),AA69,AC69,AE69)","v":4378.1940625801381},null,{"$f":"L69","v":"Croatia"},{"$f":"M69","v":"Cucumbers"},{"$f":"J69","v":3948.749077046652},{"$f":"U69","v":2877.70695766063},{"$f":"AF69","v":4378.1940625801381},{"$f":"AVERAGE(AK69:AL69)","v":3627.950510120384},1071.042119386022,429.44498553348603]
["Cyprus","Cucumbers",{"$f":"_xlfn.XLOOKUP(A70&B70,'FFV Data'!$A:$A&'FFV Data'!$B:$B,'FFV Data'!$P:$P,\"N/A\",0)","v":471.01620580078571},{"$f":"_xlfn.XLOOKUP(A70&B70,'FFV Data'!A:A&'FFV Data'!B:B,'FFV Data'!X:X,\"N/A\",0)","v":5027.0300999999999},{"$f":"D70*'FFV Coeffs for Calcs'!E77","v":126.34602317999999},{"$f":"(D70-E70)*'FFV Coeffs for Calcs'!F77","v":4361.6088283698},{"$f":"F70*'FFV Coeffs for Calcs'!H77","v":1025.7050094716312},539.07524845019998,{"$f":"H70*'FFV Coeffs for Calcs'!I77","v":183.8246597215182},1806.891898173935,null,"Cyprus","Cucumbers",471.01620580078571,5027.0300999999999,47.254082940000004,4432.0006551833994,669.23209893269325,595.02944481660052,145.18718453525051,1332.6895722087295,null,"Cyprus","Cucumbers",{"$f":"$C70","v":471.01620580078571},5027.0300999999999,231.24338459999998,4268.2501767059994,1344.4988056623897,758.77992329400058,362.69680333453226,2409.4551993977079,null,"Cyprus","Cucumbers",1806.891898173935,1332.6895722087295,2409.4551993977079,1871.0723858032188,{"$f":"AJ70-MIN(AK70,AJ70)","v":474.20232596520555},{"$f":"AL70-MIN(AJ70,AL70)","v":602.5633012237729}]
["Czechia","Cucumbers",{"$f":"_xlfn.XLOOKUP(A71&B71,'FFV Data'!$A:$A&'FFV Data'!$B:$B,'FFV Data'!$P:$P,\"N/A\",0)","v":344.90220000000005},{"$f":"_xlfn.XLOOKUP(A71&B71,'FFV Data'!A:A&'FFV Data'!B:B,'FFV Data'!X:X,\"N/A\",0)","v":43091.283285717},{"$f":"D71*'FFV Coeffs for Calcs'!E78","v":1083.0275865810204},{"$f":"(D71-E71)*'FFV Coeffs for Calcs'!F78","v":37387.347572231025},{"$f":"F71*'FFV Coeffs for Calcs'!H78","v":8792.2579040696619},4620.9081269049566,{"$f":"H71*'FFV Coeffs for Calcs'!I78","v":1575.7296712745904},11795.917361925272,null,"Czechia","Cucumbers",344.90220000000005,43091.283285717,405.05806288573979,37990.740448319819,5736.6018076962928,5100.5428373971808,1244.5324523249121,7731.0945229069448,null,"Czechia","Cucumbers",null,43091.283285717,1982.199031142982,36587.084986570873,11524.931770769825,6504.1982991461264,3109.0067869918485,16616.137588904654,null,"Czechia","Cucumbers",11795.917361925272,7731.0945229069448,16616.137588904654,12173.616055905799,4064.8228390183276,4820.2202269793816]
["Denmark","Cucumbers",{"$f":"_xlfn.XLOOKUP(A72&B72,'FFV Data'!$A:$A&'FFV Data'!$B:$B,'FFV Data'!$P:$P,\"N/A\",0)","v":1074.6880205277853},{"$f":"_xlfn.XLOOKUP(A72&B72,'FFV Data'!A:A&'FFV Data'!B:B,'FFV Data'!X:X,\"N/A\",0)","v":27384.510750000001},{"$f":"D72*'FFV Coeffs for Calcs'!E79","v":688.26403684999991},{"$f":"(D72-E72)*'FFV Coeffs for Calcs'!F79","v":23759.659574703503},{"$f":"F72*'FFV Coeffs for Calcs'!H79","v":7484.2927660316036},2936.587138446499,{"$f":"H72*'FFV Coeffs for Calcs'!I79","v":1001.3762142102562},10248.621037619645,null,"Denmark","Cucumbers",1074.6880205277853,27384.510750000001,257.41440105000004,24143.115750565503,3645.6104783353908,3241.3949994344985,790.90037986201764,5768.6132797751943,null,"Denmark","Cucumbers",1074.6880205277853,27384.510750000001,1259.6874945,23251.092697395001,7324.0941996794254,4133.4180526050004,1975.7738291451901,11634.243543852401,null,"Denmark","Cucumbers",10248.621037619645,5768.6132797751943,11634.243543852401,8701.4284118137984,4480.0077578444507,1385.6225062327558]
["Estonia","Cucumbers",{"$f":"_xlfn.XLOOKUP(A73&B73,'FFV Data'!$A:$A&'FFV Data'!$B:$B,'FFV Data'!$P:$P,\"N/A\",0)","v":556.16940000000011},{"$f":"_xlfn.XLOOKUP(A73&B73,'FFV Data'!A:A&'FFV Data'!B:B,'FFV Data'!X:X,\"N/A\",0)","v":7605.8631015056744},{"$f":"D73*'FFV Coeffs for Calcs'!E80","v":191.16069261784259},{"$f":"(D73-E73)*'FFV Coeffs for Calcs'!F80","v":6599.0851439101698},{"$f":"F73*'FFV Coeffs for Calcs'!H80","v":1551.8848563428749},815.61726497766176,{"$f":"H73*'FFV Coeffs for Calcs'!I80","v":278.12548735738267},2577.3404363180998,null,"Estonia","Cucumbers",556.16940000000011,7605.8631015056744,71.495113154153344,6705.5875096328546,1012.543713954561,900.27559187281986,219.66724441696803,1859.8754715256825,null,"Estonia","Cucumbers",null,7605.8631015056744,349.86970266926102,6457.8341249644081,2034.2177493637885,1148.0289765412663,548.75785078672527,2932.8453028197746,null,"Estonia","Cucumbers",2577.3404363180998,1859.8754715256825,2932.8453028197746,2396.3603871727287,717.46496479241728,355.50486650167477]
["Finland","Cucumbers",{"$f":"_xlfn.XLOOKUP(A74&B74,'FFV Data'!$A:$A&'FFV Data'!$B:$B,'FFV Data'!$P:$P,\"N/A\",0)","v":3916.0807500000001},{"$f":"_xlfn.XLOOKUP(A74&B74,'FFV Data'!A:A&'FFV Data'!B:B,'FFV Data'!X:X,\"N/A\",0)","v":37653.031510320216},{"$f":"D74*'FFV Coeffs for Calcs'!E81","v":946.34619195938126},{"$f":"(D74-E74)*'FFV Coeffs for Calcs'!F81","v":32668.94993334114},{"$f":"F74*'FFV Coeffs for Calcs'!H81","v":6272.4383872014987},4037.7353850196923,{"$f":"H74*'FFV Coeffs for Calcs'!I81","v":1376.8677662917153},12511.733095452593,null,"Finland","Cucumbers",3916.0807500000001,37653.031510320216,353.93849619701007,33196.192782569648,5012.6251101680164,4456.8387277505681,1087.4686495711385,10370.113005936164,null,"Finland","Cucumbers",3916.0807500000001,37653.031510320216,1732.03944947473,31969.682934152483,10070.450124258032,5683.348576167733,2716.6406194081765,18435.210943140937,null,"Finland","Cucumbers",12511.733095452593,10370.113005936164,18435.210943140937,14402.661974538551,2141.6200895164293,5923.4778476883439]
["France","Cucumbers",{"$f":"_xlfn.XLOOKUP(A75&B75,'FFV Data'!$A:$A&'FFV Data'!$B:$B,'FFV Data'!$P:$P,\"N/A\",0)","v":33024.0936},{"$f":"_xlfn.XLOOKUP(A75&B75,'FFV Data'!A:A&'FFV Data'!B:B,'FFV Data'!X:X,\"N/A\",0)","v":137381.1294934914},{"$f":"D75*'FFV Coeffs for Calcs'!E82","v":3452.8457212697504},{"$f":"(D75-E75)*'FFV Coeffs for Calcs'!F82","v":119196.17255727727},{"$f":"F75*'FFV Coeffs for Calcs'!H82","v":28030.966579719705},14732.11121494438,{"$f":"H75*'FFV Coeffs for Calcs'!I82","v":5023.6499242960335},69531.555825285483,null,"France","Cucumbers",33024.0936,137381.1294934914,1291.3826172388192,121119.87471986481,18289.101082699584,16261.254773626599,3967.7461647648902,56572.323464703295,null,"France","Cucumbers",33024.0936,137381.1294934914,6319.5319567006045,116644.82180774381,36743.118869439299,20736.307685747597,9911.9550737873506,85998.699499927243,null,"France","Cucumbers",69531.555825285483,56572.323464703295,85998.699499927243,71285.511482315269,12959.232360582188,16467.14367464176]
["Germany","Cucumbers",{"$f":"_xlfn.XLOOKUP(A76&B76,'FFV Data'!$A:$A&'FFV Data'!$B:$B,'FFV Data'!$P:$P,\"N/A\",0)","v":82211.110350000003},{"$f":"_xlfn.XLOOKUP(A76&B76,'FFV Data'!A:A&'FFV Data'!B:B,'FFV Data'!X:X,\"N/A\",0)","v":445707.56370775978},{"$f":"D76*'FFV Coeffs for Calcs'!E83","v":11202.116767855028},{"$f":"(D76-E76)*'FFV Coeffs for Calcs'!F83","v":386709.84777651523},{"$f":"F76*'FFV Coeffs for Calcs'!H83","v":92036.943770810627},47795.599163389532,{"$f":"H76*'FFV Coeffs for Calcs'!I83","v":16298.299314715832},201748.4702033815,null,"Germany","Cucumbers",82211.110350000003,445707.56370775978,4189.6510988529417,392950.94222192711,59335.592275510993,52756.621485832671,12872.615642543171,158608.96936690714,null,"Germany","Cucumbers",82211.110350000003,445707.56370775978,20502.54793055695,378432.46404171054,119206.22617313883,67275.099666049238,32157.497640371534,254077.38209406732,null,"Germany","Cucumbers",201748.4702033815,158608.96936690714,254077.38209406732,206343.17573048722,43139.500836474355,52328.91189068582]
["Greece","Cucumbers",{"$f":"_xlfn.XLOOKUP(A77&B77,'FFV Data'!$A:$A&'FFV Data'!$B:$B,'FFV Data'!$P:$P,\"N/A\",0)","v":11549.564928841273},{"$f":"_xlfn.XLOOKUP(A77&B77,'FFV Data'!A:A&'FFV Data'!B:B,'FFV Data'!X:X,\"N/A\",0)","v":58972.275900000001},{"$f":"D77*'FFV Coeffs for Calcs'!E84","v":1482.1698676199999},{"$f":"(D77-E77)*'FFV Coeffs for Calcs'!F84","v":51166.1943688182},{"$f":"F77*'FFV Coeffs for Calcs'!H84","v":12032.583375733746},6323.9116635617975,{"$f":"H77*'FFV Coeffs for Calcs'!I84","v":2156.4538772745732},27220.77204946959,null,"Greece","Cucumbers",11549.564928841273,58972.275900000001,554.33939346,51991.963490820599,7850.78648711391,6980.3124091794016,1703.1962278397739,21657.887037254957,null,"Greece","Cucumbers",11549.564928841273,58972.275900000001,2712.7246913999998,50071.000575654005,15772.365181331012,8901.2753243459956,4254.8096050373861,34289.464406609673,null,"Greece","Cucumbers",27220.77204946959,21657.887037254957,34289.464406609673,27973.675721932315,5562.8850122146323,7068.6923571400839]
["Hungary","Cucumbers",{"$f":"_xlfn.XLOOKUP(A78&B78,'FFV Data'!$A:$A&'FFV Data'!$B:$B,'FFV Data'!$P:$P,\"N/A\",0)","v":749.67850469882785},{"$f":"_xlfn.XLOOKUP(A78&B78,'FFV Data'!A:A&'FFV Data'!B:B,'FFV Data'!X:X,\"N/A\",0)","v":22194.826500000003},{"$f":"D78*'FFV Coeffs for Calcs'!E85","v":557.82997269999998},{"$f":"(D78-E78)*'FFV Coeffs for Calcs'!F85","v":19256.926909297003},{"$f":"F78*'FFV Coeffs for Calcs'!H85","v":4528.5873115030117},2380.0696180029991,{"$f":"H78*'FFV Coeffs for Calcs'!I85","v":811.60373973902279},6647.6995286408619,null,"Hungary","Cucumbers",749.67850469882785,22194.826500000003,208.63136910000003,19567.713666501004,2954.7247636416514,2627.112833498999,641.01553137375572,4554.0501688142349,null,"Hungary","Cucumbers",null,22194.826500000003,1020.9620190000002,18844.739388090005,5936.0929072483514,3350.0871119099975,1601.3416394929786,8558.3965657413301,null,"Hungary","Cucumbers",6647.6995286408619,4554.0501688142349,8558.3965657413301,6556.223367277782,2093.649359826627,1910.6970371004682]
["Iceland","Cucumbers",{"$f":"_xlfn.XLOOKUP(A79&B79,'FFV Data'!$A:$A&'FFV Data'!$B:$B,'FFV Data'!$P:$P,\"N/A\",0)","v":157.65389999999999},{"$f":"_xlfn.XLOOKUP(A79&B79,'FFV Data'!A:A&'FFV Data'!B:B,'FFV Data'!X:X,\"N/A\",0)","v":1230.1975748101283},{"$f":"D79*'FFV Coeffs for Calcs'!E86","v":30.918965713561221},{"$f":"(D79-E79)*'FFV Coeffs for Calcs'!F86","v":1067.3579620959447},{"$f":"F79*'FFV Coeffs for Calcs'!H86","v":251.00701408622965},131.92064700062247,{"$f":"H79*'FFV Coeffs for Calcs'!I86","v":44.984940627212268},484.56482042700316,null,"Iceland","Cucumbers",157.65389999999999,1230.1975748101283,11.563857203215207,1084.5840086701528,163.77218530919308,145.61356613997555,35.52971013815403,368.51965265056231,null,"Iceland","Cucumbers",157.65389999999999,1230.1975748101283,56.589088441265901,1044.5115528682877,329.0211391535106,185.68602194184064,88.75791848819982,632.02204608297632,null,"Iceland","Cucumbers",484.56482042700316,368.51965265056231,632.02204608297632,500.27084936676931,116.04516777644085,147.45722565597316]
["Ireland","Cucumbers",{"$f":"_xlfn.XLOOKUP(A80&B80,'FFV Data'!$A:$A&'FFV Data'!$B:$B,'FFV Data'!$P:$P,\"N/A\",0)","v":821.40390000000002},{"$f":"_xlfn.XLOOKUP(A80&B80,'FFV Data'!A:A&'FFV Data'!B:B,'FFV Data'!X:X,\"N/A\",0)","v":5630.3271044586427},{"$f":"D80*'FFV Coeffs for Calcs'!E87","v":141.50888789206053},{"$f":"(D80-E80)*'FFV Coeffs for Calcs'!F87","v":4885.0482127442583},{"$f":"F80*'FFV Coeffs for Calcs'!H87","v":1148.8005046970247},603.77000382232382,{"$f":"H80*'FFV Coeffs for Calcs'!I87","v":205.88557130341243},2317.5988638924978,null,"Ireland","Cucumbers",821.40390000000002,5630.3271044586427,52.925074781911242,4963.887806412291,749.54705876825597,666.43929804635172,162.61118872330982,1786.4872222734771,null,"Ireland","Cucumbers",821.40390000000002,5630.3271044586427,258.99504680509756,4780.485531311655,1505.8529423631712,849.84157314698768,406.22427196426008,2992.4761611325289,null,"Ireland","Cucumbers",2317.5988638924978,1786.4872222734771,2992.4761611325289,2389.481691703003,531.1116416190207,674.87729724003111]
["Italy","Cucumbers",{"$f":"_xlfn.XLOOKUP(A81&B81,'FFV Data'!$A:$A&'FFV Data'!$B:$B,'FFV Data'!$P:$P,\"N/A\",0)","v":9393.0537000000004},{"$f":"_xlfn.XLOOKUP(A81&B81,'FFV Data'!A:A&'FFV Data'!B:B,'FFV Data'!X:X,\"N/A\",0)","v":44869.079403852797},{"$f":"D81*'FFV Coeffs for Calcs'!E88","v":1127.7095290168336},{"$f":"(D81-E81)*'FFV Coeffs for Calcs'!F88","v":38929.819188604008},{"$f":"F81*'FFV Coeffs for Calcs'!H88","v":9154.9958125200428},4811.5506862319526,{"$f":"H81*'FFV Coeffs for Calcs'!I88","v":1640.738784005096},21316.49782554197,null,"Italy","Cucumbers",9393.0537000000004,44869.079403852797,421.76934639621629,39558.105951136356,5973.2739986215893,5310.9734527164401,1295.8775224628114,17083.974567480618,null,"Italy","Cucumbers",null,44869.079403852797,2063.9776525772286,38096.54055863525,12000.410275970104,6772.5388452175466,3237.2735680139872,17301.661496561319,null,"Italy","Cucumbers",21316.49782554197,17083.974567480618,17301.661496561319,17192.818032020969,4232.523258061352,0]
["Latvia","Cucumbers",{"$f":"_xlfn.XLOOKUP(A82&B82,'FFV Data'!$A:$A&'FFV Data'!$B:$B,'FFV Data'!$P:$P,\"N/A\",0)","v":709.93815000000006},{"$f":"_xlfn.XLOOKUP(A82&B82,'FFV Data'!A:A&'FFV Data'!B:B,'FFV Data'!X:X,\"N/A\",0)","v":9040.6492591403075},{"$f":"D82*'FFV Coeffs for Calcs'!E89","v":227.22165137972638},{"$f":"(D82-E82)*'FFV Coeffs for Calcs'!F89","v":7843.9505709069172},{"$f":"F82*'FFV Coeffs for Calcs'!H89","v":1844.6357092582766},969.47703685366378,{"$f":"H82*'FFV Coeffs for Calcs'!I89","v":330.59166956709936},3112.3871802051026,null,"Latvia","Cucumbers",709.93815000000006,9040.6492591403075,84.982103035918897,7970.5437689329065,1203.5521091088688,1070.1054902074011,261.10573961060584,2259.5781017553936,null,"Latvia","Cucumbers",null,9040.6492591403075,415.86986592045412,7676.0536599656689,2417.9569028891856,1364.5955991746387,652.27669640547731,3486.103465215117,null,"Latvia","Cucumbers",3112.3871802051026,2259.5781017553936,3486.103465215117,2872.8407834852551,852.80907844970898,373.71628501001442]
["Lithuania","Cucumbers",{"$f":"_xlfn.XLOOKUP(A83&B83,'FFV Data'!$A:$A&'FFV Data'!$B:$B,'FFV Data'!$P:$P,\"N/A\",0)","v":527.2695412422346},{"$f":"_xlfn.XLOOKUP(A83&B83,'FFV Data'!A:A&'FFV Data'!B:B,'FFV Data'!X:X,\"N/A\",0)","v":25907.7909},{"$f":"D83*'FFV Coeffs for Calcs'!E90","v":651.1491446199999},{"$f":"(D83-E83)*'FFV Coeffs for Calcs'!F90","v":22478.411162288197},{"$f":"F83*'FFV Coeffs for Calcs'!H90","v":5286.1730249981074},2778.230593091801,{"$f":"H83*'FFV Coeffs for Calcs'!I90","v":947.37663224430423},7411.968343104646,null,"Lithuania","Cucumbers",527.2695412422346,25907.7909,243.53323446000002,22841.1893223306,3449.0195876719204,3066.6015776694003,748.25078495133369,4968.0731483254885,null,"Lithuania","Cucumbers",null,25907.7909,1191.7583814,21997.268941554001,6929.1397165895105,3910.5219584459992,1869.2294961371874,9990.1275941266977,null,"Lithuania","Cucumbers",7411.968343104646,4968.0731483254885,9990.1275941266977,7479.1003712260936,2443.8951947791575,2578.1592510220516]
["Luxembourg","Cucumbers",{"$f":"_xlfn.XLOOKUP(A84&B84,'FFV Data'!$A:$A&'FFV Data'!$B:$B,'FFV Data'!$P:$P,\"N/A\",0)","v":2.9293499999999999},{"$f":"_xlfn.XLOOKUP(A84&B84,'FFV Data'!A:A&'FFV Data'!B:B,'FFV Data'!X:X,\"N/A\",0)","v":1765.9684272522181},{"$f":"D84*'FFV Coeffs for Calcs'!E91","v":44.384673138272412},{"$f":"(D84-E84)*'FFV Coeffs for Calcs'!F91","v":1532.2095411614118},{"$f":"F84*'FFV Coeffs for Calcs'!H91","v":360.32461042979202},189.37421295253398,{"$f":"H84*'FFV Coeffs for Calcs'!I91","v":64.57660661681409},472.21524018487855,null,"Luxembourg","Cucumbers",2.9293499999999999,1765.9684272522181,16.600103216170851,1556.9378083920822,235.09760906720439,209.03061886013597,51.003471001873173,305.63053328524842,null,"Luxembourg","Cucumbers",2.9293499999999999,1765.9684272522181,81.234547653602036,1499.4131528427683,472.31514314547201,266.55527440944979,127.41342116771699,683.89246196679096,null,"Luxembourg","Cucumbers",472.21524018487855,305.63053328524842,683.89246196679096,494.76149762601972,166.58470689963013,211.67722178191241]
["Malta","Cucumbers",{"$f":"_xlfn.XLOOKUP(A85&B85,'FFV Data'!$A:$A&'FFV Data'!$B:$B,'FFV Data'!$P:$P,\"N/A\",0)","v":76.897649999999999},{"$f":"_xlfn.XLOOKUP(A85&B85,'FFV Data'!A:A&'FFV Data'!B:B,'FFV Data'!X:X,\"N/A\",0)","v":848.45677407956896},{"$f":"D85*'FFV Coeffs for Calcs'!E92","v":21.324546921866496},{"$f":"(D85-E85)*'FFV Coeffs for Calcs'!F92","v":736.14768217035521},{"$f":"F85*'FFV Coeffs for Calcs'!H92","v":173.1173965903952},90.984544987347249,{"$f":"H85*'FFV Coeffs for Calcs'!I92","v":31.025729840685415},302.36532335294709,null,"Malta","Cucumbers",76.897649999999999,848.45677407956896,7.9754936763479485,748.02833955886672,112.95227927338887,100.42843452070224,24.504538023051346,222.32996097278817,null,"Malta","Cucumbers",null,848.45677407956896,39.029011607660173,720.39070859999879,226.92307320899963,128.06606547957017,61.215579299234541,327.16766411589435,null,"Malta","Cucumbers",302.36532335294709,222.32996097278817,327.16766411589435,274.74881254434126,80.035362380158915,24.802340762947267]
["Netherlands","Cucumbers",{"$f":"_xlfn.XLOOKUP(A86&B86,'FFV Data'!$A:$A&'FFV Data'!$B:$B,'FFV Data'!$P:$P,\"N/A\",0)","v":3824.4207527828094},{"$f":"_xlfn.XLOOKUP(A86&B86,'FFV Data'!A:A&'FFV Data'!B:B,'FFV Data'!X:X,\"N/A\",0)","v":9.6111000000000004},{"$f":"D86*'FFV Coeffs for Calcs'!E93","v":0.24155897999999998},{"$f":"(D86-E86)*'FFV Coeffs for Calcs'!F93","v":8.3388915077999997},{"$f":"F86*'FFV Coeffs for Calcs'!H93","v":2.4766507778165998},1.0306495122000001,{"$f":"H86*'FFV Coeffs for Calcs'!I93","v":0.35145148366020007},3827.4904140242861,null,"Netherlands","Cucumbers",3824.4207527828094,9.6111000000000004,9.0344340000000009E-2,8.4734725374000011,1.2794943531474001,1.1376274625999994,0.27758110087439986,3826.0681725768313,null,"Netherlands","Cucumbers",3824.4207527828094,9.6111000000000004,0.44211060000000002,8.1604005660000016,2.5705261782900006,1.4506994339999988,0.69343432945199934,3828.1268238905513,null,"Netherlands","Cucumbers",3827.4904140242861,3826.0681725768313,3828.1268238905513,3827.0974982336911,1.4222414474547804,0.63640986626523954]
["Norway","Cucumbers",{"$f":"_xlfn.XLOOKUP(A87&B87,'FFV Data'!$A:$A&'FFV Data'!$B:$B,'FFV Data'!$P:$P,\"N/A\",0)","v":1373.54655},{"$f":"_xlfn.XLOOKUP(A87&B87,'FFV Data'!A:A&'FFV Data'!B:B,'FFV Data'!X:X,\"N/A\",0)","v":18435.409057520865},{"$f":"D87*'FFV Coeffs for Calcs'!E94","v":463.34328097902437},{"$f":"(D87-E87)*'FFV Coeffs for Calcs'!F94","v":15995.138541122238},{"$f":"F87*'FFV Coeffs for Calcs'!H94","v":3761.5234135872461},1976.9272354196019,{"$f":"H87*'FFV Coeffs for Calcs'!I94","v":674.1321872780843},6272.5454318443553,null,"Norway","Cucumbers",1373.54655,18435.409057520865,173.29284514069613,16253.283429018351,2454.2457977817708,2182.1256285025138,532.43865335461339,4533.5238462770803,null,"Norway","Cucumbers",1373.54655,18435.409057520865,848.02881664595975,15652.768414378665,4930.6220505292795,2782.6406431422001,1330.1022274219715,8482.2996445972112,null,"Norway","Cucumbers",6272.5454318443553,4533.5238462770803,8482.2996445972112,6507.9117454371462,1739.021585567275,2209.7542127528559]
["Poland","Cucumbers",{"$f":"_xlfn.XLOOKUP(A88&B88,'FFV Data'!$A:$A&'FFV Data'!$B:$B,'FFV Data'!$P:$P,\"N/A\",0)","v":63149.674331291688},{"$f":"_xlfn.XLOOKUP(A88&B88,'FFV Data'!A:A&'FFV Data'!B:B,'FFV Data'!X:X,\"N/A\",0)","v":406183.93650000001},{"$f":"D88*'FFV Coeffs for Calcs'!E95","v":10208.7562707},{"$f":"(D88-E88)*'FFV Coeffs for Calcs'!F95","v":352417.91040407697},{"$f":"F88*'FFV Coeffs for Calcs'!H95","v":82876.945263358764},43557.269825223018,{"$f":"H88*'FFV Coeffs for Calcs'!I95","v":14853.029010401051},171088.4048757515,null,"Poland","Cucumbers",63149.674331291688,406183.93650000001,3818.1290031000003,358105.56867224106,54073.940869508398,48078.36782775895,11731.121749973183,132772.86595387326,null,"Poland","Cucumbers",63149.674331291688,406183.93650000001,18684.461079000001,344874.53312469006,108635.47793427737,61309.40337530995,29305.894813398154,219775.50815796721,null,"Poland","Cucumbers",171088.4048757515,132772.86595387326,219775.50815796721,176274.18705592025,38315.538921878237,48687.103282215714]
["Portugal","Cucumbers",{"$f":"_xlfn.XLOOKUP(A89&B89,'FFV Data'!$A:$A&'FFV Data'!$B:$B,'FFV Data'!$P:$P,\"N/A\",0)","v":1032.2020499999999},{"$f":"_xlfn.XLOOKUP(A89&B89,'FFV Data'!A:A&'FFV Data'!B:B,'FFV Data'!X:X,\"N/A\",0)","v":12045.007391363817},{"$f":"D89*'FFV Coeffs for Calcs'!E96","v":302.73118576961059},{"$f":"(D89-E89)*'FFV Coeffs for Calcs'!F96","v":10450.625822978844},{"$f":"F89*'FFV Coeffs for Calcs'!H96","v":2457.6388393705247},1291.6503826153621,{"$f":"H89*'FFV Coeffs for Calcs'!I96","v":440.45278047183854},4233.0248556119732,null,"Portugal","Cucumbers",1032.2020499999999,12045.007391363817,113.22306947881988,10619.288046477648,1603.5124950181248,1425.719344886169,347.87552015222525,3096.81313464917,null,"Portugal","Cucumbers",null,12045.007391363817,554.07034000273552,10226.933975711363,3221.4842023490792,1818.0734156524541,869.03909268187306,4644.5936350336879,null,"Portugal","Cucumbers",4233.0248556119732,3096.81313464917,4644.5936350336879,3870.7033848414289,1136.2117209628032,411.56877942171468]
["Romania","Cucumbers",{"$f":"_xlfn.XLOOKUP(A90&B90,'FFV Data'!$A:$A&'FFV Data'!$B:$B,'FFV Data'!$P:$P,\"N/A\",0)","v":7452.2221500000005},{"$f":"_xlfn.XLOOKUP(A90&B90,'FFV Data'!A:A&'FFV Data'!B:B,'FFV Data'!X:X,\"N/A\",0)","v":38583.714280624336},{"$f":"D90*'FFV Coeffs for Calcs'!E97","v":969.73735225302482},{"$f":"(D90-E90)*'FFV Coeffs for Calcs'!F97","v":33476.439466250464},{"$f":"F90*'FFV Coeffs for Calcs'!H97","v":7872.5426811465677},4137.5374621208466,{"$f":"H90*'FFV Coeffs for Calcs'!I97","v":1410.9002745832088},17705.4024579828,null,"Romania","Cucumbers",7452.2221500000005,38583.714280624336,362.68691423786879,34016.714356083954,5136.5238677686766,4566.9999245403815,1114.3479815878532,14065.780913594399,null,"Romania","Cucumbers",null,38583.714280624336,1774.8508569087194,32759.888447106896,10319.364860838672,5823.8258335174396,2783.7887484213361,14878.004466168728,null,"Romania","Cucumbers",17705.4024579828,14065.780913594399,14878.004466168728,14471.892689881563,3639.6215443884012,0]
["Slovakia","Cucumbers",{"$f":"_xlfn.XLOOKUP(A91&B91,'FFV Data'!$A:$A&'FFV Data'!$B:$B,'FFV Data'!$P:$P,\"N/A\",0)","v":307.44899999999996},{"$f":"_xlfn.XLOOKUP(A91&B91,'FFV Data'!A:A&'FFV Data'!B:B,'FFV Data'!X:X,\"N/A\",0)","v":13509.833667881903},{"$f":"D91*'FFV Coeffs for Calcs'!E98","v":339.54715285276512},{"$f":"(D91-E91)*'FFV Coeffs for Calcs'!F98","v":11721.554998375934},{"$f":"F91*'FFV Coeffs for Calcs'!H98","v":2756.5190171180739},1448.7315166532044,{"$f":"H91*'FFV Coeffs for Calcs'!I98","v":494.01744717874271},3897.5326171495817,null,"Slovakia","Cucumbers",307.44899999999996,13509.833667881903,126.9924364780899,11910.728695949394,1798.5200330883583,1599.1049719325092,390.18161315153225,2623.1430827179802,null,"Slovakia","Cucumbers",null,13509.833667881903,621.45234872256754,11470.659374051809,3613.2577028263199,2039.174293830094,974.72531245078494,5209.4353639996725,null,"Slovakia","Cucumbers",3897.5326171495817,2623.1430827179802,5209.4353639996725,3916.2892233588263,1274.3895344316015,1311.9027468500908]
["Slovenia","Cucumbers",{"$f":"_xlfn.XLOOKUP(A92&B92,'FFV Data'!$A:$A&'FFV Data'!$B:$B,'FFV Data'!$P:$P,\"N/A\",0)","v":1108.1439},{"$f":"_xlfn.XLOOKUP(A92&B92,'FFV Data'!A:A&'FFV Data'!B:B,'FFV Data'!X:X,\"N/A\",0)","v":2958.7301139378787},{"$f":"D92*'FFV Coeffs for Calcs'!E99","v":74.362750196972016},{"$f":"(D92-E92)*'FFV Coeffs for Calcs'!F99","v":2567.086953729407},{"$f":"F92*'FFV Coeffs for Calcs'!H99","v":603.69328195203218},317.2804100114995,{"$f":"H92*'FFV Coeffs for Calcs'!I99","v":108.19261981392134},1894.3925519629256,null,"Slovenia","Cucumbers",1108.1439,2958.7301139378787,27.812063071016063,2608.5170652715078,393.88607685599766,350.21304866637092,85.451983874594504,1615.2940238016085,null,"Slovenia","Cucumbers",1108.1439,2958.7301139378787,136.10158524114243,2512.1393905400955,791.32390802013015,446.59072339778322,213.47036578414037,2249.0397590454131,null,"Slovenia","Cucumbers",1894.3925519629256,1615.2940238016085,2249.0397590454131,1932.1668914235108,279.09852816131706,354.64720708248751]
["Spain","Cucumbers",{"$f":"_xlfn.XLOOKUP(A93&B93,'FFV Data'!$A:$A&'FFV Data'!$B:$B,'FFV Data'!$P:$P,\"N/A\",0)","v":69360.644849999997},{"$f":"_xlfn.XLOOKUP(A93&B93,'FFV Data'!A:A&'FFV Data'!B:B,'FFV Data'!X:X,\"N/A\",0)","v":5518.8988995361842},{"$f":"D93*'FFV Coeffs for Calcs'!E100","v":138.70832567500941},{"$f":"(D93-E93)*'FFV Coeffs for Calcs'!F100","v":4788.3696107364458},{"$f":"F93*'FFV Coeffs for Calcs'!H100","v":723.04381122120333},591.82096312472913,{"$f":"H93*'FFV Coeffs for Calcs'!I100","v":201.81094842553264},70424.207935321727,null,"Spain","Cucumbers",69360.644849999997,5518.8988995361842,51.877649655640134,4865.6489123936844,734.71298577144637,653.24998714249978,159.39299686276993,70306.628482289845,null,"Spain","Cucumbers",69360.644849999997,5518.8988995361842,253.86934937866448,4685.8762996401929,1476.0510343866608,833.02259989599133,398.18480275028384,71488.750036515616,null,"Spain","Cucumbers",70424.207935321727,70306.628482289845,71488.750036515616,70897.68925940273,117.57945303188171,1064.5421011938888]
["Sweden","Cucumbers",{"$f":"_xlfn.XLOOKUP(A94&B94,'FFV Data'!$A:$A&'FFV Data'!$B:$B,'FFV Data'!$P:$P,\"N/A\",0)","v":9636.7119000000002},{"$f":"_xlfn.XLOOKUP(A94&B94,'FFV Data'!A:A&'FFV Data'!B:B,'FFV Data'!X:X,\"N/A\",0)","v":42646.837718621842},{"$f":"D94*'FFV Coeffs for Calcs'!E101","v":400.88027455504533},{"$f":"(D94-E94)*'FFV Coeffs for Calcs'!F101","v":37598.902125219451},{"$f":"F94*'FFV Coeffs for Calcs'!H101","v":8842.0084831141066},4647.0553188473496,{"$f":"H94*'FFV Coeffs for Calcs'!I101","v":1584.6458637269463},20464.246521396097,null,"Sweden","Cucumbers",9636.7119000000002,42646.837718621842,400.88027455504533,37598.902125219451,5677.4342209081369,5047.9355934023915,1231.6962847901834,16946.722680253366,null,"Sweden","Cucumbers",9636.7119000000002,42646.837718621842,1961.7545350566047,36209.724033373059,11406.063070512513,6437.1136852487834,3076.9403415489182,26081.469847118035,null,"Sweden","Cucumbers",20464.246521396097,16946.722680253366,26081.469847118035,21514.0962636857,3517.5238411427308,5617.2233257219377]
["Switzerland","Cucumbers",{"$f":"_xlfn.XLOOKUP(A95&B95,'FFV Data'!$A:$A&'FFV Data'!$B:$B,'FFV Data'!$P:$P,\"N/A\",0)","v":1363.1212499999999},{"$f":"_xlfn.XLOOKUP(A95&B95,'FFV Data'!A:A&'FFV Data'!B:B,'FFV Data'!X:X,\"N/A\",0)","v":25072.336365045103},{"$f":"D95*'FFV Coeffs for Calcs'!E102","v":630.15138730813351},{"$f":"(D95-E95)*'FFV Coeffs for Calcs'!F102","v":21753.544630185901},{"$f":"F95*'FFV Coeffs for Calcs'!H102","v":5115.708578865384},2688.640347551067,{"$f":"H95*'FFV Coeffs for Calcs'!I102","v":916.82635851491386},8025.8075746884315,null,"Switzerland","Cucumbers",1363.1212499999999,25072.336365045103,235.67996183142398,22104.624198860172,3337.7982540278858,2967.7121661849305,724.12176854912309,5660.7212344084328,null,"Switzerland","Cucumbers",1363.1212499999999,25072.336365045103,1153.3274727920748,21287.917914105194,6705.6941429431363,3784.4184509399092,1808.9520195492764,11031.094885284489,null,"Switzerland","Cucumbers",8025.8075746884315,5660.7212344084328,11031.094885284489,8345.9080598464607,2365.0863402799987,3005.2873105960571]
["United Kingdom","Cucumbers",{"$f":"_xlfn.XLOOKUP(A96&B96,'FFV Data'!$A:$A&'FFV Data'!$B:$B,'FFV Data'!$P:$P,\"N/A\",0)","v":3124.4571000000001},{"$f":"_xlfn.XLOOKUP(A96&B96,'FFV Data'!A:A&'FFV Data'!B:B,'FFV Data'!X:X,\"N/A\",0)","v":167822.78047775885},{"$f":"D96*'FFV Coeffs for Calcs'!E103","v":3356.455609555177},{"$f":"(D96-E96)*'FFV Coeffs for Calcs'!F103","v":146375.02913270125},{"$f":"F96*'FFV Coeffs for Calcs'!H103","v":31909.756350928874},18091.295735502412,{"$f":"H96*'FFV Coeffs for Calcs'!I103","v":6169.1318458063233},44559.80090629038,null,"United Kingdom","Cucumbers",3124.4571000000001,167822.78047775885,1577.5341364909332,147958.26924372846,22341.698655802997,19864.511234030389,4846.9407411034153,31890.630633397344,null,"United Kingdom","Cucumbers",3124.4571000000001,167822.78047775885,7719.8479019769065,142491.60999244594,44884.857147620474,25331.170485312905,12108.299491979567,67837.461641576956,null,"United Kingdom","Cucumbers",44559.80090629038,31890.630633397344,67837.461641576956,49864.046137487152,12669.170272893036,23277.660735286576]
["Austria","Eggplants",{"$f":"_xlfn.XLOOKUP(A97&B97,'FFV Data'!$A:$A&'FFV Data'!$B:$B,'FFV Data'!$P:$P,\"N/A\",0)","v":959.41},{"$f":"_xlfn.XLOOKUP(A97&B97,'FFV Data'!A:A&'FFV Data'!B:B,'FFV Data'!X:X,\"N/A\",0)","v":3542.6743999999999},{"$f":"D97*'FFV Coeffs for Calcs'!E107","v":343.63941679999999},{"$f":"(D97-E97)*'FFV Coeffs for Calcs'!F107","v":2847.1411350479998},{"$f":"F97*'FFV Coeffs for Calcs'!H107","v":641.08127890830792},351.89384815199992,{"$f":"H97*'FFV Coeffs for Calcs'!I107","v":119.99580221983199},2064.12649792814,null,"Austria","Eggplants",959.41,3542.6743999999999,{"$f":"O97*0.097","v":343.63941679999999},2847.1411350479998,{"$f":"Q97*0.305","v":868.37804618963992},695.53326495200008,{"$f":"S97*0.478","v":332.46490064705603},2503.8923636366958,null,"Austria","Eggplants",959.41,3542.6743999999999,{"$f":"Z97*0.097","v":343.63941679999999},2847.1411350479998,{"$f":"AB97*0.305","v":868.37804618963992},695.53326495200008,{"$f":"AD97*0.478","v":332.46490064705603},2503.8923636366958,null,"Austria","Eggplants",2064.12649792814,2503.8923636366958,2503.8923636366958,2503.8923636366958,0,439.76586570855579]
["Belgium","Eggplants",{"$f":"_xlfn.XLOOKUP(A98&B98,'FFV Data'!$A:$A&'FFV Data'!$B:$B,'FFV Data'!$P:$P,\"N/A\",0)","v":910.17},{"$f":"_xlfn.XLOOKUP(A98&B98,'FFV Data'!A:A&'FFV Data'!B:B,'FFV Data'!X:X,\"N/A\",0)","v":10866.5152},{"$f":"D98*'FFV Coeffs for Calcs'!E108","v":1054.0519744000001},{"$f":"(D98-E98)*'FFV Coeffs for Calcs'!F108","v":8733.092270784},{"$f":"F98*'FFV Coeffs for Calcs'!H108","v":1966.4012763048638},{"$f":"D98-E98-F98","v":1079.3709548160004},{"$f":"H98*'FFV Coeffs for Calcs'!I108","v":368.06549559225618},{"$f":"SUM(IF(ISNUMBER(C98),C98,0),E98,G98,I98)","v":4298.6887462971199},null,"Belgium","Eggplants",910.17,10866.5152,{"$f":"O98*0.097","v":1054.0519744000001},{"$f":"(O98-P98)*0.89","v":8733.092270784},{"$f":"Q98*0.305","v":2663.5931425891199},{"$f":"O98-Q98","v":2133.4229292159998},{"$f":"S98*0.478","v":1019.7761601652479},5647.5912771543681,null,"Belgium","Eggplants",910.17,10866.5152,{"$f":"Z98*0.097","v":1054.0519744000001},{"$f":"(Z98-AA98)*0.89","v":8733.092270784},{"$f":"AB98*0.305","v":2663.5931425891199},{"$f":"Z98-AB98","v":2133.4229292159998},{"$f":"AD98*0.478","v":1019.7761601652479},5647.5912771543681,null,"Belgium","Eggplants",4298.6887462971199,5647.5912771543681,5647.5912771543681,5647.5912771543681,0,1348.9025308572482]
["Bulgaria","Eggplants",{"$f":"_xlfn.XLOOKUP(A99&B99,'FFV Data'!$A:$A&'FFV Data'!$B:$B,'FFV Data'!$P:$P,\"N/A\",0)","v":862.87},{"$f":"_xlfn.XLOOKUP(A99&B99,'FFV Data'!A:A&'FFV Data'!B:B,'FFV Data'!X:X,\"N/A\",0)","v":10769.91504},{"$f":"D99*'FFV Coeffs for Calcs'!E109","v":1044.68175888},{"$f":"(D99-E99)*'FFV Coeffs for Calcs'!F109","v":8655.4576201967993},{"$f":"F99*'FFV Coeffs for Calcs'!H109","v":1948.9205408143125},1069.7756609232001,{"$f":"H99*'FFV Coeffs for Calcs'!I109","v":364.79350037481129},4221.2658000691235,null,"Bulgaria","Eggplants",862.87,10769.91504,1044.68175888,8655.4576201967993,2639.9145741600237,2114.4574198032005,1010.7106466659299,5558.1769797059533,null,"Bulgaria","Eggplants",null,10769.91504,1044.68175888,8655.4576201967993,2639.9145741600237,2114.4574198032005,1010.7106466659299,4695.3069797059534,null,"Bulgaria","Eggplants",4221.2658000691235,5558.1769797059533,4695.3069797059534,5126.7419797059538,0,474.04117963682984]
["Croatia","Eggplants",{"$f":"_xlfn.XLOOKUP(A100&B100,'FFV Data'!$A:$A&'FFV Data'!$B:$B,'FFV Data'!$P:$P,\"N/A\",0)","v":{"$error":"#N/A"}},{"$f":"_xlfn.XLOOKUP(A100&B100,'FFV Data'!A:A&'FFV Data'!B:B,'FFV Data'!X:X,\"N/A\",0)","v":2539.2029600000001},{"$f":"D100*'FFV Coeffs for Calcs'!E110","v":246.30268712},{"$f":"(D100-E100)*'FFV Coeffs for Calcs'!F110","v":2040.6812428632002},{"$f":"F100*'FFV Coeffs for Calcs'!H110","v":459.4933931846972},252.21903001679993,{"$f":"H100*'FFV Coeffs for Calcs'!I110","v":86.006689235728786},791.80276954042597,null,"Croatia","Eggplants",null,2539.2029600000001,246.30268712,2040.6812428632002,622.40777907327606,498.52171713679991,238.29338079139035,1107.0038469846663,null,{"$f":"A100","v":"Croatia"},{"$f":"B100","v":"Eggplants"},null,2539.2029600000001,246.30268712,2040.6812428632002,622.40777907327606,498.52171713679991,238.29338079139035,1107.0038469846663,null,"Croatia","Eggplants",791.80276954042597,1107.0038469846663,1107.0038469846663,1107.0038469846663,0,315.20107744424035]
["Cyprus","Eggplants",{"$f":"_xlfn.XLOOKUP(A101&B101,'FFV Data'!$A:$A&'FFV Data'!$B:$B,'FFV Data'!$P:$P,\"N/A\",0)","v":112.4},{"$f":"_xlfn.XLOOKUP(A101&B101,'FFV Data'!A:A&'FFV Data'!B:B,'FFV Data'!X:X,\"N/A\",0)","v":1036.7033600000002},{"$f":"D101*'FFV Coeffs for Calcs'!E111","v":100.56022592000002},{"$f":"(D101-E101)*'FFV Coeffs for Calcs'!F111","v":833.16738933120018},{"$f":"F101*'FFV Coeffs for Calcs'!H111","v":187.60152383107524},102.97574474880003,{"$f":"H101*'FFV Coeffs for Calcs'!I111","v":35.114728959340809},435.67647871041606,null,"Cyprus","Eggplants",112.4,1036.7033600000002,100.56022592000002,833.16738933120018,254.11605374601606,203.53597066880002,97.290193979686407,564.36647364570251,null,"Cyprus","Eggplants",112.4,1036.7033600000002,100.56022592000002,833.16738933120018,254.11605374601606,203.53597066880002,97.290193979686407,564.36647364570251,null,"Cyprus","Eggplants",435.67647871041606,564.36647364570251,564.36647364570251,564.36647364570251,0,128.68999493528645]
["Czechia","Eggplants",{"$f":"_xlfn.XLOOKUP(A102&B102,'FFV Data'!$A:$A&'FFV Data'!$B:$B,'FFV Data'!$P:$P,\"N/A\",0)","v":{"$error":"#N/A"}},{"$f":"_xlfn.XLOOKUP(A102&B102,'FFV Data'!A:A&'FFV Data'!B:B,'FFV Data'!X:X,\"N/A\",0)","v":1837.1296000000002},{"$f":"D102*'FFV Coeffs for Calcs'!E112","v":178.20157120000002},{"$f":"(D102-E102)*'FFV Coeffs for Calcs'!F112","v":1476.4459456320003},{"$f":"F102*'FFV Coeffs for Calcs'!H112","v":332.44641209147204},182.48208316799992,{"$f":"H102*'FFV Coeffs for Calcs'!I112","v":62.226390360287979},572.87437365176004,null,"Czechia","Eggplants",null,1837.1296000000002,178.20157120000002,1476.4459456320003,450.31601341776008,360.68365436799991,172.40678678790394,800.92437140566403,null,"Czechia","Eggplants",null,1837.1296000000002,178.20157120000002,1476.4459456320003,450.31601341776008,360.68365436799991,172.40678678790394,800.92437140566403,null,"Czechia","Eggplants",572.87437365176004,800.92437140566403,800.92437140566403,800.92437140566403,0,228.04999775390399]
["Denmark","Eggplants",{"$f":"_xlfn.XLOOKUP(A103&B103,'FFV Data'!$A:$A&'FFV Data'!$B:$B,'FFV Data'!$P:$P,\"N/A\",0)","v":139.41999999999999},{"$f":"_xlfn.XLOOKUP(A103&B103,'FFV Data'!A:A&'FFV Data'!B:B,'FFV Data'!X:X,\"N/A\",0)","v":3895.7559199999996},{"$f":"D103*'FFV Coeffs for Calcs'!E113","v":377.88832423999997},{"$f":"(D103-E103)*'FFV Coeffs for Calcs'!F113","v":3130.9021602263997},{"$f":"F103*'FFV Coeffs for Calcs'!H113","v":954.92515886905187},386.96543553360016,{"$f":"H103*'FFV Coeffs for Calcs'!I113","v":131.95521351695766},1604.1886966260095,null,"Denmark","Eggplants",139.41999999999999,3895.7559199999996,377.88832423999997,3130.9021602263997,954.92515886905187,764.8537597735999,365.60009717178076,1837.8335802808326,null,"Denmark","Eggplants",139.41999999999999,3895.7559199999996,377.88832423999997,3130.9021602263997,954.92515886905187,764.8537597735999,365.60009717178076,1837.8335802808326,null,"Denmark","Eggplants",1604.1886966260095,1837.8335802808326,1837.8335802808326,1837.8335802808326,0,233.64488365482316]
["Estonia","Eggplants",{"$f":"_xlfn.XLOOKUP(A104&B104,'FFV Data'!$A:$A&'FFV Data'!$B:$B,'FFV Data'!$P:$P,\"N/A\",0)","v":{"$error":"#N/A"}},{"$f":"_xlfn.XLOOKUP(A104&B104,'FFV Data'!A:A&'FFV Data'!B:B,'FFV Data'!X:X,\"N/A\",0)","v":402.52392000000003},{"$f":"D104*'FFV Coeffs for Calcs'!E114","v":39.044820240000007},{"$f":"(D104-E104)*'FFV Coeffs for Calcs'!F114","v":323.49639878640005},{"$f":"F104*'FFV Coeffs for Calcs'!H114","v":72.840605793404407},39.982700973600004,{"$f":"H104*'FFV Coeffs for Calcs'!I114","v":13.634101031997602},125.51952706540202,null,"Estonia","Eggplants",null,402.52392000000003,39.044820240000007,323.49639878640005,98.666401629852018,79.027521213599982,37.775155140100793,175.4863770099528,null,"Estonia","Eggplants",null,402.52392000000003,39.044820240000007,323.49639878640005,98.666401629852018,79.027521213599982,37.775155140100793,175.4863770099528,null,"Estonia","Eggplants",125.51952706540202,175.4863770099528,175.4863770099528,175.4863770099528,0,49.966849944550788]
["Finland","Eggplants",{"$f":"_xlfn.XLOOKUP(A105&B105,'FFV Data'!$A:$A&'FFV Data'!$B:$B,'FFV Data'!$P:$P,\"N/A\",0)","v":{"$error":"#N/A"}},{"$f":"_xlfn.XLOOKUP(A105&B105,'FFV Data'!A:A&'FFV Data'!B:B,'FFV Data'!X:X,\"N/A\",0)","v":1372.2489600000001},{"$f":"D105*'FFV Coeffs for Calcs'!E115","v":133.10814912000001},{"$f":"(D105-E105)*'FFV Coeffs for Calcs'!F115","v":1102.8353216832002},{"$f":"F105*'FFV Coeffs for Calcs'!H115","v":200.71602854634241},136.30548919679995,{"$f":"H105*'FFV Coeffs for Calcs'!I115","v":46.480171816108786},380.30434948245119,null,"Finland","Eggplants",null,1372.2489600000001,133.10814912000001,1102.8353216832002,336.36477311337603,269.41363831679996,128.77971911543037,598.25264134880638,null,"Finland","Eggplants",{"$error":"#N/A"},1372.2489600000001,133.10814912000001,1102.8353216832002,336.36477311337603,269.41363831679996,128.77971911543037,598.25264134880638,null,"Finland","Eggplants",380.30434948245119,598.25264134880638,598.25264134880638,598.25264134880638,0,217.94829186635519]
["France","Eggplants",{"$f":"_xlfn.XLOOKUP(A106&B106,'FFV Data'!$A:$A&'FFV Data'!$B:$B,'FFV Data'!$P:$P,\"N/A\",0)","v":13903.99},{"$f":"_xlfn.XLOOKUP(A106&B106,'FFV Data'!A:A&'FFV Data'!B:B,'FFV Data'!X:X,\"N/A\",0)","v":62295.313760000005},{"$f":"D106*'FFV Coeffs for Calcs'!E116","v":6042.6454347200006},{"$f":"(D106-E106)*'FFV Coeffs for Calcs'!F116","v":50064.874809499204},{"$f":"F106*'FFV Coeffs for Calcs'!H116","v":11272.940977938904},6187.7935157808024,{"$f":"H106*'FFV Coeffs for Calcs'!I116","v":2110.0375888812537},33329.614001540162,null,"France","Eggplants",13903.99,62295.313760000005,6042.6454347200006,50064.874809499204,15269.786816897256,12230.4389505008,5846.1498183393824,41062.572069956645,null,"France","Eggplants",13903.99,62295.313760000005,6042.6454347200006,50064.874809499204,15269.786816897256,12230.4389505008,5846.1498183393824,41062.572069956645,null,"France","Eggplants",33329.614001540162,41062.572069956645,41062.572069956645,41062.572069956645,0,7732.958068416483]
["Germany","Eggplants",{"$f":"_xlfn.XLOOKUP(A107&B107,'FFV Data'!$A:$A&'FFV Data'!$B:$B,'FFV Data'!$P:$P,\"N/A\",0)","v":5338.26},{"$f":"_xlfn.XLOOKUP(A107&B107,'FFV Data'!A:A&'FFV Data'!B:B,'FFV Data'!X:X,\"N/A\",0)","v":40814.474479999997},{"$f":"D107*'FFV Coeffs for Calcs'!E117","v":3959.0040245599998},{"$f":"(D107-E107)*'FFV Coeffs for Calcs'!F117","v":32801.368705341592},{"$f":"F107*'FFV Coeffs for Calcs'!H117","v":7478.7120648178834},4054.1017500984017,{"$f":"H107*'FFV Coeffs for Calcs'!I117","v":1382.4486967835551},18158.424786161439,null,"Germany","Eggplants",5338.26,40814.474479999997,3959.0040245599998,32801.368705341592,10004.417455129185,8013.1057746584047,3830.2645602867174,23131.946039975901,null,"Germany","Eggplants",5338.26,40814.474479999997,3959.0040245599998,32801.368705341592,10004.417455129185,8013.1057746584047,3830.2645602867174,23131.946039975901,null,"Germany","Eggplants",18158.424786161439,23131.946039975901,23131.946039975901,23131.946039975901,0,4973.5212538144624]
["Greece","Eggplants",{"$f":"_xlfn.XLOOKUP(A108&B108,'FFV Data'!$A:$A&'FFV Data'!$B:$B,'FFV Data'!$P:$P,\"N/A\",0)","v":3827.74},{"$f":"_xlfn.XLOOKUP(A108&B108,'FFV Data'!A:A&'FFV Data'!B:B,'FFV Data'!X:X,\"N/A\",0)","v":35391.93376},{"$f":"D108*'FFV Coeffs for Calcs'!E118","v":3433.0175747200001},{"$f":"(D108-E108)*'FFV Coeffs for Calcs'!F118","v":28443.435404899199},{"$f":"F108*'FFV Coeffs for Calcs'!H118","v":6404.513538669803},3515.4807803807998,{"$f":"H108*'FFV Coeffs for Calcs'!I118","v":1198.7789461098528},14864.050059499656,null,"Greece","Eggplants",3827.74,35391.93376,3433.0175747200001,28443.435404899199,8675.2477984942561,6948.4983551008008,3321.3822137381826,19257.387586952438,null,"Greece","Eggplants",3827.74,35391.93376,3433.0175747200001,28443.435404899199,8675.2477984942561,6948.4983551008008,3321.3822137381826,19257.387586952438,null,"Greece","Eggplants",14864.050059499656,19257.387586952438,19257.387586952438,19257.387586952438,0,4393.3375274527825]
["Hungary","Eggplants",{"$f":"_xlfn.XLOOKUP(A109&B109,'FFV Data'!$A:$A&'FFV Data'!$B:$B,'FFV Data'!$P:$P,\"N/A\",0)","v":36.9},{"$f":"_xlfn.XLOOKUP(A109&B109,'FFV Data'!A:A&'FFV Data'!B:B,'FFV Data'!X:X,\"N/A\",0)","v":1834.5484800000002},{"$f":"D109*'FFV Coeffs for Calcs'!E119","v":177.95120256000001},{"$f":"(D109-E109)*'FFV Coeffs for Calcs'!F119","v":1474.3715769216003},{"$f":"F109*'FFV Coeffs for Calcs'!H119","v":331.97933340351364},182.22570051839989,{"$f":"H109*'FFV Coeffs for Calcs'!I119","v":62.138963876774369},608.96949984028799,null,"Hungary","Eggplants",36.9,1834.5484800000002,177.95120256000001,1474.3715769216003,449.68333096108807,360.17690307839985,172.16455967147513,836.69909319256317,null,"Hungary","Eggplants",null,1834.5484800000002,177.95120256000001,1474.3715769216003,449.68333096108807,360.17690307839985,172.16455967147513,799.79909319256319,null,"Hungary","Eggplants",608.96949984028799,836.69909319256317,799.79909319256319,818.24909319256312,0,190.8295933522752]
["Iceland","Eggplants",{"$f":"_xlfn.XLOOKUP(A110&B110,'FFV Data'!$A:$A&'FFV Data'!$B:$B,'FFV Data'!$P:$P,\"N/A\",0)","v":{"$error":"#N/A"}},{"$f":"_xlfn.XLOOKUP(A110&B110,'FFV Data'!A:A&'FFV Data'!B:B,'FFV Data'!X:X,\"N/A\",0)","v":106.6892},{"$f":"D110*'FFV Coeffs for Calcs'!E120","v":10.3488524},{"$f":"(D110-E110)*'FFV Coeffs for Calcs'!F120","v":85.742909363999999},{"$f":"F110*'FFV Coeffs for Calcs'!H120","v":19.306445091794},10.597438236000002,{"$f":"H110*'FFV Coeffs for Calcs'!I120","v":3.6137264384760011},33.269023930270002,null,"Iceland","Eggplants",null,106.6892,10.3488524,85.742909363999999,26.151587356019999,20.946290636000001,10.012326924008001,46.512766680028001,null,"Iceland","Eggplants",{"$error":"#N/A"},106.6892,10.3488524,85.742909363999999,26.151587356019999,20.946290636000001,10.012326924008001,46.512766680028001,null,"Iceland","Eggplants",33.269023930270002,46.512766680028001,46.512766680028001,46.512766680028001,0,13.243742749757999]
["Ireland","Eggplants",{"$f":"_xlfn.XLOOKUP(A111&B111,'FFV Data'!$A:$A&'FFV Data'!$B:$B,'FFV Data'!$P:$P,\"N/A\",0)","v":{"$error":"#N/A"}},{"$f":"_xlfn.XLOOKUP(A111&B111,'FFV Data'!A:A&'FFV Data'!B:B,'FFV Data'!X:X,\"N/A\",0)","v":1276.2417599999999},{"$f":"D111*'FFV Coeffs for Calcs'!E121","v":123.79545071999999},{"$f":"(D111-E111)*'FFV Coeffs for Calcs'!F121","v":1025.6772152592},{"$f":"F111*'FFV Coeffs for Calcs'!H121","v":230.94831963586319},126.76909402079991,{"$f":"H111*'FFV Coeffs for Calcs'!I121","v":43.228261061092773},397.97203141695593,null,"Ireland","Eggplants",null,1276.2417599999999,123.79545071999999,1025.6772152592,312.831550654056,250.56454474079987,119.76985238610233,556.39685376015836,null,"Ireland","Eggplants",{"$error":"#N/A"},1276.2417599999999,123.79545071999999,1025.6772152592,312.831550654056,250.56454474079987,119.76985238610233,556.39685376015836,null,"Ireland","Eggplants",397.97203141695593,556.39685376015836,556.39685376015836,556.39685376015836,0,158.42482234320244]
["Italy","Eggplants",{"$f":"_xlfn.XLOOKUP(A112&B112,'FFV Data'!$A:$A&'FFV Data'!$B:$B,'FFV Data'!$P:$P,\"N/A\",0)","v":44053.11},{"$f":"_xlfn.XLOOKUP(A112&B112,'FFV Data'!A:A&'FFV Data'!B:B,'FFV Data'!X:X,\"N/A\",0)","v":248224.00831999999},{"$f":"D112*'FFV Coeffs for Calcs'!E122","v":24077.728807039999},{"$f":"(D112-E112)*'FFV Coeffs for Calcs'!F122","v":199490.18876653441},{"$f":"F112*'FFV Coeffs for Calcs'!H122","v":44918.540837264663},24656.090746425587,{"$f":"H112*'FFV Coeffs for Calcs'!I122","v":8407.7269445311249},121457.10658883578,null,"Italy","Eggplants",44053.11,248224.00831999999,24077.728807039999,199490.18876653441,60844.507573792995,48733.819553465582,23294.765746556546,152270.11212738953,null,"Italy","Eggplants",null,248224.00831999999,24077.728807039999,199490.18876653441,60844.507573792995,48733.819553465582,23294.765746556546,108217.00212738954,null,"Italy","Eggplants",121457.10658883578,152270.11212738953,108217.00212738954,130243.55712738953,0,0]
["Latvia","Eggplants",{"$f":"_xlfn.XLOOKUP(A113&B113,'FFV Data'!$A:$A&'FFV Data'!$B:$B,'FFV Data'!$P:$P,\"N/A\",0)","v":{"$error":"#N/A"}},{"$f":"_xlfn.XLOOKUP(A113&B113,'FFV Data'!A:A&'FFV Data'!B:B,'FFV Data'!X:X,\"N/A\",0)","v":668.21359999999993},{"$f":"D113*'FFV Coeffs for Calcs'!E123","v":64.816719199999994},{"$f":"(D113-E113)*'FFV Coeffs for Calcs'!F123","v":537.02322391199993},{"$f":"F113*'FFV Coeffs for Calcs'!H123","v":120.91972925085197},66.373656888000028,{"$f":"H113*'FFV Coeffs for Calcs'!I123","v":22.633416998808013},208.36986544965998,null,"Latvia","Eggplants",null,668.21359999999993,64.816719199999994,537.02322391199993,163.79208329315998,131.19037608799999,62.708999770063997,291.31780226322394,null,"Latvia","Eggplants",null,668.21359999999993,64.816719199999994,537.02322391199993,163.79208329315998,131.19037608799999,62.708999770063997,291.31780226322394,null,"Latvia","Eggplants",208.36986544965998,291.31780226322394,291.31780226322394,291.31780226322394,0,82.947936813563956]
["Lithuania","Eggplants",{"$f":"_xlfn.XLOOKUP(A114&B114,'FFV Data'!$A:$A&'FFV Data'!$B:$B,'FFV Data'!$P:$P,\"N/A\",0)","v":38.71},{"$f":"_xlfn.XLOOKUP(A114&B114,'FFV Data'!A:A&'FFV Data'!B:B,'FFV Data'!X:X,\"N/A\",0)","v":813.47136},{"$f":"D114*'FFV Coeffs for Calcs'!E124","v":78.90672192000001},{"$f":"(D114-E114)*'FFV Coeffs for Calcs'!F124","v":653.76252789119997},{"$f":"F114*'FFV Coeffs for Calcs'!H124","v":147.20552919683519},80.802110188800043,{"$f":"H114*'FFV Coeffs for Calcs'!I124","v":27.553519574380818},292.37577069121602,null,"Lithuania","Eggplants",38.71,813.47136,78.90672192000001,653.76252789119997,199.39757100681598,159.70883210880004,76.34082174800642,393.3551146748224,null,"Lithuania","Eggplants",null,813.47136,78.90672192000001,653.76252789119997,199.39757100681598,159.70883210880004,76.34082174800642,354.64511467482242,null,"Lithuania","Eggplants",292.37577069121602,393.3551146748224,354.64511467482242,374.00011467482238,0,62.269343983606404]
["Luxembourg","Eggplants",{"$f":"_xlfn.XLOOKUP(A115&B115,'FFV Data'!$A:$A&'FFV Data'!$B:$B,'FFV Data'!$P:$P,\"N/A\",0)","v":14.08},{"$f":"_xlfn.XLOOKUP(A115&B115,'FFV Data'!A:A&'FFV Data'!B:B,'FFV Data'!X:X,\"N/A\",0)","v":540.50048000000004},{"$f":"D115*'FFV Coeffs for Calcs'!E125","v":52.428546560000008},{"$f":"(D115-E115)*'FFV Coeffs for Calcs'!F125","v":434.38402076160003},{"$f":"F115*'FFV Coeffs for Calcs'!H125","v":97.808802008153606},53.687912678399982,{"$f":"H115*'FFV Coeffs for Calcs'!I125","v":18.307578223334396},182.62492679148801,null,"Luxembourg","Eggplants",14.08,540.50048000000004,52.428546560000008,434.38402076160003,132.487126332288,106.11645923840001,50.723667515955206,249.71934040824323,null,"Luxembourg","Eggplants",14.08,540.50048000000004,52.428546560000008,434.38402076160003,132.487126332288,106.11645923840001,50.723667515955206,249.71934040824323,null,"Luxembourg","Eggplants",182.62492679148801,249.71934040824323,249.71934040824323,249.71934040824323,0,67.094413616755219]
["Malta","Eggplants",{"$f":"_xlfn.XLOOKUP(A116&B116,'FFV Data'!$A:$A&'FFV Data'!$B:$B,'FFV Data'!$P:$P,\"N/A\",0)","v":70.819999999999993},{"$f":"_xlfn.XLOOKUP(A116&B116,'FFV Data'!A:A&'FFV Data'!B:B,'FFV Data'!X:X,\"N/A\",0)","v":793.05784000000006},{"$f":"D116*'FFV Coeffs for Calcs'!E126","v":76.926610480000008},{"$f":"(D116-E116)*'FFV Coeffs for Calcs'!F126","v":637.35679427280002},{"$f":"F116*'FFV Coeffs for Calcs'!H126","v":143.51150484375879},78.774435247200017,{"$f":"H116*'FFV Coeffs for Calcs'!I126","v":26.862082419295209},318.12019774305406,null,"Malta","Eggplants",70.819999999999993,793.05784000000006,76.926610480000008,637.35679427280002,194.39382225320401,155.70104572720004,74.425099857601609,416.56553259080562,null,"Malta","Eggplants",null,793.05784000000006,76.926610480000008,637.35679427280002,194.39382225320401,155.70104572720004,74.425099857601609,345.74553259080562,null,"Malta","Eggplants",318.12019774305406,416.56553259080562,345.74553259080562,381.15553259080559,0,27.62533484775156]
["Netherlands","Eggplants",{"$f":"_xlfn.XLOOKUP(A117&B117,'FFV Data'!$A:$A&'FFV Data'!$B:$B,'FFV Data'!$P:$P,\"N/A\",0)","v":5420.04},{"$f":"_xlfn.XLOOKUP(A117&B117,'FFV Data'!A:A&'FFV Data'!B:B,'FFV Data'!X:X,\"N/A\",0)","v":13811.10224},{"$f":"D117*'FFV Coeffs for Calcs'!E127","v":1339.67691728},{"$f":"(D117-E117)*'FFV Coeffs for Calcs'!F127","v":11099.568537220801},{"$f":"F117*'FFV Coeffs for Calcs'!H127","v":3185.5761701823694},1371.8567854991998,{"$f":"H117*'FFV Coeffs for Calcs'!I127","v":467.80316385522713},10413.096251317598,null,"Netherlands","Eggplants",5420.04,13811.10224,1339.67691728,11099.568537220801,3385.3684038523443,2711.5337027791993,1296.1131099284571,11441.198431060802,null,"Netherlands","Eggplants",5420.04,13811.10224,1339.67691728,11099.568537220801,3385.3684038523443,2711.5337027791993,1296.1131099284571,11441.198431060802,null,"Netherlands","Eggplants",10413.096251317598,11441.198431060802,11441.198431060802,11441.198431060802,0,1028.102179743204]
["Norway","Eggplants",{"$f":"_xlfn.XLOOKUP(A118&B118,'FFV Data'!$A:$A&'FFV Data'!$B:$B,'FFV Data'!$P:$P,\"N/A\",0)","v":200.34},{"$f":"_xlfn.XLOOKUP(A118&B118,'FFV Data'!A:A&'FFV Data'!B:B,'FFV Data'!X:X,\"N/A\",0)","v":1572.24216},{"$f":"D118*'FFV Coeffs for Calcs'!E128","v":152.50748952000001},{"$f":"(D118-E118)*'FFV Coeffs for Calcs'!F128","v":1263.5638567271999},{"$f":"F118*'FFV Coeffs for Calcs'!H128","v":284.51246173974118},156.17081375280009,{"$f":"H118*'FFV Coeffs for Calcs'!I128","v":53.254247489704831},690.61419874944602,null,"Norway","Eggplants",200.34,1572.24216,152.50748952000001,1263.5638567271999,385.38697630179598,308.67830327280012,147.54822896439845,885.7826947861945,null,"Norway","Eggplants",200.34,1572.24216,152.50748952000001,1263.5638567271999,385.38697630179598,308.67830327280012,147.54822896439845,885.7826947861945,null,"Norway","Eggplants",690.61419874944602,885.7826947861945,885.7826947861945,885.7826947861945,0,195.16849603674848]
["Poland","Eggplants",{"$f":"_xlfn.XLOOKUP(A119&B119,'FFV Data'!$A:$A&'FFV Data'!$B:$B,'FFV Data'!$P:$P,\"N/A\",0)","v":360.86},{"$f":"_xlfn.XLOOKUP(A119&B119,'FFV Data'!A:A&'FFV Data'!B:B,'FFV Data'!X:X,\"N/A\",0)","v":3160.2239199999999},{"$f":"D119*'FFV Coeffs for Calcs'!E129","v":306.54172024000002},{"$f":"(D119-E119)*'FFV Coeffs for Calcs'!F129","v":2539.7771577864},{"$f":"F119*'FFV Coeffs for Calcs'!H129","v":571.87315669490442},313.90504197359996,{"$f":"H119*'FFV Coeffs for Calcs'!I129","v":107.0416193129976},1346.3164962479023,null,"Poland","Eggplants",360.86,3160.2239199999999,306.54172024000002,2539.7771577864,774.632033124852,620.44676221359987,296.57355233810074,1738.607305702953,null,"Poland","Eggplants",360.86,3160.2239199999999,306.54172024000002,2539.7771577864,774.632033124852,620.44676221359987,296.57355233810074,1738.607305702953,null,"Poland","Eggplants",1346.3164962479023,1738.607305702953,1738.607305702953,1738.607305702953,0,392.29080945505075]
["Portugal","Eggplants",{"$f":"_xlfn.XLOOKUP(A120&B120,'FFV Data'!$A:$A&'FFV Data'!$B:$B,'FFV Data'!$P:$P,\"N/A\",0)","v":478.72},{"$f":"_xlfn.XLOOKUP(A120&B120,'FFV Data'!A:A&'FFV Data'!B:B,'FFV Data'!X:X,\"N/A\",0)","v":7594.9979200000007},{"$f":"D120*'FFV Coeffs for Calcs'!E130","v":736.71479824000005},{"$f":"(D120-E120)*'FFV Coeffs for Calcs'!F130","v":6103.871978366401},{"$f":"F120*'FFV Coeffs for Calcs'!H130","v":1374.3885071288346},754.41114339359956,{"$f":"H120*'FFV Coeffs for Calcs'!I130","v":257.25419989721746},2847.077505266052,null,"Portugal","Eggplants",478.72,7594.9979200000007,736.71479824000005,6103.871978366401,1861.6809534017523,1491.1259416335997,712.75820010086068,3789.8739517426129,null,"Portugal","Eggplants",null,7594.9979200000007,736.71479824000005,6103.871978366401,1861.6809534017523,1491.1259416335997,712.75820010086068,3311.1539517426127,null,"Portugal","Eggplants",2847.077505266052,3789.8739517426129,3311.1539517426127,3550.5139517426128,0,464.0764464765607]
["Romania","Eggplants",{"$f":"_xlfn.XLOOKUP(A121&B121,'FFV Data'!$A:$A&'FFV Data'!$B:$B,'FFV Data'!$P:$P,\"N/A\",0)","v":4231.21},{"$f":"_xlfn.XLOOKUP(A121&B121,'FFV Data'!A:A&'FFV Data'!B:B,'FFV Data'!X:X,\"N/A\",0)","v":56347.148880000001},{"$f":"D121*'FFV Coeffs for Calcs'!E131","v":5465.6734413600007},{"$f":"(D121-E121)*'FFV Coeffs for Calcs'!F131","v":45284.513140389601},{"$f":"F121*'FFV Coeffs for Calcs'!H131","v":10196.562875444391},5596.9622982504006,{"$f":"H121*'FFV Coeffs for Calcs'!I131","v":1908.5641437033867},21802.010460507783,null,"Romania","Eggplants",4231.21,56347.148880000001,5465.6734413600007,45284.513140389601,13811.776507818828,11062.635739610399,5287.9398835337706,28796.5998327126,null,"Romania","Eggplants",null,56347.148880000001,5465.6734413600007,45284.513140389601,13811.776507818828,11062.635739610399,5287.9398835337706,24565.389832712601,null,"Romania","Eggplants",21802.010460507783,28796.5998327126,24565.389832712601,26680.9948327126,0,2763.3793722048176]
["Slovakia","Eggplants",{"$f":"_xlfn.XLOOKUP(A122&B122,'FFV Data'!$A:$A&'FFV Data'!$B:$B,'FFV Data'!$P:$P,\"N/A\",0)","v":39.64},{"$f":"_xlfn.XLOOKUP(A122&B122,'FFV Data'!A:A&'FFV Data'!B:B,'FFV Data'!X:X,\"N/A\",0)","v":632.92376000000002},{"$f":"D122*'FFV Coeffs for Calcs'!E132","v":61.393604720000006},{"$f":"(D122-E122)*'FFV Coeffs for Calcs'!F132","v":508.66183819920002},{"$f":"F122*'FFV Coeffs for Calcs'!H132","v":114.5336905678532},62.868317080800011,{"$f":"H122*'FFV Coeffs for Calcs'!I132","v":21.438096124552807},237.005391412406,null,"Slovakia","Eggplants",39.64,632.92376000000002,61.393604720000006,508.66183819920002,155.141860650756,124.2619218008,59.397198620782397,315.57266399153838,null,"Slovakia","Eggplants",null,632.92376000000002,61.393604720000006,508.66183819920002,155.141860650756,124.2619218008,59.397198620782397,275.93266399153839,null,"Slovakia","Eggplants",237.005391412406,315.57266399153838,275.93266399153839,295.75266399153838,0,38.927272579132392]
["Slovenia","Eggplants",{"$f":"_xlfn.XLOOKUP(A123&B123,'FFV Data'!$A:$A&'FFV Data'!$B:$B,'FFV Data'!$P:$P,\"N/A\",0)","v":85.94},{"$f":"_xlfn.XLOOKUP(A123&B123,'FFV Data'!A:A&'FFV Data'!B:B,'FFV Data'!X:X,\"N/A\",0)","v":96.661199999999994},{"$f":"D123*'FFV Coeffs for Calcs'!E133","v":9.3761364},{"$f":"(D123-E123)*'FFV Coeffs for Calcs'!F133","v":77.683706604000008},{"$f":"F123*'FFV Coeffs for Calcs'!H133","v":17.491781270334002},9.6013569959999927,{"$f":"H123*'FFV Coeffs for Calcs'!I133","v":3.2740627356359977},116.08198040597,null,"Slovenia","Eggplants",85.94,96.661199999999994,9.3761364,77.683706604000008,23.693530514220001,18.977493395999986,9.0712418432879929,128.08090875750798,null,"Slovenia","Eggplants",85.94,96.661199999999994,9.3761364,77.683706604000008,23.693530514220001,18.977493395999986,9.0712418432879929,128.08090875750798,null,"Slovenia","Eggplants",116.08198040597,128.08090875750798,128.08090875750798,128.08090875750798,0,11.998928351537984]
["Spain","Eggplants",{"$f":"_xlfn.XLOOKUP(A124&B124,'FFV Data'!$A:$A&'FFV Data'!$B:$B,'FFV Data'!$P:$P,\"N/A\",0)","v":24230.172278578804},{"$f":"_xlfn.XLOOKUP(A124&B124,'FFV Data'!A:A&'FFV Data'!B:B,'FFV Data'!X:X,\"N/A\",0)","v":83435.22},{"$f":"D124*'FFV Coeffs for Calcs'!E134","v":8093.2163399999999},{"$f":"(D124-E124)*'FFV Coeffs for Calcs'!F134","v":67054.383257399997},{"$f":"F124*'FFV Coeffs for Calcs'!H134","v":9454.6680392933995},8287.620402600005,{"$f":"H124*'FFV Coeffs for Calcs'!I134","v":2826.0785572866021},44604.135215158807,null,"Spain","Eggplants",24230.172278578804,83435.22,8093.2163399999999,67054.383257399997,20451.586893506999,16380.836742600004,7830.0399629628018,60605.015475048604,null,"Spain","Eggplants",24230.172278578804,83435.22,8093.2163399999999,67054.383257399997,20451.586893506999,16380.836742600004,7830.0399629628018,60605.015475048604,null,"Spain","Eggplants",44604.135215158807,60605.015475048604,60605.015475048604,60605.015475048604,0,16000.880259889796]
["Sweden","Eggplants",{"$f":"_xlfn.XLOOKUP(A125&B125,'FFV Data'!$A:$A&'FFV Data'!$B:$B,'FFV Data'!$P:$P,\"N/A\",0)","v":673.5},{"$f":"_xlfn.XLOOKUP(A125&B125,'FFV Data'!A:A&'FFV Data'!B:B,'FFV Data'!X:X,\"N/A\",0)","v":5262.1973600000001},{"$f":"D125*'FFV Coeffs for Calcs'!E135","v":510.43314392000002},{"$f":"(D125-E125)*'FFV Coeffs for Calcs'!F135","v":4229.0701523112002},{"$f":"F125*'FFV Coeffs for Calcs'!H135","v":952.24562929540525},522.69406376880033,{"$f":"H125*'FFV Coeffs for Calcs'!I135","v":178.23867574516092},2314.4174489605662,null,"Sweden","Eggplants",673.5,5262.1973600000001,510.43314392000002,4229.0701523112002,1289.866396454916,1033.1272076887999,493.83480527524631,2967.6343456501622,null,"Sweden","Eggplants",673.5,5262.1973600000001,510.43314392000002,4229.0701523112002,1289.866396454916,1033.1272076887999,493.83480527524631,2967.6343456501622,null,"Sweden","Eggplants",2314.4174489605662,2967.6343456501622,2967.6343456501622,2967.6343456501622,0,653.21689668959607]
["Switzerland","Eggplants",{"$f":"_xlfn.XLOOKUP(A126&B126,'FFV Data'!$A:$A&'FFV Data'!$B:$B,'FFV Data'!$P:$P,\"N/A\",0)","v":708.53},{"$f":"_xlfn.XLOOKUP(A126&B126,'FFV Data'!A:A&'FFV Data'!B:B,'FFV Data'!X:X,\"N/A\",0)","v":5560.09},{"$f":"D126*'FFV Coeffs for Calcs'!E136","v":539.32873000000006},{"$f":"(D126-E126)*'FFV Coeffs for Calcs'!F136","v":4468.4775302999997},{"$f":"F126*'FFV Coeffs for Calcs'!H136","v":1006.1521905725499},552.2837397000003,{"$f":"H126*'FFV Coeffs for Calcs'!I136","v":188.32875523770011},2442.3396758102499,null,"Switzerland","Eggplants",708.53,5560.09,539.32873000000006,4468.4775302999997,1362.8856467414998,1091.6124697000005,521.79076051660024,3132.5351372580999,null,"Switzerland","Eggplants",708.53,5560.09,539.32873000000006,4468.4775302999997,1362.8856467414998,1091.6124697000005,521.79076051660024,3132.5351372580999,null,"Switzerland","Eggplants",2442.3396758102499,3132.5351372580999,3132.5351372580999,3132.5351372580999,0,690.19546144784999]
["United Kingdom","Eggplants",{"$f":"_xlfn.XLOOKUP(A127&B127,'FFV Data'!$A:$A&'FFV Data'!$B:$B,'FFV Data'!$P:$P,\"N/A\",0)","v":1498.75},{"$f":"_xlfn.XLOOKUP(A127&B127,'FFV Data'!A:A&'FFV Data'!B:B,'FFV Data'!X:X,\"N/A\",0)","v":24803.403440000002},{"$f":"D127*'FFV Coeffs for Calcs'!E137","v":2405.9301336800004},{"$f":"(D127-E127)*'FFV Coeffs for Calcs'!F137","v":19933.751242624799},{"$f":"F127*'FFV Coeffs for Calcs'!H137","v":4146.2202584659581},2463.7220636952006,{"$f":"H127*'FFV Coeffs for Calcs'!I137","v":840.12922372006346},8891.0296158660221,null,"United Kingdom","Eggplants",1498.75,24803.403440000002,2405.9301336800004,19933.751242624799,6079.7941290005638,4869.6521973752024,2327.6937503453464,12312.16801302591,null,"United Kingdom","Eggplants",1498.75,24803.403440000002,2405.9301336800004,19933.751242624799,6079.7941290005638,4869.6521973752024,2327.6937503453464,12312.16801302591,null,"United Kingdom","Eggplants",8891.0296158660221,12312.16801302591,12312.16801302591,12312.16801302591,0,3421.138397159888]
["Austria","Peppers",{"$f":"_xlfn.XLOOKUP(A128&B128,'FFV Data'!$A:$A&'FFV Data'!$B:$B,'FFV Data'!$P:$P,\"N/A\",0)","v":7550.52},{"$f":"_xlfn.XLOOKUP(A128&B128,'FFV Data'!A:A&'FFV Data'!B:B,'FFV Data'!X:X,\"N/A\",0)","v":23808.244198038872},{"$f":"D128*'FFV Coeffs for Calcs'!E141","v":952.32976792155489},{"$f":"(D128-E128)*'FFV Coeffs for Calcs'!F141","v":20341.763842804412},{"$f":"F128*'FFV Coeffs for Calcs'!H141","v":5800.7929891730582},2514.1505873129063,{"$f":"H128*'FFV Coeffs for Calcs'!I141","v":857.32535027370113},15160.968107368315,null,"Austria","Peppers",7550.52,23808.244198038872,{"$f":"O128*0.04","v":952.32976792155489},20341.763842804412,{"$f":"Q128*0.201","v":4088.6945324036869},{"$f":"O128-Q128","v":3466.4803552344601},{"$f":"S128*0.244","v":845.82120667720824},13437.365507002452,null,"Austria","Peppers",7550.52,23808.244198038872,{"$f":"Z128*0.04","v":952.32976792155489},20341.763842804412,{"$f":"AB128*0.365","v":7424.7438026236105},{"$f":"Z128-AB128","v":3466.4803552344601},{"$f":"AD128*0.478","v":1656.9776098020718},17584.571180347237,null,"Austria","Peppers",15160.968107368315,13437.365507002452,17584.571180347237,15510.968343674846,1723.6026003658626,2423.6030729789218]
["Belgium","Peppers",{"$f":"_xlfn.XLOOKUP(A129&B129,'FFV Data'!$A:$A&'FFV Data'!$B:$B,'FFV Data'!$P:$P,\"N/A\",0)","v":2400.1256453567357},{"$f":"_xlfn.XLOOKUP(A129&B129,'FFV Data'!A:A&'FFV Data'!B:B,'FFV Data'!X:X,\"N/A\",0)","v":40846.89},{"$f":"D129*'FFV Coeffs for Calcs'!E142","v":1633.8756000000001},{"$f":"(D129-E129)*'FFV Coeffs for Calcs'!F142","v":34899.582816000002},{"$f":"F129*'FFV Coeffs for Calcs'!H142","v":9952.1976996960002},{"$f":"D129-E129-F129","v":4313.4315839999981},{"$f":"H129*'FFV Coeffs for Calcs'!I142","v":1470.8801701439995},15457.079115196735,null,"Belgium","Peppers",2400.1256453567357,40846.89,{"$f":"O129*0.04","v":1633.8756000000001},{"$f":"(O129-P129)*0.89","v":34899.582816000002},{"$f":"Q129*0.201","v":7014.8161460160009},{"$f":"O129-Q129","v":5947.3071839999975},{"$f":"S129*0.244","v":1451.1429528959993},12499.960344268737,null,"Belgium","Peppers",2400.1256453567357,40846.89,{"$f":"Z129*0.04","v":1633.8756000000001},{"$f":"(Z129-AA129)*0.89","v":34899.582816000002},{"$f":"AB129*0.365","v":12738.347727840001},{"$f":"Z129-AB129","v":5947.3071839999975},{"$f":"AD129*0.478","v":2842.8128339519985},19615.161807148732,null,"Belgium","Peppers",15457.079115196735,12499.960344268737,19615.161807148732,16057.561075708734,2957.1187709279984,4158.0826919519968]
["Bulgaria","Peppers",{"$f":"_xlfn.XLOOKUP(A130&B130,'FFV Data'!$A:$A&'FFV Data'!$B:$B,'FFV Data'!$P:$P,\"N/A\",0)","v":5198.4540400371397},{"$f":"_xlfn.XLOOKUP(A130&B130,'FFV Data'!A:A&'FFV Data'!B:B,'FFV Data'!X:X,\"N/A\",0)","v":61395.86},{"$f":"D130*'FFV Coeffs for Calcs'!E143","v":2455.8344000000002},{"$f":"(D130-E130)*'FFV Coeffs for Calcs'!F143","v":52456.622783999999},{"$f":"F130*'FFV Coeffs for Calcs'!H143","v":14958.880263904},6483.4028160000016,{"$f":"H130*'FFV Coeffs for Calcs'!I143","v":2210.8403602560006},{"$f":"SUM(IF(ISNUMBER(C130),C130,0),E130,G130,I130)","v":24824.00906419714},null,"Bulgaria","Peppers",5198.4540400371397,61395.86,2455.8344000000002,52456.622783999999,10543.781179584001,8939.2372160000014,2181.1738807040001,20379.243500325145,null,"Bulgaria","Peppers",null,61395.86,2455.8344000000002,52456.622783999999,19146.667316160001,8939.2372160000014,4272.9553892480008,25875.457105408001,null,"Bulgaria","Peppers",24824.00906419714,20379.243500325145,25875.457105408001,23127.350302866573,4444.7655638719953,1051.4480412108605]
["Croatia","Peppers",{"$f":"_xlfn.XLOOKUP(A131&B131,'FFV Data'!$A:$A&'FFV Data'!$B:$B,'FFV Data'!$P:$P,\"N/A\",0)","v":1373.99},{"$f":"_xlfn.XLOOKUP(A131&B131,'FFV Data'!A:A&'FFV Data'!B:B,'FFV Data'!X:X,\"N/A\",0)","v":18248.163159657146},{"$f":"D131*'FFV Coeffs for Calcs'!E144","v":729.9265263862859},{"$f":"(D131-E131)*'FFV Coeffs for Calcs'!F144","v":15591.230603611064},{"$f":"F131*'FFV Coeffs for Calcs'!H144","v":4446.0992604630883},1927.0060296597949,{"$f":"H131*'FFV Coeffs for Calcs'!I144","v":657.10905611399005},7207.1248429633642,null,"Croatia","Peppers",1373.99,18248.163159657146,729.9265263862859,15591.230603611064,3133.8373513258239,2656.932556046082,648.29154367524404,5886.0454213873536,null,"Croatia","Peppers",null,18248.163159657146,729.9265263862859,15591.230603611064,5690.7991703180378,2656.932556046082,1270.013761790027,7690.7394584943513,null,"Croatia","Peppers",7207.1248429633642,5886.0454213873536,7690.7394584943513,6788.3924399408525,1321.0794215760106,483.61461553098707]
["Cyprus","Peppers",{"$f":"_xlfn.XLOOKUP(A132&B132,'FFV Data'!$A:$A&'FFV Data'!$B:$B,'FFV Data'!$P:$P,\"N/A\",0)","v":282.83999999999997},{"$f":"_xlfn.XLOOKUP(A132&B132,'FFV Data'!A:A&'FFV Data'!B:B,'FFV Data'!X:X,\"N/A\",0)","v":1732.7973215187374},{"$f":"D132*'FFV Coeffs for Calcs'!E145","v":69.311892860749495},{"$f":"(D132-E132)*'FFV Coeffs for Calcs'!F145","v":1480.5020315056092},{"$f":"F132*'FFV Coeffs for Calcs'!H145","v":422.18982931768289},182.98339715237853,{"$f":"H132*'FFV Coeffs for Calcs'!I145","v":62.397338428961085},836.73906060739341,null,"Cyprus","Peppers",282.83999999999997,1732.7973215187374,69.311892860749495,1480.5020315056092,297.58090833262747,252.29529001312812,61.560050763203257,711.29285195658008,null,"Cyprus","Peppers",282.83999999999997,1732.7973215187374,69.311892860749495,1480.5020315056092,540.38324149954735,252.29529001312812,120.59714862627524,1013.132282986572,null,"Cyprus","Peppers",836.73906060739341,711.29285195658008,1013.132282986572,862.21256747157599,125.44620865081333,176.39322237917861]
["Czechia","Peppers",{"$f":"_xlfn.XLOOKUP(A133&B133,'FFV Data'!$A:$A&'FFV Data'!$B:$B,'FFV Data'!$P:$P,\"N/A\",0)","v":238.09},{"$f":"_xlfn.XLOOKUP(A133&B133,'FFV Data'!A:A&'FFV Data'!B:B,'FFV Data'!X:X,\"N/A\",0)","v":39801.030093800095},{"$f":"D133*'FFV Coeffs for Calcs'!E146","v":1592.0412037520039},{"$f":"(D133-E133)*'FFV Coeffs for Calcs'!F146","v":34006.000112142799},{"$f":"F133*'FFV Coeffs for Calcs'!H146","v":9697.3776986460562},4202.9887779052879,{"$f":"H133*'FFV Coeffs for Calcs'!I146","v":1433.2191732657034},12960.728075663763,null,{"$f":"A133","v":"Czechia"},{"$f":"B133","v":"Peppers"},{"$f":"IF(ISNUMBER(C133),C133)","v":238.09},{"$f":"$D133","v":39801.030093800095},1592.0412037520039,34006.000112142799,6835.2060225407031,5795.0299816572951,1413.9873155243799,{"$f":"SUM(IF(ISNUMBER(N133),N133,0),P133,R133,T133)","v":10079.324541817088},null,"Czechia","Peppers",null,{"$f":"$D133","v":39801.030093800095},1592.0412037520039,34006.000112142799,12412.190040932121,5795.0299816572951,2770.0243312321868,{"$f":"SUM(IF(ISNUMBER(Y133),Y133,0),AA133,AC133,AE133)","v":16774.255575916311},null,{"$f":"L133","v":"Czechia"},{"$f":"M133","v":"Peppers"},{"$f":"J133","v":12960.728075663763},{"$f":"U133","v":10079.324541817088},{"$f":"AF133","v":16774.255575916311},{"$f":"AVERAGE(AK133:AL133)","v":13426.7900588667},2881.4035338466747,3813.5275002525486]
["Denmark","Peppers",{"$f":"_xlfn.XLOOKUP(A134&B134,'FFV Data'!$A:$A&'FFV Data'!$B:$B,'FFV Data'!$P:$P,\"N/A\",0)","v":664.09},{"$f":"_xlfn.XLOOKUP(A134&B134,'FFV Data'!A:A&'FFV Data'!B:B,'FFV Data'!X:X,\"N/A\",0)","v":14762.881569981624},{"$f":"D134*'FFV Coeffs for Calcs'!E147","v":590.51526279926497},{"$f":"(D134-E134)*'FFV Coeffs for Calcs'!F147","v":12613.406013392299},{"$f":"F134*'FFV Coeffs for Calcs'!H147","v":4603.8931948881891},1558.9602937900599,{"$f":"H134*'FFV Coeffs for Calcs'!I147","v":531.60546018241052},6390.1039178698647,null,"Denmark","Peppers",664.09,14762.881569981624,590.51526279926497,12613.406013392299,2535.2946086918523,2149.4755565893247,524.47203580779524,4314.3719072989124,null,"Denmark","Peppers",{"$f":"$C134","v":664.09},14762.881569981624,590.51526279926497,12613.406013392299,4603.8931948881891,2149.4755565893247,1027.4493160496972,6885.9477737371508,null,"Denmark","Peppers",6390.1039178698647,4314.3719072989124,6885.9477737371508,5600.1598405180321,{"$f":"AJ134-MIN(AK134,AJ134)","v":2075.7320105709523},{"$f":"AL134-MIN(AJ134,AL134)","v":495.84385586728604}]
["Estonia","Peppers",{"$f":"_xlfn.XLOOKUP(A135&B135,'FFV Data'!$A:$A&'FFV Data'!$B:$B,'FFV Data'!$P:$P,\"N/A\",0)","v":{"$error":"#N/A"}},{"$f":"_xlfn.XLOOKUP(A135&B135,'FFV Data'!A:A&'FFV Data'!B:B,'FFV Data'!X:X,\"N/A\",0)","v":2857.5916623370099},{"$f":"D135*'FFV Coeffs for Calcs'!E148","v":114.30366649348039},{"$f":"(D135-E135)*'FFV Coeffs for Calcs'!F148","v":2441.5263163007412},{"$f":"F135*'FFV Coeffs for Calcs'!H148","v":696.24192119842803},301.76167954278844,{"$f":"H135*'FFV Coeffs for Calcs'!I148","v":102.90073272409087},913.44632041599925,null,"Estonia","Peppers",null,2857.5916623370099,114.30366649348039,2441.5263163007412,490.74678957644903,416.06534603626869,101.51994443284956,706.57040050277897,null,"Estonia","Peppers",null,2857.5916623370099,114.30366649348039,2441.5263163007412,891.15710544977048,416.06534603626869,198.87923540533643,1204.3400073485873,null,"Estonia","Peppers",913.44632041599925,706.57040050277897,1204.3400073485873,955.45520392568312,206.87591991322029,290.89368693258803]
["Finland","Peppers",{"$f":"_xlfn.XLOOKUP(A136&B136,'FFV Data'!$A:$A&'FFV Data'!$B:$B,'FFV Data'!$P:$P,\"N/A\",0)","v":1657.39},{"$f":"_xlfn.XLOOKUP(A136&B136,'FFV Data'!A:A&'FFV Data'!B:B,'FFV Data'!X:X,\"N/A\",0)","v":10733.473247924843},{"$f":"D136*'FFV Coeffs for Calcs'!E149","v":429.33892991699372},{"$f":"(D136-E136)*'FFV Coeffs for Calcs'!F149","v":9170.6795430269867},{"$f":"F136*'FFV Coeffs for Calcs'!H149","v":2219.3044494125306},1133.4547749808626,{"$f":"H136*'FFV Coeffs for Calcs'!I149","v":386.50807826847415},4692.5414575979994,null,"Finland","Peppers",1657.39,10733.473247924843,429.33892991699372,9170.6795430269867,1843.3065881484245,1562.7937048978565,381.32166399507696,4311.3571820604957,null,"Finland","Peppers",1657.39,10733.473247924843,429.33892991699372,9170.6795430269867,3347.2980332048501,1562.7937048978565,747.01539094117538,6181.042354063019,null,"Finland","Peppers",4692.5414575979994,4311.3571820604957,6181.042354063019,5246.1997680617569,381.18427553750371,1488.5008964650197]
["France","Peppers",{"$f":"_xlfn.XLOOKUP(A137&B137,'FFV Data'!$A:$A&'FFV Data'!$B:$B,'FFV Data'!$P:$P,\"N/A\",0)","v":32239.74},{"$f":"_xlfn.XLOOKUP(A137&B137,'FFV Data'!A:A&'FFV Data'!B:B,'FFV Data'!X:X,\"N/A\",0)","v":94411.163911314216},{"$f":"D137*'FFV Coeffs for Calcs'!E150","v":3776.4465564525685},{"$f":"(D137-E137)*'FFV Coeffs for Calcs'!F150","v":80664.898445826868},{"$f":"F137*'FFV Coeffs for Calcs'!H150","v":23002.940206801628},9969.8189090347732,{"$f":"H137*'FFV Coeffs for Calcs'!I150","v":3399.7082479808578},62418.83501123506,null,"France","Peppers",32239.74,94411.163911314216,3776.4465564525685,80664.898445826868,16213.644587611201,13746.265465487348,3354.0887735789129,55583.919917642692,null,"France","Peppers",32239.74,94411.163911314216,3776.4465564525685,80664.898445826868,29442.687932726807,13746.265465487348,6570.7148925029524,72029.589381682323,null,"France","Peppers",62418.83501123506,55583.919917642692,72029.589381682323,63806.754649662507,6834.9150935923681,9610.7543704472628]
["Germany","Peppers",{"$f":"_xlfn.XLOOKUP(A138&B138,'FFV Data'!$A:$A&'FFV Data'!$B:$B,'FFV Data'!$P:$P,\"N/A\",0)","v":42065.61},{"$f":"_xlfn.XLOOKUP(A138&B138,'FFV Data'!A:A&'FFV Data'!B:B,'FFV Data'!X:X,\"N/A\",0)","v":261352.76613262828},{"$f":"D138*'FFV Coeffs for Calcs'!E151","v":10454.110645305131},{"$f":"(D138-E138)*'FFV Coeffs for Calcs'!F151","v":223299.8033837176},{"$f":"F138*'FFV Coeffs for Calcs'!H151","v":64310.343374510667},27598.852103605546,{"$f":"H138*'FFV Coeffs for Calcs'!I151","v":9411.2085673294914},126241.27258714529,null,"Germany","Peppers",42065.61,261352.76613262828,10454.110645305131,223299.8033837176,44883.260480127239,38052.962748910679,9284.9229107342053,106687.90403616658,null,"Germany","Peppers",42065.61,261352.76613262828,10454.110645305131,223299.8033837176,81504.428235056926,38052.962748910679,18189.316193979303,152213.46507434134,null,"Germany","Peppers",126241.27258714529,106687.90403616658,152213.46507434134,129450.68455525396,19553.368550978703,25972.192487196051]
["Greece","Peppers",{"$f":"_xlfn.XLOOKUP(A139&B139,'FFV Data'!$A:$A&'FFV Data'!$B:$B,'FFV Data'!$P:$P,\"N/A\",0)","v":13416.61},{"$f":"_xlfn.XLOOKUP(A139&B139,'FFV Data'!A:A&'FFV Data'!B:B,'FFV Data'!X:X,\"N/A\",0)","v":80352.946716199876},{"$f":"D139*'FFV Coeffs for Calcs'!E152","v":3214.1178686479952},{"$f":"(D139-E139)*'FFV Coeffs for Calcs'!F152","v":68653.557674321171},{"$f":"F139*'FFV Coeffs for Calcs'!H152","v":19577.706196793923},8485.2711732307071,{"$f":"H139*'FFV Coeffs for Calcs'!I152","v":2893.4774700716712},39101.911535513595,null,"Greece","Peppers",13416.61,80352.946716199876,3214.1178686479952,68653.557674321171,13799.365092538555,11699.389041878705,2854.650926218404,33284.743887404955,null,"Greece","Peppers",13416.61,80352.946716199876,3214.1178686479952,68653.557674321171,25058.548551127227,11699.389041878705,5592.3079620180206,47281.584381793247,null,"Greece","Peppers",39101.911535513595,33284.743887404955,47281.584381793247,40283.164134599101,5817.1676481086397,8179.6728462796527]
["Hungary","Peppers",{"$f":"_xlfn.XLOOKUP(A140&B140,'FFV Data'!$A:$A&'FFV Data'!$B:$B,'FFV Data'!$P:$P,\"N/A\",0)","v":2211.3331753591506},{"$f":"_xlfn.XLOOKUP(A140&B140,'FFV Data'!A:A&'FFV Data'!B:B,'FFV Data'!X:X,\"N/A\",0)","v":43753.59},{"$f":"D140*'FFV Coeffs for Calcs'!E153","v":1750.1435999999999},{"$f":"(D140-E140)*'FFV Coeffs for Calcs'!F153","v":37383.067295999994},{"$f":"F140*'FFV Coeffs for Calcs'!H153","v":10660.404690575999},4620.3791039999996,{"$f":"H140*'FFV Coeffs for Calcs'!I153","v":1575.5492744640001},16197.430740399148,null,"Hungary","Peppers",2211.3331753591506,43753.59,1750.1435999999999,37383.067295999994,7513.9965264959992,6370.5227040000027,1554.4075397760007,13029.880841631149,null,"Hungary","Peppers",null,43753.59,1750.1435999999999,37383.067295999994,13644.819563039997,6370.5227040000027,3045.109852512001,18440.073015551996,null,"Hungary","Peppers",16197.430740399148,13029.880841631149,18440.073015551996,15734.976928591572,3167.5498987679985,2242.642275152848]
["Iceland","Peppers",{"$f":"_xlfn.XLOOKUP(A141&B141,'FFV Data'!$A:$A&'FFV Data'!$B:$B,'FFV Data'!$P:$P,\"N/A\",0)","v":{"$error":"#N/A"}},{"$f":"_xlfn.XLOOKUP(A141&B141,'FFV Data'!A:A&'FFV Data'!B:B,'FFV Data'!X:X,\"N/A\",0)","v":1142.9530440702849},{"$f":"D141*'FFV Coeffs for Calcs'!E154","v":45.7181217628114},{"$f":"(D141-E141)*'FFV Coeffs for Calcs'!F154","v":976.5390808536514},{"$f":"F141*'FFV Coeffs for Calcs'!H154","v":278.47639455676625},120.69584145382203,{"$f":"H141*'FFV Coeffs for Calcs'!I154","v":41.157281935753318},365.35179825533095,null,"Iceland","Peppers",null,1142.9530440702849,45.7181217628114,976.5390808536514,196.28435525158395,166.41396321663353,40.60500702485858,282.6074840392539,null,"Iceland","Peppers",{"$error":"#N/A"},1142.9530440702849,45.7181217628114,976.5390808536514,356.43676451158274,166.41396321663353,79.54587441755082,481.70076069194494,null,"Iceland","Peppers",365.35179825533095,{"$f":"U141","v":282.6074840392539},481.70076069194494,382.15412236559939,82.744314216077044,116.34896243661399]
["Ireland","Peppers",{"$f":"_xlfn.XLOOKUP(A142&B142,'FFV Data'!$A:$A&'FFV Data'!$B:$B,'FFV Data'!$P:$P,\"N/A\",0)","v":2294.7800000000002},{"$f":"_xlfn.XLOOKUP(A142&B142,'FFV Data'!A:A&'FFV Data'!B:B,'FFV Data'!X:X,\"N/A\",0)","v":14613.250683359147},{"$f":"D142*'FFV Coeffs for Calcs'!E155","v":584.53002733436585},{"$f":"(D142-E142)*'FFV Coeffs for Calcs'!F155","v":12485.561383862056},{"$f":"F142*'FFV Coeffs for Calcs'!H155","v":3560.4659212979964},1543.1592721627258,{"$f":"H142*'FFV Coeffs for Calcs'!I155","v":526.21731180748952},6965.9932604398527,null,"Ireland","Peppers",2294.7800000000002,14613.250683359147,584.53002733436585,12485.561383862056,2509.5978381562732,2127.6892994970913,519.15618907729026,5908.0640545679289,null,"Ireland","Peppers",2294.7800000000002,14613.250683359147,584.53002733436585,12485.561383862056,4557.2299051096506,2127.6892994970913,1017.0354851596096,8453.5754176036262,null,"Ireland","Peppers",6965.9932604398527,5908.0640545679289,8453.5754176036262,7180.8197360857775,1057.9292058719238,1487.5821571637734]
["Italy","Peppers",{"$f":"_xlfn.XLOOKUP(A143&B143,'FFV Data'!$A:$A&'FFV Data'!$B:$B,'FFV Data'!$P:$P,\"N/A\",0)","v":38841.94},{"$f":"_xlfn.XLOOKUP(A143&B143,'FFV Data'!A:A&'FFV Data'!B:B,'FFV Data'!X:X,\"N/A\",0)","v":196005.90794564638},{"$f":"D143*'FFV Coeffs for Calcs'!E156","v":7840.2363178258556},{"$f":"(D143-E143)*'FFV Coeffs for Calcs'!F156","v":167467.44774876029},{"$f":"F143*'FFV Coeffs for Calcs'!H156","v":47756.133849688144},20698.223879060242,{"$f":"H143*'FFV Coeffs for Calcs'!I156","v":7058.094342759543},101496.40451027354,null,"Italy","Peppers",38841.94,196005.90794564638,7840.2363178258556,167467.44774876029,33660.95699750082,28538.460196886095,6963.3842880402071,87306.517603366883,null,"Italy","Peppers",null,196005.90794564638,7840.2363178258556,167467.44774876029,61125.618428297501,28538.460196886095,13641.383974111553,82607.238720234905,null,"Italy","Peppers",101496.40451027354,87306.517603366883,82607.238720234905,84956.878161800894,14189.886906906657,0]
["Latvia","Peppers",{"$f":"_xlfn.XLOOKUP(A144&B144,'FFV Data'!$A:$A&'FFV Data'!$B:$B,'FFV Data'!$P:$P,\"N/A\",0)","v":{"$error":"#N/A"}},{"$f":"_xlfn.XLOOKUP(A144&B144,'FFV Data'!A:A&'FFV Data'!B:B,'FFV Data'!X:X,\"N/A\",0)","v":3639.8360151313159},{"$f":"D144*'FFV Coeffs for Calcs'!E157","v":145.59344060525265},{"$f":"(D144-E144)*'FFV Coeffs for Calcs'!F157","v":3109.8758913281963},{"$f":"F144*'FFV Coeffs for Calcs'!H157","v":886.83294167709073},384.36668319786713,{"$f":"H144*'FFV Coeffs for Calcs'!I157","v":131.06903897047269},1163.4954212528162,null,"Latvia","Peppers",null,3639.8360151313159,145.59344060525265,3109.8758913281963,625.08505415696754,529.96012380311959,129.31027020796117,899.98876497018136,null,"Latvia","Peppers",null,3639.8360151313159,145.59344060525265,3109.8758913281963,1135.1047003347917,529.96012380311959,253.32093917789115,1534.0190801179356,null,"Latvia","Peppers",1163.4954212528162,899.98876497018136,1534.0190801179356,1217.0039225440585,263.50665628263482,370.52365886511939]
["Lithuania","Peppers",{"$f":"_xlfn.XLOOKUP(A145&B145,'FFV Data'!$A:$A&'FFV Data'!$B:$B,'FFV Data'!$P:$P,\"N/A\",0)","v":{"$error":"#N/A"}},{"$f":"_xlfn.XLOOKUP(A145&B145,'FFV Data'!A:A&'FFV Data'!B:B,'FFV Data'!X:X,\"N/A\",0)","v":4371.5041622820672},{"$f":"D145*'FFV Coeffs for Calcs'!E158","v":174.86016649128268},{"$f":"(D145-E145)*'FFV Coeffs for Calcs'!F158","v":3735.0131562537981},{"$f":"F145*'FFV Coeffs for Calcs'!H158","v":1065.1012517250415},461.63083953698606,{"$f":"H145*'FFV Coeffs for Calcs'!I158","v":157.41611628211226},1397.3775344984363,null,"Lithuania","Peppers",null,4371.5041622820672,174.86016649128268,3735.0131562537981,750.73764440701348,636.49100602826911,155.30380547089766,1080.9016163691938,null,"Lithuania","Peppers",null,4371.5041622820672,174.86016649128268,3735.0131562537981,1363.2798020326363,636.49100602826911,304.24270088151263,1842.3826694054314,null,"Lithuania","Peppers",1397.3775344984363,1080.9016163691938,1842.3826694054314,1461.6421428873127,316.47591812924247,445.00513490699518]
["Luxembourg","Peppers",{"$f":"_xlfn.XLOOKUP(A146&B146,'FFV Data'!$A:$A&'FFV Data'!$B:$B,'FFV Data'!$P:$P,\"N/A\",0)","v":83.14},{"$f":"_xlfn.XLOOKUP(A146&B146,'FFV Data'!A:A&'FFV Data'!B:B,'FFV Data'!X:X,\"N/A\",0)","v":1278.0800359158466},{"$f":"D146*'FFV Coeffs for Calcs'!E159","v":51.123201436633863},{"$f":"(D146-E146)*'FFV Coeffs for Calcs'!F159","v":1091.9915826864992},{"$f":"F146*'FFV Coeffs for Calcs'!H159","v":311.39959966276672},134.96525179271339,{"$f":"H146*'FFV Coeffs for Calcs'!I159","v":46.023150861315266},491.68595196071584,null,"Luxembourg","Peppers",83.14,1278.0800359158466,51.123201436633863,1091.9915826864992,219.49030811998637,186.08845322934735,45.405582587960751,399.15909214458094,null,"Luxembourg","Peppers",83.14,1278.0800359158466,51.123201436633863,1091.9915826864992,398.57692768057223,186.08845322934735,88.950280643628034,621.79040976083411,null,"Luxembourg","Peppers",491.68595196071584,399.15909214458094,621.79040976083411,510.4747509527075,92.526859816134902,130.10445780011827]
["Malta","Peppers",{"$f":"_xlfn.XLOOKUP(A147&B147,'FFV Data'!$A:$A&'FFV Data'!$B:$B,'FFV Data'!$P:$P,\"N/A\",0)","v":{"$error":"#N/A"}},{"$f":"_xlfn.XLOOKUP(A147&B147,'FFV Data'!A:A&'FFV Data'!B:B,'FFV Data'!X:X,\"N/A\",0)","v":610.92250226341207},{"$f":"D147*'FFV Coeffs for Calcs'!E160","v":24.436900090536483},{"$f":"(D147-E147)*'FFV Coeffs for Calcs'!F160","v":521.97218593385924},{"$f":"F147*'FFV Coeffs for Calcs'!H160","v":148.84906835547221},64.513416239016351,{"$f":"H147*'FFV Coeffs for Calcs'!I160","v":21.999074937504577},195.28504338351328,null,"Malta","Peppers",null,610.92250226341207,24.436900090536483,521.97218593385924,104.91640937270571,88.950316329552834,21.703877184410892,151.05718664765308,null,"Malta","Peppers",null,610.92250226341207,24.436900090536483,521.97218593385924,190.51984786585862,88.950316329552834,42.518251205526255,257.47499916192135,null,"Malta","Peppers",195.28504338351328,151.05718664765308,257.47499916192135,204.26609290478723,44.2278567358602,62.189955778408063]
["Netherlands","Peppers",{"$f":"_xlfn.XLOOKUP(A148&B148,'FFV Data'!$A:$A&'FFV Data'!$B:$B,'FFV Data'!$P:$P,\"N/A\",0)","v":14383.62},{"$f":"_xlfn.XLOOKUP(A148&B148,'FFV Data'!A:A&'FFV Data'!B:B,'FFV Data'!X:X,\"N/A\",0)","v":68080.683761135573},{"$f":"D148*'FFV Coeffs for Calcs'!E161","v":2723.2273504454229},{"$f":"(D148-E148)*'FFV Coeffs for Calcs'!F161","v":58168.136205514238},{"$f":"F148*'FFV Coeffs for Calcs'!H161","v":20184.34326331344},7189.3202051759145,{"$f":"H148*'FFV Coeffs for Calcs'!I161","v":2451.5581899649869},39742.748803723851,null,"Netherlands","Peppers",14383.62,68080.683761135573,2723.2273504454229,58168.136205514238,11691.795377308363,9912.5475556213351,2418.6616035716056,31217.304331325395,null,"Netherlands","Peppers",14383.62,68080.683761135573,2723.2273504454229,58168.136205514238,21231.369715012697,9912.5475556213351,4738.1977315869981,43076.414797045116,null,"Netherlands","Peppers",39742.748803723851,31217.304331325395,43076.414797045116,37146.859564185259,8525.4444723984561,3333.665993321265]
["Norway","Peppers",{"$f":"_xlfn.XLOOKUP(A149&B149,'FFV Data'!$A:$A&'FFV Data'!$B:$B,'FFV Data'!$P:$P,\"N/A\",0)","v":2100.19},{"$f":"_xlfn.XLOOKUP(A149&B149,'FFV Data'!A:A&'FFV Data'!B:B,'FFV Data'!X:X,\"N/A\",0)","v":13625.659438608976},{"$f":"D149*'FFV Coeffs for Calcs'!E162","v":545.02637754435909},{"$f":"(D149-E149)*'FFV Coeffs for Calcs'!F162","v":11641.763424347509},{"$f":"F149*'FFV Coeffs for Calcs'!H162","v":3319.8428698430985},1438.8696367171087,{"$f":"H149*'FFV Coeffs for Calcs'!I162","v":490.65454612053412},6455.7137935079918,null,"Norway","Peppers",2100.19,13625.659438608976,545.02637754435909,11641.763424347509,2339.9944482938495,1983.8960142614669,484.07062747979791,5469.2814533180062,null,"Norway","Peppers",2100.19,13625.659438608976,545.02637754435909,11641.763424347509,4249.243649886841,1983.8960142614669,948.3022948169812,7842.7623222481807,null,"Norway","Peppers",6455.7137935079918,5469.2814533180062,7842.7623222481807,6656.0218877830939,986.43234018998555,1387.0485287401889]
["Poland","Peppers",{"$f":"_xlfn.XLOOKUP(A150&B150,'FFV Data'!$A:$A&'FFV Data'!$B:$B,'FFV Data'!$P:$P,\"N/A\",0)","v":16944.848572385865},{"$f":"_xlfn.XLOOKUP(A150&B150,'FFV Data'!A:A&'FFV Data'!B:B,'FFV Data'!X:X,\"N/A\",0)","v":115478.31},{"$f":"D150*'FFV Coeffs for Calcs'!E163","v":4619.1324000000004},{"$f":"(D150-E150)*'FFV Coeffs for Calcs'!F163","v":98664.668063999998},{"$f":"F150*'FFV Coeffs for Calcs'!H163","v":28135.874509584002},12194.509535999998,{"$f":"H150*'FFV Coeffs for Calcs'!I163","v":4158.3277517759998},53858.183233745862,null,"Poland","Peppers",16944.848572385865,115478.31,4619.1324000000004,98664.668063999998,19831.598280864,16813.641936,4102.528632384,45498.107885633857,null,"Poland","Peppers",16944.848572385865,115478.31,4619.1324000000004,98664.668063999998,36012.603843359997,16813.641936,8036.9208454079999,65613.50566115386,null,"Poland","Peppers",53858.183233745862,45498.107885633857,65613.50566115386,55555.806773393859,8360.0753481120046,11755.322427407998]
["Portugal","Peppers",{"$f":"_xlfn.XLOOKUP(A151&B151,'FFV Data'!$A:$A&'FFV Data'!$B:$B,'FFV Data'!$P:$P,\"N/A\",0)","v":134.35226924816536},{"$f":"_xlfn.XLOOKUP(A151&B151,'FFV Data'!A:A&'FFV Data'!B:B,'FFV Data'!X:X,\"N/A\",0)","v":48718.75},{"$f":"D151*'FFV Coeffs for Calcs'!E164","v":1948.75},{"$f":"(D151-E151)*'FFV Coeffs for Calcs'!F164","v":41625.300000000003},{"$f":"F151*'FFV Coeffs for Calcs'!H164","v":11870.148050000002},5144.6999999999971,{"$f":"H151*'FFV Coeffs for Calcs'!I164","v":1754.3426999999992},15707.593019248166,null,"Portugal","Peppers",134.35226924816536,48718.75,1948.75,41625.300000000003,8366.685300000001,7093.4499999999971,1730.8017999999993,12180.589369248166,null,"Portugal","Peppers",null,48718.75,1948.75,41625.300000000003,15193.2345,7093.4499999999971,3390.6690999999983,20532.653599999998,null,"Portugal","Peppers",15707.593019248166,12180.589369248166,20532.653599999998,16356.621484624082,3527.0036500000006,4825.0605807518314]
["Romania","Peppers",{"$f":"_xlfn.XLOOKUP(A152&B152,'FFV Data'!$A:$A&'FFV Data'!$B:$B,'FFV Data'!$P:$P,\"N/A\",0)","v":8554.08},{"$f":"_xlfn.XLOOKUP(A152&B152,'FFV Data'!A:A&'FFV Data'!B:B,'FFV Data'!X:X,\"N/A\",0)","v":102249.77654262935},{"$f":"D152*'FFV Coeffs for Calcs'!E165","v":4089.9910617051742},{"$f":"(D152-E152)*'FFV Coeffs for Calcs'!F165","v":87362.209078022512},{"$f":"F152*'FFV Coeffs for Calcs'!H165","v":24912.789955416087},10797.576402901657,{"$f":"H152*'FFV Coeffs for Calcs'!I165","v":3681.9735533894655},41238.834570510728,null,"Romania","Peppers",8554.08,102249.77654262935,4089.9910617051742,87362.209078022512,17559.804024682526,14887.567464606836,3632.5664613640679,33836.441547751769,null,"Romania","Peppers",null,102249.77654262935,4089.9910617051742,87362.209078022512,31887.206313478215,14887.567464606836,7116.2572480820672,43093.454623265454,null,"Romania","Peppers",41238.834570510728,33836.441547751769,43093.454623265454,38464.948085508615,7402.393022758959,1854.6200527547262]
["Slovakia","Peppers",{"$f":"_xlfn.XLOOKUP(A153&B153,'FFV Data'!$A:$A&'FFV Data'!$B:$B,'FFV Data'!$P:$P,\"N/A\",0)","v":441.29},{"$f":"_xlfn.XLOOKUP(A153&B153,'FFV Data'!A:A&'FFV Data'!B:B,'FFV Data'!X:X,\"N/A\",0)","v":16473.209388508491},{"$f":"D153*'FFV Coeffs for Calcs'!E166","v":658.92837554033963},{"$f":"(D153-E153)*'FFV Coeffs for Calcs'!F166","v":14074.710101541656},{"$f":"F153*'FFV Coeffs for Calcs'!H166","v":4013.6381639562956},1739.5709114264955,{"$f":"H153*'FFV Coeffs for Calcs'!I166","v":593.19368079643505},5707.0502202930702,null,"Slovakia","Peppers",441.29,16473.209388508491,658.92837554033963,14074.710101541656,2829.0167304098732,2398.4992869668349,585.23382601990772,4514.4689319701201,null,"Slovakia","Peppers",null,16473.209388508491,658.92837554033963,14074.710101541656,5137.2691870627041,2398.4992869668349,1146.4826591701471,6942.6802217731911,null,"Slovakia","Peppers",5707.0502202930702,4514.4689319701201,6942.6802217731911,5728.5745768716552,1192.5812883229501,1235.6300014801209]
["Slovenia","Peppers",{"$f":"_xlfn.XLOOKUP(A154&B154,'FFV Data'!$A:$A&'FFV Data'!$B:$B,'FFV Data'!$P:$P,\"N/A\",0)","v":1652.41},{"$f":"_xlfn.XLOOKUP(A154&B154,'FFV Data'!A:A&'FFV Data'!B:B,'FFV Data'!X:X,\"N/A\",0)","v":6982.868422086729},{"$f":"D154*'FFV Coeffs for Calcs'!E167","v":279.31473688346915},{"$f":"(D154-E154)*'FFV Coeffs for Calcs'!F167","v":5966.1627798309019},{"$f":"F154*'FFV Coeffs for Calcs'!H167","v":1701.3507527151123},737.39090537235825,{"$f":"H154*'FFV Coeffs for Calcs'!I167","v":251.45029873197419},3884.5257883305558,null,"Slovenia","Peppers",1652.41,6982.868422086729,279.31473688346915,5966.1627798309019,1199.1987187460113,1016.7056422558271,248.07617671042181,3378.9996323399023,null,"Slovenia","Peppers",1652.41,6982.868422086729,279.31473688346915,5966.1627798309019,2177.6494146382793,1016.7056422558271,485.98529699828532,4595.3594485200338,null,"Slovenia","Peppers",3884.5257883305558,3378.9996323399023,4595.3594485200338,3987.1795404299683,505.52615599065348,710.833660189478]
["Spain","Peppers",{"$f":"_xlfn.XLOOKUP(A155&B155,'FFV Data'!$A:$A&'FFV Data'!$B:$B,'FFV Data'!$P:$P,\"N/A\",0)","v":162285.1},{"$f":"_xlfn.XLOOKUP(A155&B155,'FFV Data'!A:A&'FFV Data'!B:B,'FFV Data'!X:X,\"N/A\",0)","v":454300.02469763602},{"$f":"D155*'FFV Coeffs for Calcs'!E168","v":18172.000987905441},{"$f":"(D155-E155)*'FFV Coeffs for Calcs'!F168","v":388153.94110166025},{"$f":"F155*'FFV Coeffs for Calcs'!H168","v":78018.942161433719},47974.082608070341,{"$f":"H155*'FFV Coeffs for Calcs'!I168","v":16359.162169351988},274835.20531869115,null,"Spain","Peppers",162285.1,454300.02469763602,18172.000987905441,388153.94110166025,78018.942161433719,66146.083595975768,16139.644397418087,274615.68754675728,null,"Spain","Peppers",162285.1,454300.02469763602,18172.000987905441,388153.94110166025,141676.188502106,66146.083595975768,31617.827958876416,353751.1174488879,null,"Spain","Peppers",274835.20531869115,274615.68754675728,353751.1174488879,314183.40249782259,219.51777193386806,78915.912130196753]
["Sweden","Peppers",{"$f":"_xlfn.XLOOKUP(A156&B156,'FFV Data'!$A:$A&'FFV Data'!$B:$B,'FFV Data'!$P:$P,\"N/A\",0)","v":3515.66},{"$f":"_xlfn.XLOOKUP(A156&B156,'FFV Data'!A:A&'FFV Data'!B:B,'FFV Data'!X:X,\"N/A\",0)","v":22653.584232935926},{"$f":"D156*'FFV Coeffs for Calcs'!E169","v":906.14336931743708},{"$f":"(D156-E156)*'FFV Coeffs for Calcs'!F169","v":19355.222368620456},{"$f":"F156*'FFV Coeffs for Calcs'!H169","v":5519.4642454516006},2392.2184949980328,{"$f":"H156*'FFV Coeffs for Calcs'!I169","v":815.74650679432921},10757.014121563365,null,"Sweden","Peppers",3515.66,22653.584232935926,906.14336931743708,19355.222368620456,3890.399696092712,3298.3618643154696,804.80029489297453,9117.0033603031243,null,"Sweden","Peppers",3515.66,22653.584232935926,906.14336931743708,19355.222368620456,7064.6561645464662,3298.3618643154696,1576.6169711427945,13063.076505006697,null,"Sweden","Peppers",10757.014121563365,9117.0033603031243,13063.076505006697,11090.03993265491,1640.0107612602405,2306.0623834433318]
["Switzerland","Peppers",{"$f":"_xlfn.XLOOKUP(A157&B157,'FFV Data'!$A:$A&'FFV Data'!$B:$B,'FFV Data'!$P:$P,\"N/A\",0)","v":2130.65},{"$f":"_xlfn.XLOOKUP(A157&B157,'FFV Data'!A:A&'FFV Data'!B:B,'FFV Data'!X:X,\"N/A\",0)","v":26107.962146215508},{"$f":"D157*'FFV Coeffs for Calcs'!E170","v":1044.3184858486204},{"$f":"(D157-E157)*'FFV Coeffs for Calcs'!F170","v":22306.642857726532},{"$f":"F157*'FFV Coeffs for Calcs'!H170","v":6361.1109882616829},2757.0008026403557,{"$f":"H157*'FFV Coeffs for Calcs'!I170","v":940.13727370036133},10476.216747810666,null,"Switzerland","Peppers",2130.65,26107.962146215508,1044.3184858486204,22306.642857726532,4483.6352144030334,3801.3192884889759,927.52190639131004,8586.1256066429632,null,"Switzerland","Peppers",2130.65,26107.962146215508,1044.3184858486204,22306.642857726532,8141.9246430701842,3801.3192884889759,1817.0306198977305,13133.923748816534,null,"Switzerland","Peppers",10476.216747810666,8586.1256066429632,13133.923748816534,10860.024677729749,1890.0911411677025,2657.7070010058687]
["United Kingdom","Peppers",{"$f":"_xlfn.XLOOKUP(A158&B158,'FFV Data'!$A:$A&'FFV Data'!$B:$B,'FFV Data'!$P:$P,\"N/A\",0)","v":1526.29},{"$f":"_xlfn.XLOOKUP(A158&B158,'FFV Data'!A:A&'FFV Data'!B:B,'FFV Data'!X:X,\"N/A\",0)","v":185489.93544981352},{"$f":"D158*'FFV Coeffs for Calcs'!E171","v":7419.5974179925406},{"$f":"(D158-E158)*'FFV Coeffs for Calcs'!F171","v":158482.60084832067},{"$f":"F158*'FFV Coeffs for Calcs'!H171","v":42473.337027349939},19587.737183500314,{"$f":"H158*'FFV Coeffs for Calcs'!I171","v":6679.418379573608},58098.642824916089,null,"United Kingdom","Peppers",1526.29,185489.93544981352,7419.5974179925406,158482.60084832067,31855.002770512456,27007.334601492854,6589.7896427642563,47390.679831269255,null,"United Kingdom","Peppers",1526.29,185489.93544981352,7419.5974179925406,158482.60084832067,57846.14930963704,27007.334601492854,12909.505939513583,79701.542667143163,null,"United Kingdom","Peppers",58098.642824916089,47390.679831269255,79701.542667143163,63546.111249206209,10707.962993646834,21602.899842227074]

{"sheet":"Coefficient - Sources","index":10,"n_rows":94,"n_cols":42,"rows_kept":94,"cut":false,"hidden":false,"merged":[[82,3,87,33],[88,3,88,33],[89,3,89,33],[5,9,9,39],[56,7,60,39],[61,7,65,39],[66,7,70,39],[71,7,75,39],[46,9,50,38],[26,15,30,15],[26,17,30,17],[26,19,30,19],[26,29,30,29],[26,36,30,36],[26,39,30,39],[90,1,91,1],[92,1,93,1],[90,0,91,0],[92,0,93,0],[90,3,93,33]]}
["Homepage"]
[]
[]
[]
["Coeff ID unique","Coeff ID in schemes","Food category","Product","FSC stage","Coeff type","Average","Min ","Max","Austria","Belgium","Bulgaria","Croatia","Cyprus","Czechia","Denmark","Estonia","Finland","France","Germany","Greece","Hungary","Iceland","Ireland","Italy","Latvia","Lithuania","Luxembourg","Malta","Netherlands","Norway","Poland","Portugal","Romania","Slovakia","Slovenia","Spain","Sweden","Switzerland","United Kingdom","EU+ - Proxy","Extra EU+ proxy"]
["LPP01.A","FFP","Fruits","Avocados","LPP","Fresh for Processing",{"$f":"IFERROR(AVERAGE(J6:AN6),\"\")","v":""},null,null,"Estimated using available processing data from SUA's and dividing those with the Food Supply",{"$nulls":31},"Assumed"]
["LPP02.B","FFP","Fruits","Bananas","LPP","Fresh for Processing",{"$f":"IFERROR(AVERAGE(J7:AN7),\"\")","v":""}]
["LPP03.C","FFP","Vegetables","Cucumbers","LPP","Fresh for Processing",""]
["LPP04.E","FFP","Vegetables","Eggplants","LPP","Fresh for Processing",""]
["LPP05.P","FFP","Vegetables","Peppers","LPP","Fresh for Processing",""]
["LPP06.C","%C&G","Vegetables","Cucumbers","LPP","Share of cucumbers","",{"$nulls":33},"Estimated"]
["RDC01.A","FW.R&D","Fruits","Avocados","RDC","Food waste at R&D",null,null,"WRAP, 2011","WRAP, 2011",{"$nulls":27},"Mattson et al. 2018",null,"WRAP, 2011"]
["RDC02.B","FW.R&D","Fruits","Bananas","RDC","Food waste at R&D","",{"$nulls":30},"WRAP, 2011",null,"WRAP, 2011"]
["RDC03.C","FW.R&D","Vegetables","Cucumbers","RDC","Food waste at R&D","",null,null,"Denkstatt, 2017",{"$nulls":27},"Gustavsson et al. 2011",null,"WRAP, 2011"]
["RDC04.E","FW.R&D","Vegetables","Eggplants","RDC","Food waste at R&D",""]
["RDC05.P","FW.R&D","Vegetables","Peppers","RDC","Food waste at R&D","",{"$nulls":30},"Mattson et al. 2018"]
["RDC06.A","Share.HH","Fruits","Avocados","RDC","Share Households","",{"$nulls":31},"Beretta et al., (2013)"]
["RDC07.B","Share.HH","Fruits","Bananas","RDC","Share Households","",{"$nulls":31},"Beretta et al., (2013)"]
["RDC08.C","Share.HH","Vegetables","Cucumbers","RDC","Share Households","",{"$nulls":31},"Beretta et al., (2013)"]
["RDC09.E","Share.HH","Vegetables","Eggplants","RDC","Share Households","",{"$nulls":31},"Beretta et al., (2013)"]
["RDC10.P","Share.HH","Vegetables","Peppers","RDC","Share Households","",{"$nulls":31},"Beretta et al., (2013)"]
["RDC11.A","Share.FS","Fruits","Avocados","RDC","Share Food Service","",{"$nulls":31},"Beretta et al., (2013)"]
["RDC12.B","Share.FS","Fruits","Bananas","RDC","Share Food Service","",{"$nulls":31},"Beretta et al., (2013)"]
["RDC13.C","Share.FS","Vegetables","Cucumbers","RDC","Share Food Service","",{"$nulls":31},"Beretta et al., (2013)"]
["RDC14.E","Share.FS","Vegetables","Eggplants","RDC","Share Food Service","",{"$nulls":31},"Beretta et al., (2013)"]
["RDC15.P","Share.FS","Vegetables","Peppers","RDC","Share Food Service","",{"$nulls":31},"Beretta et al., (2013)"]
["CON01.A","FW.HH","Fruits","Avocados","CON","Food Waste Households","",{"$nulls":8},"De Laurentiis et al. (2018)",null,"De Laurentiis et al. (2018)",null,"De Laurentiis et al. (2018)",{"$nulls":9},"De Laurentiis et al. 2018",{"$nulls":6},"De Laurentiis et al. 2018",null,null,"De Laurentiis et al. 2018"]
["CON02.B","FW.HH","Fruits","Bananas","CON","Food Waste Households",{"$f":"IFERROR(AVERAGE(J28:AN28),\"\")","v":""}]
["CON03.C","FW.HH","Vegetables","Cucumbers","CON","Food Waste Households",""]
["CON04.E","FW.HH","Vegetables","Eggplants","CON","Food Waste Households",""]
["CON05.P","FW.HH","Vegetables","Peppers","CON","Food Waste Households",""]
["CON06.A","FW.FS","Fruits","Avocados","CON","Food Waste Food Service",null,"Beretta et al., (2013)","Beretta et al., (2013)",{"$nulls":29},"Beretta et al., (2013)"]
["CON07.B","FW.FS","Fruits","Bananas","CON","Food Waste Food Service",null,"Beretta et al., (2013)","Beretta et al., (2013)",{"$nulls":29},"Beretta et al., (2013)"]
["CON08.C","FW.FS","Vegetables","Cucumbers","CON","Food Waste Food Service",null,"Beretta et al., (2013)","Beretta et al., (2013)",{"$nulls":29},"Beretta et al., (2013)"]
["CON09.E","FW.FS","Vegetables","Eggplants","CON","Food Waste Food Service",null,"Beretta et al., (2013)","Beretta et al., (2013)",{"$nulls":29},"Beretta et al., (2013)"]
["CON10.P","FW.FS","Vegetables","Peppers","CON","Food Waste Food Service",null,"Beretta et al., (2013)","Beretta et al., (2013)",{"$nulls":29},"Beretta et al., (2013)"]
["LPP06.CO2A","CO2.LPP","Fruits","Avocados","LPP","kg CO2-eq/kg from LPP to R&D",{"$f":"IFERROR(AVERAGE(J37:AN37),\"\")","v":""},null,null,{"$f":"IF(ISNUMBER(J42),J42-0.1,\"\")","v":""},{"$f":"IF(ISNUMBER(K42),K42-0.1,\"\")","v":""},"","","","","","","","","","","","","","","","","","","","","","","","","","","",null,"Estimated","",""]
["LPP07.CO2B","CO2.LPP","Fruits","Bananas","LPP","kg CO2-eq/kg from LPP to R&D","",null,null,{"$f":"IF(ISNUMBER(J43),J43-0.1,\"\")","v":""},"","","","","","","","","","","","","","","","","","","","Estimated","","","","","","","","","Estimated","Estimated","Estimated",""]
["LPP08.CO2C","CO2.LPP","Vegetables","Cucumbers","LPP","kg CO2-eq/kg from LPP to R&D","",null,null,{"$f":"IF(ISNUMBER(J44),J44-0.1,\"\")","v":""},"","","","","","","","","","","","","","","","","","","","","","","","","","","","","","Estimated","",""]
["LPP09.CO2E","CO2.LPP","Vegetables","Eggplants","LPP","kg CO2-eq/kg from LPP to R&D","",null,null,{"$f":"IF(ISNUMBER(J45),J45-0.1,\"\")","v":""},"","","","","","","","","","","","","","","","","","","","","","","","","","","","","","","",""]
["LPP10.CO2P","CO2.LPP","Vegetables","Peppers","LPP","kg CO2-eq/kg from LPP to R&D","",null,null,{"$f":"IF(ISNUMBER(J46),J46-0.1,\"\")","v":""},"","","","","","","","","","","","","","","","","","","","","","","","","","","","","","","",""]
["RDC16.CO2A","CO2.RDC","Fruits","Avocados","RDC","kg CO2-eq/kg at R&D","",{"$nulls":32},"Foodsteps (2023)","Clune et al., (2017)"]
["RDC17.CO2B","CO2.RDC","Fruits","Bananas","RDC","kg CO2-eq/kg at R&D","",{"$nulls":22},"Clune et al., (2017)","Svanes et al., (2012)",{"$nulls":5},"Roibás et al. (2016)",null,"Clune et al., (2017)","Foodsteps (2023)"]
["RDC18.CO2C","CO2.RDC","Vegetables","Cucumbers","RDC","kg CO2-eq/kg at R&D","",{"$nulls":32},"Foodsteps (2023)"]
["RDC19.CO2E","CO2.RDC","Vegetables","Eggplants","RDC","kg CO2-eq/kg at R&D","",{"$nulls":34},"Estimated from Foodsteps (2023)"]
["RDC20.CO2P","CO2.RDC","Vegetables","Peppers","RDC","kg CO2-eq/kg at R&D","",{"$nulls":32},"Foodsteps (2023)"]
["CON11.CO2A","CO2.CON","Fruits","Avocados","CON","kg CO2-eq/kg at HH&FS","",null,null,"Estimated"]
["CON12.CO2B","CO2.CON","Fruits","Bananas","CON","kg CO2-eq/kg at HH&FS",""]
["CON13.CO2C","CO2.CON","Vegetables","Cucumbers","CON","kg CO2-eq/kg at HH&FS",""]
["CON14.CO2E","CO2.CON","Vegetables","Eggplants","CON","kg CO2-eq/kg at HH&FS",""]
["CON15.CO2P","CO2.CON","Vegetables","Peppers","CON","kg CO2-eq/kg at HH&FS",""]
["CON16.CO2INC","CO2.INC","Fruits","Avocados","CON","Increase of kg CO2-eq/kg from R&D to CON","",{"$nulls":32},"Estimated"]
["CON17.CO2INC","CO2.INC","Fruits","Bananas","CON","Increase of kg CO2-eq/kg from R&D to CON","",{"$nulls":23},"Svanes et al. (2012)",{"$nulls":5},"Estimated",null,null,"Estimated"]
["CON18.CO2INC","CO2.INC","Vegetables","Cucumbers","CON","Increase of kg CO2-eq/kg from R&D to CON",{"$f":"IFERROR(AVERAGE(J54:AN54),\"\")","v":""},{"$nulls":32},"Estimated"]
["CON19.CO2INC","CO2.INC","Vegetables","Eggplants","CON","Increase of kg CO2-eq/kg from R&D to CON","",{"$nulls":33},"Estimated from Foodsteps (2023)"]
["CON20.CO2INC","CO2.INC","Vegetables","Peppers","CON","Increase of kg CO2-eq/kg from R&D to CON","",{"$nulls":32},"Estimated"]
["LPP11.VA","Value.FG","Fruits","Avocados","LPP","price/kg at farm-gate (USD)",{"$f":"IFERROR(AVERAGE(H57:AN57),\"\")","v":""},"Estimated with Weighted Production and Import Quantities and their corresponding Values in 2022's monetary value"]
["LPP12.VB","Value.FG","Fruits","Bananas","LPP","price/kg at farm-gate (USD)",{"$f":"IFERROR(AVERAGE(J58:AN58),\"\")","v":""}]
["LPP13.VC","Value.FG","Vegetables","Cucumbers","LPP","price/kg at farm-gate (USD)",""]
["LPP14.VE","Value.FG","Vegetables","Eggplants","LPP","price/kg at farm-gate (USD)",""]
["LPP15.VP","Value.FG","Vegetables","Peppers","LPP","price/kg at farm-gate (USD)",""]
["RDC21.VA","Value.WG","Fruits","Avocados","RDC","price/kg at wholesale-gate (USD)",{"$f":"IFERROR(AVERAGE(H62:AN62),\"\")","v":""},"Estimated by taking farm-gate price and multiplying with an assumed Gross Margin from of 30,8 % for FFVs, resulting in an increase of 44,5%"]
["RDC22.VB","Value.WG","Fruits","Bananas","RDC","price/kg at wholesale-gate (USD)",""]
["RDC23.VC","Value.WG","Vegetables","Cucumbers","RDC","price/kg at wholesale-gate (USD)",""]
["RDC24.VE","Value.WG","Vegetables","Eggplants","RDC","price/kg at wholesale-gate (USD)",""]
["RDC25.VP","Value.WG","Vegetables","Peppers","RDC","price/kg at wholesale-gate (USD)",""]
["RDC26.VA","Value.RG","Fruits","Avocados","RDC","price/kg at retail-gate (USD)",{"$f":"IFERROR(AVERAGE(H67:AN67),\"\")","v":""},"Estimated by taking wholesale-gate price and multiplying with the same assumed Gross Margin from: XXXX"]
["RDC27.VB","Value.RG","Fruits","Bananas","RDC","price/kg at retail-gate (USD)",""]
["RDC28.VC","Value.RG","Vegetables","Cucumbers","RDC","price/kg at retail-gate (USD)",""]
["RDC29.VE","Value.RG","Vegetables","Eggplants","RDC","price/kg at retail-gate (USD)",""]
["RDC30.VP","Value.RG","Vegetables","Peppers","RDC","price/kg at retail-gate (USD)",""]
["LPP16.W","%P&I","Vegetables","Avocados","LPP","Weight of Production compared with Imports",{"$f":"IFERROR(AVERAGE(H72:AN72),\"\")","v":""},"Calculated from SUAs: Production / (Production + Imports)"]
["LPP17.W","%P&I","Vegetables","Bananas","LPP","Weight of Production compared with Imports",{"$f":"IFERROR(AVERAGE(J73:AN73),\"\")","v":""}]
["LPP18.W","%P&I","Vegetables","Cucumbers","LPP","Weight of Production compared with Imports",""]
["LPP19.W","%P&I","Vegetables","Eggplants","LPP","Weight of Production compared with Imports",""]
["LPP20.W","%P&I","Vegetables","Peppers","LPP","Weight of Production compared with Imports",""]
[]
[]
[]
[]
[]
["Data","Explanation","Product","Austria","Belgium","Bulgaria","Croatia","Cyprus","Czechia","Denmark","Estonia","Finland","France","Germany","Greece","Hungary","Iceland","Ireland","Italy","Latvia","Lithuania","Luxembourg","Malta","Netherlands","Norway","Poland","Portugal","Romania","Slovakia","Slovenia","Spain","Sweden","Switzerland","United Kingdom","Average"]
["Production","Amount produced","All products","FAOSTAT; SUA"]
["Loss","Food waste from Post harvest up to (exluding) Retailers","All products"]
["Import","Amount imported","All products"]
["Export","Amount exported","All products"]
["Residuals, and other side flows","Amount used for non-food categories","All products"]
["Food Supply Quantity","Amount of food meant for human consumption entering Retail stage","All products"]
["Production Value","USD value of agricultural production","All products","FAOSTAT"]
["Import Value","USD value of imported goods","All products","UNCOMTRADE"]
["Field Grown","Amount grown in open fields","Cucumber","EUROSTAT"]
[null,null,"Pepper"]
["Under Roof Grown","Amount grown under roofs, both heated and passive","Cucumber"]
[null,null,"Pepper"]

{"sheet":"Coefficient Calculations","index":11,"n_rows":49,"n_cols":11,"rows_kept":49,"cut":false,"hidden":false,"merged":[[1,2,1,6],[1,7,1,13],[15,1,16,5],[15,6,16,10]]}
["Homepage"]
[null,null,"Data collected from Clune et al. 2017, mean value used unless a more country specific value was presented within their literature review",{"$nulls":4},"For both Cucumber and Pepper, data was collected on the % grown under roofs/greenhouse, this was used to create a new \"weighted\" coefficient that was then applied to the Production amount for each country, while all imported was assumed to be field grown"]
[null,"CO2 EQ"]
[null,null,"Median","Mean","Stdev","Deviation from mean","min ","max","LCA studies","GWP values","Percent from Greenhouse"]
[null,"Avocado",1.3,{"$nulls":5},2,1]
[null,"Banan",0.72,0.79,0.3,0.38,0.42,1.37,10,17]
[null,"Cucumber",0.23,0.33,0.32,0.96,0.13,1.3,7,15]
[null,"Cucumber Greenhouse",2.1,2.23,0.71,0.17,1.68,3.79,5,7]
[null,"Cucumber Weighted",{"$f":"(C8*$K$9)+(C7*(1-$K$9))","v":1.8569},{"$f":"(D8*$K$9)+(D7*(1-$K$9))","v":1.9829999999999999},{"$f":"(E8*$K$9)+(E7*(1-$K$9))","v":0.65929999999999989},null,{"$f":"(G8*$K$9)+(G7*(1-$K$9))","v":1.4784999999999999},{"$f":"(H8*$K$9)+(H7*(1-$K$9))","v":3.4662999999999999},null,null,0.87]
[null,"Eggplant",1.35,1.35,7.0000000000000007E-2,0.05,1.3,1.4,1,2]
[null,"Pepper",0.66,0.6,0.27,0.44,0.23,0.87,3,4]
[null,"Pepper Greenhouse",1.1000000000000001,1.08,0.17,0.16,0.9,1.25,2,3]
[null,"Pepper Weighted",{"$f":"(C12*$K$13)+(C11*(1-$K$13))","v":0.96800000000000008},{"$f":"(D12*$K$13)+(D11*(1-$K$13))","v":0.93600000000000005},{"$f":"(E12*$K$13)+(E11*(1-$K$13))","v":0.2},null,{"$f":"(G12*$K$13)+(G11*(1-$K$13))","v":0.69900000000000007},{"$f":"(H12*$K$13)+(H11*(1-$K$13))","v":1.1360000000000001},null,null,0.7]
[]
[]
[null,"For Household food waste data was collected from De Laurentis et al. 2018, they reported it in Unavoidable and Avoidable waste which here has been added together.",{"$nulls":4},"Furthermore, they presented country specific values for some select countries, the lowest and highest of these values are the ones applied in the analysis."]
[]
[]
[null,"Country","Product","AWI","UWI","Total WI",null,"AWI = Avoidable Waste Index (country specific average)"]
[null,"Germany","Avocados",0.12,0.26,{"$f":"SUM(D20:E20)","v":0.38},null,"UWI = Unavoidable Waste Index (product specific average)"]
[null,"Spain","Avocados",7.6999999999999999E-2,0.26,{"$f":"SUM(D21:E21)","v":0.33700000000000002},null,"WI = Waste Index (AWI + UWI)"]
[null,"Denmark","Avocados",0.104,0.26,0.36399999999999999]
[null,"Netherlands","Avocados",0.14599999999999999,0.26,0.40600000000000003]
[null,"Finland","Avocados",6.7000000000000004E-2,0.26,0.32700000000000001]
[null,"UK","Avocados",0.14099999999999999,0.26,0.40100000000000002]
[null,"Germany","Bananas",0.12,0.35,0.47]
[null,"Spain","Bananas",7.6999999999999999E-2,0.35,0.42699999999999999]
[null,"Denmark","Bananas",0.104,0.35,0.45399999999999996]
[null,"Netherlands","Bananas",0.14599999999999999,0.35,0.496]
[null,"Finland","Bananas",6.7000000000000004E-2,0.35,0.41699999999999998]
[null,"UK","Bananas",0.14099999999999999,0.35,0.49099999999999999]
[null,"Germany","Cucumbers",0.128,0.11,0.23799999999999999]
[null,"Spain","Cucumbers",4.1000000000000002E-2,0.11,0.151]
[null,"Denmark","Cucumbers",0.20499999999999999,0.11,0.315]
[null,"Netherlands","Cucumbers",0.187,0.11,0.29699999999999999]
[null,"Finland","Cucumbers",8.2000000000000003E-2,0.11,0.192]
[null,"UK","Cucumbers",0.108,0.11,0.218]
[null,"Germany","Eggplants",0.128,0.1,0.22800000000000001]
[null,"Spain","Eggplants",4.1000000000000002E-2,0.1,0.14100000000000001]
[null,"Denmark","Eggplants",0.20499999999999999,0.1,0.30499999999999999]
[null,"Netherlands","Eggplants",0.187,0.1,0.28700000000000003]
[null,"Finland","Eggplants",8.2000000000000003E-2,0.1,0.182]
[null,"UK","Eggplants",0.108,0.1,0.20800000000000002]
[null,"Germany","Peppers",0.128,0.16,0.28800000000000003]
[null,"Spain","Peppers",4.1000000000000002E-2,0.16,0.20100000000000001]
[null,"Denmark","Peppers",0.20499999999999999,0.16,0.36499999999999999]
[null,"Netherlands","Peppers",0.187,0.16,0.34699999999999998]
[null,"Finland","Peppers",8.2000000000000003E-2,0.16,0.24199999999999999]
[null,"UK","Peppers",0.108,0.16,0.26800000000000002]

{"sheet":"FFV Data","index":12,"n_rows":162,"n_cols":29,"rows_kept":162,"cut":false,"hidden":false,"merged":[]}
["Homepage"]
[]
["Country","Product","SUA Product ID","Year","Production","Flag","Import quantity","Flag2","Export quantity","Flag3","Weight of Production compared w. Imports","Food Waste - Pre R&D","Flag4","Processing Share","Adjusted Processing Share","Adjusted Food Waste - Pre R&D","Flag5","Residuals","Flag6","Processed","Flag7","Food supply quantity","Flag8","Adjusted Food Supply","Flag9",null,"FLAG","Description","Source"]
["Austria","Avocados","Avocados",2022,{"$f":"_xlfn.XLOOKUP($A4&$C4&$D4&$E$3,'SUA Data'!$D:$D&'SUA Data'!$H:$H&'SUA Data'!$J:$J&'SUA Data'!$F:$F,'SUA Data'!$L:$L)","v":0},{"$f":"_xlfn.XLOOKUP($A4&$C4&$D4&$E$3,'SUA Data'!$D:$D&'SUA Data'!$H:$H&'SUA Data'!$J:$J&'SUA Data'!$F:$F,'SUA Data'!$M:$M)","v":"A"},{"$f":"_xlfn.XLOOKUP($A4&$C4&$D4&G$3,'SUA Data'!$D:$D&'SUA Data'!$H:$H&'SUA Data'!$J:$J&'SUA Data'!$F:$F,'SUA Data'!$L:$L)","v":14818.74},{"$f":"_xlfn.XLOOKUP($A4&$C4&$D4&G$3,'SUA Data'!$D:$D&'SUA Data'!$H:$H&'SUA Data'!$J:$J&'SUA Data'!$F:$F,'SUA Data'!$M:$M)","v":"A"},{"$f":"_xlfn.XLOOKUP($A4&$C4&$D4&I$3,'SUA Data'!$D:$D&'SUA Data'!$H:$H&'SUA Data'!$J:$J&'SUA Data'!$F:$F,'SUA Data'!$L:$L)","v":1249.57},{"$f":"_xlfn.XLOOKUP($A4&$C4&$D4&I$3,'SUA Data'!$D:$D&'SUA Data'!$H:$H&'SUA Data'!$J:$J&'SUA Data'!$F:$F,'SUA Data'!$M:$M)","v":"A"},{"$f":"IFERROR(E4/(E4+G4),0)","v":0},{"$f":"_xlfn.XLOOKUP($A4&$C4&$D4&\"Loss\",'SUA Data'!$D:$D&'SUA Data'!$H:$H&'SUA Data'!$J:$J&'SUA Data'!$F:$F,'SUA Data'!$L:$L)","v":740.94},{"$f":"_xlfn.XLOOKUP($A4&$C4&$D4&\"Loss\",'SUA Data'!$D:$D&'SUA Data'!$H:$H&'SUA Data'!$J:$J&'SUA Data'!$F:$F,'SUA Data'!$M:$M)","v":"I"},{"$f":"'FFV Coefficients'!$AQ$6","v":0.25},{"$f":"IF(ISNUMBER(N4),N4,'FFV Coefficients'!$H$7)","v":0.25},{"$f":"IF(ISNUMBER(T4),L4*(1-N4),L4)","v":740.94},{"$f":"IF(ISNUMBER(N4),\"AE\",M4)","v":"AE"},{"$f":"_xlfn.XLOOKUP($A4&$C4&$D4&R$3,'SUA Data'!$D:$D&'SUA Data'!$H:$H&'SUA Data'!$J:$J&'SUA Data'!$F:$F,'SUA Data'!$L:$L)","v":0},{"$f":"_xlfn.XLOOKUP($A4&$C4&$D4&R$3,'SUA Data'!$D:$D&'SUA Data'!$H:$H&'SUA Data'!$J:$J&'SUA Data'!$F:$F,'SUA Data'!$M:$M)","v":"I"},{"$f":"_xlfn.XLOOKUP($A4&$C4&$D4&T$3,'SUA Data'!$D:$D&'SUA Data'!$H:$H&'SUA Data'!$J:$J&'SUA Data'!$F:$F,'SUA Data'!$L:$L)","v":{"$error":"#N/A"}},{"$f":"_xlfn.XLOOKUP($A4&$C4&$D4&T$3,'SUA Data'!$D:$D&'SUA Data'!$H:$H&'SUA Data'!$J:$J&'SUA Data'!$F:$F,'SUA Data'!$M:$M)","v":{"$error":"#N/A"}},{"$f":"_xlfn.XLOOKUP($A4&$C4&$D4&V$3,'SUA Data'!$D:$D&'SUA Data'!$H:$H&'SUA Data'!$J:$J&'SUA Data'!$F:$F,'SUA Data'!$L:$L)","v":12828.24},{"$f":"_xlfn.XLOOKUP($A4&$C4&$D4&V$3,'SUA Data'!$D:$D&'SUA Data'!$H:$H&'SUA Data'!$J:$J&'SUA Data'!$F:$F,'SUA Data'!$M:$M)","v":"E"},{"$f":"IF(ISNUMBER(T4),V4,V4*(1-O4))","v":9621.18},{"$f":"IF(ISNUMBER(T4),W4,\"AE\")","v":"AE"},null,"A","Offical Figure","FAO"]
["Belgium","Avocados","Avocados",2022,{"$f":"_xlfn.XLOOKUP($A5&$C5&$D5&$E$3,'SUA Data'!$D:$D&'SUA Data'!$H:$H&'SUA Data'!$J:$J&'SUA Data'!$F:$F,'SUA Data'!$L:$L)","v":0},{"$f":"_xlfn.XLOOKUP($A5&$C5&$D5&$E$3,'SUA Data'!$D:$D&'SUA Data'!$H:$H&'SUA Data'!$J:$J&'SUA Data'!$F:$F,'SUA Data'!$M:$M)","v":"A"},{"$f":"_xlfn.XLOOKUP($A5&$C5&$D5&G$3,'SUA Data'!$D:$D&'SUA Data'!$H:$H&'SUA Data'!$J:$J&'SUA Data'!$F:$F,'SUA Data'!$L:$L)","v":28690.94},{"$f":"_xlfn.XLOOKUP($A5&$C5&$D5&G$3,'SUA Data'!$D:$D&'SUA Data'!$H:$H&'SUA Data'!$J:$J&'SUA Data'!$F:$F,'SUA Data'!$M:$M)","v":"A"},{"$f":"_xlfn.XLOOKUP($A5&$C5&$D5&I$3,'SUA Data'!$D:$D&'SUA Data'!$H:$H&'SUA Data'!$J:$J&'SUA Data'!$F:$F,'SUA Data'!$L:$L)","v":15913.28},{"$f":"_xlfn.XLOOKUP($A5&$C5&$D5&I$3,'SUA Data'!$D:$D&'SUA Data'!$H:$H&'SUA Data'!$J:$J&'SUA Data'!$F:$F,'SUA Data'!$M:$M)","v":"A"},{"$f":"IFERROR(E5/(E5+G5),0)","v":0},{"$f":"_xlfn.XLOOKUP($A5&$C5&$D5&\"Loss\",'SUA Data'!$D:$D&'SUA Data'!$H:$H&'SUA Data'!$J:$J&'SUA Data'!$F:$F,'SUA Data'!$L:$L)","v":1434.55},{"$f":"_xlfn.XLOOKUP($A5&$C5&$D5&\"Loss\",'SUA Data'!$D:$D&'SUA Data'!$H:$H&'SUA Data'!$J:$J&'SUA Data'!$F:$F,'SUA Data'!$M:$M)","v":"I"},{"$f":"'FFV Coefficients'!$AQ$6","v":0.25},{"$f":"IF(ISNUMBER(N5),N5,'FFV Coefficients'!$H$7)","v":0.25},{"$f":"IF(ISNUMBER(T5),L5*(1-N5),L5)","v":1434.55},{"$f":"IF(ISNUMBER(N5),\"AE\",M5)","v":"AE"},{"$f":"_xlfn.XLOOKUP($A5&$C5&$D5&R$3,'SUA Data'!$D:$D&'SUA Data'!$H:$H&'SUA Data'!$J:$J&'SUA Data'!$F:$F,'SUA Data'!$L:$L)","v":0},{"$f":"_xlfn.XLOOKUP($A5&$C5&$D5&R$3,'SUA Data'!$D:$D&'SUA Data'!$H:$H&'SUA Data'!$J:$J&'SUA Data'!$F:$F,'SUA Data'!$M:$M)","v":"I"},{"$f":"_xlfn.XLOOKUP($A5&$C5&$D5&T$3,'SUA Data'!$D:$D&'SUA Data'!$H:$H&'SUA Data'!$J:$J&'SUA Data'!$F:$F,'SUA Data'!$L:$L)","v":{"$error":"#N/A"}},{"$f":"_xlfn.XLOOKUP($A5&$C5&$D5&T$3,'SUA Data'!$D:$D&'SUA Data'!$H:$H&'SUA Data'!$J:$J&'SUA Data'!$F:$F,'SUA Data'!$M:$M)","v":{"$error":"#N/A"}},{"$f":"_xlfn.XLOOKUP($A5&$C5&$D5&V$3,'SUA Data'!$D:$D&'SUA Data'!$H:$H&'SUA Data'!$J:$J&'SUA Data'!$F:$F,'SUA Data'!$L:$L)","v":11343.11},{"$f":"_xlfn.XLOOKUP($A5&$C5&$D5&V$3,'SUA Data'!$D:$D&'SUA Data'!$H:$H&'SUA Data'!$J:$J&'SUA Data'!$F:$F,'SUA Data'!$M:$M)","v":"E"},{"$f":"IF(ISNUMBER(T5),V5,V5*(1-O5))","v":8507.3325000000004},{"$f":"IF(ISNUMBER(T5),W5,\"AE\")","v":"AE"},null,"I","Imputed Value","FAO"]
["Bulgaria","Avocados","Avocados",2022,{"$f":"_xlfn.XLOOKUP($A6&$C6&$D6&$E$3,'SUA Data'!$D:$D&'SUA Data'!$H:$H&'SUA Data'!$J:$J&'SUA Data'!$F:$F,'SUA Data'!$L:$L)","v":0},{"$f":"_xlfn.XLOOKUP($A6&$C6&$D6&$E$3,'SUA Data'!$D:$D&'SUA Data'!$H:$H&'SUA Data'!$J:$J&'SUA Data'!$F:$F,'SUA Data'!$M:$M)","v":"A"},{"$f":"_xlfn.XLOOKUP($A6&$C6&$D6&G$3,'SUA Data'!$D:$D&'SUA Data'!$H:$H&'SUA Data'!$J:$J&'SUA Data'!$F:$F,'SUA Data'!$L:$L)","v":3576.01},{"$f":"_xlfn.XLOOKUP($A6&$C6&$D6&G$3,'SUA Data'!$D:$D&'SUA Data'!$H:$H&'SUA Data'!$J:$J&'SUA Data'!$F:$F,'SUA Data'!$M:$M)","v":"A"},{"$f":"_xlfn.XLOOKUP($A6&$C6&$D6&I$3,'SUA Data'!$D:$D&'SUA Data'!$H:$H&'SUA Data'!$J:$J&'SUA Data'!$F:$F,'SUA Data'!$L:$L)","v":50.92},{"$f":"_xlfn.XLOOKUP($A6&$C6&$D6&I$3,'SUA Data'!$D:$D&'SUA Data'!$H:$H&'SUA Data'!$J:$J&'SUA Data'!$F:$F,'SUA Data'!$M:$M)","v":"A"},0,{"$f":"_xlfn.XLOOKUP($A6&$C6&$D6&\"Loss\",'SUA Data'!$D:$D&'SUA Data'!$H:$H&'SUA Data'!$J:$J&'SUA Data'!$F:$F,'SUA Data'!$L:$L)","v":{"$error":"#N/A"}},{"$f":"_xlfn.XLOOKUP($A6&$C6&$D6&\"Loss\",'SUA Data'!$D:$D&'SUA Data'!$H:$H&'SUA Data'!$J:$J&'SUA Data'!$F:$F,'SUA Data'!$M:$M)","v":{"$error":"#N/A"}},{"$f":"'FFV Coefficients'!$AQ$6","v":0.25},{"$f":"IF(ISNUMBER(N6),N6,'FFV Coefficients'!$H$7)","v":0.25},{"$error":"#N/A"},"AE",{"$f":"_xlfn.XLOOKUP($A6&$C6&$D6&R$3,'SUA Data'!$D:$D&'SUA Data'!$H:$H&'SUA Data'!$J:$J&'SUA Data'!$F:$F,'SUA Data'!$L:$L)","v":0},{"$f":"_xlfn.XLOOKUP($A6&$C6&$D6&R$3,'SUA Data'!$D:$D&'SUA Data'!$H:$H&'SUA Data'!$J:$J&'SUA Data'!$F:$F,'SUA Data'!$M:$M)","v":"I"},{"$f":"_xlfn.XLOOKUP($A6&$C6&$D6&T$3,'SUA Data'!$D:$D&'SUA Data'!$H:$H&'SUA Data'!$J:$J&'SUA Data'!$F:$F,'SUA Data'!$L:$L)","v":{"$error":"#N/A"}},{"$f":"_xlfn.XLOOKUP($A6&$C6&$D6&T$3,'SUA Data'!$D:$D&'SUA Data'!$H:$H&'SUA Data'!$J:$J&'SUA Data'!$F:$F,'SUA Data'!$M:$M)","v":{"$error":"#N/A"}},{"$f":"_xlfn.XLOOKUP($A6&$C6&$D6&V$3,'SUA Data'!$D:$D&'SUA Data'!$H:$H&'SUA Data'!$J:$J&'SUA Data'!$F:$F,'SUA Data'!$L:$L)","v":3525.09},{"$f":"_xlfn.XLOOKUP($A6&$C6&$D6&V$3,'SUA Data'!$D:$D&'SUA Data'!$H:$H&'SUA Data'!$J:$J&'SUA Data'!$F:$F,'SUA Data'!$M:$M)","v":"E"},2643.8175000000001,"AE",null,"E","Estimated Value","FAO"]
["Croatia","Avocados","Avocados",2022,{"$f":"_xlfn.XLOOKUP($A7&$C7&$D7&$E$3,'SUA Data'!$D:$D&'SUA Data'!$H:$H&'SUA Data'!$J:$J&'SUA Data'!$F:$F,'SUA Data'!$L:$L)","v":0},{"$f":"_xlfn.XLOOKUP($A7&$C7&$D7&$E$3,'SUA Data'!$D:$D&'SUA Data'!$H:$H&'SUA Data'!$J:$J&'SUA Data'!$F:$F,'SUA Data'!$M:$M)","v":"A"},{"$f":"_xlfn.XLOOKUP($A7&$C7&$D7&G$3,'SUA Data'!$D:$D&'SUA Data'!$H:$H&'SUA Data'!$J:$J&'SUA Data'!$F:$F,'SUA Data'!$L:$L)","v":2662.41},{"$f":"_xlfn.XLOOKUP($A7&$C7&$D7&G$3,'SUA Data'!$D:$D&'SUA Data'!$H:$H&'SUA Data'!$J:$J&'SUA Data'!$F:$F,'SUA Data'!$M:$M)","v":"A"},{"$f":"_xlfn.XLOOKUP($A7&$C7&$D7&I$3,'SUA Data'!$D:$D&'SUA Data'!$H:$H&'SUA Data'!$J:$J&'SUA Data'!$F:$F,'SUA Data'!$L:$L)","v":191.12},{"$f":"_xlfn.XLOOKUP($A7&$C7&$D7&I$3,'SUA Data'!$D:$D&'SUA Data'!$H:$H&'SUA Data'!$J:$J&'SUA Data'!$F:$F,'SUA Data'!$M:$M)","v":"A"},0,{"$f":"_xlfn.XLOOKUP($A7&$C7&$D7&\"Loss\",'SUA Data'!$D:$D&'SUA Data'!$H:$H&'SUA Data'!$J:$J&'SUA Data'!$F:$F,'SUA Data'!$L:$L)","v":{"$error":"#N/A"}},{"$f":"_xlfn.XLOOKUP($A7&$C7&$D7&\"Loss\",'SUA Data'!$D:$D&'SUA Data'!$H:$H&'SUA Data'!$J:$J&'SUA Data'!$F:$F,'SUA Data'!$M:$M)","v":{"$error":"#N/A"}},{"$f":"'FFV Coefficients'!$AQ$6","v":0.25},{"$f":"IF(ISNUMBER(N7),N7,'FFV Coefficients'!$H$7)","v":0.25},{"$error":"#N/A"},"AE",{"$f":"_xlfn.XLOOKUP($A7&$C7&$D7&R$3,'SUA Data'!$D:$D&'SUA Data'!$H:$H&'SUA Data'!$J:$J&'SUA Data'!$F:$F,'SUA Data'!$L:$L)","v":0},{"$f":"_xlfn.XLOOKUP($A7&$C7&$D7&R$3,'SUA Data'!$D:$D&'SUA Data'!$H:$H&'SUA Data'!$J:$J&'SUA Data'!$F:$F,'SUA Data'!$M:$M)","v":"I"},{"$f":"_xlfn.XLOOKUP($A7&$C7&$D7&T$3,'SUA Data'!$D:$D&'SUA Data'!$H:$H&'SUA Data'!$J:$J&'SUA Data'!$F:$F,'SUA Data'!$L:$L)","v":{"$error":"#N/A"}},{"$f":"_xlfn.XLOOKUP($A7&$C7&$D7&T$3,'SUA Data'!$D:$D&'SUA Data'!$H:$H&'SUA Data'!$J:$J&'SUA Data'!$F:$F,'SUA Data'!$M:$M)","v":{"$error":"#N/A"}},{"$f":"_xlfn.XLOOKUP($A7&$C7&$D7&V$3,'SUA Data'!$D:$D&'SUA Data'!$H:$H&'SUA Data'!$J:$J&'SUA Data'!$F:$F,'SUA Data'!$L:$L)","v":2471.3000000000002},{"$f":"_xlfn.XLOOKUP($A7&$C7&$D7&V$3,'SUA Data'!$D:$D&'SUA Data'!$H:$H&'SUA Data'!$J:$J&'SUA Data'!$F:$F,'SUA Data'!$M:$M)","v":"E"},1853.4750000000001,"AE",null,"M","Missing value (data cannot exist, not applicable)","FAO"]
["Cyprus","Avocados","Avocados",2022,{"$f":"_xlfn.XLOOKUP($A8&$C8&$D8&$E$3,'SUA Data'!$D:$D&'SUA Data'!$H:$H&'SUA Data'!$J:$J&'SUA Data'!$F:$F,'SUA Data'!$L:$L)","v":1370},{"$f":"_xlfn.XLOOKUP($A8&$C8&$D8&$E$3,'SUA Data'!$D:$D&'SUA Data'!$H:$H&'SUA Data'!$J:$J&'SUA Data'!$F:$F,'SUA Data'!$M:$M)","v":"A"},{"$f":"_xlfn.XLOOKUP($A8&$C8&$D8&G$3,'SUA Data'!$D:$D&'SUA Data'!$H:$H&'SUA Data'!$J:$J&'SUA Data'!$F:$F,'SUA Data'!$L:$L)","v":783.07},{"$f":"_xlfn.XLOOKUP($A8&$C8&$D8&G$3,'SUA Data'!$D:$D&'SUA Data'!$H:$H&'SUA Data'!$J:$J&'SUA Data'!$F:$F,'SUA Data'!$M:$M)","v":"A"},{"$f":"_xlfn.XLOOKUP($A8&$C8&$D8&I$3,'SUA Data'!$D:$D&'SUA Data'!$H:$H&'SUA Data'!$J:$J&'SUA Data'!$F:$F,'SUA Data'!$L:$L)","v":273.77},{"$f":"_xlfn.XLOOKUP($A8&$C8&$D8&I$3,'SUA Data'!$D:$D&'SUA Data'!$H:$H&'SUA Data'!$J:$J&'SUA Data'!$F:$F,'SUA Data'!$M:$M)","v":"A"},0.63630072408235683,{"$f":"_xlfn.XLOOKUP($A8&$C8&$D8&\"Loss\",'SUA Data'!$D:$D&'SUA Data'!$H:$H&'SUA Data'!$J:$J&'SUA Data'!$F:$F,'SUA Data'!$L:$L)","v":167.69},{"$f":"_xlfn.XLOOKUP($A8&$C8&$D8&\"Loss\",'SUA Data'!$D:$D&'SUA Data'!$H:$H&'SUA Data'!$J:$J&'SUA Data'!$F:$F,'SUA Data'!$M:$M)","v":"I"},{"$f":"'FFV Coefficients'!$AQ$6","v":0.25},{"$f":"IF(ISNUMBER(N8),N8,'FFV Coefficients'!$H$7)","v":0.25},167.69,"AE",{"$f":"_xlfn.XLOOKUP($A8&$C8&$D8&R$3,'SUA Data'!$D:$D&'SUA Data'!$H:$H&'SUA Data'!$J:$J&'SUA Data'!$F:$F,'SUA Data'!$L:$L)","v":0},{"$f":"_xlfn.XLOOKUP($A8&$C8&$D8&R$3,'SUA Data'!$D:$D&'SUA Data'!$H:$H&'SUA Data'!$J:$J&'SUA Data'!$F:$F,'SUA Data'!$M:$M)","v":"I"},{"$f":"_xlfn.XLOOKUP($A8&$C8&$D8&T$3,'SUA Data'!$D:$D&'SUA Data'!$H:$H&'SUA Data'!$J:$J&'SUA Data'!$F:$F,'SUA Data'!$L:$L)","v":{"$error":"#N/A"}},{"$f":"_xlfn.XLOOKUP($A8&$C8&$D8&T$3,'SUA Data'!$D:$D&'SUA Data'!$H:$H&'SUA Data'!$J:$J&'SUA Data'!$F:$F,'SUA Data'!$M:$M)","v":{"$error":"#N/A"}},{"$f":"_xlfn.XLOOKUP($A8&$C8&$D8&V$3,'SUA Data'!$D:$D&'SUA Data'!$H:$H&'SUA Data'!$J:$J&'SUA Data'!$F:$F,'SUA Data'!$L:$L)","v":1648.15},{"$f":"_xlfn.XLOOKUP($A8&$C8&$D8&V$3,'SUA Data'!$D:$D&'SUA Data'!$H:$H&'SUA Data'!$J:$J&'SUA Data'!$F:$F,'SUA Data'!$M:$M)","v":"E"},1236.1125000000002,"AE",null,"AE","Adjusted Estimated Value","This study"]
["Czechia","Avocados","Avocados",2022,{"$f":"_xlfn.XLOOKUP($A9&$C9&$D9&$E$3,'SUA Data'!$D:$D&'SUA Data'!$H:$H&'SUA Data'!$J:$J&'SUA Data'!$F:$F,'SUA Data'!$L:$L)","v":0},{"$f":"_xlfn.XLOOKUP($A9&$C9&$D9&$E$3,'SUA Data'!$D:$D&'SUA Data'!$H:$H&'SUA Data'!$J:$J&'SUA Data'!$F:$F,'SUA Data'!$M:$M)","v":"A"},{"$f":"_xlfn.XLOOKUP($A9&$C9&$D9&G$3,'SUA Data'!$D:$D&'SUA Data'!$H:$H&'SUA Data'!$J:$J&'SUA Data'!$F:$F,'SUA Data'!$L:$L)","v":8667.7000000000007},{"$f":"_xlfn.XLOOKUP($A9&$C9&$D9&G$3,'SUA Data'!$D:$D&'SUA Data'!$H:$H&'SUA Data'!$J:$J&'SUA Data'!$F:$F,'SUA Data'!$M:$M)","v":"A"},{"$f":"_xlfn.XLOOKUP($A9&$C9&$D9&I$3,'SUA Data'!$D:$D&'SUA Data'!$H:$H&'SUA Data'!$J:$J&'SUA Data'!$F:$F,'SUA Data'!$L:$L)","v":943.52},{"$f":"_xlfn.XLOOKUP($A9&$C9&$D9&I$3,'SUA Data'!$D:$D&'SUA Data'!$H:$H&'SUA Data'!$J:$J&'SUA Data'!$F:$F,'SUA Data'!$M:$M)","v":"A"},0,{"$f":"_xlfn.XLOOKUP($A9&$C9&$D9&\"Loss\",'SUA Data'!$D:$D&'SUA Data'!$H:$H&'SUA Data'!$J:$J&'SUA Data'!$F:$F,'SUA Data'!$L:$L)","v":{"$error":"#N/A"}},{"$f":"_xlfn.XLOOKUP($A9&$C9&$D9&\"Loss\",'SUA Data'!$D:$D&'SUA Data'!$H:$H&'SUA Data'!$J:$J&'SUA Data'!$F:$F,'SUA Data'!$M:$M)","v":{"$error":"#N/A"}},{"$f":"'FFV Coefficients'!$AQ$6","v":0.25},{"$f":"IF(ISNUMBER(N9),N9,'FFV Coefficients'!$H$7)","v":0.25},{"$error":"#N/A"},"AE",{"$f":"_xlfn.XLOOKUP($A9&$C9&$D9&R$3,'SUA Data'!$D:$D&'SUA Data'!$H:$H&'SUA Data'!$J:$J&'SUA Data'!$F:$F,'SUA Data'!$L:$L)","v":0},{"$f":"_xlfn.XLOOKUP($A9&$C9&$D9&R$3,'SUA Data'!$D:$D&'SUA Data'!$H:$H&'SUA Data'!$J:$J&'SUA Data'!$F:$F,'SUA Data'!$M:$M)","v":"I"},{"$f":"_xlfn.XLOOKUP($A9&$C9&$D9&T$3,'SUA Data'!$D:$D&'SUA Data'!$H:$H&'SUA Data'!$J:$J&'SUA Data'!$F:$F,'SUA Data'!$L:$L)","v":{"$error":"#N/A"}},{"$f":"_xlfn.XLOOKUP($A9&$C9&$D9&T$3,'SUA Data'!$D:$D&'SUA Data'!$H:$H&'SUA Data'!$J:$J&'SUA Data'!$F:$F,'SUA Data'!$M:$M)","v":{"$error":"#N/A"}},{"$f":"_xlfn.XLOOKUP($A9&$C9&$D9&V$3,'SUA Data'!$D:$D&'SUA Data'!$H:$H&'SUA Data'!$J:$J&'SUA Data'!$F:$F,'SUA Data'!$L:$L)","v":7724.18},{"$f":"_xlfn.XLOOKUP($A9&$C9&$D9&V$3,'SUA Data'!$D:$D&'SUA Data'!$H:$H&'SUA Data'!$J:$J&'SUA Data'!$F:$F,'SUA Data'!$M:$M)","v":"E"},5793.1350000000002,"AE"]
["Denmark","Avocados","Avocados",2022,{"$f":"_xlfn.XLOOKUP($A10&$C10&$D10&$E$3,'SUA Data'!$D:$D&'SUA Data'!$H:$H&'SUA Data'!$J:$J&'SUA Data'!$F:$F,'SUA Data'!$L:$L)","v":0},{"$f":"_xlfn.XLOOKUP($A10&$C10&$D10&$E$3,'SUA Data'!$D:$D&'SUA Data'!$H:$H&'SUA Data'!$J:$J&'SUA Data'!$F:$F,'SUA Data'!$M:$M)","v":"A"},{"$f":"_xlfn.XLOOKUP($A10&$C10&$D10&G$3,'SUA Data'!$D:$D&'SUA Data'!$H:$H&'SUA Data'!$J:$J&'SUA Data'!$F:$F,'SUA Data'!$L:$L)","v":18137.88},{"$f":"_xlfn.XLOOKUP($A10&$C10&$D10&G$3,'SUA Data'!$D:$D&'SUA Data'!$H:$H&'SUA Data'!$J:$J&'SUA Data'!$F:$F,'SUA Data'!$M:$M)","v":"A"},{"$f":"_xlfn.XLOOKUP($A10&$C10&$D10&I$3,'SUA Data'!$D:$D&'SUA Data'!$H:$H&'SUA Data'!$J:$J&'SUA Data'!$F:$F,'SUA Data'!$L:$L)","v":3750.86},{"$f":"_xlfn.XLOOKUP($A10&$C10&$D10&I$3,'SUA Data'!$D:$D&'SUA Data'!$H:$H&'SUA Data'!$J:$J&'SUA Data'!$F:$F,'SUA Data'!$M:$M)","v":"A"},0,{"$f":"_xlfn.XLOOKUP($A10&$C10&$D10&\"Loss\",'SUA Data'!$D:$D&'SUA Data'!$H:$H&'SUA Data'!$J:$J&'SUA Data'!$F:$F,'SUA Data'!$L:$L)","v":906.89},{"$f":"_xlfn.XLOOKUP($A10&$C10&$D10&\"Loss\",'SUA Data'!$D:$D&'SUA Data'!$H:$H&'SUA Data'!$J:$J&'SUA Data'!$F:$F,'SUA Data'!$M:$M)","v":"I"},{"$f":"'FFV Coefficients'!$AQ$6","v":0.25},{"$f":"IF(ISNUMBER(N10),N10,'FFV Coefficients'!$H$7)","v":0.25},906.89,"AE",{"$f":"_xlfn.XLOOKUP($A10&$C10&$D10&R$3,'SUA Data'!$D:$D&'SUA Data'!$H:$H&'SUA Data'!$J:$J&'SUA Data'!$F:$F,'SUA Data'!$L:$L)","v":0},{"$f":"_xlfn.XLOOKUP($A10&$C10&$D10&R$3,'SUA Data'!$D:$D&'SUA Data'!$H:$H&'SUA Data'!$J:$J&'SUA Data'!$F:$F,'SUA Data'!$M:$M)","v":"I"},{"$f":"_xlfn.XLOOKUP($A10&$C10&$D10&T$3,'SUA Data'!$D:$D&'SUA Data'!$H:$H&'SUA Data'!$J:$J&'SUA Data'!$F:$F,'SUA Data'!$L:$L)","v":{"$error":"#N/A"}},{"$f":"_xlfn.XLOOKUP($A10&$C10&$D10&T$3,'SUA Data'!$D:$D&'SUA Data'!$H:$H&'SUA Data'!$J:$J&'SUA Data'!$F:$F,'SUA Data'!$M:$M)","v":{"$error":"#N/A"}},{"$f":"_xlfn.XLOOKUP($A10&$C10&$D10&V$3,'SUA Data'!$D:$D&'SUA Data'!$H:$H&'SUA Data'!$J:$J&'SUA Data'!$F:$F,'SUA Data'!$L:$L)","v":13480.12},{"$f":"_xlfn.XLOOKUP($A10&$C10&$D10&V$3,'SUA Data'!$D:$D&'SUA Data'!$H:$H&'SUA Data'!$J:$J&'SUA Data'!$F:$F,'SUA Data'!$M:$M)","v":"E"},10110.09,"AE"]
["Estonia","Avocados","Avocados",2022,{"$f":"_xlfn.XLOOKUP($A11&$C11&$D11&$E$3,'SUA Data'!$D:$D&'SUA Data'!$H:$H&'SUA Data'!$J:$J&'SUA Data'!$F:$F,'SUA Data'!$L:$L)","v":0},{"$f":"_xlfn.XLOOKUP($A11&$C11&$D11&$E$3,'SUA Data'!$D:$D&'SUA Data'!$H:$H&'SUA Data'!$J:$J&'SUA Data'!$F:$F,'SUA Data'!$M:$M)","v":"A"},{"$f":"_xlfn.XLOOKUP($A11&$C11&$D11&G$3,'SUA Data'!$D:$D&'SUA Data'!$H:$H&'SUA Data'!$J:$J&'SUA Data'!$F:$F,'SUA Data'!$L:$L)","v":1860.6},{"$f":"_xlfn.XLOOKUP($A11&$C11&$D11&G$3,'SUA Data'!$D:$D&'SUA Data'!$H:$H&'SUA Data'!$J:$J&'SUA Data'!$F:$F,'SUA Data'!$M:$M)","v":"A"},{"$f":"_xlfn.XLOOKUP($A11&$C11&$D11&I$3,'SUA Data'!$D:$D&'SUA Data'!$H:$H&'SUA Data'!$J:$J&'SUA Data'!$F:$F,'SUA Data'!$L:$L)","v":5.66},{"$f":"_xlfn.XLOOKUP($A11&$C11&$D11&I$3,'SUA Data'!$D:$D&'SUA Data'!$H:$H&'SUA Data'!$J:$J&'SUA Data'!$F:$F,'SUA Data'!$M:$M)","v":"A"},0,{"$f":"_xlfn.XLOOKUP($A11&$C11&$D11&\"Loss\",'SUA Data'!$D:$D&'SUA Data'!$H:$H&'SUA Data'!$J:$J&'SUA Data'!$F:$F,'SUA Data'!$L:$L)","v":{"$error":"#N/A"}},{"$f":"_xlfn.XLOOKUP($A11&$C11&$D11&\"Loss\",'SUA Data'!$D:$D&'SUA Data'!$H:$H&'SUA Data'!$J:$J&'SUA Data'!$F:$F,'SUA Data'!$M:$M)","v":{"$error":"#N/A"}},{"$f":"'FFV Coefficients'!$AQ$6","v":0.25},{"$f":"IF(ISNUMBER(N11),N11,'FFV Coefficients'!$H$7)","v":0.25},{"$error":"#N/A"},"AE",{"$f":"_xlfn.XLOOKUP($A11&$C11&$D11&R$3,'SUA Data'!$D:$D&'SUA Data'!$H:$H&'SUA Data'!$J:$J&'SUA Data'!$F:$F,'SUA Data'!$L:$L)","v":0},{"$f":"_xlfn.XLOOKUP($A11&$C11&$D11&R$3,'SUA Data'!$D:$D&'SUA Data'!$H:$H&'SUA Data'!$J:$J&'SUA Data'!$F:$F,'SUA Data'!$M:$M)","v":"I"},{"$f":"_xlfn.XLOOKUP($A11&$C11&$D11&T$3,'SUA Data'!$D:$D&'SUA Data'!$H:$H&'SUA Data'!$J:$J&'SUA Data'!$F:$F,'SUA Data'!$L:$L)","v":{"$error":"#N/A"}},{"$f":"_xlfn.XLOOKUP($A11&$C11&$D11&T$3,'SUA Data'!$D:$D&'SUA Data'!$H:$H&'SUA Data'!$J:$J&'SUA Data'!$F:$F,'SUA Data'!$M:$M)","v":{"$error":"#N/A"}},{"$f":"_xlfn.XLOOKUP($A11&$C11&$D11&V$3,'SUA Data'!$D:$D&'SUA Data'!$H:$H&'SUA Data'!$J:$J&'SUA Data'!$F:$F,'SUA Data'!$L:$L)","v":1854.95},{"$f":"_xlfn.XLOOKUP($A11&$C11&$D11&V$3,'SUA Data'!$D:$D&'SUA Data'!$H:$H&'SUA Data'!$J:$J&'SUA Data'!$F:$F,'SUA Data'!$M:$M)","v":"E"},1391.2125000000001,"AE"]
["Finland","Avocados","Avocados",2022,{"$f":"_xlfn.XLOOKUP($A12&$C12&$D12&$E$3,'SUA Data'!$D:$D&'SUA Data'!$H:$H&'SUA Data'!$J:$J&'SUA Data'!$F:$F,'SUA Data'!$L:$L)","v":0},{"$f":"_xlfn.XLOOKUP($A12&$C12&$D12&$E$3,'SUA Data'!$D:$D&'SUA Data'!$H:$H&'SUA Data'!$J:$J&'SUA Data'!$F:$F,'SUA Data'!$M:$M)","v":"A"},{"$f":"_xlfn.XLOOKUP($A12&$C12&$D12&G$3,'SUA Data'!$D:$D&'SUA Data'!$H:$H&'SUA Data'!$J:$J&'SUA Data'!$F:$F,'SUA Data'!$L:$L)","v":6556.75},{"$f":"_xlfn.XLOOKUP($A12&$C12&$D12&G$3,'SUA Data'!$D:$D&'SUA Data'!$H:$H&'SUA Data'!$J:$J&'SUA Data'!$F:$F,'SUA Data'!$M:$M)","v":"A"},{"$f":"_xlfn.XLOOKUP($A12&$C12&$D12&I$3,'SUA Data'!$D:$D&'SUA Data'!$H:$H&'SUA Data'!$J:$J&'SUA Data'!$F:$F,'SUA Data'!$L:$L)","v":83.45},{"$f":"_xlfn.XLOOKUP($A12&$C12&$D12&I$3,'SUA Data'!$D:$D&'SUA Data'!$H:$H&'SUA Data'!$J:$J&'SUA Data'!$F:$F,'SUA Data'!$M:$M)","v":"A"},0,{"$f":"_xlfn.XLOOKUP($A12&$C12&$D12&\"Loss\",'SUA Data'!$D:$D&'SUA Data'!$H:$H&'SUA Data'!$J:$J&'SUA Data'!$F:$F,'SUA Data'!$L:$L)","v":327.84},{"$f":"_xlfn.XLOOKUP($A12&$C12&$D12&\"Loss\",'SUA Data'!$D:$D&'SUA Data'!$H:$H&'SUA Data'!$J:$J&'SUA Data'!$F:$F,'SUA Data'!$M:$M)","v":"I"},{"$f":"'FFV Coefficients'!$AQ$6","v":0.25},{"$f":"IF(ISNUMBER(N12),N12,'FFV Coefficients'!$H$7)","v":0.25},327.84,"AE",{"$f":"_xlfn.XLOOKUP($A12&$C12&$D12&R$3,'SUA Data'!$D:$D&'SUA Data'!$H:$H&'SUA Data'!$J:$J&'SUA Data'!$F:$F,'SUA Data'!$L:$L)","v":0},{"$f":"_xlfn.XLOOKUP($A12&$C12&$D12&R$3,'SUA Data'!$D:$D&'SUA Data'!$H:$H&'SUA Data'!$J:$J&'SUA Data'!$F:$F,'SUA Data'!$M:$M)","v":"I"},{"$f":"_xlfn.XLOOKUP($A12&$C12&$D12&T$3,'SUA Data'!$D:$D&'SUA Data'!$H:$H&'SUA Data'!$J:$J&'SUA Data'!$F:$F,'SUA Data'!$L:$L)","v":{"$error":"#N/A"}},{"$f":"_xlfn.XLOOKUP($A12&$C12&$D12&T$3,'SUA Data'!$D:$D&'SUA Data'!$H:$H&'SUA Data'!$J:$J&'SUA Data'!$F:$F,'SUA Data'!$M:$M)","v":{"$error":"#N/A"}},{"$f":"_xlfn.XLOOKUP($A12&$C12&$D12&V$3,'SUA Data'!$D:$D&'SUA Data'!$H:$H&'SUA Data'!$J:$J&'SUA Data'!$F:$F,'SUA Data'!$L:$L)","v":6145.47},{"$f":"_xlfn.XLOOKUP($A12&$C12&$D12&V$3,'SUA Data'!$D:$D&'SUA Data'!$H:$H&'SUA Data'!$J:$J&'SUA Data'!$F:$F,'SUA Data'!$M:$M)","v":"E"},4609.1025,"AE"]
["France","Avocados","Avocados",2022,{"$f":"_xlfn.XLOOKUP($A13&$C13&$D13&$E$3,'SUA Data'!$D:$D&'SUA Data'!$H:$H&'SUA Data'!$J:$J&'SUA Data'!$F:$F,'SUA Data'!$L:$L)","v":1080},{"$f":"_xlfn.XLOOKUP($A13&$C13&$D13&$E$3,'SUA Data'!$D:$D&'SUA Data'!$H:$H&'SUA Data'!$J:$J&'SUA Data'!$F:$F,'SUA Data'!$M:$M)","v":"A"},{"$f":"_xlfn.XLOOKUP($A13&$C13&$D13&G$3,'SUA Data'!$D:$D&'SUA Data'!$H:$H&'SUA Data'!$J:$J&'SUA Data'!$F:$F,'SUA Data'!$L:$L)","v":200736.56},{"$f":"_xlfn.XLOOKUP($A13&$C13&$D13&G$3,'SUA Data'!$D:$D&'SUA Data'!$H:$H&'SUA Data'!$J:$J&'SUA Data'!$F:$F,'SUA Data'!$M:$M)","v":"A"},{"$f":"_xlfn.XLOOKUP($A13&$C13&$D13&I$3,'SUA Data'!$D:$D&'SUA Data'!$H:$H&'SUA Data'!$J:$J&'SUA Data'!$F:$F,'SUA Data'!$L:$L)","v":39807.46},{"$f":"_xlfn.XLOOKUP($A13&$C13&$D13&I$3,'SUA Data'!$D:$D&'SUA Data'!$H:$H&'SUA Data'!$J:$J&'SUA Data'!$F:$F,'SUA Data'!$M:$M)","v":"A"},5.3513943553492342E-3,{"$f":"_xlfn.XLOOKUP($A13&$C13&$D13&\"Loss\",'SUA Data'!$D:$D&'SUA Data'!$H:$H&'SUA Data'!$J:$J&'SUA Data'!$F:$F,'SUA Data'!$L:$L)","v":30272.48},{"$f":"_xlfn.XLOOKUP($A13&$C13&$D13&\"Loss\",'SUA Data'!$D:$D&'SUA Data'!$H:$H&'SUA Data'!$J:$J&'SUA Data'!$F:$F,'SUA Data'!$M:$M)","v":"I"},{"$f":"'FFV Coefficients'!$AQ$6","v":0.25},{"$f":"IF(ISNUMBER(N13),N13,'FFV Coefficients'!$H$7)","v":0.25},30272.48,"AE",{"$f":"_xlfn.XLOOKUP($A13&$C13&$D13&R$3,'SUA Data'!$D:$D&'SUA Data'!$H:$H&'SUA Data'!$J:$J&'SUA Data'!$F:$F,'SUA Data'!$L:$L)","v":0},{"$f":"_xlfn.XLOOKUP($A13&$C13&$D13&R$3,'SUA Data'!$D:$D&'SUA Data'!$H:$H&'SUA Data'!$J:$J&'SUA Data'!$F:$F,'SUA Data'!$M:$M)","v":"I"},{"$f":"_xlfn.XLOOKUP($A13&$C13&$D13&T$3,'SUA Data'!$D:$D&'SUA Data'!$H:$H&'SUA Data'!$J:$J&'SUA Data'!$F:$F,'SUA Data'!$L:$L)","v":{"$error":"#N/A"}},{"$f":"_xlfn.XLOOKUP($A13&$C13&$D13&T$3,'SUA Data'!$D:$D&'SUA Data'!$H:$H&'SUA Data'!$J:$J&'SUA Data'!$F:$F,'SUA Data'!$M:$M)","v":{"$error":"#N/A"}},{"$f":"_xlfn.XLOOKUP($A13&$C13&$D13&V$3,'SUA Data'!$D:$D&'SUA Data'!$H:$H&'SUA Data'!$J:$J&'SUA Data'!$F:$F,'SUA Data'!$L:$L)","v":131736.60999999999},{"$f":"_xlfn.XLOOKUP($A13&$C13&$D13&V$3,'SUA Data'!$D:$D&'SUA Data'!$H:$H&'SUA Data'!$J:$J&'SUA Data'!$F:$F,'SUA Data'!$M:$M)","v":"E"},98802.45749999999,"AE"]
["Germany","Avocados","Avocados",2022,{"$f":"_xlfn.XLOOKUP($A14&$C14&$D14&$E$3,'SUA Data'!$D:$D&'SUA Data'!$H:$H&'SUA Data'!$J:$J&'SUA Data'!$F:$F,'SUA Data'!$L:$L)","v":0},{"$f":"_xlfn.XLOOKUP($A14&$C14&$D14&$E$3,'SUA Data'!$D:$D&'SUA Data'!$H:$H&'SUA Data'!$J:$J&'SUA Data'!$F:$F,'SUA Data'!$M:$M)","v":"A"},{"$f":"_xlfn.XLOOKUP($A14&$C14&$D14&G$3,'SUA Data'!$D:$D&'SUA Data'!$H:$H&'SUA Data'!$J:$J&'SUA Data'!$F:$F,'SUA Data'!$L:$L)","v":127357.49},{"$f":"_xlfn.XLOOKUP($A14&$C14&$D14&G$3,'SUA Data'!$D:$D&'SUA Data'!$H:$H&'SUA Data'!$J:$J&'SUA Data'!$F:$F,'SUA Data'!$M:$M)","v":"A"},{"$f":"_xlfn.XLOOKUP($A14&$C14&$D14&I$3,'SUA Data'!$D:$D&'SUA Data'!$H:$H&'SUA Data'!$J:$J&'SUA Data'!$F:$F,'SUA Data'!$L:$L)","v":15908.58},{"$f":"_xlfn.XLOOKUP($A14&$C14&$D14&I$3,'SUA Data'!$D:$D&'SUA Data'!$H:$H&'SUA Data'!$J:$J&'SUA Data'!$F:$F,'SUA Data'!$M:$M)","v":"A"},0,{"$f":"_xlfn.XLOOKUP($A14&$C14&$D14&\"Loss\",'SUA Data'!$D:$D&'SUA Data'!$H:$H&'SUA Data'!$J:$J&'SUA Data'!$F:$F,'SUA Data'!$L:$L)","v":12735.75},{"$f":"_xlfn.XLOOKUP($A14&$C14&$D14&\"Loss\",'SUA Data'!$D:$D&'SUA Data'!$H:$H&'SUA Data'!$J:$J&'SUA Data'!$F:$F,'SUA Data'!$M:$M)","v":"I"},{"$f":"'FFV Coefficients'!$AQ$6","v":0.25},{"$f":"IF(ISNUMBER(N14),N14,'FFV Coefficients'!$H$7)","v":0.25},12735.75,"AE",{"$f":"_xlfn.XLOOKUP($A14&$C14&$D14&R$3,'SUA Data'!$D:$D&'SUA Data'!$H:$H&'SUA Data'!$J:$J&'SUA Data'!$F:$F,'SUA Data'!$L:$L)","v":0},{"$f":"_xlfn.XLOOKUP($A14&$C14&$D14&R$3,'SUA Data'!$D:$D&'SUA Data'!$H:$H&'SUA Data'!$J:$J&'SUA Data'!$F:$F,'SUA Data'!$M:$M)","v":"I"},{"$f":"_xlfn.XLOOKUP($A14&$C14&$D14&T$3,'SUA Data'!$D:$D&'SUA Data'!$H:$H&'SUA Data'!$J:$J&'SUA Data'!$F:$F,'SUA Data'!$L:$L)","v":{"$error":"#N/A"}},{"$f":"_xlfn.XLOOKUP($A14&$C14&$D14&T$3,'SUA Data'!$D:$D&'SUA Data'!$H:$H&'SUA Data'!$J:$J&'SUA Data'!$F:$F,'SUA Data'!$M:$M)","v":{"$error":"#N/A"}},{"$f":"_xlfn.XLOOKUP($A14&$C14&$D14&V$3,'SUA Data'!$D:$D&'SUA Data'!$H:$H&'SUA Data'!$J:$J&'SUA Data'!$F:$F,'SUA Data'!$L:$L)","v":98713.16},{"$f":"_xlfn.XLOOKUP($A14&$C14&$D14&V$3,'SUA Data'!$D:$D&'SUA Data'!$H:$H&'SUA Data'!$J:$J&'SUA Data'!$F:$F,'SUA Data'!$M:$M)","v":"E"},74034.87,"AE"]
["Greece","Avocados","Avocados",2022,{"$f":"_xlfn.XLOOKUP($A15&$C15&$D15&$E$3,'SUA Data'!$D:$D&'SUA Data'!$H:$H&'SUA Data'!$J:$J&'SUA Data'!$F:$F,'SUA Data'!$L:$L)","v":13890},{"$f":"_xlfn.XLOOKUP($A15&$C15&$D15&$E$3,'SUA Data'!$D:$D&'SUA Data'!$H:$H&'SUA Data'!$J:$J&'SUA Data'!$F:$F,'SUA Data'!$M:$M)","v":"A"},{"$f":"_xlfn.XLOOKUP($A15&$C15&$D15&G$3,'SUA Data'!$D:$D&'SUA Data'!$H:$H&'SUA Data'!$J:$J&'SUA Data'!$F:$F,'SUA Data'!$L:$L)","v":7522.99},{"$f":"_xlfn.XLOOKUP($A15&$C15&$D15&G$3,'SUA Data'!$D:$D&'SUA Data'!$H:$H&'SUA Data'!$J:$J&'SUA Data'!$F:$F,'SUA Data'!$M:$M)","v":"A"},{"$f":"_xlfn.XLOOKUP($A15&$C15&$D15&I$3,'SUA Data'!$D:$D&'SUA Data'!$H:$H&'SUA Data'!$J:$J&'SUA Data'!$F:$F,'SUA Data'!$L:$L)","v":1250.9000000000001},{"$f":"_xlfn.XLOOKUP($A15&$C15&$D15&I$3,'SUA Data'!$D:$D&'SUA Data'!$H:$H&'SUA Data'!$J:$J&'SUA Data'!$F:$F,'SUA Data'!$M:$M)","v":"A"},0.64867167079422361,{"$f":"_xlfn.XLOOKUP($A15&$C15&$D15&\"Loss\",'SUA Data'!$D:$D&'SUA Data'!$H:$H&'SUA Data'!$J:$J&'SUA Data'!$F:$F,'SUA Data'!$L:$L)","v":917.34},{"$f":"_xlfn.XLOOKUP($A15&$C15&$D15&\"Loss\",'SUA Data'!$D:$D&'SUA Data'!$H:$H&'SUA Data'!$J:$J&'SUA Data'!$F:$F,'SUA Data'!$M:$M)","v":"I"},{"$f":"'FFV Coefficients'!$AQ$6","v":0.25},{"$f":"IF(ISNUMBER(N15),N15,'FFV Coefficients'!$H$7)","v":0.25},917.34,"AE",{"$f":"_xlfn.XLOOKUP($A15&$C15&$D15&R$3,'SUA Data'!$D:$D&'SUA Data'!$H:$H&'SUA Data'!$J:$J&'SUA Data'!$F:$F,'SUA Data'!$L:$L)","v":0},{"$f":"_xlfn.XLOOKUP($A15&$C15&$D15&R$3,'SUA Data'!$D:$D&'SUA Data'!$H:$H&'SUA Data'!$J:$J&'SUA Data'!$F:$F,'SUA Data'!$M:$M)","v":"I"},{"$f":"_xlfn.XLOOKUP($A15&$C15&$D15&T$3,'SUA Data'!$D:$D&'SUA Data'!$H:$H&'SUA Data'!$J:$J&'SUA Data'!$F:$F,'SUA Data'!$L:$L)","v":{"$error":"#N/A"}},{"$f":"_xlfn.XLOOKUP($A15&$C15&$D15&T$3,'SUA Data'!$D:$D&'SUA Data'!$H:$H&'SUA Data'!$J:$J&'SUA Data'!$F:$F,'SUA Data'!$M:$M)","v":{"$error":"#N/A"}},{"$f":"_xlfn.XLOOKUP($A15&$C15&$D15&V$3,'SUA Data'!$D:$D&'SUA Data'!$H:$H&'SUA Data'!$J:$J&'SUA Data'!$F:$F,'SUA Data'!$L:$L)","v":19244.740000000002},{"$f":"_xlfn.XLOOKUP($A15&$C15&$D15&V$3,'SUA Data'!$D:$D&'SUA Data'!$H:$H&'SUA Data'!$J:$J&'SUA Data'!$F:$F,'SUA Data'!$M:$M)","v":"E"},14433.555,"AE"]
["Hungary","Avocados","Avocados",2022,{"$f":"_xlfn.XLOOKUP($A16&$C16&$D16&$E$3,'SUA Data'!$D:$D&'SUA Data'!$H:$H&'SUA Data'!$J:$J&'SUA Data'!$F:$F,'SUA Data'!$L:$L)","v":0},{"$f":"_xlfn.XLOOKUP($A16&$C16&$D16&$E$3,'SUA Data'!$D:$D&'SUA Data'!$H:$H&'SUA Data'!$J:$J&'SUA Data'!$F:$F,'SUA Data'!$M:$M)","v":"A"},{"$f":"_xlfn.XLOOKUP($A16&$C16&$D16&G$3,'SUA Data'!$D:$D&'SUA Data'!$H:$H&'SUA Data'!$J:$J&'SUA Data'!$F:$F,'SUA Data'!$L:$L)","v":7874.87},{"$f":"_xlfn.XLOOKUP($A16&$C16&$D16&G$3,'SUA Data'!$D:$D&'SUA Data'!$H:$H&'SUA Data'!$J:$J&'SUA Data'!$F:$F,'SUA Data'!$M:$M)","v":"A"},{"$f":"_xlfn.XLOOKUP($A16&$C16&$D16&I$3,'SUA Data'!$D:$D&'SUA Data'!$H:$H&'SUA Data'!$J:$J&'SUA Data'!$F:$F,'SUA Data'!$L:$L)","v":2934.32},{"$f":"_xlfn.XLOOKUP($A16&$C16&$D16&I$3,'SUA Data'!$D:$D&'SUA Data'!$H:$H&'SUA Data'!$J:$J&'SUA Data'!$F:$F,'SUA Data'!$M:$M)","v":"A"},0,{"$f":"_xlfn.XLOOKUP($A16&$C16&$D16&\"Loss\",'SUA Data'!$D:$D&'SUA Data'!$H:$H&'SUA Data'!$J:$J&'SUA Data'!$F:$F,'SUA Data'!$L:$L)","v":{"$error":"#N/A"}},{"$f":"_xlfn.XLOOKUP($A16&$C16&$D16&\"Loss\",'SUA Data'!$D:$D&'SUA Data'!$H:$H&'SUA Data'!$J:$J&'SUA Data'!$F:$F,'SUA Data'!$M:$M)","v":{"$error":"#N/A"}},{"$f":"'FFV Coefficients'!$AQ$6","v":0.25},{"$f":"IF(ISNUMBER(N16),N16,'FFV Coefficients'!$H$7)","v":0.25},{"$f":"IF(ISNUMBER(T16),L16*(1-N16),L16)","v":{"$error":"#N/A"}},"AE",{"$f":"_xlfn.XLOOKUP($A16&$C16&$D16&R$3,'SUA Data'!$D:$D&'SUA Data'!$H:$H&'SUA Data'!$J:$J&'SUA Data'!$F:$F,'SUA Data'!$L:$L)","v":0},{"$f":"_xlfn.XLOOKUP($A16&$C16&$D16&R$3,'SUA Data'!$D:$D&'SUA Data'!$H:$H&'SUA Data'!$J:$J&'SUA Data'!$F:$F,'SUA Data'!$M:$M)","v":"I"},{"$f":"_xlfn.XLOOKUP($A16&$C16&$D16&T$3,'SUA Data'!$D:$D&'SUA Data'!$H:$H&'SUA Data'!$J:$J&'SUA Data'!$F:$F,'SUA Data'!$L:$L)","v":{"$error":"#N/A"}},{"$f":"_xlfn.XLOOKUP($A16&$C16&$D16&T$3,'SUA Data'!$D:$D&'SUA Data'!$H:$H&'SUA Data'!$J:$J&'SUA Data'!$F:$F,'SUA Data'!$M:$M)","v":{"$error":"#N/A"}},{"$f":"_xlfn.XLOOKUP($A16&$C16&$D16&V$3,'SUA Data'!$D:$D&'SUA Data'!$H:$H&'SUA Data'!$J:$J&'SUA Data'!$F:$F,'SUA Data'!$L:$L)","v":4940.55},{"$f":"_xlfn.XLOOKUP($A16&$C16&$D16&V$3,'SUA Data'!$D:$D&'SUA Data'!$H:$H&'SUA Data'!$J:$J&'SUA Data'!$F:$F,'SUA Data'!$M:$M)","v":"E"},3705.4125000000004,"AE"]
["Iceland","Avocados","Avocados",2022,{"$f":"_xlfn.XLOOKUP($A17&$C17&$D17&$E$3,'SUA Data'!$D:$D&'SUA Data'!$H:$H&'SUA Data'!$J:$J&'SUA Data'!$F:$F,'SUA Data'!$L:$L)","v":{"$error":"#N/A"}},{"$f":"_xlfn.XLOOKUP($A17&$C17&$D17&$E$3,'SUA Data'!$D:$D&'SUA Data'!$H:$H&'SUA Data'!$J:$J&'SUA Data'!$F:$F,'SUA Data'!$M:$M)","v":{"$error":"#N/A"}},{"$f":"_xlfn.XLOOKUP($A17&$C17&$D17&G$3,'SUA Data'!$D:$D&'SUA Data'!$H:$H&'SUA Data'!$J:$J&'SUA Data'!$F:$F,'SUA Data'!$L:$L)","v":975.99},{"$f":"_xlfn.XLOOKUP($A17&$C17&$D17&G$3,'SUA Data'!$D:$D&'SUA Data'!$H:$H&'SUA Data'!$J:$J&'SUA Data'!$F:$F,'SUA Data'!$M:$M)","v":"A"},{"$f":"_xlfn.XLOOKUP($A17&$C17&$D17&I$3,'SUA Data'!$D:$D&'SUA Data'!$H:$H&'SUA Data'!$J:$J&'SUA Data'!$F:$F,'SUA Data'!$L:$L)","v":1.5},{"$f":"_xlfn.XLOOKUP($A17&$C17&$D17&I$3,'SUA Data'!$D:$D&'SUA Data'!$H:$H&'SUA Data'!$J:$J&'SUA Data'!$F:$F,'SUA Data'!$M:$M)","v":"A"},0,{"$f":"_xlfn.XLOOKUP($A17&$C17&$D17&\"Loss\",'SUA Data'!$D:$D&'SUA Data'!$H:$H&'SUA Data'!$J:$J&'SUA Data'!$F:$F,'SUA Data'!$L:$L)","v":19.53},{"$f":"_xlfn.XLOOKUP($A17&$C17&$D17&\"Loss\",'SUA Data'!$D:$D&'SUA Data'!$H:$H&'SUA Data'!$J:$J&'SUA Data'!$F:$F,'SUA Data'!$M:$M)","v":"I"},{"$f":"'FFV Coefficients'!$AQ$6","v":0.25},{"$f":"IF(ISNUMBER(N17),N17,'FFV Coefficients'!$H$7)","v":0.25},19.53,"AE",{"$f":"_xlfn.XLOOKUP($A17&$C17&$D17&R$3,'SUA Data'!$D:$D&'SUA Data'!$H:$H&'SUA Data'!$J:$J&'SUA Data'!$F:$F,'SUA Data'!$L:$L)","v":0},{"$f":"_xlfn.XLOOKUP($A17&$C17&$D17&R$3,'SUA Data'!$D:$D&'SUA Data'!$H:$H&'SUA Data'!$J:$J&'SUA Data'!$F:$F,'SUA Data'!$M:$M)","v":"I"},{"$f":"_xlfn.XLOOKUP($A17&$C17&$D17&T$3,'SUA Data'!$D:$D&'SUA Data'!$H:$H&'SUA Data'!$J:$J&'SUA Data'!$F:$F,'SUA Data'!$L:$L)","v":{"$error":"#N/A"}},{"$f":"_xlfn.XLOOKUP($A17&$C17&$D17&T$3,'SUA Data'!$D:$D&'SUA Data'!$H:$H&'SUA Data'!$J:$J&'SUA Data'!$F:$F,'SUA Data'!$M:$M)","v":{"$error":"#N/A"}},{"$f":"_xlfn.XLOOKUP($A17&$C17&$D17&V$3,'SUA Data'!$D:$D&'SUA Data'!$H:$H&'SUA Data'!$J:$J&'SUA Data'!$F:$F,'SUA Data'!$L:$L)","v":954.95},{"$f":"_xlfn.XLOOKUP($A17&$C17&$D17&V$3,'SUA Data'!$D:$D&'SUA Data'!$H:$H&'SUA Data'!$J:$J&'SUA Data'!$F:$F,'SUA Data'!$M:$M)","v":"E"},716.21250000000009,"AE"]
["Ireland","Avocados","Avocados",2022,{"$f":"_xlfn.XLOOKUP($A18&$C18&$D18&$E$3,'SUA Data'!$D:$D&'SUA Data'!$H:$H&'SUA Data'!$J:$J&'SUA Data'!$F:$F,'SUA Data'!$L:$L)","v":0},{"$f":"_xlfn.XLOOKUP($A18&$C18&$D18&$E$3,'SUA Data'!$D:$D&'SUA Data'!$H:$H&'SUA Data'!$J:$J&'SUA Data'!$F:$F,'SUA Data'!$M:$M)","v":"A"},{"$f":"_xlfn.XLOOKUP($A18&$C18&$D18&G$3,'SUA Data'!$D:$D&'SUA Data'!$H:$H&'SUA Data'!$J:$J&'SUA Data'!$F:$F,'SUA Data'!$L:$L)","v":8414.4500000000007},{"$f":"_xlfn.XLOOKUP($A18&$C18&$D18&G$3,'SUA Data'!$D:$D&'SUA Data'!$H:$H&'SUA Data'!$J:$J&'SUA Data'!$F:$F,'SUA Data'!$M:$M)","v":"A"},{"$f":"_xlfn.XLOOKUP($A18&$C18&$D18&I$3,'SUA Data'!$D:$D&'SUA Data'!$H:$H&'SUA Data'!$J:$J&'SUA Data'!$F:$F,'SUA Data'!$L:$L)","v":143.97},{"$f":"_xlfn.XLOOKUP($A18&$C18&$D18&I$3,'SUA Data'!$D:$D&'SUA Data'!$H:$H&'SUA Data'!$J:$J&'SUA Data'!$F:$F,'SUA Data'!$M:$M)","v":"A"},0,{"$f":"_xlfn.XLOOKUP($A18&$C18&$D18&\"Loss\",'SUA Data'!$D:$D&'SUA Data'!$H:$H&'SUA Data'!$J:$J&'SUA Data'!$F:$F,'SUA Data'!$L:$L)","v":420.72},{"$f":"_xlfn.XLOOKUP($A18&$C18&$D18&\"Loss\",'SUA Data'!$D:$D&'SUA Data'!$H:$H&'SUA Data'!$J:$J&'SUA Data'!$F:$F,'SUA Data'!$M:$M)","v":"I"},{"$f":"'FFV Coefficients'!$AQ$6","v":0.25},{"$f":"IF(ISNUMBER(N18),N18,'FFV Coefficients'!$H$7)","v":0.25},420.72,"AE",{"$f":"_xlfn.XLOOKUP($A18&$C18&$D18&R$3,'SUA Data'!$D:$D&'SUA Data'!$H:$H&'SUA Data'!$J:$J&'SUA Data'!$F:$F,'SUA Data'!$L:$L)","v":0},{"$f":"_xlfn.XLOOKUP($A18&$C18&$D18&R$3,'SUA Data'!$D:$D&'SUA Data'!$H:$H&'SUA Data'!$J:$J&'SUA Data'!$F:$F,'SUA Data'!$M:$M)","v":"I"},{"$f":"_xlfn.XLOOKUP($A18&$C18&$D18&T$3,'SUA Data'!$D:$D&'SUA Data'!$H:$H&'SUA Data'!$J:$J&'SUA Data'!$F:$F,'SUA Data'!$L:$L)","v":{"$error":"#N/A"}},{"$f":"_xlfn.XLOOKUP($A18&$C18&$D18&T$3,'SUA Data'!$D:$D&'SUA Data'!$H:$H&'SUA Data'!$J:$J&'SUA Data'!$F:$F,'SUA Data'!$M:$M)","v":{"$error":"#N/A"}},{"$f":"_xlfn.XLOOKUP($A18&$C18&$D18&V$3,'SUA Data'!$D:$D&'SUA Data'!$H:$H&'SUA Data'!$J:$J&'SUA Data'!$F:$F,'SUA Data'!$L:$L)","v":7849.76},{"$f":"_xlfn.XLOOKUP($A18&$C18&$D18&V$3,'SUA Data'!$D:$D&'SUA Data'!$H:$H&'SUA Data'!$J:$J&'SUA Data'!$F:$F,'SUA Data'!$M:$M)","v":"E"},5887.32,"AE"]
["Italy","Avocados","Avocados",2022,{"$f":"_xlfn.XLOOKUP($A19&$C19&$D19&$E$3,'SUA Data'!$D:$D&'SUA Data'!$H:$H&'SUA Data'!$J:$J&'SUA Data'!$F:$F,'SUA Data'!$L:$L)","v":0},{"$f":"_xlfn.XLOOKUP($A19&$C19&$D19&$E$3,'SUA Data'!$D:$D&'SUA Data'!$H:$H&'SUA Data'!$J:$J&'SUA Data'!$F:$F,'SUA Data'!$M:$M)","v":"A"},{"$f":"_xlfn.XLOOKUP($A19&$C19&$D19&G$3,'SUA Data'!$D:$D&'SUA Data'!$H:$H&'SUA Data'!$J:$J&'SUA Data'!$F:$F,'SUA Data'!$L:$L)","v":46977.34},{"$f":"_xlfn.XLOOKUP($A19&$C19&$D19&G$3,'SUA Data'!$D:$D&'SUA Data'!$H:$H&'SUA Data'!$J:$J&'SUA Data'!$F:$F,'SUA Data'!$M:$M)","v":"A"},{"$f":"_xlfn.XLOOKUP($A19&$C19&$D19&I$3,'SUA Data'!$D:$D&'SUA Data'!$H:$H&'SUA Data'!$J:$J&'SUA Data'!$F:$F,'SUA Data'!$L:$L)","v":2243.0100000000002},{"$f":"_xlfn.XLOOKUP($A19&$C19&$D19&I$3,'SUA Data'!$D:$D&'SUA Data'!$H:$H&'SUA Data'!$J:$J&'SUA Data'!$F:$F,'SUA Data'!$M:$M)","v":"A"},0,{"$f":"_xlfn.XLOOKUP($A19&$C19&$D19&\"Loss\",'SUA Data'!$D:$D&'SUA Data'!$H:$H&'SUA Data'!$J:$J&'SUA Data'!$F:$F,'SUA Data'!$L:$L)","v":{"$error":"#N/A"}},{"$f":"_xlfn.XLOOKUP($A19&$C19&$D19&\"Loss\",'SUA Data'!$D:$D&'SUA Data'!$H:$H&'SUA Data'!$J:$J&'SUA Data'!$F:$F,'SUA Data'!$M:$M)","v":{"$error":"#N/A"}},{"$f":"'FFV Coefficients'!$AQ$6","v":0.25},{"$f":"IF(ISNUMBER(N19),N19,'FFV Coefficients'!$H$7)","v":0.25},{"$error":"#N/A"},"AE",{"$f":"_xlfn.XLOOKUP($A19&$C19&$D19&R$3,'SUA Data'!$D:$D&'SUA Data'!$H:$H&'SUA Data'!$J:$J&'SUA Data'!$F:$F,'SUA Data'!$L:$L)","v":0},{"$f":"_xlfn.XLOOKUP($A19&$C19&$D19&R$3,'SUA Data'!$D:$D&'SUA Data'!$H:$H&'SUA Data'!$J:$J&'SUA Data'!$F:$F,'SUA Data'!$M:$M)","v":"I"},{"$f":"_xlfn.XLOOKUP($A19&$C19&$D19&T$3,'SUA Data'!$D:$D&'SUA Data'!$H:$H&'SUA Data'!$J:$J&'SUA Data'!$F:$F,'SUA Data'!$L:$L)","v":{"$error":"#N/A"}},{"$f":"_xlfn.XLOOKUP($A19&$C19&$D19&T$3,'SUA Data'!$D:$D&'SUA Data'!$H:$H&'SUA Data'!$J:$J&'SUA Data'!$F:$F,'SUA Data'!$M:$M)","v":{"$error":"#N/A"}},{"$f":"_xlfn.XLOOKUP($A19&$C19&$D19&V$3,'SUA Data'!$D:$D&'SUA Data'!$H:$H&'SUA Data'!$J:$J&'SUA Data'!$F:$F,'SUA Data'!$L:$L)","v":44734.33},{"$f":"_xlfn.XLOOKUP($A19&$C19&$D19&V$3,'SUA Data'!$D:$D&'SUA Data'!$H:$H&'SUA Data'!$J:$J&'SUA Data'!$F:$F,'SUA Data'!$M:$M)","v":"E"},33550.747499999998,"AE"]
["Latvia","Avocados","Avocados",2022,{"$f":"_xlfn.XLOOKUP($A20&$C20&$D20&$E$3,'SUA Data'!$D:$D&'SUA Data'!$H:$H&'SUA Data'!$J:$J&'SUA Data'!$F:$F,'SUA Data'!$L:$L)","v":0},{"$f":"_xlfn.XLOOKUP($A20&$C20&$D20&$E$3,'SUA Data'!$D:$D&'SUA Data'!$H:$H&'SUA Data'!$J:$J&'SUA Data'!$F:$F,'SUA Data'!$M:$M)","v":"A"},{"$f":"_xlfn.XLOOKUP($A20&$C20&$D20&G$3,'SUA Data'!$D:$D&'SUA Data'!$H:$H&'SUA Data'!$J:$J&'SUA Data'!$F:$F,'SUA Data'!$L:$L)","v":4082.15},{"$f":"_xlfn.XLOOKUP($A20&$C20&$D20&G$3,'SUA Data'!$D:$D&'SUA Data'!$H:$H&'SUA Data'!$J:$J&'SUA Data'!$F:$F,'SUA Data'!$M:$M)","v":"A"},{"$f":"_xlfn.XLOOKUP($A20&$C20&$D20&I$3,'SUA Data'!$D:$D&'SUA Data'!$H:$H&'SUA Data'!$J:$J&'SUA Data'!$F:$F,'SUA Data'!$L:$L)","v":1063.3399999999999},{"$f":"_xlfn.XLOOKUP($A20&$C20&$D20&I$3,'SUA Data'!$D:$D&'SUA Data'!$H:$H&'SUA Data'!$J:$J&'SUA Data'!$F:$F,'SUA Data'!$M:$M)","v":"A"},0,{"$f":"_xlfn.XLOOKUP($A20&$C20&$D20&\"Loss\",'SUA Data'!$D:$D&'SUA Data'!$H:$H&'SUA Data'!$J:$J&'SUA Data'!$F:$F,'SUA Data'!$L:$L)","v":{"$error":"#N/A"}},{"$f":"_xlfn.XLOOKUP($A20&$C20&$D20&\"Loss\",'SUA Data'!$D:$D&'SUA Data'!$H:$H&'SUA Data'!$J:$J&'SUA Data'!$F:$F,'SUA Data'!$M:$M)","v":{"$error":"#N/A"}},{"$f":"'FFV Coefficients'!$AQ$6","v":0.25},{"$f":"IF(ISNUMBER(N20),N20,'FFV Coefficients'!$H$7)","v":0.25},{"$error":"#N/A"},"AE",{"$f":"_xlfn.XLOOKUP($A20&$C20&$D20&R$3,'SUA Data'!$D:$D&'SUA Data'!$H:$H&'SUA Data'!$J:$J&'SUA Data'!$F:$F,'SUA Data'!$L:$L)","v":0},{"$f":"_xlfn.XLOOKUP($A20&$C20&$D20&R$3,'SUA Data'!$D:$D&'SUA Data'!$H:$H&'SUA Data'!$J:$J&'SUA Data'!$F:$F,'SUA Data'!$M:$M)","v":"I"},{"$f":"_xlfn.XLOOKUP($A20&$C20&$D20&T$3,'SUA Data'!$D:$D&'SUA Data'!$H:$H&'SUA Data'!$J:$J&'SUA Data'!$F:$F,'SUA Data'!$L:$L)","v":{"$error":"#N/A"}},{"$f":"_xlfn.XLOOKUP($A20&$C20&$D20&T$3,'SUA Data'!$D:$D&'SUA Data'!$H:$H&'SUA Data'!$J:$J&'SUA Data'!$F:$F,'SUA Data'!$M:$M)","v":{"$error":"#N/A"}},{"$f":"_xlfn.XLOOKUP($A20&$C20&$D20&V$3,'SUA Data'!$D:$D&'SUA Data'!$H:$H&'SUA Data'!$J:$J&'SUA Data'!$F:$F,'SUA Data'!$L:$L)","v":3018.81},{"$f":"_xlfn.XLOOKUP($A20&$C20&$D20&V$3,'SUA Data'!$D:$D&'SUA Data'!$H:$H&'SUA Data'!$J:$J&'SUA Data'!$F:$F,'SUA Data'!$M:$M)","v":"E"},2264.1075000000001,"AE"]
["Lithuania","Avocados","Avocados",2022,{"$f":"_xlfn.XLOOKUP($A21&$C21&$D21&$E$3,'SUA Data'!$D:$D&'SUA Data'!$H:$H&'SUA Data'!$J:$J&'SUA Data'!$F:$F,'SUA Data'!$L:$L)","v":0},{"$f":"_xlfn.XLOOKUP($A21&$C21&$D21&$E$3,'SUA Data'!$D:$D&'SUA Data'!$H:$H&'SUA Data'!$J:$J&'SUA Data'!$F:$F,'SUA Data'!$M:$M)","v":"A"},{"$f":"_xlfn.XLOOKUP($A21&$C21&$D21&G$3,'SUA Data'!$D:$D&'SUA Data'!$H:$H&'SUA Data'!$J:$J&'SUA Data'!$F:$F,'SUA Data'!$L:$L)","v":7313.92},{"$f":"_xlfn.XLOOKUP($A21&$C21&$D21&G$3,'SUA Data'!$D:$D&'SUA Data'!$H:$H&'SUA Data'!$J:$J&'SUA Data'!$F:$F,'SUA Data'!$M:$M)","v":"A"},{"$f":"_xlfn.XLOOKUP($A21&$C21&$D21&I$3,'SUA Data'!$D:$D&'SUA Data'!$H:$H&'SUA Data'!$J:$J&'SUA Data'!$F:$F,'SUA Data'!$L:$L)","v":2813.32},{"$f":"_xlfn.XLOOKUP($A21&$C21&$D21&I$3,'SUA Data'!$D:$D&'SUA Data'!$H:$H&'SUA Data'!$J:$J&'SUA Data'!$F:$F,'SUA Data'!$M:$M)","v":"A"},0,{"$f":"_xlfn.XLOOKUP($A21&$C21&$D21&\"Loss\",'SUA Data'!$D:$D&'SUA Data'!$H:$H&'SUA Data'!$J:$J&'SUA Data'!$F:$F,'SUA Data'!$L:$L)","v":{"$error":"#N/A"}},{"$f":"_xlfn.XLOOKUP($A21&$C21&$D21&\"Loss\",'SUA Data'!$D:$D&'SUA Data'!$H:$H&'SUA Data'!$J:$J&'SUA Data'!$F:$F,'SUA Data'!$M:$M)","v":{"$error":"#N/A"}},{"$f":"'FFV Coefficients'!$AQ$6","v":0.25},{"$f":"IF(ISNUMBER(N21),N21,'FFV Coefficients'!$H$7)","v":0.25},{"$error":"#N/A"},"AE",{"$f":"_xlfn.XLOOKUP($A21&$C21&$D21&R$3,'SUA Data'!$D:$D&'SUA Data'!$H:$H&'SUA Data'!$J:$J&'SUA Data'!$F:$F,'SUA Data'!$L:$L)","v":0},{"$f":"_xlfn.XLOOKUP($A21&$C21&$D21&R$3,'SUA Data'!$D:$D&'SUA Data'!$H:$H&'SUA Data'!$J:$J&'SUA Data'!$F:$F,'SUA Data'!$M:$M)","v":"I"},{"$f":"_xlfn.XLOOKUP($A21&$C21&$D21&T$3,'SUA Data'!$D:$D&'SUA Data'!$H:$H&'SUA Data'!$J:$J&'SUA Data'!$F:$F,'SUA Data'!$L:$L)","v":{"$error":"#N/A"}},{"$f":"_xlfn.XLOOKUP($A21&$C21&$D21&T$3,'SUA Data'!$D:$D&'SUA Data'!$H:$H&'SUA Data'!$J:$J&'SUA Data'!$F:$F,'SUA Data'!$M:$M)","v":{"$error":"#N/A"}},{"$f":"_xlfn.XLOOKUP($A21&$C21&$D21&V$3,'SUA Data'!$D:$D&'SUA Data'!$H:$H&'SUA Data'!$J:$J&'SUA Data'!$F:$F,'SUA Data'!$L:$L)","v":4500.59},{"$f":"_xlfn.XLOOKUP($A21&$C21&$D21&V$3,'SUA Data'!$D:$D&'SUA Data'!$H:$H&'SUA Data'!$J:$J&'SUA Data'!$F:$F,'SUA Data'!$M:$M)","v":"E"},3375.4425000000001,"AE"]
["Luxembourg","Avocados","Avocados",2022,{"$f":"_xlfn.XLOOKUP($A22&$C22&$D22&$E$3,'SUA Data'!$D:$D&'SUA Data'!$H:$H&'SUA Data'!$J:$J&'SUA Data'!$F:$F,'SUA Data'!$L:$L)","v":0},{"$f":"_xlfn.XLOOKUP($A22&$C22&$D22&$E$3,'SUA Data'!$D:$D&'SUA Data'!$H:$H&'SUA Data'!$J:$J&'SUA Data'!$F:$F,'SUA Data'!$M:$M)","v":"A"},{"$f":"_xlfn.XLOOKUP($A22&$C22&$D22&G$3,'SUA Data'!$D:$D&'SUA Data'!$H:$H&'SUA Data'!$J:$J&'SUA Data'!$F:$F,'SUA Data'!$L:$L)","v":1211.3800000000001},{"$f":"_xlfn.XLOOKUP($A22&$C22&$D22&G$3,'SUA Data'!$D:$D&'SUA Data'!$H:$H&'SUA Data'!$J:$J&'SUA Data'!$F:$F,'SUA Data'!$M:$M)","v":"A"},{"$f":"_xlfn.XLOOKUP($A22&$C22&$D22&I$3,'SUA Data'!$D:$D&'SUA Data'!$H:$H&'SUA Data'!$J:$J&'SUA Data'!$F:$F,'SUA Data'!$L:$L)","v":62.83},{"$f":"_xlfn.XLOOKUP($A22&$C22&$D22&I$3,'SUA Data'!$D:$D&'SUA Data'!$H:$H&'SUA Data'!$J:$J&'SUA Data'!$F:$F,'SUA Data'!$M:$M)","v":"A"},0,{"$f":"_xlfn.XLOOKUP($A22&$C22&$D22&\"Loss\",'SUA Data'!$D:$D&'SUA Data'!$H:$H&'SUA Data'!$J:$J&'SUA Data'!$F:$F,'SUA Data'!$L:$L)","v":60.57},{"$f":"_xlfn.XLOOKUP($A22&$C22&$D22&\"Loss\",'SUA Data'!$D:$D&'SUA Data'!$H:$H&'SUA Data'!$J:$J&'SUA Data'!$F:$F,'SUA Data'!$M:$M)","v":"I"},{"$f":"'FFV Coefficients'!$AQ$6","v":0.25},{"$f":"IF(ISNUMBER(N22),N22,'FFV Coefficients'!$H$7)","v":0.25},60.57,"AE",{"$f":"_xlfn.XLOOKUP($A22&$C22&$D22&R$3,'SUA Data'!$D:$D&'SUA Data'!$H:$H&'SUA Data'!$J:$J&'SUA Data'!$F:$F,'SUA Data'!$L:$L)","v":0},{"$f":"_xlfn.XLOOKUP($A22&$C22&$D22&R$3,'SUA Data'!$D:$D&'SUA Data'!$H:$H&'SUA Data'!$J:$J&'SUA Data'!$F:$F,'SUA Data'!$M:$M)","v":"I"},{"$f":"_xlfn.XLOOKUP($A22&$C22&$D22&T$3,'SUA Data'!$D:$D&'SUA Data'!$H:$H&'SUA Data'!$J:$J&'SUA Data'!$F:$F,'SUA Data'!$L:$L)","v":{"$error":"#N/A"}},{"$f":"_xlfn.XLOOKUP($A22&$C22&$D22&T$3,'SUA Data'!$D:$D&'SUA Data'!$H:$H&'SUA Data'!$J:$J&'SUA Data'!$F:$F,'SUA Data'!$M:$M)","v":{"$error":"#N/A"}},{"$f":"_xlfn.XLOOKUP($A22&$C22&$D22&V$3,'SUA Data'!$D:$D&'SUA Data'!$H:$H&'SUA Data'!$J:$J&'SUA Data'!$F:$F,'SUA Data'!$L:$L)","v":1087.98},{"$f":"_xlfn.XLOOKUP($A22&$C22&$D22&V$3,'SUA Data'!$D:$D&'SUA Data'!$H:$H&'SUA Data'!$J:$J&'SUA Data'!$F:$F,'SUA Data'!$M:$M)","v":"E"},815.98500000000001,"AE"]
["Malta","Avocados","Avocados",2022,{"$f":"_xlfn.XLOOKUP($A23&$C23&$D23&$E$3,'SUA Data'!$D:$D&'SUA Data'!$H:$H&'SUA Data'!$J:$J&'SUA Data'!$F:$F,'SUA Data'!$L:$L)","v":0},{"$f":"_xlfn.XLOOKUP($A23&$C23&$D23&$E$3,'SUA Data'!$D:$D&'SUA Data'!$H:$H&'SUA Data'!$J:$J&'SUA Data'!$F:$F,'SUA Data'!$M:$M)","v":"A"},{"$f":"_xlfn.XLOOKUP($A23&$C23&$D23&G$3,'SUA Data'!$D:$D&'SUA Data'!$H:$H&'SUA Data'!$J:$J&'SUA Data'!$F:$F,'SUA Data'!$L:$L)","v":660.89},{"$f":"_xlfn.XLOOKUP($A23&$C23&$D23&G$3,'SUA Data'!$D:$D&'SUA Data'!$H:$H&'SUA Data'!$J:$J&'SUA Data'!$F:$F,'SUA Data'!$M:$M)","v":"A"},{"$f":"_xlfn.XLOOKUP($A23&$C23&$D23&I$3,'SUA Data'!$D:$D&'SUA Data'!$H:$H&'SUA Data'!$J:$J&'SUA Data'!$F:$F,'SUA Data'!$L:$L)","v":0.11},{"$f":"_xlfn.XLOOKUP($A23&$C23&$D23&I$3,'SUA Data'!$D:$D&'SUA Data'!$H:$H&'SUA Data'!$J:$J&'SUA Data'!$F:$F,'SUA Data'!$M:$M)","v":"A"},0,{"$f":"_xlfn.XLOOKUP($A23&$C23&$D23&\"Loss\",'SUA Data'!$D:$D&'SUA Data'!$H:$H&'SUA Data'!$J:$J&'SUA Data'!$F:$F,'SUA Data'!$L:$L)","v":{"$error":"#N/A"}},{"$f":"_xlfn.XLOOKUP($A23&$C23&$D23&\"Loss\",'SUA Data'!$D:$D&'SUA Data'!$H:$H&'SUA Data'!$J:$J&'SUA Data'!$F:$F,'SUA Data'!$M:$M)","v":{"$error":"#N/A"}},{"$f":"'FFV Coefficients'!$AQ$6","v":0.25},{"$f":"IF(ISNUMBER(N23),N23,'FFV Coefficients'!$H$7)","v":0.25},{"$error":"#N/A"},"AE",{"$f":"_xlfn.XLOOKUP($A23&$C23&$D23&R$3,'SUA Data'!$D:$D&'SUA Data'!$H:$H&'SUA Data'!$J:$J&'SUA Data'!$F:$F,'SUA Data'!$L:$L)","v":0},{"$f":"_xlfn.XLOOKUP($A23&$C23&$D23&R$3,'SUA Data'!$D:$D&'SUA Data'!$H:$H&'SUA Data'!$J:$J&'SUA Data'!$F:$F,'SUA Data'!$M:$M)","v":"I"},{"$f":"_xlfn.XLOOKUP($A23&$C23&$D23&T$3,'SUA Data'!$D:$D&'SUA Data'!$H:$H&'SUA Data'!$J:$J&'SUA Data'!$F:$F,'SUA Data'!$L:$L)","v":{"$error":"#N/A"}},{"$f":"_xlfn.XLOOKUP($A23&$C23&$D23&T$3,'SUA Data'!$D:$D&'SUA Data'!$H:$H&'SUA Data'!$J:$J&'SUA Data'!$F:$F,'SUA Data'!$M:$M)","v":{"$error":"#N/A"}},{"$f":"_xlfn.XLOOKUP($A23&$C23&$D23&V$3,'SUA Data'!$D:$D&'SUA Data'!$H:$H&'SUA Data'!$J:$J&'SUA Data'!$F:$F,'SUA Data'!$L:$L)","v":629.66},{"$f":"_xlfn.XLOOKUP($A23&$C23&$D23&V$3,'SUA Data'!$D:$D&'SUA Data'!$H:$H&'SUA Data'!$J:$J&'SUA Data'!$F:$F,'SUA Data'!$M:$M)","v":"E"},472.245,"AE"]
["Netherlands","Avocados","Avocados",2022,{"$f":"_xlfn.XLOOKUP($A24&$C24&$D24&$E$3,'SUA Data'!$D:$D&'SUA Data'!$H:$H&'SUA Data'!$J:$J&'SUA Data'!$F:$F,'SUA Data'!$L:$L)","v":0},{"$f":"_xlfn.XLOOKUP($A24&$C24&$D24&$E$3,'SUA Data'!$D:$D&'SUA Data'!$H:$H&'SUA Data'!$J:$J&'SUA Data'!$F:$F,'SUA Data'!$M:$M)","v":"A"},{"$f":"_xlfn.XLOOKUP($A24&$C24&$D24&G$3,'SUA Data'!$D:$D&'SUA Data'!$H:$H&'SUA Data'!$J:$J&'SUA Data'!$F:$F,'SUA Data'!$L:$L)","v":462400.15},{"$f":"_xlfn.XLOOKUP($A24&$C24&$D24&G$3,'SUA Data'!$D:$D&'SUA Data'!$H:$H&'SUA Data'!$J:$J&'SUA Data'!$F:$F,'SUA Data'!$M:$M)","v":"A"},{"$f":"_xlfn.XLOOKUP($A24&$C24&$D24&I$3,'SUA Data'!$D:$D&'SUA Data'!$H:$H&'SUA Data'!$J:$J&'SUA Data'!$F:$F,'SUA Data'!$L:$L)","v":417770.15},{"$f":"_xlfn.XLOOKUP($A24&$C24&$D24&I$3,'SUA Data'!$D:$D&'SUA Data'!$H:$H&'SUA Data'!$J:$J&'SUA Data'!$F:$F,'SUA Data'!$M:$M)","v":"A"},0,{"$f":"_xlfn.XLOOKUP($A24&$C24&$D24&\"Loss\",'SUA Data'!$D:$D&'SUA Data'!$H:$H&'SUA Data'!$J:$J&'SUA Data'!$F:$F,'SUA Data'!$L:$L)","v":9248},{"$f":"_xlfn.XLOOKUP($A24&$C24&$D24&\"Loss\",'SUA Data'!$D:$D&'SUA Data'!$H:$H&'SUA Data'!$J:$J&'SUA Data'!$F:$F,'SUA Data'!$M:$M)","v":"I"},{"$f":"'FFV Coefficients'!$AQ$6","v":0.25},{"$f":"IF(ISNUMBER(N24),N24,'FFV Coefficients'!$H$7)","v":0.25},9248,"AE",{"$f":"_xlfn.XLOOKUP($A24&$C24&$D24&R$3,'SUA Data'!$D:$D&'SUA Data'!$H:$H&'SUA Data'!$J:$J&'SUA Data'!$F:$F,'SUA Data'!$L:$L)","v":0},{"$f":"_xlfn.XLOOKUP($A24&$C24&$D24&R$3,'SUA Data'!$D:$D&'SUA Data'!$H:$H&'SUA Data'!$J:$J&'SUA Data'!$F:$F,'SUA Data'!$M:$M)","v":"I"},{"$f":"_xlfn.XLOOKUP($A24&$C24&$D24&T$3,'SUA Data'!$D:$D&'SUA Data'!$H:$H&'SUA Data'!$J:$J&'SUA Data'!$F:$F,'SUA Data'!$L:$L)","v":{"$error":"#N/A"}},{"$f":"_xlfn.XLOOKUP($A24&$C24&$D24&T$3,'SUA Data'!$D:$D&'SUA Data'!$H:$H&'SUA Data'!$J:$J&'SUA Data'!$F:$F,'SUA Data'!$M:$M)","v":{"$error":"#N/A"}},{"$f":"_xlfn.XLOOKUP($A24&$C24&$D24&V$3,'SUA Data'!$D:$D&'SUA Data'!$H:$H&'SUA Data'!$J:$J&'SUA Data'!$F:$F,'SUA Data'!$L:$L)","v":35382},{"$f":"_xlfn.XLOOKUP($A24&$C24&$D24&V$3,'SUA Data'!$D:$D&'SUA Data'!$H:$H&'SUA Data'!$J:$J&'SUA Data'!$F:$F,'SUA Data'!$M:$M)","v":"E"},26536.5,"AE"]
["Norway","Avocados","Avocados",2022,{"$f":"_xlfn.XLOOKUP($A25&$C25&$D25&$E$3,'SUA Data'!$D:$D&'SUA Data'!$H:$H&'SUA Data'!$J:$J&'SUA Data'!$F:$F,'SUA Data'!$L:$L)","v":{"$error":"#N/A"}},{"$f":"_xlfn.XLOOKUP($A25&$C25&$D25&$E$3,'SUA Data'!$D:$D&'SUA Data'!$H:$H&'SUA Data'!$J:$J&'SUA Data'!$F:$F,'SUA Data'!$M:$M)","v":{"$error":"#N/A"}},{"$f":"_xlfn.XLOOKUP($A25&$C25&$D25&G$3,'SUA Data'!$D:$D&'SUA Data'!$H:$H&'SUA Data'!$J:$J&'SUA Data'!$F:$F,'SUA Data'!$L:$L)","v":14880.75},{"$f":"_xlfn.XLOOKUP($A25&$C25&$D25&G$3,'SUA Data'!$D:$D&'SUA Data'!$H:$H&'SUA Data'!$J:$J&'SUA Data'!$F:$F,'SUA Data'!$M:$M)","v":"A"},{"$f":"_xlfn.XLOOKUP($A25&$C25&$D25&I$3,'SUA Data'!$D:$D&'SUA Data'!$H:$H&'SUA Data'!$J:$J&'SUA Data'!$F:$F,'SUA Data'!$L:$L)","v":{"$error":"#N/A"}},{"$f":"_xlfn.XLOOKUP($A25&$C25&$D25&I$3,'SUA Data'!$D:$D&'SUA Data'!$H:$H&'SUA Data'!$J:$J&'SUA Data'!$F:$F,'SUA Data'!$M:$M)","v":{"$error":"#N/A"}},0,{"$f":"_xlfn.XLOOKUP($A25&$C25&$D25&\"Loss\",'SUA Data'!$D:$D&'SUA Data'!$H:$H&'SUA Data'!$J:$J&'SUA Data'!$F:$F,'SUA Data'!$L:$L)","v":744.04},{"$f":"_xlfn.XLOOKUP($A25&$C25&$D25&\"Loss\",'SUA Data'!$D:$D&'SUA Data'!$H:$H&'SUA Data'!$J:$J&'SUA Data'!$F:$F,'SUA Data'!$M:$M)","v":"I"},{"$f":"'FFV Coefficients'!$AQ$6","v":0.25},{"$f":"IF(ISNUMBER(N25),N25,'FFV Coefficients'!$H$7)","v":0.25},744.04,"AE",{"$f":"_xlfn.XLOOKUP($A25&$C25&$D25&R$3,'SUA Data'!$D:$D&'SUA Data'!$H:$H&'SUA Data'!$J:$J&'SUA Data'!$F:$F,'SUA Data'!$L:$L)","v":0},{"$f":"_xlfn.XLOOKUP($A25&$C25&$D25&R$3,'SUA Data'!$D:$D&'SUA Data'!$H:$H&'SUA Data'!$J:$J&'SUA Data'!$F:$F,'SUA Data'!$M:$M)","v":"I"},{"$f":"_xlfn.XLOOKUP($A25&$C25&$D25&T$3,'SUA Data'!$D:$D&'SUA Data'!$H:$H&'SUA Data'!$J:$J&'SUA Data'!$F:$F,'SUA Data'!$L:$L)","v":{"$error":"#N/A"}},{"$f":"_xlfn.XLOOKUP($A25&$C25&$D25&T$3,'SUA Data'!$D:$D&'SUA Data'!$H:$H&'SUA Data'!$J:$J&'SUA Data'!$F:$F,'SUA Data'!$M:$M)","v":{"$error":"#N/A"}},{"$f":"_xlfn.XLOOKUP($A25&$C25&$D25&V$3,'SUA Data'!$D:$D&'SUA Data'!$H:$H&'SUA Data'!$J:$J&'SUA Data'!$F:$F,'SUA Data'!$L:$L)","v":14136.71},{"$f":"_xlfn.XLOOKUP($A25&$C25&$D25&V$3,'SUA Data'!$D:$D&'SUA Data'!$H:$H&'SUA Data'!$J:$J&'SUA Data'!$F:$F,'SUA Data'!$M:$M)","v":"E"},10602.532499999999,"AE"]
["Poland","Avocados","Avocados",2022,{"$f":"_xlfn.XLOOKUP($A26&$C26&$D26&$E$3,'SUA Data'!$D:$D&'SUA Data'!$H:$H&'SUA Data'!$J:$J&'SUA Data'!$F:$F,'SUA Data'!$L:$L)","v":0},{"$f":"_xlfn.XLOOKUP($A26&$C26&$D26&$E$3,'SUA Data'!$D:$D&'SUA Data'!$H:$H&'SUA Data'!$J:$J&'SUA Data'!$F:$F,'SUA Data'!$M:$M)","v":"A"},{"$f":"_xlfn.XLOOKUP($A26&$C26&$D26&G$3,'SUA Data'!$D:$D&'SUA Data'!$H:$H&'SUA Data'!$J:$J&'SUA Data'!$F:$F,'SUA Data'!$L:$L)","v":32862.36},{"$f":"_xlfn.XLOOKUP($A26&$C26&$D26&G$3,'SUA Data'!$D:$D&'SUA Data'!$H:$H&'SUA Data'!$J:$J&'SUA Data'!$F:$F,'SUA Data'!$M:$M)","v":"A"},{"$f":"_xlfn.XLOOKUP($A26&$C26&$D26&I$3,'SUA Data'!$D:$D&'SUA Data'!$H:$H&'SUA Data'!$J:$J&'SUA Data'!$F:$F,'SUA Data'!$L:$L)","v":6703.1},{"$f":"_xlfn.XLOOKUP($A26&$C26&$D26&I$3,'SUA Data'!$D:$D&'SUA Data'!$H:$H&'SUA Data'!$J:$J&'SUA Data'!$F:$F,'SUA Data'!$M:$M)","v":"A"},0,{"$f":"_xlfn.XLOOKUP($A26&$C26&$D26&\"Loss\",'SUA Data'!$D:$D&'SUA Data'!$H:$H&'SUA Data'!$J:$J&'SUA Data'!$F:$F,'SUA Data'!$L:$L)","v":985.87},{"$f":"_xlfn.XLOOKUP($A26&$C26&$D26&\"Loss\",'SUA Data'!$D:$D&'SUA Data'!$H:$H&'SUA Data'!$J:$J&'SUA Data'!$F:$F,'SUA Data'!$M:$M)","v":"I"},{"$f":"'FFV Coefficients'!$AQ$6","v":0.25},{"$f":"IF(ISNUMBER(N26),N26,'FFV Coefficients'!$H$7)","v":0.25},985.87,"AE",{"$f":"_xlfn.XLOOKUP($A26&$C26&$D26&R$3,'SUA Data'!$D:$D&'SUA Data'!$H:$H&'SUA Data'!$J:$J&'SUA Data'!$F:$F,'SUA Data'!$L:$L)","v":0},{"$f":"_xlfn.XLOOKUP($A26&$C26&$D26&R$3,'SUA Data'!$D:$D&'SUA Data'!$H:$H&'SUA Data'!$J:$J&'SUA Data'!$F:$F,'SUA Data'!$M:$M)","v":"I"},{"$f":"_xlfn.XLOOKUP($A26&$C26&$D26&T$3,'SUA Data'!$D:$D&'SUA Data'!$H:$H&'SUA Data'!$J:$J&'SUA Data'!$F:$F,'SUA Data'!$L:$L)","v":{"$error":"#N/A"}},{"$f":"_xlfn.XLOOKUP($A26&$C26&$D26&T$3,'SUA Data'!$D:$D&'SUA Data'!$H:$H&'SUA Data'!$J:$J&'SUA Data'!$F:$F,'SUA Data'!$M:$M)","v":{"$error":"#N/A"}},{"$f":"_xlfn.XLOOKUP($A26&$C26&$D26&V$3,'SUA Data'!$D:$D&'SUA Data'!$H:$H&'SUA Data'!$J:$J&'SUA Data'!$F:$F,'SUA Data'!$L:$L)","v":25173.4},{"$f":"_xlfn.XLOOKUP($A26&$C26&$D26&V$3,'SUA Data'!$D:$D&'SUA Data'!$H:$H&'SUA Data'!$J:$J&'SUA Data'!$F:$F,'SUA Data'!$M:$M)","v":"E"},18880.050000000003,"AE"]
["Portugal","Avocados","Avocados",2022,{"$f":"_xlfn.XLOOKUP($A27&$C27&$D27&$E$3,'SUA Data'!$D:$D&'SUA Data'!$H:$H&'SUA Data'!$J:$J&'SUA Data'!$F:$F,'SUA Data'!$L:$L)","v":25790},{"$f":"_xlfn.XLOOKUP($A27&$C27&$D27&$E$3,'SUA Data'!$D:$D&'SUA Data'!$H:$H&'SUA Data'!$J:$J&'SUA Data'!$F:$F,'SUA Data'!$M:$M)","v":"A"},{"$f":"_xlfn.XLOOKUP($A27&$C27&$D27&G$3,'SUA Data'!$D:$D&'SUA Data'!$H:$H&'SUA Data'!$J:$J&'SUA Data'!$F:$F,'SUA Data'!$L:$L)","v":8998.6},{"$f":"_xlfn.XLOOKUP($A27&$C27&$D27&G$3,'SUA Data'!$D:$D&'SUA Data'!$H:$H&'SUA Data'!$J:$J&'SUA Data'!$F:$F,'SUA Data'!$M:$M)","v":"A"},{"$f":"_xlfn.XLOOKUP($A27&$C27&$D27&I$3,'SUA Data'!$D:$D&'SUA Data'!$H:$H&'SUA Data'!$J:$J&'SUA Data'!$F:$F,'SUA Data'!$L:$L)","v":9760.5400000000009},{"$f":"_xlfn.XLOOKUP($A27&$C27&$D27&I$3,'SUA Data'!$D:$D&'SUA Data'!$H:$H&'SUA Data'!$J:$J&'SUA Data'!$F:$F,'SUA Data'!$M:$M)","v":"A"},0.74133480507982508,{"$f":"_xlfn.XLOOKUP($A27&$C27&$D27&\"Loss\",'SUA Data'!$D:$D&'SUA Data'!$H:$H&'SUA Data'!$J:$J&'SUA Data'!$F:$F,'SUA Data'!$L:$L)","v":{"$error":"#N/A"}},{"$f":"_xlfn.XLOOKUP($A27&$C27&$D27&\"Loss\",'SUA Data'!$D:$D&'SUA Data'!$H:$H&'SUA Data'!$J:$J&'SUA Data'!$F:$F,'SUA Data'!$M:$M)","v":{"$error":"#N/A"}},{"$f":"'FFV Coefficients'!$AQ$6","v":0.25},{"$f":"IF(ISNUMBER(N27),N27,'FFV Coefficients'!$H$7)","v":0.25},{"$error":"#N/A"},"AE",{"$f":"_xlfn.XLOOKUP($A27&$C27&$D27&R$3,'SUA Data'!$D:$D&'SUA Data'!$H:$H&'SUA Data'!$J:$J&'SUA Data'!$F:$F,'SUA Data'!$L:$L)","v":0},{"$f":"_xlfn.XLOOKUP($A27&$C27&$D27&R$3,'SUA Data'!$D:$D&'SUA Data'!$H:$H&'SUA Data'!$J:$J&'SUA Data'!$F:$F,'SUA Data'!$M:$M)","v":"I"},{"$f":"_xlfn.XLOOKUP($A27&$C27&$D27&T$3,'SUA Data'!$D:$D&'SUA Data'!$H:$H&'SUA Data'!$J:$J&'SUA Data'!$F:$F,'SUA Data'!$L:$L)","v":{"$error":"#N/A"}},{"$f":"_xlfn.XLOOKUP($A27&$C27&$D27&T$3,'SUA Data'!$D:$D&'SUA Data'!$H:$H&'SUA Data'!$J:$J&'SUA Data'!$F:$F,'SUA Data'!$M:$M)","v":{"$error":"#N/A"}},{"$f":"_xlfn.XLOOKUP($A27&$C27&$D27&V$3,'SUA Data'!$D:$D&'SUA Data'!$H:$H&'SUA Data'!$J:$J&'SUA Data'!$F:$F,'SUA Data'!$L:$L)","v":25028.06},{"$f":"_xlfn.XLOOKUP($A27&$C27&$D27&V$3,'SUA Data'!$D:$D&'SUA Data'!$H:$H&'SUA Data'!$J:$J&'SUA Data'!$F:$F,'SUA Data'!$M:$M)","v":"E"},18771.045000000002,"AE"]
["Romania","Avocados","Avocados",2022,{"$f":"_xlfn.XLOOKUP($A28&$C28&$D28&$E$3,'SUA Data'!$D:$D&'SUA Data'!$H:$H&'SUA Data'!$J:$J&'SUA Data'!$F:$F,'SUA Data'!$L:$L)","v":0},{"$f":"_xlfn.XLOOKUP($A28&$C28&$D28&$E$3,'SUA Data'!$D:$D&'SUA Data'!$H:$H&'SUA Data'!$J:$J&'SUA Data'!$F:$F,'SUA Data'!$M:$M)","v":"A"},{"$f":"_xlfn.XLOOKUP($A28&$C28&$D28&G$3,'SUA Data'!$D:$D&'SUA Data'!$H:$H&'SUA Data'!$J:$J&'SUA Data'!$F:$F,'SUA Data'!$L:$L)","v":13053.05},{"$f":"_xlfn.XLOOKUP($A28&$C28&$D28&G$3,'SUA Data'!$D:$D&'SUA Data'!$H:$H&'SUA Data'!$J:$J&'SUA Data'!$F:$F,'SUA Data'!$M:$M)","v":"A"},{"$f":"_xlfn.XLOOKUP($A28&$C28&$D28&I$3,'SUA Data'!$D:$D&'SUA Data'!$H:$H&'SUA Data'!$J:$J&'SUA Data'!$F:$F,'SUA Data'!$L:$L)","v":{"$error":"#N/A"}},{"$f":"_xlfn.XLOOKUP($A28&$C28&$D28&I$3,'SUA Data'!$D:$D&'SUA Data'!$H:$H&'SUA Data'!$J:$J&'SUA Data'!$F:$F,'SUA Data'!$M:$M)","v":{"$error":"#N/A"}},0,{"$f":"_xlfn.XLOOKUP($A28&$C28&$D28&\"Loss\",'SUA Data'!$D:$D&'SUA Data'!$H:$H&'SUA Data'!$J:$J&'SUA Data'!$F:$F,'SUA Data'!$L:$L)","v":{"$error":"#N/A"}},{"$f":"_xlfn.XLOOKUP($A28&$C28&$D28&\"Loss\",'SUA Data'!$D:$D&'SUA Data'!$H:$H&'SUA Data'!$J:$J&'SUA Data'!$F:$F,'SUA Data'!$M:$M)","v":{"$error":"#N/A"}},{"$f":"'FFV Coefficients'!$AQ$6","v":0.25},{"$f":"IF(ISNUMBER(N28),N28,'FFV Coefficients'!$H$7)","v":0.25},{"$error":"#N/A"},"AE",{"$f":"_xlfn.XLOOKUP($A28&$C28&$D28&R$3,'SUA Data'!$D:$D&'SUA Data'!$H:$H&'SUA Data'!$J:$J&'SUA Data'!$F:$F,'SUA Data'!$L:$L)","v":0},{"$f":"_xlfn.XLOOKUP($A28&$C28&$D28&R$3,'SUA Data'!$D:$D&'SUA Data'!$H:$H&'SUA Data'!$J:$J&'SUA Data'!$F:$F,'SUA Data'!$M:$M)","v":"I"},{"$f":"_xlfn.XLOOKUP($A28&$C28&$D28&T$3,'SUA Data'!$D:$D&'SUA Data'!$H:$H&'SUA Data'!$J:$J&'SUA Data'!$F:$F,'SUA Data'!$L:$L)","v":{"$error":"#N/A"}},{"$f":"_xlfn.XLOOKUP($A28&$C28&$D28&T$3,'SUA Data'!$D:$D&'SUA Data'!$H:$H&'SUA Data'!$J:$J&'SUA Data'!$F:$F,'SUA Data'!$M:$M)","v":{"$error":"#N/A"}},{"$f":"_xlfn.XLOOKUP($A28&$C28&$D28&V$3,'SUA Data'!$D:$D&'SUA Data'!$H:$H&'SUA Data'!$J:$J&'SUA Data'!$F:$F,'SUA Data'!$L:$L)","v":13053.05},{"$f":"_xlfn.XLOOKUP($A28&$C28&$D28&V$3,'SUA Data'!$D:$D&'SUA Data'!$H:$H&'SUA Data'!$J:$J&'SUA Data'!$F:$F,'SUA Data'!$M:$M)","v":"E"},9789.7874999999985,"AE"]
["Slovakia","Avocados","Avocados",2022,{"$f":"_xlfn.XLOOKUP($A29&$C29&$D29&$E$3,'SUA Data'!$D:$D&'SUA Data'!$H:$H&'SUA Data'!$J:$J&'SUA Data'!$F:$F,'SUA Data'!$L:$L)","v":0},{"$f":"_xlfn.XLOOKUP($A29&$C29&$D29&$E$3,'SUA Data'!$D:$D&'SUA Data'!$H:$H&'SUA Data'!$J:$J&'SUA Data'!$F:$F,'SUA Data'!$M:$M)","v":"A"},{"$f":"_xlfn.XLOOKUP($A29&$C29&$D29&G$3,'SUA Data'!$D:$D&'SUA Data'!$H:$H&'SUA Data'!$J:$J&'SUA Data'!$F:$F,'SUA Data'!$L:$L)","v":2851.69},{"$f":"_xlfn.XLOOKUP($A29&$C29&$D29&G$3,'SUA Data'!$D:$D&'SUA Data'!$H:$H&'SUA Data'!$J:$J&'SUA Data'!$F:$F,'SUA Data'!$M:$M)","v":"A"},{"$f":"_xlfn.XLOOKUP($A29&$C29&$D29&I$3,'SUA Data'!$D:$D&'SUA Data'!$H:$H&'SUA Data'!$J:$J&'SUA Data'!$F:$F,'SUA Data'!$L:$L)","v":34.380000000000003},{"$f":"_xlfn.XLOOKUP($A29&$C29&$D29&I$3,'SUA Data'!$D:$D&'SUA Data'!$H:$H&'SUA Data'!$J:$J&'SUA Data'!$F:$F,'SUA Data'!$M:$M)","v":"A"},0,{"$f":"_xlfn.XLOOKUP($A29&$C29&$D29&\"Loss\",'SUA Data'!$D:$D&'SUA Data'!$H:$H&'SUA Data'!$J:$J&'SUA Data'!$F:$F,'SUA Data'!$L:$L)","v":{"$error":"#N/A"}},{"$f":"_xlfn.XLOOKUP($A29&$C29&$D29&\"Loss\",'SUA Data'!$D:$D&'SUA Data'!$H:$H&'SUA Data'!$J:$J&'SUA Data'!$F:$F,'SUA Data'!$M:$M)","v":{"$error":"#N/A"}},{"$f":"'FFV Coefficients'!$AQ$6","v":0.25},{"$f":"IF(ISNUMBER(N29),N29,'FFV Coefficients'!$H$7)","v":0.25},{"$error":"#N/A"},"AE",{"$f":"_xlfn.XLOOKUP($A29&$C29&$D29&R$3,'SUA Data'!$D:$D&'SUA Data'!$H:$H&'SUA Data'!$J:$J&'SUA Data'!$F:$F,'SUA Data'!$L:$L)","v":0},{"$f":"_xlfn.XLOOKUP($A29&$C29&$D29&R$3,'SUA Data'!$D:$D&'SUA Data'!$H:$H&'SUA Data'!$J:$J&'SUA Data'!$F:$F,'SUA Data'!$M:$M)","v":"I"},{"$f":"_xlfn.XLOOKUP($A29&$C29&$D29&T$3,'SUA Data'!$D:$D&'SUA Data'!$H:$H&'SUA Data'!$J:$J&'SUA Data'!$F:$F,'SUA Data'!$L:$L)","v":{"$error":"#N/A"}},{"$f":"_xlfn.XLOOKUP($A29&$C29&$D29&T$3,'SUA Data'!$D:$D&'SUA Data'!$H:$H&'SUA Data'!$J:$J&'SUA Data'!$F:$F,'SUA Data'!$M:$M)","v":{"$error":"#N/A"}},{"$f":"_xlfn.XLOOKUP($A29&$C29&$D29&V$3,'SUA Data'!$D:$D&'SUA Data'!$H:$H&'SUA Data'!$J:$J&'SUA Data'!$F:$F,'SUA Data'!$L:$L)","v":2817.32},{"$f":"_xlfn.XLOOKUP($A29&$C29&$D29&V$3,'SUA Data'!$D:$D&'SUA Data'!$H:$H&'SUA Data'!$J:$J&'SUA Data'!$F:$F,'SUA Data'!$M:$M)","v":"E"},2112.9900000000002,"AE"]
["Slovenia","Avocados","Avocados",2022,{"$f":"_xlfn.XLOOKUP($A30&$C30&$D30&$E$3,'SUA Data'!$D:$D&'SUA Data'!$H:$H&'SUA Data'!$J:$J&'SUA Data'!$F:$F,'SUA Data'!$L:$L)","v":0},{"$f":"_xlfn.XLOOKUP($A30&$C30&$D30&$E$3,'SUA Data'!$D:$D&'SUA Data'!$H:$H&'SUA Data'!$J:$J&'SUA Data'!$F:$F,'SUA Data'!$M:$M)","v":"A"},{"$f":"_xlfn.XLOOKUP($A30&$C30&$D30&G$3,'SUA Data'!$D:$D&'SUA Data'!$H:$H&'SUA Data'!$J:$J&'SUA Data'!$F:$F,'SUA Data'!$L:$L)","v":11831.5},{"$f":"_xlfn.XLOOKUP($A30&$C30&$D30&G$3,'SUA Data'!$D:$D&'SUA Data'!$H:$H&'SUA Data'!$J:$J&'SUA Data'!$F:$F,'SUA Data'!$M:$M)","v":"A"},{"$f":"_xlfn.XLOOKUP($A30&$C30&$D30&I$3,'SUA Data'!$D:$D&'SUA Data'!$H:$H&'SUA Data'!$J:$J&'SUA Data'!$F:$F,'SUA Data'!$L:$L)","v":8936.5},{"$f":"_xlfn.XLOOKUP($A30&$C30&$D30&I$3,'SUA Data'!$D:$D&'SUA Data'!$H:$H&'SUA Data'!$J:$J&'SUA Data'!$F:$F,'SUA Data'!$M:$M)","v":"A"},0,{"$f":"_xlfn.XLOOKUP($A30&$C30&$D30&\"Loss\",'SUA Data'!$D:$D&'SUA Data'!$H:$H&'SUA Data'!$J:$J&'SUA Data'!$F:$F,'SUA Data'!$L:$L)","v":473.26},{"$f":"_xlfn.XLOOKUP($A30&$C30&$D30&\"Loss\",'SUA Data'!$D:$D&'SUA Data'!$H:$H&'SUA Data'!$J:$J&'SUA Data'!$F:$F,'SUA Data'!$M:$M)","v":"I"},{"$f":"'FFV Coefficients'!$AQ$6","v":0.25},{"$f":"IF(ISNUMBER(N30),N30,'FFV Coefficients'!$H$7)","v":0.25},473.26,"AE",{"$f":"_xlfn.XLOOKUP($A30&$C30&$D30&R$3,'SUA Data'!$D:$D&'SUA Data'!$H:$H&'SUA Data'!$J:$J&'SUA Data'!$F:$F,'SUA Data'!$L:$L)","v":0},{"$f":"_xlfn.XLOOKUP($A30&$C30&$D30&R$3,'SUA Data'!$D:$D&'SUA Data'!$H:$H&'SUA Data'!$J:$J&'SUA Data'!$F:$F,'SUA Data'!$M:$M)","v":"I"},{"$f":"_xlfn.XLOOKUP($A30&$C30&$D30&T$3,'SUA Data'!$D:$D&'SUA Data'!$H:$H&'SUA Data'!$J:$J&'SUA Data'!$F:$F,'SUA Data'!$L:$L)","v":{"$error":"#N/A"}},{"$f":"_xlfn.XLOOKUP($A30&$C30&$D30&T$3,'SUA Data'!$D:$D&'SUA Data'!$H:$H&'SUA Data'!$J:$J&'SUA Data'!$F:$F,'SUA Data'!$M:$M)","v":{"$error":"#N/A"}},{"$f":"_xlfn.XLOOKUP($A30&$C30&$D30&V$3,'SUA Data'!$D:$D&'SUA Data'!$H:$H&'SUA Data'!$J:$J&'SUA Data'!$F:$F,'SUA Data'!$L:$L)","v":2421.7399999999998},{"$f":"_xlfn.XLOOKUP($A30&$C30&$D30&V$3,'SUA Data'!$D:$D&'SUA Data'!$H:$H&'SUA Data'!$J:$J&'SUA Data'!$F:$F,'SUA Data'!$M:$M)","v":"E"},1816.3049999999998,"AE"]
["Spain","Avocados","Avocados",2022,{"$f":"_xlfn.XLOOKUP($A31&$C31&$D31&$E$3,'SUA Data'!$D:$D&'SUA Data'!$H:$H&'SUA Data'!$J:$J&'SUA Data'!$F:$F,'SUA Data'!$L:$L)","v":105930},{"$f":"_xlfn.XLOOKUP($A31&$C31&$D31&$E$3,'SUA Data'!$D:$D&'SUA Data'!$H:$H&'SUA Data'!$J:$J&'SUA Data'!$F:$F,'SUA Data'!$M:$M)","v":"A"},{"$f":"_xlfn.XLOOKUP($A31&$C31&$D31&G$3,'SUA Data'!$D:$D&'SUA Data'!$H:$H&'SUA Data'!$J:$J&'SUA Data'!$F:$F,'SUA Data'!$L:$L)","v":208576.55},{"$f":"_xlfn.XLOOKUP($A31&$C31&$D31&G$3,'SUA Data'!$D:$D&'SUA Data'!$H:$H&'SUA Data'!$J:$J&'SUA Data'!$F:$F,'SUA Data'!$M:$M)","v":"A"},{"$f":"_xlfn.XLOOKUP($A31&$C31&$D31&I$3,'SUA Data'!$D:$D&'SUA Data'!$H:$H&'SUA Data'!$J:$J&'SUA Data'!$F:$F,'SUA Data'!$L:$L)","v":149917.04},{"$f":"_xlfn.XLOOKUP($A31&$C31&$D31&I$3,'SUA Data'!$D:$D&'SUA Data'!$H:$H&'SUA Data'!$J:$J&'SUA Data'!$F:$F,'SUA Data'!$M:$M)","v":"A"},0.336813335048189,{"$f":"_xlfn.XLOOKUP($A31&$C31&$D31&\"Loss\",'SUA Data'!$D:$D&'SUA Data'!$H:$H&'SUA Data'!$J:$J&'SUA Data'!$F:$F,'SUA Data'!$L:$L)","v":37740.79},{"$f":"_xlfn.XLOOKUP($A31&$C31&$D31&\"Loss\",'SUA Data'!$D:$D&'SUA Data'!$H:$H&'SUA Data'!$J:$J&'SUA Data'!$F:$F,'SUA Data'!$M:$M)","v":"I"},{"$f":"'FFV Coefficients'!$AQ$6","v":0.25},{"$f":"IF(ISNUMBER(N31),N31,'FFV Coefficients'!$H$7)","v":0.25},37740.79,"AE",{"$f":"_xlfn.XLOOKUP($A31&$C31&$D31&R$3,'SUA Data'!$D:$D&'SUA Data'!$H:$H&'SUA Data'!$J:$J&'SUA Data'!$F:$F,'SUA Data'!$L:$L)","v":0},{"$f":"_xlfn.XLOOKUP($A31&$C31&$D31&R$3,'SUA Data'!$D:$D&'SUA Data'!$H:$H&'SUA Data'!$J:$J&'SUA Data'!$F:$F,'SUA Data'!$M:$M)","v":"I"},{"$f":"_xlfn.XLOOKUP($A31&$C31&$D31&T$3,'SUA Data'!$D:$D&'SUA Data'!$H:$H&'SUA Data'!$J:$J&'SUA Data'!$F:$F,'SUA Data'!$L:$L)","v":{"$error":"#N/A"}},{"$f":"_xlfn.XLOOKUP($A31&$C31&$D31&T$3,'SUA Data'!$D:$D&'SUA Data'!$H:$H&'SUA Data'!$J:$J&'SUA Data'!$F:$F,'SUA Data'!$M:$M)","v":{"$error":"#N/A"}},{"$f":"_xlfn.XLOOKUP($A31&$C31&$D31&V$3,'SUA Data'!$D:$D&'SUA Data'!$H:$H&'SUA Data'!$J:$J&'SUA Data'!$F:$F,'SUA Data'!$L:$L)","v":126848.73},{"$f":"_xlfn.XLOOKUP($A31&$C31&$D31&V$3,'SUA Data'!$D:$D&'SUA Data'!$H:$H&'SUA Data'!$J:$J&'SUA Data'!$F:$F,'SUA Data'!$M:$M)","v":"E"},95136.547500000001,"AE"]
["Sweden","Avocados","Avocados",2022,{"$f":"_xlfn.XLOOKUP($A32&$C32&$D32&$E$3,'SUA Data'!$D:$D&'SUA Data'!$H:$H&'SUA Data'!$J:$J&'SUA Data'!$F:$F,'SUA Data'!$L:$L)","v":0},{"$f":"_xlfn.XLOOKUP($A32&$C32&$D32&$E$3,'SUA Data'!$D:$D&'SUA Data'!$H:$H&'SUA Data'!$J:$J&'SUA Data'!$F:$F,'SUA Data'!$M:$M)","v":"A"},{"$f":"_xlfn.XLOOKUP($A32&$C32&$D32&G$3,'SUA Data'!$D:$D&'SUA Data'!$H:$H&'SUA Data'!$J:$J&'SUA Data'!$F:$F,'SUA Data'!$L:$L)","v":19375.009999999998},{"$f":"_xlfn.XLOOKUP($A32&$C32&$D32&G$3,'SUA Data'!$D:$D&'SUA Data'!$H:$H&'SUA Data'!$J:$J&'SUA Data'!$F:$F,'SUA Data'!$M:$M)","v":"A"},{"$f":"_xlfn.XLOOKUP($A32&$C32&$D32&I$3,'SUA Data'!$D:$D&'SUA Data'!$H:$H&'SUA Data'!$J:$J&'SUA Data'!$F:$F,'SUA Data'!$L:$L)","v":138.86000000000001},{"$f":"_xlfn.XLOOKUP($A32&$C32&$D32&I$3,'SUA Data'!$D:$D&'SUA Data'!$H:$H&'SUA Data'!$J:$J&'SUA Data'!$F:$F,'SUA Data'!$M:$M)","v":"A"},0,{"$f":"_xlfn.XLOOKUP($A32&$C32&$D32&\"Loss\",'SUA Data'!$D:$D&'SUA Data'!$H:$H&'SUA Data'!$J:$J&'SUA Data'!$F:$F,'SUA Data'!$L:$L)","v":1937.5},{"$f":"_xlfn.XLOOKUP($A32&$C32&$D32&\"Loss\",'SUA Data'!$D:$D&'SUA Data'!$H:$H&'SUA Data'!$J:$J&'SUA Data'!$F:$F,'SUA Data'!$M:$M)","v":"I"},{"$f":"'FFV Coefficients'!$AQ$6","v":0.25},{"$f":"IF(ISNUMBER(N32),N32,'FFV Coefficients'!$H$7)","v":0.25},1937.5,"AE",{"$f":"_xlfn.XLOOKUP($A32&$C32&$D32&R$3,'SUA Data'!$D:$D&'SUA Data'!$H:$H&'SUA Data'!$J:$J&'SUA Data'!$F:$F,'SUA Data'!$L:$L)","v":0},{"$f":"_xlfn.XLOOKUP($A32&$C32&$D32&R$3,'SUA Data'!$D:$D&'SUA Data'!$H:$H&'SUA Data'!$J:$J&'SUA Data'!$F:$F,'SUA Data'!$M:$M)","v":"I"},{"$f":"_xlfn.XLOOKUP($A32&$C32&$D32&T$3,'SUA Data'!$D:$D&'SUA Data'!$H:$H&'SUA Data'!$J:$J&'SUA Data'!$F:$F,'SUA Data'!$L:$L)","v":{"$error":"#N/A"}},{"$f":"_xlfn.XLOOKUP($A32&$C32&$D32&T$3,'SUA Data'!$D:$D&'SUA Data'!$H:$H&'SUA Data'!$J:$J&'SUA Data'!$F:$F,'SUA Data'!$M:$M)","v":{"$error":"#N/A"}},{"$f":"_xlfn.XLOOKUP($A32&$C32&$D32&V$3,'SUA Data'!$D:$D&'SUA Data'!$H:$H&'SUA Data'!$J:$J&'SUA Data'!$F:$F,'SUA Data'!$L:$L)","v":17298.650000000001},{"$f":"_xlfn.XLOOKUP($A32&$C32&$D32&V$3,'SUA Data'!$D:$D&'SUA Data'!$H:$H&'SUA Data'!$J:$J&'SUA Data'!$F:$F,'SUA Data'!$M:$M)","v":"E"},12973.987500000001,"AE"]
["Switzerland","Avocados","Avocados",2022,{"$f":"_xlfn.XLOOKUP($A33&$C33&$D33&$E$3,'SUA Data'!$D:$D&'SUA Data'!$H:$H&'SUA Data'!$J:$J&'SUA Data'!$F:$F,'SUA Data'!$L:$L)","v":{"$error":"#N/A"}},{"$f":"_xlfn.XLOOKUP($A33&$C33&$D33&$E$3,'SUA Data'!$D:$D&'SUA Data'!$H:$H&'SUA Data'!$J:$J&'SUA Data'!$F:$F,'SUA Data'!$M:$M)","v":{"$error":"#N/A"}},{"$f":"_xlfn.XLOOKUP($A33&$C33&$D33&G$3,'SUA Data'!$D:$D&'SUA Data'!$H:$H&'SUA Data'!$J:$J&'SUA Data'!$F:$F,'SUA Data'!$L:$L)","v":19233.099999999999},{"$f":"_xlfn.XLOOKUP($A33&$C33&$D33&G$3,'SUA Data'!$D:$D&'SUA Data'!$H:$H&'SUA Data'!$J:$J&'SUA Data'!$F:$F,'SUA Data'!$M:$M)","v":"A"},{"$f":"_xlfn.XLOOKUP($A33&$C33&$D33&I$3,'SUA Data'!$D:$D&'SUA Data'!$H:$H&'SUA Data'!$J:$J&'SUA Data'!$F:$F,'SUA Data'!$L:$L)","v":28.98},{"$f":"_xlfn.XLOOKUP($A33&$C33&$D33&I$3,'SUA Data'!$D:$D&'SUA Data'!$H:$H&'SUA Data'!$J:$J&'SUA Data'!$F:$F,'SUA Data'!$M:$M)","v":"A"},0,{"$f":"_xlfn.XLOOKUP($A33&$C33&$D33&\"Loss\",'SUA Data'!$D:$D&'SUA Data'!$H:$H&'SUA Data'!$J:$J&'SUA Data'!$F:$F,'SUA Data'!$L:$L)","v":961.65},{"$f":"_xlfn.XLOOKUP($A33&$C33&$D33&\"Loss\",'SUA Data'!$D:$D&'SUA Data'!$H:$H&'SUA Data'!$J:$J&'SUA Data'!$F:$F,'SUA Data'!$M:$M)","v":"I"},{"$f":"'FFV Coefficients'!$AQ$6","v":0.25},{"$f":"IF(ISNUMBER(N33),N33,'FFV Coefficients'!$H$7)","v":0.25},961.65,"AE",{"$f":"_xlfn.XLOOKUP($A33&$C33&$D33&R$3,'SUA Data'!$D:$D&'SUA Data'!$H:$H&'SUA Data'!$J:$J&'SUA Data'!$F:$F,'SUA Data'!$L:$L)","v":0},{"$f":"_xlfn.XLOOKUP($A33&$C33&$D33&R$3,'SUA Data'!$D:$D&'SUA Data'!$H:$H&'SUA Data'!$J:$J&'SUA Data'!$F:$F,'SUA Data'!$M:$M)","v":"I"},{"$f":"_xlfn.XLOOKUP($A33&$C33&$D33&T$3,'SUA Data'!$D:$D&'SUA Data'!$H:$H&'SUA Data'!$J:$J&'SUA Data'!$F:$F,'SUA Data'!$L:$L)","v":{"$error":"#N/A"}},{"$f":"_xlfn.XLOOKUP($A33&$C33&$D33&T$3,'SUA Data'!$D:$D&'SUA Data'!$H:$H&'SUA Data'!$J:$J&'SUA Data'!$F:$F,'SUA Data'!$M:$M)","v":{"$error":"#N/A"}},{"$f":"_xlfn.XLOOKUP($A33&$C33&$D33&V$3,'SUA Data'!$D:$D&'SUA Data'!$H:$H&'SUA Data'!$J:$J&'SUA Data'!$F:$F,'SUA Data'!$L:$L)","v":18242.46},{"$f":"_xlfn.XLOOKUP($A33&$C33&$D33&V$3,'SUA Data'!$D:$D&'SUA Data'!$H:$H&'SUA Data'!$J:$J&'SUA Data'!$F:$F,'SUA Data'!$M:$M)","v":"E"},13681.844999999999,"AE"]
["United Kingdom","Avocados","Avocados",2022,{"$f":"_xlfn.XLOOKUP($A34&$C34&$D34&$E$3,'SUA Data'!$D:$D&'SUA Data'!$H:$H&'SUA Data'!$J:$J&'SUA Data'!$F:$F,'SUA Data'!$L:$L)","v":{"$error":"#N/A"}},{"$f":"_xlfn.XLOOKUP($A34&$C34&$D34&$E$3,'SUA Data'!$D:$D&'SUA Data'!$H:$H&'SUA Data'!$J:$J&'SUA Data'!$F:$F,'SUA Data'!$M:$M)","v":{"$error":"#N/A"}},{"$f":"_xlfn.XLOOKUP($A34&$C34&$D34&G$3,'SUA Data'!$D:$D&'SUA Data'!$H:$H&'SUA Data'!$J:$J&'SUA Data'!$F:$F,'SUA Data'!$L:$L)","v":115914.19},{"$f":"_xlfn.XLOOKUP($A34&$C34&$D34&G$3,'SUA Data'!$D:$D&'SUA Data'!$H:$H&'SUA Data'!$J:$J&'SUA Data'!$F:$F,'SUA Data'!$M:$M)","v":"A"},{"$f":"_xlfn.XLOOKUP($A34&$C34&$D34&I$3,'SUA Data'!$D:$D&'SUA Data'!$H:$H&'SUA Data'!$J:$J&'SUA Data'!$F:$F,'SUA Data'!$L:$L)","v":7514.77},{"$f":"_xlfn.XLOOKUP($A34&$C34&$D34&I$3,'SUA Data'!$D:$D&'SUA Data'!$H:$H&'SUA Data'!$J:$J&'SUA Data'!$F:$F,'SUA Data'!$M:$M)","v":"A"},0,{"$f":"_xlfn.XLOOKUP($A34&$C34&$D34&\"Loss\",'SUA Data'!$D:$D&'SUA Data'!$H:$H&'SUA Data'!$J:$J&'SUA Data'!$F:$F,'SUA Data'!$L:$L)","v":5795.71},{"$f":"_xlfn.XLOOKUP($A34&$C34&$D34&\"Loss\",'SUA Data'!$D:$D&'SUA Data'!$H:$H&'SUA Data'!$J:$J&'SUA Data'!$F:$F,'SUA Data'!$M:$M)","v":"I"},{"$f":"'FFV Coefficients'!$AQ$6","v":0.25},{"$f":"IF(ISNUMBER(N34),N34,'FFV Coefficients'!$H$7)","v":0.25},5795.71,"AE",{"$f":"_xlfn.XLOOKUP($A34&$C34&$D34&R$3,'SUA Data'!$D:$D&'SUA Data'!$H:$H&'SUA Data'!$J:$J&'SUA Data'!$F:$F,'SUA Data'!$L:$L)","v":0},{"$f":"_xlfn.XLOOKUP($A34&$C34&$D34&R$3,'SUA Data'!$D:$D&'SUA Data'!$H:$H&'SUA Data'!$J:$J&'SUA Data'!$F:$F,'SUA Data'!$M:$M)","v":"I"},{"$f":"_xlfn.XLOOKUP($A34&$C34&$D34&T$3,'SUA Data'!$D:$D&'SUA Data'!$H:$H&'SUA Data'!$J:$J&'SUA Data'!$F:$F,'SUA Data'!$L:$L)","v":{"$error":"#N/A"}},{"$f":"_xlfn.XLOOKUP($A34&$C34&$D34&T$3,'SUA Data'!$D:$D&'SUA Data'!$H:$H&'SUA Data'!$J:$J&'SUA Data'!$F:$F,'SUA Data'!$M:$M)","v":{"$error":"#N/A"}},{"$f":"_xlfn.XLOOKUP($A34&$C34&$D34&V$3,'SUA Data'!$D:$D&'SUA Data'!$H:$H&'SUA Data'!$J:$J&'SUA Data'!$F:$F,'SUA Data'!$L:$L)","v":102603.71},{"$f":"_xlfn.XLOOKUP($A34&$C34&$D34&V$3,'SUA Data'!$D:$D&'SUA Data'!$H:$H&'SUA Data'!$J:$J&'SUA Data'!$F:$F,'SUA Data'!$M:$M)","v":"E"},76952.782500000001,"AE"]
["Austria","Bananas","Bananas",2022,{"$f":"_xlfn.XLOOKUP($A35&$C35&$D35&$E$3,'SUA Data'!$D:$D&'SUA Data'!$H:$H&'SUA Data'!$J:$J&'SUA Data'!$F:$F,'SUA Data'!$L:$L)","v":0},{"$f":"_xlfn.XLOOKUP($A35&$C35&$D35&$E$3,'SUA Data'!$D:$D&'SUA Data'!$H:$H&'SUA Data'!$J:$J&'SUA Data'!$F:$F,'SUA Data'!$M:$M)","v":"A"},{"$f":"_xlfn.XLOOKUP($A35&$C35&$D35&G$3,'SUA Data'!$D:$D&'SUA Data'!$H:$H&'SUA Data'!$J:$J&'SUA Data'!$F:$F,'SUA Data'!$L:$L)","v":153823},{"$f":"_xlfn.XLOOKUP($A35&$C35&$D35&G$3,'SUA Data'!$D:$D&'SUA Data'!$H:$H&'SUA Data'!$J:$J&'SUA Data'!$F:$F,'SUA Data'!$M:$M)","v":"A"},{"$f":"_xlfn.XLOOKUP($A35&$C35&$D35&I$3,'SUA Data'!$D:$D&'SUA Data'!$H:$H&'SUA Data'!$J:$J&'SUA Data'!$F:$F,'SUA Data'!$L:$L)","v":8227.27},{"$f":"_xlfn.XLOOKUP($A35&$C35&$D35&I$3,'SUA Data'!$D:$D&'SUA Data'!$H:$H&'SUA Data'!$J:$J&'SUA Data'!$F:$F,'SUA Data'!$M:$M)","v":"A"},0,{"$f":"_xlfn.XLOOKUP($A35&$C35&$D35&\"Loss\",'SUA Data'!$D:$D&'SUA Data'!$H:$H&'SUA Data'!$J:$J&'SUA Data'!$F:$F,'SUA Data'!$L:$L)","v":8492},{"$f":"_xlfn.XLOOKUP($A35&$C35&$D35&\"Loss\",'SUA Data'!$D:$D&'SUA Data'!$H:$H&'SUA Data'!$J:$J&'SUA Data'!$F:$F,'SUA Data'!$M:$M)","v":"A"},{"$f":"IF(ISNUMBER(T35),T35/(T35+V35+L35),\"\")","v":""},{"$f":"IF(ISNUMBER(N35),N35,'FFV Coefficients'!$H$7)","v":0.16529522313417541},8492,{"$f":"IF(ISNUMBER(N35),\"AE\",M35)","v":"A"},{"$f":"_xlfn.XLOOKUP($A35&$C35&$D35&R$3,'SUA Data'!$D:$D&'SUA Data'!$H:$H&'SUA Data'!$J:$J&'SUA Data'!$F:$F,'SUA Data'!$L:$L)","v":-15080},{"$f":"_xlfn.XLOOKUP($A35&$C35&$D35&R$3,'SUA Data'!$D:$D&'SUA Data'!$H:$H&'SUA Data'!$J:$J&'SUA Data'!$F:$F,'SUA Data'!$M:$M)","v":"I"},{"$f":"_xlfn.XLOOKUP($A35&$C35&$D35&T$3,'SUA Data'!$D:$D&'SUA Data'!$H:$H&'SUA Data'!$J:$J&'SUA Data'!$F:$F,'SUA Data'!$L:$L)","v":{"$error":"#N/A"}},{"$f":"_xlfn.XLOOKUP($A35&$C35&$D35&T$3,'SUA Data'!$D:$D&'SUA Data'!$H:$H&'SUA Data'!$J:$J&'SUA Data'!$F:$F,'SUA Data'!$M:$M)","v":{"$error":"#N/A"}},{"$f":"_xlfn.XLOOKUP($A35&$C35&$D35&V$3,'SUA Data'!$D:$D&'SUA Data'!$H:$H&'SUA Data'!$J:$J&'SUA Data'!$F:$F,'SUA Data'!$L:$L)","v":152184},{"$f":"_xlfn.XLOOKUP($A35&$C35&$D35&V$3,'SUA Data'!$D:$D&'SUA Data'!$H:$H&'SUA Data'!$J:$J&'SUA Data'!$F:$F,'SUA Data'!$M:$M)","v":"A"},127028.71176254864,"AE"]
["Belgium","Bananas","Bananas",2022,{"$f":"_xlfn.XLOOKUP($A36&$C36&$D36&$E$3,'SUA Data'!$D:$D&'SUA Data'!$H:$H&'SUA Data'!$J:$J&'SUA Data'!$F:$F,'SUA Data'!$L:$L)","v":0},{"$f":"_xlfn.XLOOKUP($A36&$C36&$D36&$E$3,'SUA Data'!$D:$D&'SUA Data'!$H:$H&'SUA Data'!$J:$J&'SUA Data'!$F:$F,'SUA Data'!$M:$M)","v":"A"},{"$f":"_xlfn.XLOOKUP($A36&$C36&$D36&G$3,'SUA Data'!$D:$D&'SUA Data'!$H:$H&'SUA Data'!$J:$J&'SUA Data'!$F:$F,'SUA Data'!$L:$L)","v":967552.48},{"$f":"_xlfn.XLOOKUP($A36&$C36&$D36&G$3,'SUA Data'!$D:$D&'SUA Data'!$H:$H&'SUA Data'!$J:$J&'SUA Data'!$F:$F,'SUA Data'!$M:$M)","v":"A"},{"$f":"_xlfn.XLOOKUP($A36&$C36&$D36&I$3,'SUA Data'!$D:$D&'SUA Data'!$H:$H&'SUA Data'!$J:$J&'SUA Data'!$F:$F,'SUA Data'!$L:$L)","v":812360.89},{"$f":"_xlfn.XLOOKUP($A36&$C36&$D36&I$3,'SUA Data'!$D:$D&'SUA Data'!$H:$H&'SUA Data'!$J:$J&'SUA Data'!$F:$F,'SUA Data'!$M:$M)","v":"A"},0,{"$f":"_xlfn.XLOOKUP($A36&$C36&$D36&\"Loss\",'SUA Data'!$D:$D&'SUA Data'!$H:$H&'SUA Data'!$J:$J&'SUA Data'!$F:$F,'SUA Data'!$L:$L)","v":{"$error":"#N/A"}},{"$f":"_xlfn.XLOOKUP($A36&$C36&$D36&\"Loss\",'SUA Data'!$D:$D&'SUA Data'!$H:$H&'SUA Data'!$J:$J&'SUA Data'!$F:$F,'SUA Data'!$M:$M)","v":{"$error":"#N/A"}},{"$f":"IF(ISNUMBER(T36),T36/(T36+V36),\"\")","v":0},{"$f":"IF(ISNUMBER(N36),N36,'FFV Coefficients'!$H$7)","v":0},{"$error":"#N/A"},{"$f":"IF(ISNUMBER(N36),\"AE\",M36)","v":"AE"},{"$f":"_xlfn.XLOOKUP($A36&$C36&$D36&R$3,'SUA Data'!$D:$D&'SUA Data'!$H:$H&'SUA Data'!$J:$J&'SUA Data'!$F:$F,'SUA Data'!$L:$L)","v":0},{"$f":"_xlfn.XLOOKUP($A36&$C36&$D36&R$3,'SUA Data'!$D:$D&'SUA Data'!$H:$H&'SUA Data'!$J:$J&'SUA Data'!$F:$F,'SUA Data'!$M:$M)","v":"I"},{"$f":"_xlfn.XLOOKUP($A36&$C36&$D36&T$3,'SUA Data'!$D:$D&'SUA Data'!$H:$H&'SUA Data'!$J:$J&'SUA Data'!$F:$F,'SUA Data'!$L:$L)","v":0},{"$f":"_xlfn.XLOOKUP($A36&$C36&$D36&T$3,'SUA Data'!$D:$D&'SUA Data'!$H:$H&'SUA Data'!$J:$J&'SUA Data'!$F:$F,'SUA Data'!$M:$M)","v":"E"},{"$f":"_xlfn.XLOOKUP($A36&$C36&$D36&V$3,'SUA Data'!$D:$D&'SUA Data'!$H:$H&'SUA Data'!$J:$J&'SUA Data'!$F:$F,'SUA Data'!$L:$L)","v":155191.59},{"$f":"_xlfn.XLOOKUP($A36&$C36&$D36&V$3,'SUA Data'!$D:$D&'SUA Data'!$H:$H&'SUA Data'!$J:$J&'SUA Data'!$F:$F,'SUA Data'!$M:$M)","v":"E"},155191.59,"E"]
["Bulgaria","Bananas","Bananas",2022,{"$f":"_xlfn.XLOOKUP($A37&$C37&$D37&$E$3,'SUA Data'!$D:$D&'SUA Data'!$H:$H&'SUA Data'!$J:$J&'SUA Data'!$F:$F,'SUA Data'!$L:$L)","v":0},{"$f":"_xlfn.XLOOKUP($A37&$C37&$D37&$E$3,'SUA Data'!$D:$D&'SUA Data'!$H:$H&'SUA Data'!$J:$J&'SUA Data'!$F:$F,'SUA Data'!$M:$M)","v":"A"},{"$f":"_xlfn.XLOOKUP($A37&$C37&$D37&G$3,'SUA Data'!$D:$D&'SUA Data'!$H:$H&'SUA Data'!$J:$J&'SUA Data'!$F:$F,'SUA Data'!$L:$L)","v":42658.06},{"$f":"_xlfn.XLOOKUP($A37&$C37&$D37&G$3,'SUA Data'!$D:$D&'SUA Data'!$H:$H&'SUA Data'!$J:$J&'SUA Data'!$F:$F,'SUA Data'!$M:$M)","v":"A"},{"$f":"_xlfn.XLOOKUP($A37&$C37&$D37&I$3,'SUA Data'!$D:$D&'SUA Data'!$H:$H&'SUA Data'!$J:$J&'SUA Data'!$F:$F,'SUA Data'!$L:$L)","v":268.3},{"$f":"_xlfn.XLOOKUP($A37&$C37&$D37&I$3,'SUA Data'!$D:$D&'SUA Data'!$H:$H&'SUA Data'!$J:$J&'SUA Data'!$F:$F,'SUA Data'!$M:$M)","v":"A"},0,{"$f":"_xlfn.XLOOKUP($A37&$C37&$D37&\"Loss\",'SUA Data'!$D:$D&'SUA Data'!$H:$H&'SUA Data'!$J:$J&'SUA Data'!$F:$F,'SUA Data'!$L:$L)","v":2132.9},{"$f":"_xlfn.XLOOKUP($A37&$C37&$D37&\"Loss\",'SUA Data'!$D:$D&'SUA Data'!$H:$H&'SUA Data'!$J:$J&'SUA Data'!$F:$F,'SUA Data'!$M:$M)","v":"I"},{"$f":"IF(ISNUMBER(T37),T37/(T37+V37+L37),\"\")","v":0},{"$f":"IF(ISNUMBER(N37),N37,'FFV Coefficients'!$H$7)","v":0},2132.9,"AE",{"$f":"_xlfn.XLOOKUP($A37&$C37&$D37&R$3,'SUA Data'!$D:$D&'SUA Data'!$H:$H&'SUA Data'!$J:$J&'SUA Data'!$F:$F,'SUA Data'!$L:$L)","v":0},{"$f":"_xlfn.XLOOKUP($A37&$C37&$D37&R$3,'SUA Data'!$D:$D&'SUA Data'!$H:$H&'SUA Data'!$J:$J&'SUA Data'!$F:$F,'SUA Data'!$M:$M)","v":"I"},{"$f":"_xlfn.XLOOKUP($A37&$C37&$D37&T$3,'SUA Data'!$D:$D&'SUA Data'!$H:$H&'SUA Data'!$J:$J&'SUA Data'!$F:$F,'SUA Data'!$L:$L)","v":0},{"$f":"_xlfn.XLOOKUP($A37&$C37&$D37&T$3,'SUA Data'!$D:$D&'SUA Data'!$H:$H&'SUA Data'!$J:$J&'SUA Data'!$F:$F,'SUA Data'!$M:$M)","v":"E"},{"$f":"_xlfn.XLOOKUP($A37&$C37&$D37&V$3,'SUA Data'!$D:$D&'SUA Data'!$H:$H&'SUA Data'!$J:$J&'SUA Data'!$F:$F,'SUA Data'!$L:$L)","v":40256.86},{"$f":"_xlfn.XLOOKUP($A37&$C37&$D37&V$3,'SUA Data'!$D:$D&'SUA Data'!$H:$H&'SUA Data'!$J:$J&'SUA Data'!$F:$F,'SUA Data'!$M:$M)","v":"E"},40256.86,"E"]
["Croatia","Bananas","Bananas",2022,{"$f":"_xlfn.XLOOKUP($A38&$C38&$D38&$E$3,'SUA Data'!$D:$D&'SUA Data'!$H:$H&'SUA Data'!$J:$J&'SUA Data'!$F:$F,'SUA Data'!$L:$L)","v":0},{"$f":"_xlfn.XLOOKUP($A38&$C38&$D38&$E$3,'SUA Data'!$D:$D&'SUA Data'!$H:$H&'SUA Data'!$J:$J&'SUA Data'!$F:$F,'SUA Data'!$M:$M)","v":"A"},{"$f":"_xlfn.XLOOKUP($A38&$C38&$D38&G$3,'SUA Data'!$D:$D&'SUA Data'!$H:$H&'SUA Data'!$J:$J&'SUA Data'!$F:$F,'SUA Data'!$L:$L)","v":87210.08},{"$f":"_xlfn.XLOOKUP($A38&$C38&$D38&G$3,'SUA Data'!$D:$D&'SUA Data'!$H:$H&'SUA Data'!$J:$J&'SUA Data'!$F:$F,'SUA Data'!$M:$M)","v":"A"},{"$f":"_xlfn.XLOOKUP($A38&$C38&$D38&I$3,'SUA Data'!$D:$D&'SUA Data'!$H:$H&'SUA Data'!$J:$J&'SUA Data'!$F:$F,'SUA Data'!$L:$L)","v":11498.3},{"$f":"_xlfn.XLOOKUP($A38&$C38&$D38&I$3,'SUA Data'!$D:$D&'SUA Data'!$H:$H&'SUA Data'!$J:$J&'SUA Data'!$F:$F,'SUA Data'!$M:$M)","v":"A"},0,{"$f":"_xlfn.XLOOKUP($A38&$C38&$D38&\"Loss\",'SUA Data'!$D:$D&'SUA Data'!$H:$H&'SUA Data'!$J:$J&'SUA Data'!$F:$F,'SUA Data'!$L:$L)","v":4360.5},{"$f":"_xlfn.XLOOKUP($A38&$C38&$D38&\"Loss\",'SUA Data'!$D:$D&'SUA Data'!$H:$H&'SUA Data'!$J:$J&'SUA Data'!$F:$F,'SUA Data'!$M:$M)","v":"I"},{"$f":"IF(ISNUMBER(T38),T38/(T38+V38+L38),\"\")","v":""},{"$f":"IF(ISNUMBER(N38),N38,'FFV Coefficients'!$H$7)","v":0.16529522313417541},4360.5,"I",{"$f":"_xlfn.XLOOKUP($A38&$C38&$D38&R$3,'SUA Data'!$D:$D&'SUA Data'!$H:$H&'SUA Data'!$J:$J&'SUA Data'!$F:$F,'SUA Data'!$L:$L)","v":0},{"$f":"_xlfn.XLOOKUP($A38&$C38&$D38&R$3,'SUA Data'!$D:$D&'SUA Data'!$H:$H&'SUA Data'!$J:$J&'SUA Data'!$F:$F,'SUA Data'!$M:$M)","v":"I"},{"$f":"_xlfn.XLOOKUP($A38&$C38&$D38&T$3,'SUA Data'!$D:$D&'SUA Data'!$H:$H&'SUA Data'!$J:$J&'SUA Data'!$F:$F,'SUA Data'!$L:$L)","v":{"$error":"#N/A"}},{"$f":"_xlfn.XLOOKUP($A38&$C38&$D38&T$3,'SUA Data'!$D:$D&'SUA Data'!$H:$H&'SUA Data'!$J:$J&'SUA Data'!$F:$F,'SUA Data'!$M:$M)","v":{"$error":"#N/A"}},{"$f":"_xlfn.XLOOKUP($A38&$C38&$D38&V$3,'SUA Data'!$D:$D&'SUA Data'!$H:$H&'SUA Data'!$J:$J&'SUA Data'!$F:$F,'SUA Data'!$L:$L)","v":71351.27},{"$f":"_xlfn.XLOOKUP($A38&$C38&$D38&V$3,'SUA Data'!$D:$D&'SUA Data'!$H:$H&'SUA Data'!$J:$J&'SUA Data'!$F:$F,'SUA Data'!$M:$M)","v":"E"},59557.245904443203,"AE"]
["Cyprus","Bananas","Bananas",2022,{"$f":"_xlfn.XLOOKUP($A39&$C39&$D39&$E$3,'SUA Data'!$D:$D&'SUA Data'!$H:$H&'SUA Data'!$J:$J&'SUA Data'!$F:$F,'SUA Data'!$L:$L)","v":5480},{"$f":"_xlfn.XLOOKUP($A39&$C39&$D39&$E$3,'SUA Data'!$D:$D&'SUA Data'!$H:$H&'SUA Data'!$J:$J&'SUA Data'!$F:$F,'SUA Data'!$M:$M)","v":"A"},{"$f":"_xlfn.XLOOKUP($A39&$C39&$D39&G$3,'SUA Data'!$D:$D&'SUA Data'!$H:$H&'SUA Data'!$J:$J&'SUA Data'!$F:$F,'SUA Data'!$L:$L)","v":6821.74},{"$f":"_xlfn.XLOOKUP($A39&$C39&$D39&G$3,'SUA Data'!$D:$D&'SUA Data'!$H:$H&'SUA Data'!$J:$J&'SUA Data'!$F:$F,'SUA Data'!$M:$M)","v":"A"},{"$f":"_xlfn.XLOOKUP($A39&$C39&$D39&I$3,'SUA Data'!$D:$D&'SUA Data'!$H:$H&'SUA Data'!$J:$J&'SUA Data'!$F:$F,'SUA Data'!$L:$L)","v":135.13999999999999},{"$f":"_xlfn.XLOOKUP($A39&$C39&$D39&I$3,'SUA Data'!$D:$D&'SUA Data'!$H:$H&'SUA Data'!$J:$J&'SUA Data'!$F:$F,'SUA Data'!$M:$M)","v":"A"},0.44546543822256041,{"$f":"_xlfn.XLOOKUP($A39&$C39&$D39&\"Loss\",'SUA Data'!$D:$D&'SUA Data'!$H:$H&'SUA Data'!$J:$J&'SUA Data'!$F:$F,'SUA Data'!$L:$L)","v":1230.17},{"$f":"_xlfn.XLOOKUP($A39&$C39&$D39&\"Loss\",'SUA Data'!$D:$D&'SUA Data'!$H:$H&'SUA Data'!$J:$J&'SUA Data'!$F:$F,'SUA Data'!$M:$M)","v":"I"},"",{"$f":"IF(ISNUMBER(N39),N39,'FFV Coefficients'!$H$7)","v":0.16529522313417541},1230.17,"I",{"$f":"_xlfn.XLOOKUP($A39&$C39&$D39&R$3,'SUA Data'!$D:$D&'SUA Data'!$H:$H&'SUA Data'!$J:$J&'SUA Data'!$F:$F,'SUA Data'!$L:$L)","v":0},{"$f":"_xlfn.XLOOKUP($A39&$C39&$D39&R$3,'SUA Data'!$D:$D&'SUA Data'!$H:$H&'SUA Data'!$J:$J&'SUA Data'!$F:$F,'SUA Data'!$M:$M)","v":"I"},{"$f":"_xlfn.XLOOKUP($A39&$C39&$D39&T$3,'SUA Data'!$D:$D&'SUA Data'!$H:$H&'SUA Data'!$J:$J&'SUA Data'!$F:$F,'SUA Data'!$L:$L)","v":{"$error":"#N/A"}},{"$f":"_xlfn.XLOOKUP($A39&$C39&$D39&T$3,'SUA Data'!$D:$D&'SUA Data'!$H:$H&'SUA Data'!$J:$J&'SUA Data'!$F:$F,'SUA Data'!$M:$M)","v":{"$error":"#N/A"}},{"$f":"_xlfn.XLOOKUP($A39&$C39&$D39&V$3,'SUA Data'!$D:$D&'SUA Data'!$H:$H&'SUA Data'!$J:$J&'SUA Data'!$F:$F,'SUA Data'!$L:$L)","v":10509.36},{"$f":"_xlfn.XLOOKUP($A39&$C39&$D39&V$3,'SUA Data'!$D:$D&'SUA Data'!$H:$H&'SUA Data'!$J:$J&'SUA Data'!$F:$F,'SUA Data'!$M:$M)","v":"E"},8772.2129938026228,"AE"]
["Czechia","Bananas","Bananas",2022,{"$f":"_xlfn.XLOOKUP($A40&$C40&$D40&$E$3,'SUA Data'!$D:$D&'SUA Data'!$H:$H&'SUA Data'!$J:$J&'SUA Data'!$F:$F,'SUA Data'!$L:$L)","v":0},{"$f":"_xlfn.XLOOKUP($A40&$C40&$D40&$E$3,'SUA Data'!$D:$D&'SUA Data'!$H:$H&'SUA Data'!$J:$J&'SUA Data'!$F:$F,'SUA Data'!$M:$M)","v":"A"},{"$f":"_xlfn.XLOOKUP($A40&$C40&$D40&G$3,'SUA Data'!$D:$D&'SUA Data'!$H:$H&'SUA Data'!$J:$J&'SUA Data'!$F:$F,'SUA Data'!$L:$L)","v":170930.55},{"$f":"_xlfn.XLOOKUP($A40&$C40&$D40&G$3,'SUA Data'!$D:$D&'SUA Data'!$H:$H&'SUA Data'!$J:$J&'SUA Data'!$F:$F,'SUA Data'!$M:$M)","v":"A"},{"$f":"_xlfn.XLOOKUP($A40&$C40&$D40&I$3,'SUA Data'!$D:$D&'SUA Data'!$H:$H&'SUA Data'!$J:$J&'SUA Data'!$F:$F,'SUA Data'!$L:$L)","v":42226.81},{"$f":"_xlfn.XLOOKUP($A40&$C40&$D40&I$3,'SUA Data'!$D:$D&'SUA Data'!$H:$H&'SUA Data'!$J:$J&'SUA Data'!$F:$F,'SUA Data'!$M:$M)","v":"A"},0,{"$f":"_xlfn.XLOOKUP($A40&$C40&$D40&\"Loss\",'SUA Data'!$D:$D&'SUA Data'!$H:$H&'SUA Data'!$J:$J&'SUA Data'!$F:$F,'SUA Data'!$L:$L)","v":11395.37},{"$f":"_xlfn.XLOOKUP($A40&$C40&$D40&\"Loss\",'SUA Data'!$D:$D&'SUA Data'!$H:$H&'SUA Data'!$J:$J&'SUA Data'!$F:$F,'SUA Data'!$M:$M)","v":"I"},"",{"$f":"IF(ISNUMBER(N40),N40,'FFV Coefficients'!$H$7)","v":0.16529522313417541},11395.37,"I",{"$f":"_xlfn.XLOOKUP($A40&$C40&$D40&R$3,'SUA Data'!$D:$D&'SUA Data'!$H:$H&'SUA Data'!$J:$J&'SUA Data'!$F:$F,'SUA Data'!$L:$L)","v":0},{"$f":"_xlfn.XLOOKUP($A40&$C40&$D40&R$3,'SUA Data'!$D:$D&'SUA Data'!$H:$H&'SUA Data'!$J:$J&'SUA Data'!$F:$F,'SUA Data'!$M:$M)","v":"I"},{"$f":"_xlfn.XLOOKUP($A40&$C40&$D40&T$3,'SUA Data'!$D:$D&'SUA Data'!$H:$H&'SUA Data'!$J:$J&'SUA Data'!$F:$F,'SUA Data'!$L:$L)","v":{"$error":"#N/A"}},{"$f":"_xlfn.XLOOKUP($A40&$C40&$D40&T$3,'SUA Data'!$D:$D&'SUA Data'!$H:$H&'SUA Data'!$J:$J&'SUA Data'!$F:$F,'SUA Data'!$M:$M)","v":{"$error":"#N/A"}},{"$f":"_xlfn.XLOOKUP($A40&$C40&$D40&V$3,'SUA Data'!$D:$D&'SUA Data'!$H:$H&'SUA Data'!$J:$J&'SUA Data'!$F:$F,'SUA Data'!$L:$L)","v":117308.38},{"$f":"_xlfn.XLOOKUP($A40&$C40&$D40&V$3,'SUA Data'!$D:$D&'SUA Data'!$H:$H&'SUA Data'!$J:$J&'SUA Data'!$F:$F,'SUA Data'!$M:$M)","v":"E"},97917.865152391358,"AE"]
["Denmark","Bananas","Bananas",2022,{"$f":"_xlfn.XLOOKUP($A41&$C41&$D41&$E$3,'SUA Data'!$D:$D&'SUA Data'!$H:$H&'SUA Data'!$J:$J&'SUA Data'!$F:$F,'SUA Data'!$L:$L)","v":0},{"$f":"_xlfn.XLOOKUP($A41&$C41&$D41&$E$3,'SUA Data'!$D:$D&'SUA Data'!$H:$H&'SUA Data'!$J:$J&'SUA Data'!$F:$F,'SUA Data'!$M:$M)","v":"A"},{"$f":"_xlfn.XLOOKUP($A41&$C41&$D41&G$3,'SUA Data'!$D:$D&'SUA Data'!$H:$H&'SUA Data'!$J:$J&'SUA Data'!$F:$F,'SUA Data'!$L:$L)","v":81338.3},{"$f":"_xlfn.XLOOKUP($A41&$C41&$D41&G$3,'SUA Data'!$D:$D&'SUA Data'!$H:$H&'SUA Data'!$J:$J&'SUA Data'!$F:$F,'SUA Data'!$M:$M)","v":"A"},{"$f":"_xlfn.XLOOKUP($A41&$C41&$D41&I$3,'SUA Data'!$D:$D&'SUA Data'!$H:$H&'SUA Data'!$J:$J&'SUA Data'!$F:$F,'SUA Data'!$L:$L)","v":3814.77},{"$f":"_xlfn.XLOOKUP($A41&$C41&$D41&I$3,'SUA Data'!$D:$D&'SUA Data'!$H:$H&'SUA Data'!$J:$J&'SUA Data'!$F:$F,'SUA Data'!$M:$M)","v":"A"},0,{"$f":"_xlfn.XLOOKUP($A41&$C41&$D41&\"Loss\",'SUA Data'!$D:$D&'SUA Data'!$H:$H&'SUA Data'!$J:$J&'SUA Data'!$F:$F,'SUA Data'!$L:$L)","v":4066.92},{"$f":"_xlfn.XLOOKUP($A41&$C41&$D41&\"Loss\",'SUA Data'!$D:$D&'SUA Data'!$H:$H&'SUA Data'!$J:$J&'SUA Data'!$F:$F,'SUA Data'!$M:$M)","v":"I"},"",{"$f":"IF(ISNUMBER(N41),N41,'FFV Coefficients'!$H$7)","v":0.16529522313417541},4066.92,"I",{"$f":"_xlfn.XLOOKUP($A41&$C41&$D41&R$3,'SUA Data'!$D:$D&'SUA Data'!$H:$H&'SUA Data'!$J:$J&'SUA Data'!$F:$F,'SUA Data'!$L:$L)","v":0},{"$f":"_xlfn.XLOOKUP($A41&$C41&$D41&R$3,'SUA Data'!$D:$D&'SUA Data'!$H:$H&'SUA Data'!$J:$J&'SUA Data'!$F:$F,'SUA Data'!$M:$M)","v":"I"},{"$f":"_xlfn.XLOOKUP($A41&$C41&$D41&T$3,'SUA Data'!$D:$D&'SUA Data'!$H:$H&'SUA Data'!$J:$J&'SUA Data'!$F:$F,'SUA Data'!$L:$L)","v":{"$error":"#N/A"}},{"$f":"_xlfn.XLOOKUP($A41&$C41&$D41&T$3,'SUA Data'!$D:$D&'SUA Data'!$H:$H&'SUA Data'!$J:$J&'SUA Data'!$F:$F,'SUA Data'!$M:$M)","v":{"$error":"#N/A"}},{"$f":"_xlfn.XLOOKUP($A41&$C41&$D41&V$3,'SUA Data'!$D:$D&'SUA Data'!$H:$H&'SUA Data'!$J:$J&'SUA Data'!$F:$F,'SUA Data'!$L:$L)","v":73456.62},{"$f":"_xlfn.XLOOKUP($A41&$C41&$D41&V$3,'SUA Data'!$D:$D&'SUA Data'!$H:$H&'SUA Data'!$J:$J&'SUA Data'!$F:$F,'SUA Data'!$M:$M)","v":"E"},61314.591606417664,"AE"]
["Estonia","Bananas","Bananas",2022,{"$f":"_xlfn.XLOOKUP($A42&$C42&$D42&$E$3,'SUA Data'!$D:$D&'SUA Data'!$H:$H&'SUA Data'!$J:$J&'SUA Data'!$F:$F,'SUA Data'!$L:$L)","v":0},{"$f":"_xlfn.XLOOKUP($A42&$C42&$D42&$E$3,'SUA Data'!$D:$D&'SUA Data'!$H:$H&'SUA Data'!$J:$J&'SUA Data'!$F:$F,'SUA Data'!$M:$M)","v":"A"},{"$f":"_xlfn.XLOOKUP($A42&$C42&$D42&G$3,'SUA Data'!$D:$D&'SUA Data'!$H:$H&'SUA Data'!$J:$J&'SUA Data'!$F:$F,'SUA Data'!$L:$L)","v":18546.810000000001},{"$f":"_xlfn.XLOOKUP($A42&$C42&$D42&G$3,'SUA Data'!$D:$D&'SUA Data'!$H:$H&'SUA Data'!$J:$J&'SUA Data'!$F:$F,'SUA Data'!$M:$M)","v":"A"},{"$f":"_xlfn.XLOOKUP($A42&$C42&$D42&I$3,'SUA Data'!$D:$D&'SUA Data'!$H:$H&'SUA Data'!$J:$J&'SUA Data'!$F:$F,'SUA Data'!$L:$L)","v":5.0199999999999996},{"$f":"_xlfn.XLOOKUP($A42&$C42&$D42&I$3,'SUA Data'!$D:$D&'SUA Data'!$H:$H&'SUA Data'!$J:$J&'SUA Data'!$F:$F,'SUA Data'!$M:$M)","v":"A"},0,{"$f":"_xlfn.XLOOKUP($A42&$C42&$D42&\"Loss\",'SUA Data'!$D:$D&'SUA Data'!$H:$H&'SUA Data'!$J:$J&'SUA Data'!$F:$F,'SUA Data'!$L:$L)","v":{"$error":"#N/A"}},{"$f":"_xlfn.XLOOKUP($A42&$C42&$D42&\"Loss\",'SUA Data'!$D:$D&'SUA Data'!$H:$H&'SUA Data'!$J:$J&'SUA Data'!$F:$F,'SUA Data'!$M:$M)","v":{"$error":"#N/A"}},{"$f":"IF(ISNUMBER(T42),T42/(T42+V42+L42),\"\")","v":""},{"$f":"IF(ISNUMBER(N42),N42,'FFV Coefficients'!$H$7)","v":0.16529522313417541},{"$error":"#N/A"},{"$error":"#N/A"},{"$f":"_xlfn.XLOOKUP($A42&$C42&$D42&R$3,'SUA Data'!$D:$D&'SUA Data'!$H:$H&'SUA Data'!$J:$J&'SUA Data'!$F:$F,'SUA Data'!$L:$L)","v":0},{"$f":"_xlfn.XLOOKUP($A42&$C42&$D42&R$3,'SUA Data'!$D:$D&'SUA Data'!$H:$H&'SUA Data'!$J:$J&'SUA Data'!$F:$F,'SUA Data'!$M:$M)","v":"I"},{"$f":"_xlfn.XLOOKUP($A42&$C42&$D42&T$3,'SUA Data'!$D:$D&'SUA Data'!$H:$H&'SUA Data'!$J:$J&'SUA Data'!$F:$F,'SUA Data'!$L:$L)","v":{"$error":"#N/A"}},{"$f":"_xlfn.XLOOKUP($A42&$C42&$D42&T$3,'SUA Data'!$D:$D&'SUA Data'!$H:$H&'SUA Data'!$J:$J&'SUA Data'!$F:$F,'SUA Data'!$M:$M)","v":{"$error":"#N/A"}},{"$f":"_xlfn.XLOOKUP($A42&$C42&$D42&V$3,'SUA Data'!$D:$D&'SUA Data'!$H:$H&'SUA Data'!$J:$J&'SUA Data'!$F:$F,'SUA Data'!$L:$L)","v":18541.79},{"$f":"_xlfn.XLOOKUP($A42&$C42&$D42&V$3,'SUA Data'!$D:$D&'SUA Data'!$H:$H&'SUA Data'!$J:$J&'SUA Data'!$F:$F,'SUA Data'!$M:$M)","v":"E"},15476.920684642977,"AE"]
["Finland","Bananas","Bananas",2022,{"$f":"_xlfn.XLOOKUP($A43&$C43&$D43&$E$3,'SUA Data'!$D:$D&'SUA Data'!$H:$H&'SUA Data'!$J:$J&'SUA Data'!$F:$F,'SUA Data'!$L:$L)","v":0},{"$f":"_xlfn.XLOOKUP($A43&$C43&$D43&$E$3,'SUA Data'!$D:$D&'SUA Data'!$H:$H&'SUA Data'!$J:$J&'SUA Data'!$F:$F,'SUA Data'!$M:$M)","v":"A"},{"$f":"_xlfn.XLOOKUP($A43&$C43&$D43&G$3,'SUA Data'!$D:$D&'SUA Data'!$H:$H&'SUA Data'!$J:$J&'SUA Data'!$F:$F,'SUA Data'!$L:$L)","v":100707.57},{"$f":"_xlfn.XLOOKUP($A43&$C43&$D43&G$3,'SUA Data'!$D:$D&'SUA Data'!$H:$H&'SUA Data'!$J:$J&'SUA Data'!$F:$F,'SUA Data'!$M:$M)","v":"A"},{"$f":"_xlfn.XLOOKUP($A43&$C43&$D43&I$3,'SUA Data'!$D:$D&'SUA Data'!$H:$H&'SUA Data'!$J:$J&'SUA Data'!$F:$F,'SUA Data'!$L:$L)","v":4932.68},{"$f":"_xlfn.XLOOKUP($A43&$C43&$D43&I$3,'SUA Data'!$D:$D&'SUA Data'!$H:$H&'SUA Data'!$J:$J&'SUA Data'!$F:$F,'SUA Data'!$M:$M)","v":"A"},0,{"$f":"_xlfn.XLOOKUP($A43&$C43&$D43&\"Loss\",'SUA Data'!$D:$D&'SUA Data'!$H:$H&'SUA Data'!$J:$J&'SUA Data'!$F:$F,'SUA Data'!$L:$L)","v":5035.38},{"$f":"_xlfn.XLOOKUP($A43&$C43&$D43&\"Loss\",'SUA Data'!$D:$D&'SUA Data'!$H:$H&'SUA Data'!$J:$J&'SUA Data'!$F:$F,'SUA Data'!$M:$M)","v":"I"},1.0026635371062772E-2,{"$f":"IF(ISNUMBER(N43),N43,'FFV Coefficients'!$H$7)","v":1.0026635371062772E-2},4984.8920807852583,"AE",{"$f":"_xlfn.XLOOKUP($A43&$C43&$D43&R$3,'SUA Data'!$D:$D&'SUA Data'!$H:$H&'SUA Data'!$J:$J&'SUA Data'!$F:$F,'SUA Data'!$L:$L)","v":0},{"$f":"_xlfn.XLOOKUP($A43&$C43&$D43&R$3,'SUA Data'!$D:$D&'SUA Data'!$H:$H&'SUA Data'!$J:$J&'SUA Data'!$F:$F,'SUA Data'!$M:$M)","v":"I"},{"$f":"_xlfn.XLOOKUP($A43&$C43&$D43&T$3,'SUA Data'!$D:$D&'SUA Data'!$H:$H&'SUA Data'!$J:$J&'SUA Data'!$F:$F,'SUA Data'!$L:$L)","v":960.3},{"$f":"_xlfn.XLOOKUP($A43&$C43&$D43&T$3,'SUA Data'!$D:$D&'SUA Data'!$H:$H&'SUA Data'!$J:$J&'SUA Data'!$F:$F,'SUA Data'!$M:$M)","v":"E"},{"$f":"_xlfn.XLOOKUP($A43&$C43&$D43&V$3,'SUA Data'!$D:$D&'SUA Data'!$H:$H&'SUA Data'!$J:$J&'SUA Data'!$F:$F,'SUA Data'!$L:$L)","v":89779.22},{"$f":"_xlfn.XLOOKUP($A43&$C43&$D43&V$3,'SUA Data'!$D:$D&'SUA Data'!$H:$H&'SUA Data'!$J:$J&'SUA Data'!$F:$F,'SUA Data'!$M:$M)","v":"E"},89779.22,"E"]
["France","Bananas","Bananas",2022,{"$f":"_xlfn.XLOOKUP($A44&$C44&$D44&$E$3,'SUA Data'!$D:$D&'SUA Data'!$H:$H&'SUA Data'!$J:$J&'SUA Data'!$F:$F,'SUA Data'!$L:$L)","v":225530},{"$f":"_xlfn.XLOOKUP($A44&$C44&$D44&$E$3,'SUA Data'!$D:$D&'SUA Data'!$H:$H&'SUA Data'!$J:$J&'SUA Data'!$F:$F,'SUA Data'!$M:$M)","v":"A"},{"$f":"_xlfn.XLOOKUP($A44&$C44&$D44&G$3,'SUA Data'!$D:$D&'SUA Data'!$H:$H&'SUA Data'!$J:$J&'SUA Data'!$F:$F,'SUA Data'!$L:$L)","v":760352.11},{"$f":"_xlfn.XLOOKUP($A44&$C44&$D44&G$3,'SUA Data'!$D:$D&'SUA Data'!$H:$H&'SUA Data'!$J:$J&'SUA Data'!$F:$F,'SUA Data'!$M:$M)","v":"A"},{"$f":"_xlfn.XLOOKUP($A44&$C44&$D44&I$3,'SUA Data'!$D:$D&'SUA Data'!$H:$H&'SUA Data'!$J:$J&'SUA Data'!$F:$F,'SUA Data'!$L:$L)","v":233931.31},{"$f":"_xlfn.XLOOKUP($A44&$C44&$D44&I$3,'SUA Data'!$D:$D&'SUA Data'!$H:$H&'SUA Data'!$J:$J&'SUA Data'!$F:$F,'SUA Data'!$M:$M)","v":"A"},0.22875960291033173,{"$f":"_xlfn.XLOOKUP($A44&$C44&$D44&\"Loss\",'SUA Data'!$D:$D&'SUA Data'!$H:$H&'SUA Data'!$J:$J&'SUA Data'!$F:$F,'SUA Data'!$L:$L)","v":49294.11},{"$f":"_xlfn.XLOOKUP($A44&$C44&$D44&\"Loss\",'SUA Data'!$D:$D&'SUA Data'!$H:$H&'SUA Data'!$J:$J&'SUA Data'!$F:$F,'SUA Data'!$M:$M)","v":"I"},0,{"$f":"IF(ISNUMBER(N44),N44,'FFV Coefficients'!$H$7)","v":0},49294.11,"AE",{"$f":"_xlfn.XLOOKUP($A44&$C44&$D44&R$3,'SUA Data'!$D:$D&'SUA Data'!$H:$H&'SUA Data'!$J:$J&'SUA Data'!$F:$F,'SUA Data'!$L:$L)","v":0},{"$f":"_xlfn.XLOOKUP($A44&$C44&$D44&R$3,'SUA Data'!$D:$D&'SUA Data'!$H:$H&'SUA Data'!$J:$J&'SUA Data'!$F:$F,'SUA Data'!$M:$M)","v":"I"},{"$f":"_xlfn.XLOOKUP($A44&$C44&$D44&T$3,'SUA Data'!$D:$D&'SUA Data'!$H:$H&'SUA Data'!$J:$J&'SUA Data'!$F:$F,'SUA Data'!$L:$L)","v":0},{"$f":"_xlfn.XLOOKUP($A44&$C44&$D44&T$3,'SUA Data'!$D:$D&'SUA Data'!$H:$H&'SUA Data'!$J:$J&'SUA Data'!$F:$F,'SUA Data'!$M:$M)","v":"E"},{"$f":"_xlfn.XLOOKUP($A44&$C44&$D44&V$3,'SUA Data'!$D:$D&'SUA Data'!$H:$H&'SUA Data'!$J:$J&'SUA Data'!$F:$F,'SUA Data'!$L:$L)","v":702656.69},{"$f":"_xlfn.XLOOKUP($A44&$C44&$D44&V$3,'SUA Data'!$D:$D&'SUA Data'!$H:$H&'SUA Data'!$J:$J&'SUA Data'!$F:$F,'SUA Data'!$M:$M)","v":"E"},702656.69,"E"]
["Germany","Bananas","Bananas",2022,{"$f":"_xlfn.XLOOKUP($A45&$C45&$D45&$E$3,'SUA Data'!$D:$D&'SUA Data'!$H:$H&'SUA Data'!$J:$J&'SUA Data'!$F:$F,'SUA Data'!$L:$L)","v":0},{"$f":"_xlfn.XLOOKUP($A45&$C45&$D45&$E$3,'SUA Data'!$D:$D&'SUA Data'!$H:$H&'SUA Data'!$J:$J&'SUA Data'!$F:$F,'SUA Data'!$M:$M)","v":"A"},{"$f":"_xlfn.XLOOKUP($A45&$C45&$D45&G$3,'SUA Data'!$D:$D&'SUA Data'!$H:$H&'SUA Data'!$J:$J&'SUA Data'!$F:$F,'SUA Data'!$L:$L)","v":1283209.05},{"$f":"_xlfn.XLOOKUP($A45&$C45&$D45&G$3,'SUA Data'!$D:$D&'SUA Data'!$H:$H&'SUA Data'!$J:$J&'SUA Data'!$F:$F,'SUA Data'!$M:$M)","v":"A"},{"$f":"_xlfn.XLOOKUP($A45&$C45&$D45&I$3,'SUA Data'!$D:$D&'SUA Data'!$H:$H&'SUA Data'!$J:$J&'SUA Data'!$F:$F,'SUA Data'!$L:$L)","v":309422.68},{"$f":"_xlfn.XLOOKUP($A45&$C45&$D45&I$3,'SUA Data'!$D:$D&'SUA Data'!$H:$H&'SUA Data'!$J:$J&'SUA Data'!$F:$F,'SUA Data'!$M:$M)","v":"A"},0,{"$f":"_xlfn.XLOOKUP($A45&$C45&$D45&\"Loss\",'SUA Data'!$D:$D&'SUA Data'!$H:$H&'SUA Data'!$J:$J&'SUA Data'!$F:$F,'SUA Data'!$L:$L)","v":48093.65},{"$f":"_xlfn.XLOOKUP($A45&$C45&$D45&\"Loss\",'SUA Data'!$D:$D&'SUA Data'!$H:$H&'SUA Data'!$J:$J&'SUA Data'!$F:$F,'SUA Data'!$M:$M)","v":"I"},"",{"$f":"IF(ISNUMBER(N45),N45,'FFV Coefficients'!$H$7)","v":0.16529522313417541},48093.65,"I",{"$f":"_xlfn.XLOOKUP($A45&$C45&$D45&R$3,'SUA Data'!$D:$D&'SUA Data'!$H:$H&'SUA Data'!$J:$J&'SUA Data'!$F:$F,'SUA Data'!$L:$L)","v":0},{"$f":"_xlfn.XLOOKUP($A45&$C45&$D45&R$3,'SUA Data'!$D:$D&'SUA Data'!$H:$H&'SUA Data'!$J:$J&'SUA Data'!$F:$F,'SUA Data'!$M:$M)","v":"I"},{"$f":"_xlfn.XLOOKUP($A45&$C45&$D45&T$3,'SUA Data'!$D:$D&'SUA Data'!$H:$H&'SUA Data'!$J:$J&'SUA Data'!$F:$F,'SUA Data'!$L:$L)","v":{"$error":"#N/A"}},{"$f":"_xlfn.XLOOKUP($A45&$C45&$D45&T$3,'SUA Data'!$D:$D&'SUA Data'!$H:$H&'SUA Data'!$J:$J&'SUA Data'!$F:$F,'SUA Data'!$M:$M)","v":{"$error":"#N/A"}},{"$f":"_xlfn.XLOOKUP($A45&$C45&$D45&V$3,'SUA Data'!$D:$D&'SUA Data'!$H:$H&'SUA Data'!$J:$J&'SUA Data'!$F:$F,'SUA Data'!$L:$L)","v":925692.71},{"$f":"_xlfn.XLOOKUP($A45&$C45&$D45&V$3,'SUA Data'!$D:$D&'SUA Data'!$H:$H&'SUA Data'!$J:$J&'SUA Data'!$F:$F,'SUA Data'!$M:$M)","v":"E"},772680.12694687047,"AE"]
["Greece","Bananas","Bananas",2022,{"$f":"_xlfn.XLOOKUP($A46&$C46&$D46&$E$3,'SUA Data'!$D:$D&'SUA Data'!$H:$H&'SUA Data'!$J:$J&'SUA Data'!$F:$F,'SUA Data'!$L:$L)","v":4700},{"$f":"_xlfn.XLOOKUP($A46&$C46&$D46&$E$3,'SUA Data'!$D:$D&'SUA Data'!$H:$H&'SUA Data'!$J:$J&'SUA Data'!$F:$F,'SUA Data'!$M:$M)","v":"A"},{"$f":"_xlfn.XLOOKUP($A46&$C46&$D46&G$3,'SUA Data'!$D:$D&'SUA Data'!$H:$H&'SUA Data'!$J:$J&'SUA Data'!$F:$F,'SUA Data'!$L:$L)","v":203141.91},{"$f":"_xlfn.XLOOKUP($A46&$C46&$D46&G$3,'SUA Data'!$D:$D&'SUA Data'!$H:$H&'SUA Data'!$J:$J&'SUA Data'!$F:$F,'SUA Data'!$M:$M)","v":"A"},{"$f":"_xlfn.XLOOKUP($A46&$C46&$D46&I$3,'SUA Data'!$D:$D&'SUA Data'!$H:$H&'SUA Data'!$J:$J&'SUA Data'!$F:$F,'SUA Data'!$L:$L)","v":53860.94},{"$f":"_xlfn.XLOOKUP($A46&$C46&$D46&I$3,'SUA Data'!$D:$D&'SUA Data'!$H:$H&'SUA Data'!$J:$J&'SUA Data'!$F:$F,'SUA Data'!$M:$M)","v":"A"},2.2613341072548841E-2,{"$f":"_xlfn.XLOOKUP($A46&$C46&$D46&\"Loss\",'SUA Data'!$D:$D&'SUA Data'!$H:$H&'SUA Data'!$J:$J&'SUA Data'!$F:$F,'SUA Data'!$L:$L)","v":289.95999999999998},{"$f":"_xlfn.XLOOKUP($A46&$C46&$D46&\"Loss\",'SUA Data'!$D:$D&'SUA Data'!$H:$H&'SUA Data'!$J:$J&'SUA Data'!$F:$F,'SUA Data'!$M:$M)","v":"E"},"",{"$f":"IF(ISNUMBER(N46),N46,'FFV Coefficients'!$H$7)","v":0.16529522313417541},289.95999999999998,"E",{"$f":"_xlfn.XLOOKUP($A46&$C46&$D46&R$3,'SUA Data'!$D:$D&'SUA Data'!$H:$H&'SUA Data'!$J:$J&'SUA Data'!$F:$F,'SUA Data'!$L:$L)","v":0},{"$f":"_xlfn.XLOOKUP($A46&$C46&$D46&R$3,'SUA Data'!$D:$D&'SUA Data'!$H:$H&'SUA Data'!$J:$J&'SUA Data'!$F:$F,'SUA Data'!$M:$M)","v":"I"},{"$f":"_xlfn.XLOOKUP($A46&$C46&$D46&T$3,'SUA Data'!$D:$D&'SUA Data'!$H:$H&'SUA Data'!$J:$J&'SUA Data'!$F:$F,'SUA Data'!$L:$L)","v":{"$error":"#N/A"}},{"$f":"_xlfn.XLOOKUP($A46&$C46&$D46&T$3,'SUA Data'!$D:$D&'SUA Data'!$H:$H&'SUA Data'!$J:$J&'SUA Data'!$F:$F,'SUA Data'!$M:$M)","v":{"$error":"#N/A"}},{"$f":"_xlfn.XLOOKUP($A46&$C46&$D46&V$3,'SUA Data'!$D:$D&'SUA Data'!$H:$H&'SUA Data'!$J:$J&'SUA Data'!$F:$F,'SUA Data'!$L:$L)","v":153691.01},{"$f":"_xlfn.XLOOKUP($A46&$C46&$D46&V$3,'SUA Data'!$D:$D&'SUA Data'!$H:$H&'SUA Data'!$J:$J&'SUA Data'!$F:$F,'SUA Data'!$M:$M)","v":"E"},128286.62020833322,"AE"]
["Hungary","Bananas","Bananas",2022,{"$f":"_xlfn.XLOOKUP($A47&$C47&$D47&$E$3,'SUA Data'!$D:$D&'SUA Data'!$H:$H&'SUA Data'!$J:$J&'SUA Data'!$F:$F,'SUA Data'!$L:$L)","v":0},{"$f":"_xlfn.XLOOKUP($A47&$C47&$D47&$E$3,'SUA Data'!$D:$D&'SUA Data'!$H:$H&'SUA Data'!$J:$J&'SUA Data'!$F:$F,'SUA Data'!$M:$M)","v":"A"},{"$f":"_xlfn.XLOOKUP($A47&$C47&$D47&G$3,'SUA Data'!$D:$D&'SUA Data'!$H:$H&'SUA Data'!$J:$J&'SUA Data'!$F:$F,'SUA Data'!$L:$L)","v":49568.36},{"$f":"_xlfn.XLOOKUP($A47&$C47&$D47&G$3,'SUA Data'!$D:$D&'SUA Data'!$H:$H&'SUA Data'!$J:$J&'SUA Data'!$F:$F,'SUA Data'!$M:$M)","v":"A"},{"$f":"_xlfn.XLOOKUP($A47&$C47&$D47&I$3,'SUA Data'!$D:$D&'SUA Data'!$H:$H&'SUA Data'!$J:$J&'SUA Data'!$F:$F,'SUA Data'!$L:$L)","v":17394.150000000001},{"$f":"_xlfn.XLOOKUP($A47&$C47&$D47&I$3,'SUA Data'!$D:$D&'SUA Data'!$H:$H&'SUA Data'!$J:$J&'SUA Data'!$F:$F,'SUA Data'!$M:$M)","v":"A"},0,{"$f":"_xlfn.XLOOKUP($A47&$C47&$D47&\"Loss\",'SUA Data'!$D:$D&'SUA Data'!$H:$H&'SUA Data'!$J:$J&'SUA Data'!$F:$F,'SUA Data'!$L:$L)","v":2478.42},{"$f":"_xlfn.XLOOKUP($A47&$C47&$D47&\"Loss\",'SUA Data'!$D:$D&'SUA Data'!$H:$H&'SUA Data'!$J:$J&'SUA Data'!$F:$F,'SUA Data'!$M:$M)","v":"I"},"",{"$f":"IF(ISNUMBER(N47),N47,'FFV Coefficients'!$H$7)","v":0.16529522313417541},2478.42,"I",{"$f":"_xlfn.XLOOKUP($A47&$C47&$D47&R$3,'SUA Data'!$D:$D&'SUA Data'!$H:$H&'SUA Data'!$J:$J&'SUA Data'!$F:$F,'SUA Data'!$L:$L)","v":0},{"$f":"_xlfn.XLOOKUP($A47&$C47&$D47&R$3,'SUA Data'!$D:$D&'SUA Data'!$H:$H&'SUA Data'!$J:$J&'SUA Data'!$F:$F,'SUA Data'!$M:$M)","v":"I"},{"$f":"_xlfn.XLOOKUP($A47&$C47&$D47&T$3,'SUA Data'!$D:$D&'SUA Data'!$H:$H&'SUA Data'!$J:$J&'SUA Data'!$F:$F,'SUA Data'!$L:$L)","v":{"$error":"#N/A"}},{"$f":"_xlfn.XLOOKUP($A47&$C47&$D47&T$3,'SUA Data'!$D:$D&'SUA Data'!$H:$H&'SUA Data'!$J:$J&'SUA Data'!$F:$F,'SUA Data'!$M:$M)","v":{"$error":"#N/A"}},{"$f":"_xlfn.XLOOKUP($A47&$C47&$D47&V$3,'SUA Data'!$D:$D&'SUA Data'!$H:$H&'SUA Data'!$J:$J&'SUA Data'!$F:$F,'SUA Data'!$L:$L)","v":29695.79},{"$f":"_xlfn.XLOOKUP($A47&$C47&$D47&V$3,'SUA Data'!$D:$D&'SUA Data'!$H:$H&'SUA Data'!$J:$J&'SUA Data'!$F:$F,'SUA Data'!$M:$M)","v":"E"},24787.217765804384,"AE"]
["Iceland","Bananas","Bananas",2022,{"$f":"_xlfn.XLOOKUP($A48&$C48&$D48&$E$3,'SUA Data'!$D:$D&'SUA Data'!$H:$H&'SUA Data'!$J:$J&'SUA Data'!$F:$F,'SUA Data'!$L:$L)","v":{"$error":"#N/A"}},{"$f":"_xlfn.XLOOKUP($A48&$C48&$D48&$E$3,'SUA Data'!$D:$D&'SUA Data'!$H:$H&'SUA Data'!$J:$J&'SUA Data'!$F:$F,'SUA Data'!$M:$M)","v":{"$error":"#N/A"}},{"$f":"_xlfn.XLOOKUP($A48&$C48&$D48&G$3,'SUA Data'!$D:$D&'SUA Data'!$H:$H&'SUA Data'!$J:$J&'SUA Data'!$F:$F,'SUA Data'!$L:$L)","v":5313.22},{"$f":"_xlfn.XLOOKUP($A48&$C48&$D48&G$3,'SUA Data'!$D:$D&'SUA Data'!$H:$H&'SUA Data'!$J:$J&'SUA Data'!$F:$F,'SUA Data'!$M:$M)","v":"A"},{"$f":"_xlfn.XLOOKUP($A48&$C48&$D48&I$3,'SUA Data'!$D:$D&'SUA Data'!$H:$H&'SUA Data'!$J:$J&'SUA Data'!$F:$F,'SUA Data'!$L:$L)","v":471.26},{"$f":"_xlfn.XLOOKUP($A48&$C48&$D48&I$3,'SUA Data'!$D:$D&'SUA Data'!$H:$H&'SUA Data'!$J:$J&'SUA Data'!$F:$F,'SUA Data'!$M:$M)","v":"A"},0,{"$f":"_xlfn.XLOOKUP($A48&$C48&$D48&\"Loss\",'SUA Data'!$D:$D&'SUA Data'!$H:$H&'SUA Data'!$J:$J&'SUA Data'!$F:$F,'SUA Data'!$L:$L)","v":105.89},{"$f":"_xlfn.XLOOKUP($A48&$C48&$D48&\"Loss\",'SUA Data'!$D:$D&'SUA Data'!$H:$H&'SUA Data'!$J:$J&'SUA Data'!$F:$F,'SUA Data'!$M:$M)","v":"I"},"",{"$f":"IF(ISNUMBER(N48),N48,'FFV Coefficients'!$H$7)","v":0.16529522313417541},105.89,"I",{"$f":"_xlfn.XLOOKUP($A48&$C48&$D48&R$3,'SUA Data'!$D:$D&'SUA Data'!$H:$H&'SUA Data'!$J:$J&'SUA Data'!$F:$F,'SUA Data'!$L:$L)","v":0},{"$f":"_xlfn.XLOOKUP($A48&$C48&$D48&R$3,'SUA Data'!$D:$D&'SUA Data'!$H:$H&'SUA Data'!$J:$J&'SUA Data'!$F:$F,'SUA Data'!$M:$M)","v":"I"},{"$f":"_xlfn.XLOOKUP($A48&$C48&$D48&T$3,'SUA Data'!$D:$D&'SUA Data'!$H:$H&'SUA Data'!$J:$J&'SUA Data'!$F:$F,'SUA Data'!$L:$L)","v":{"$error":"#N/A"}},{"$f":"_xlfn.XLOOKUP($A48&$C48&$D48&T$3,'SUA Data'!$D:$D&'SUA Data'!$H:$H&'SUA Data'!$J:$J&'SUA Data'!$F:$F,'SUA Data'!$M:$M)","v":{"$error":"#N/A"}},{"$f":"_xlfn.XLOOKUP($A48&$C48&$D48&V$3,'SUA Data'!$D:$D&'SUA Data'!$H:$H&'SUA Data'!$J:$J&'SUA Data'!$F:$F,'SUA Data'!$L:$L)","v":4736.0600000000004},{"$f":"_xlfn.XLOOKUP($A48&$C48&$D48&V$3,'SUA Data'!$D:$D&'SUA Data'!$H:$H&'SUA Data'!$J:$J&'SUA Data'!$F:$F,'SUA Data'!$M:$M)","v":"E"},3953.2119055231574,"AE"]
["Ireland","Bananas","Bananas",2022,{"$f":"_xlfn.XLOOKUP($A49&$C49&$D49&$E$3,'SUA Data'!$D:$D&'SUA Data'!$H:$H&'SUA Data'!$J:$J&'SUA Data'!$F:$F,'SUA Data'!$L:$L)","v":0},{"$f":"_xlfn.XLOOKUP($A49&$C49&$D49&$E$3,'SUA Data'!$D:$D&'SUA Data'!$H:$H&'SUA Data'!$J:$J&'SUA Data'!$F:$F,'SUA Data'!$M:$M)","v":"A"},{"$f":"_xlfn.XLOOKUP($A49&$C49&$D49&G$3,'SUA Data'!$D:$D&'SUA Data'!$H:$H&'SUA Data'!$J:$J&'SUA Data'!$F:$F,'SUA Data'!$L:$L)","v":91189.36},{"$f":"_xlfn.XLOOKUP($A49&$C49&$D49&G$3,'SUA Data'!$D:$D&'SUA Data'!$H:$H&'SUA Data'!$J:$J&'SUA Data'!$F:$F,'SUA Data'!$M:$M)","v":"A"},{"$f":"_xlfn.XLOOKUP($A49&$C49&$D49&I$3,'SUA Data'!$D:$D&'SUA Data'!$H:$H&'SUA Data'!$J:$J&'SUA Data'!$F:$F,'SUA Data'!$L:$L)","v":3998.49},{"$f":"_xlfn.XLOOKUP($A49&$C49&$D49&I$3,'SUA Data'!$D:$D&'SUA Data'!$H:$H&'SUA Data'!$J:$J&'SUA Data'!$F:$F,'SUA Data'!$M:$M)","v":"A"},0,{"$f":"_xlfn.XLOOKUP($A49&$C49&$D49&\"Loss\",'SUA Data'!$D:$D&'SUA Data'!$H:$H&'SUA Data'!$J:$J&'SUA Data'!$F:$F,'SUA Data'!$L:$L)","v":4559.47},{"$f":"_xlfn.XLOOKUP($A49&$C49&$D49&\"Loss\",'SUA Data'!$D:$D&'SUA Data'!$H:$H&'SUA Data'!$J:$J&'SUA Data'!$F:$F,'SUA Data'!$M:$M)","v":"I"},0.27804479092308737,{"$f":"IF(ISNUMBER(N49),N49,'FFV Coefficients'!$H$7)","v":0.27804479092308737},3291.7331171299106,"AE",{"$f":"_xlfn.XLOOKUP($A49&$C49&$D49&R$3,'SUA Data'!$D:$D&'SUA Data'!$H:$H&'SUA Data'!$J:$J&'SUA Data'!$F:$F,'SUA Data'!$L:$L)","v":0},{"$f":"_xlfn.XLOOKUP($A49&$C49&$D49&R$3,'SUA Data'!$D:$D&'SUA Data'!$H:$H&'SUA Data'!$J:$J&'SUA Data'!$F:$F,'SUA Data'!$M:$M)","v":"I"},{"$f":"_xlfn.XLOOKUP($A49&$C49&$D49&T$3,'SUA Data'!$D:$D&'SUA Data'!$H:$H&'SUA Data'!$J:$J&'SUA Data'!$F:$F,'SUA Data'!$L:$L)","v":24242.97},{"$f":"_xlfn.XLOOKUP($A49&$C49&$D49&T$3,'SUA Data'!$D:$D&'SUA Data'!$H:$H&'SUA Data'!$J:$J&'SUA Data'!$F:$F,'SUA Data'!$M:$M)","v":"E"},{"$f":"_xlfn.XLOOKUP($A49&$C49&$D49&V$3,'SUA Data'!$D:$D&'SUA Data'!$H:$H&'SUA Data'!$J:$J&'SUA Data'!$F:$F,'SUA Data'!$L:$L)","v":58388.44},{"$f":"_xlfn.XLOOKUP($A49&$C49&$D49&V$3,'SUA Data'!$D:$D&'SUA Data'!$H:$H&'SUA Data'!$J:$J&'SUA Data'!$F:$F,'SUA Data'!$M:$M)","v":"E"},58388.44,"E"]
["Italy","Bananas","Bananas",2022,{"$f":"_xlfn.XLOOKUP($A50&$C50&$D50&$E$3,'SUA Data'!$D:$D&'SUA Data'!$H:$H&'SUA Data'!$J:$J&'SUA Data'!$F:$F,'SUA Data'!$L:$L)","v":0},{"$f":"_xlfn.XLOOKUP($A50&$C50&$D50&$E$3,'SUA Data'!$D:$D&'SUA Data'!$H:$H&'SUA Data'!$J:$J&'SUA Data'!$F:$F,'SUA Data'!$M:$M)","v":"A"},{"$f":"_xlfn.XLOOKUP($A50&$C50&$D50&G$3,'SUA Data'!$D:$D&'SUA Data'!$H:$H&'SUA Data'!$J:$J&'SUA Data'!$F:$F,'SUA Data'!$L:$L)","v":758600.97},{"$f":"_xlfn.XLOOKUP($A50&$C50&$D50&G$3,'SUA Data'!$D:$D&'SUA Data'!$H:$H&'SUA Data'!$J:$J&'SUA Data'!$F:$F,'SUA Data'!$M:$M)","v":"A"},{"$f":"_xlfn.XLOOKUP($A50&$C50&$D50&I$3,'SUA Data'!$D:$D&'SUA Data'!$H:$H&'SUA Data'!$J:$J&'SUA Data'!$F:$F,'SUA Data'!$L:$L)","v":91893},{"$f":"_xlfn.XLOOKUP($A50&$C50&$D50&I$3,'SUA Data'!$D:$D&'SUA Data'!$H:$H&'SUA Data'!$J:$J&'SUA Data'!$F:$F,'SUA Data'!$M:$M)","v":"A"},0,{"$f":"_xlfn.XLOOKUP($A50&$C50&$D50&\"Loss\",'SUA Data'!$D:$D&'SUA Data'!$H:$H&'SUA Data'!$J:$J&'SUA Data'!$F:$F,'SUA Data'!$L:$L)","v":26.71},{"$f":"_xlfn.XLOOKUP($A50&$C50&$D50&\"Loss\",'SUA Data'!$D:$D&'SUA Data'!$H:$H&'SUA Data'!$J:$J&'SUA Data'!$F:$F,'SUA Data'!$M:$M)","v":"E"},0,{"$f":"IF(ISNUMBER(N50),N50,'FFV Coefficients'!$H$7)","v":0},26.71,"AE",{"$f":"_xlfn.XLOOKUP($A50&$C50&$D50&R$3,'SUA Data'!$D:$D&'SUA Data'!$H:$H&'SUA Data'!$J:$J&'SUA Data'!$F:$F,'SUA Data'!$L:$L)","v":0},{"$f":"_xlfn.XLOOKUP($A50&$C50&$D50&R$3,'SUA Data'!$D:$D&'SUA Data'!$H:$H&'SUA Data'!$J:$J&'SUA Data'!$F:$F,'SUA Data'!$M:$M)","v":"I"},{"$f":"_xlfn.XLOOKUP($A50&$C50&$D50&T$3,'SUA Data'!$D:$D&'SUA Data'!$H:$H&'SUA Data'!$J:$J&'SUA Data'!$F:$F,'SUA Data'!$L:$L)","v":0},{"$f":"_xlfn.XLOOKUP($A50&$C50&$D50&T$3,'SUA Data'!$D:$D&'SUA Data'!$H:$H&'SUA Data'!$J:$J&'SUA Data'!$F:$F,'SUA Data'!$M:$M)","v":"E"},{"$f":"_xlfn.XLOOKUP($A50&$C50&$D50&V$3,'SUA Data'!$D:$D&'SUA Data'!$H:$H&'SUA Data'!$J:$J&'SUA Data'!$F:$F,'SUA Data'!$L:$L)","v":666681.27},{"$f":"_xlfn.XLOOKUP($A50&$C50&$D50&V$3,'SUA Data'!$D:$D&'SUA Data'!$H:$H&'SUA Data'!$J:$J&'SUA Data'!$F:$F,'SUA Data'!$M:$M)","v":"E"},666681.27,"E"]
["Latvia","Bananas","Bananas",2022,{"$f":"_xlfn.XLOOKUP($A51&$C51&$D51&$E$3,'SUA Data'!$D:$D&'SUA Data'!$H:$H&'SUA Data'!$J:$J&'SUA Data'!$F:$F,'SUA Data'!$L:$L)","v":0},{"$f":"_xlfn.XLOOKUP($A51&$C51&$D51&$E$3,'SUA Data'!$D:$D&'SUA Data'!$H:$H&'SUA Data'!$J:$J&'SUA Data'!$F:$F,'SUA Data'!$M:$M)","v":"A"},{"$f":"_xlfn.XLOOKUP($A51&$C51&$D51&G$3,'SUA Data'!$D:$D&'SUA Data'!$H:$H&'SUA Data'!$J:$J&'SUA Data'!$F:$F,'SUA Data'!$L:$L)","v":42773.89},{"$f":"_xlfn.XLOOKUP($A51&$C51&$D51&G$3,'SUA Data'!$D:$D&'SUA Data'!$H:$H&'SUA Data'!$J:$J&'SUA Data'!$F:$F,'SUA Data'!$M:$M)","v":"A"},{"$f":"_xlfn.XLOOKUP($A51&$C51&$D51&I$3,'SUA Data'!$D:$D&'SUA Data'!$H:$H&'SUA Data'!$J:$J&'SUA Data'!$F:$F,'SUA Data'!$L:$L)","v":22087.93},{"$f":"_xlfn.XLOOKUP($A51&$C51&$D51&I$3,'SUA Data'!$D:$D&'SUA Data'!$H:$H&'SUA Data'!$J:$J&'SUA Data'!$F:$F,'SUA Data'!$M:$M)","v":"A"},0,{"$f":"_xlfn.XLOOKUP($A51&$C51&$D51&\"Loss\",'SUA Data'!$D:$D&'SUA Data'!$H:$H&'SUA Data'!$J:$J&'SUA Data'!$F:$F,'SUA Data'!$L:$L)","v":{"$error":"#N/A"}},{"$f":"_xlfn.XLOOKUP($A51&$C51&$D51&\"Loss\",'SUA Data'!$D:$D&'SUA Data'!$H:$H&'SUA Data'!$J:$J&'SUA Data'!$F:$F,'SUA Data'!$M:$M)","v":{"$error":"#N/A"}},"",{"$f":"IF(ISNUMBER(N51),N51,'FFV Coefficients'!$H$7)","v":0.16529522313417541},{"$error":"#N/A"},{"$error":"#N/A"},{"$f":"_xlfn.XLOOKUP($A51&$C51&$D51&R$3,'SUA Data'!$D:$D&'SUA Data'!$H:$H&'SUA Data'!$J:$J&'SUA Data'!$F:$F,'SUA Data'!$L:$L)","v":0},{"$f":"_xlfn.XLOOKUP($A51&$C51&$D51&R$3,'SUA Data'!$D:$D&'SUA Data'!$H:$H&'SUA Data'!$J:$J&'SUA Data'!$F:$F,'SUA Data'!$M:$M)","v":"I"},{"$f":"_xlfn.XLOOKUP($A51&$C51&$D51&T$3,'SUA Data'!$D:$D&'SUA Data'!$H:$H&'SUA Data'!$J:$J&'SUA Data'!$F:$F,'SUA Data'!$L:$L)","v":{"$error":"#N/A"}},{"$f":"_xlfn.XLOOKUP($A51&$C51&$D51&T$3,'SUA Data'!$D:$D&'SUA Data'!$H:$H&'SUA Data'!$J:$J&'SUA Data'!$F:$F,'SUA Data'!$M:$M)","v":{"$error":"#N/A"}},{"$f":"_xlfn.XLOOKUP($A51&$C51&$D51&V$3,'SUA Data'!$D:$D&'SUA Data'!$H:$H&'SUA Data'!$J:$J&'SUA Data'!$F:$F,'SUA Data'!$L:$L)","v":20685.96},{"$f":"_xlfn.XLOOKUP($A51&$C51&$D51&V$3,'SUA Data'!$D:$D&'SUA Data'!$H:$H&'SUA Data'!$J:$J&'SUA Data'!$F:$F,'SUA Data'!$M:$M)","v":"E"},17266.669626055373,"AE"]
["Lithuania","Bananas","Bananas",2022,{"$f":"_xlfn.XLOOKUP($A52&$C52&$D52&$E$3,'SUA Data'!$D:$D&'SUA Data'!$H:$H&'SUA Data'!$J:$J&'SUA Data'!$F:$F,'SUA Data'!$L:$L)","v":0},{"$f":"_xlfn.XLOOKUP($A52&$C52&$D52&$E$3,'SUA Data'!$D:$D&'SUA Data'!$H:$H&'SUA Data'!$J:$J&'SUA Data'!$F:$F,'SUA Data'!$M:$M)","v":"A"},{"$f":"_xlfn.XLOOKUP($A52&$C52&$D52&G$3,'SUA Data'!$D:$D&'SUA Data'!$H:$H&'SUA Data'!$J:$J&'SUA Data'!$F:$F,'SUA Data'!$L:$L)","v":41177.43},{"$f":"_xlfn.XLOOKUP($A52&$C52&$D52&G$3,'SUA Data'!$D:$D&'SUA Data'!$H:$H&'SUA Data'!$J:$J&'SUA Data'!$F:$F,'SUA Data'!$M:$M)","v":"A"},{"$f":"_xlfn.XLOOKUP($A52&$C52&$D52&I$3,'SUA Data'!$D:$D&'SUA Data'!$H:$H&'SUA Data'!$J:$J&'SUA Data'!$F:$F,'SUA Data'!$L:$L)","v":6552.25},{"$f":"_xlfn.XLOOKUP($A52&$C52&$D52&I$3,'SUA Data'!$D:$D&'SUA Data'!$H:$H&'SUA Data'!$J:$J&'SUA Data'!$F:$F,'SUA Data'!$M:$M)","v":"A"},0,{"$f":"_xlfn.XLOOKUP($A52&$C52&$D52&\"Loss\",'SUA Data'!$D:$D&'SUA Data'!$H:$H&'SUA Data'!$J:$J&'SUA Data'!$F:$F,'SUA Data'!$L:$L)","v":{"$error":"#N/A"}},{"$f":"_xlfn.XLOOKUP($A52&$C52&$D52&\"Loss\",'SUA Data'!$D:$D&'SUA Data'!$H:$H&'SUA Data'!$J:$J&'SUA Data'!$F:$F,'SUA Data'!$M:$M)","v":{"$error":"#N/A"}},{"$f":"IF(ISNUMBER(T52),T52/(T52+V52),\"\")","v":0.23946936882349781},{"$f":"IF(ISNUMBER(N52),N52,'FFV Coefficients'!$H$7)","v":0.23946936882349781},{"$error":"#N/A"},"AE",{"$f":"_xlfn.XLOOKUP($A52&$C52&$D52&R$3,'SUA Data'!$D:$D&'SUA Data'!$H:$H&'SUA Data'!$J:$J&'SUA Data'!$F:$F,'SUA Data'!$L:$L)","v":0},{"$f":"_xlfn.XLOOKUP($A52&$C52&$D52&R$3,'SUA Data'!$D:$D&'SUA Data'!$H:$H&'SUA Data'!$J:$J&'SUA Data'!$F:$F,'SUA Data'!$M:$M)","v":"I"},{"$f":"_xlfn.XLOOKUP($A52&$C52&$D52&T$3,'SUA Data'!$D:$D&'SUA Data'!$H:$H&'SUA Data'!$J:$J&'SUA Data'!$F:$F,'SUA Data'!$L:$L)","v":8291.67},{"$f":"_xlfn.XLOOKUP($A52&$C52&$D52&T$3,'SUA Data'!$D:$D&'SUA Data'!$H:$H&'SUA Data'!$J:$J&'SUA Data'!$F:$F,'SUA Data'!$M:$M)","v":"E"},{"$f":"_xlfn.XLOOKUP($A52&$C52&$D52&V$3,'SUA Data'!$D:$D&'SUA Data'!$H:$H&'SUA Data'!$J:$J&'SUA Data'!$F:$F,'SUA Data'!$L:$L)","v":26333.51},{"$f":"_xlfn.XLOOKUP($A52&$C52&$D52&V$3,'SUA Data'!$D:$D&'SUA Data'!$H:$H&'SUA Data'!$J:$J&'SUA Data'!$F:$F,'SUA Data'!$M:$M)","v":"E"},26333.51,"E"]
["Luxembourg","Bananas","Bananas",2022,{"$f":"_xlfn.XLOOKUP($A53&$C53&$D53&$E$3,'SUA Data'!$D:$D&'SUA Data'!$H:$H&'SUA Data'!$J:$J&'SUA Data'!$F:$F,'SUA Data'!$L:$L)","v":0},{"$f":"_xlfn.XLOOKUP($A53&$C53&$D53&$E$3,'SUA Data'!$D:$D&'SUA Data'!$H:$H&'SUA Data'!$J:$J&'SUA Data'!$F:$F,'SUA Data'!$M:$M)","v":"A"},{"$f":"_xlfn.XLOOKUP($A53&$C53&$D53&G$3,'SUA Data'!$D:$D&'SUA Data'!$H:$H&'SUA Data'!$J:$J&'SUA Data'!$F:$F,'SUA Data'!$L:$L)","v":6599.39},{"$f":"_xlfn.XLOOKUP($A53&$C53&$D53&G$3,'SUA Data'!$D:$D&'SUA Data'!$H:$H&'SUA Data'!$J:$J&'SUA Data'!$F:$F,'SUA Data'!$M:$M)","v":"A"},{"$f":"_xlfn.XLOOKUP($A53&$C53&$D53&I$3,'SUA Data'!$D:$D&'SUA Data'!$H:$H&'SUA Data'!$J:$J&'SUA Data'!$F:$F,'SUA Data'!$L:$L)","v":317.02999999999997},{"$f":"_xlfn.XLOOKUP($A53&$C53&$D53&I$3,'SUA Data'!$D:$D&'SUA Data'!$H:$H&'SUA Data'!$J:$J&'SUA Data'!$F:$F,'SUA Data'!$M:$M)","v":"A"},0,{"$f":"_xlfn.XLOOKUP($A53&$C53&$D53&\"Loss\",'SUA Data'!$D:$D&'SUA Data'!$H:$H&'SUA Data'!$J:$J&'SUA Data'!$F:$F,'SUA Data'!$L:$L)","v":329.97},{"$f":"_xlfn.XLOOKUP($A53&$C53&$D53&\"Loss\",'SUA Data'!$D:$D&'SUA Data'!$H:$H&'SUA Data'!$J:$J&'SUA Data'!$F:$F,'SUA Data'!$M:$M)","v":"I"},"",{"$f":"IF(ISNUMBER(N53),N53,'FFV Coefficients'!$H$7)","v":0.16529522313417541},329.97,"I",{"$f":"_xlfn.XLOOKUP($A53&$C53&$D53&R$3,'SUA Data'!$D:$D&'SUA Data'!$H:$H&'SUA Data'!$J:$J&'SUA Data'!$F:$F,'SUA Data'!$L:$L)","v":0},{"$f":"_xlfn.XLOOKUP($A53&$C53&$D53&R$3,'SUA Data'!$D:$D&'SUA Data'!$H:$H&'SUA Data'!$J:$J&'SUA Data'!$F:$F,'SUA Data'!$M:$M)","v":"I"},{"$f":"_xlfn.XLOOKUP($A53&$C53&$D53&T$3,'SUA Data'!$D:$D&'SUA Data'!$H:$H&'SUA Data'!$J:$J&'SUA Data'!$F:$F,'SUA Data'!$L:$L)","v":{"$error":"#N/A"}},{"$f":"_xlfn.XLOOKUP($A53&$C53&$D53&T$3,'SUA Data'!$D:$D&'SUA Data'!$H:$H&'SUA Data'!$J:$J&'SUA Data'!$F:$F,'SUA Data'!$M:$M)","v":{"$error":"#N/A"}},{"$f":"_xlfn.XLOOKUP($A53&$C53&$D53&V$3,'SUA Data'!$D:$D&'SUA Data'!$H:$H&'SUA Data'!$J:$J&'SUA Data'!$F:$F,'SUA Data'!$L:$L)","v":5952.39},{"$f":"_xlfn.XLOOKUP($A53&$C53&$D53&V$3,'SUA Data'!$D:$D&'SUA Data'!$H:$H&'SUA Data'!$J:$J&'SUA Data'!$F:$F,'SUA Data'!$M:$M)","v":"E"},4968.4883667683662,"AE"]
["Malta","Bananas","Bananas",2022,{"$f":"_xlfn.XLOOKUP($A54&$C54&$D54&$E$3,'SUA Data'!$D:$D&'SUA Data'!$H:$H&'SUA Data'!$J:$J&'SUA Data'!$F:$F,'SUA Data'!$L:$L)","v":0},{"$f":"_xlfn.XLOOKUP($A54&$C54&$D54&$E$3,'SUA Data'!$D:$D&'SUA Data'!$H:$H&'SUA Data'!$J:$J&'SUA Data'!$F:$F,'SUA Data'!$M:$M)","v":"A"},{"$f":"_xlfn.XLOOKUP($A54&$C54&$D54&G$3,'SUA Data'!$D:$D&'SUA Data'!$H:$H&'SUA Data'!$J:$J&'SUA Data'!$F:$F,'SUA Data'!$L:$L)","v":9761.86},{"$f":"_xlfn.XLOOKUP($A54&$C54&$D54&G$3,'SUA Data'!$D:$D&'SUA Data'!$H:$H&'SUA Data'!$J:$J&'SUA Data'!$F:$F,'SUA Data'!$M:$M)","v":"A"},{"$f":"_xlfn.XLOOKUP($A54&$C54&$D54&I$3,'SUA Data'!$D:$D&'SUA Data'!$H:$H&'SUA Data'!$J:$J&'SUA Data'!$F:$F,'SUA Data'!$L:$L)","v":{"$error":"#N/A"}},{"$f":"_xlfn.XLOOKUP($A54&$C54&$D54&I$3,'SUA Data'!$D:$D&'SUA Data'!$H:$H&'SUA Data'!$J:$J&'SUA Data'!$F:$F,'SUA Data'!$M:$M)","v":{"$error":"#N/A"}},0,{"$f":"_xlfn.XLOOKUP($A54&$C54&$D54&\"Loss\",'SUA Data'!$D:$D&'SUA Data'!$H:$H&'SUA Data'!$J:$J&'SUA Data'!$F:$F,'SUA Data'!$L:$L)","v":488.09},{"$f":"_xlfn.XLOOKUP($A54&$C54&$D54&\"Loss\",'SUA Data'!$D:$D&'SUA Data'!$H:$H&'SUA Data'!$J:$J&'SUA Data'!$F:$F,'SUA Data'!$M:$M)","v":"I"},"",{"$f":"IF(ISNUMBER(N54),N54,'FFV Coefficients'!$H$7)","v":0.16529522313417541},488.09,"I",{"$f":"_xlfn.XLOOKUP($A54&$C54&$D54&R$3,'SUA Data'!$D:$D&'SUA Data'!$H:$H&'SUA Data'!$J:$J&'SUA Data'!$F:$F,'SUA Data'!$L:$L)","v":0},{"$f":"_xlfn.XLOOKUP($A54&$C54&$D54&R$3,'SUA Data'!$D:$D&'SUA Data'!$H:$H&'SUA Data'!$J:$J&'SUA Data'!$F:$F,'SUA Data'!$M:$M)","v":"I"},{"$f":"_xlfn.XLOOKUP($A54&$C54&$D54&T$3,'SUA Data'!$D:$D&'SUA Data'!$H:$H&'SUA Data'!$J:$J&'SUA Data'!$F:$F,'SUA Data'!$L:$L)","v":{"$error":"#N/A"}},{"$f":"_xlfn.XLOOKUP($A54&$C54&$D54&T$3,'SUA Data'!$D:$D&'SUA Data'!$H:$H&'SUA Data'!$J:$J&'SUA Data'!$F:$F,'SUA Data'!$M:$M)","v":{"$error":"#N/A"}},{"$f":"_xlfn.XLOOKUP($A54&$C54&$D54&V$3,'SUA Data'!$D:$D&'SUA Data'!$H:$H&'SUA Data'!$J:$J&'SUA Data'!$F:$F,'SUA Data'!$L:$L)","v":9078.5300000000007},{"$f":"_xlfn.XLOOKUP($A54&$C54&$D54&V$3,'SUA Data'!$D:$D&'SUA Data'!$H:$H&'SUA Data'!$J:$J&'SUA Data'!$F:$F,'SUA Data'!$M:$M)","v":"E"},7577.8923579196944,"AE"]
["Netherlands","Bananas","Bananas",2022,{"$f":"_xlfn.XLOOKUP($A55&$C55&$D55&$E$3,'SUA Data'!$D:$D&'SUA Data'!$H:$H&'SUA Data'!$J:$J&'SUA Data'!$F:$F,'SUA Data'!$L:$L)","v":0},{"$f":"_xlfn.XLOOKUP($A55&$C55&$D55&$E$3,'SUA Data'!$D:$D&'SUA Data'!$H:$H&'SUA Data'!$J:$J&'SUA Data'!$F:$F,'SUA Data'!$M:$M)","v":"A"},{"$f":"_xlfn.XLOOKUP($A55&$C55&$D55&G$3,'SUA Data'!$D:$D&'SUA Data'!$H:$H&'SUA Data'!$J:$J&'SUA Data'!$F:$F,'SUA Data'!$L:$L)","v":1431195.65},{"$f":"_xlfn.XLOOKUP($A55&$C55&$D55&G$3,'SUA Data'!$D:$D&'SUA Data'!$H:$H&'SUA Data'!$J:$J&'SUA Data'!$F:$F,'SUA Data'!$M:$M)","v":"A"},{"$f":"_xlfn.XLOOKUP($A55&$C55&$D55&I$3,'SUA Data'!$D:$D&'SUA Data'!$H:$H&'SUA Data'!$J:$J&'SUA Data'!$F:$F,'SUA Data'!$L:$L)","v":1005910.19},{"$f":"_xlfn.XLOOKUP($A55&$C55&$D55&I$3,'SUA Data'!$D:$D&'SUA Data'!$H:$H&'SUA Data'!$J:$J&'SUA Data'!$F:$F,'SUA Data'!$M:$M)","v":"A"},0,{"$f":"_xlfn.XLOOKUP($A55&$C55&$D55&\"Loss\",'SUA Data'!$D:$D&'SUA Data'!$H:$H&'SUA Data'!$J:$J&'SUA Data'!$F:$F,'SUA Data'!$L:$L)","v":14311.96},{"$f":"_xlfn.XLOOKUP($A55&$C55&$D55&\"Loss\",'SUA Data'!$D:$D&'SUA Data'!$H:$H&'SUA Data'!$J:$J&'SUA Data'!$F:$F,'SUA Data'!$M:$M)","v":"I"},9.8387398431161982E-2,{"$f":"IF(ISNUMBER(N55),N55,'FFV Coefficients'!$H$7)","v":9.8387398431161982E-2},12903.843489149147,"AE",{"$f":"_xlfn.XLOOKUP($A55&$C55&$D55&R$3,'SUA Data'!$D:$D&'SUA Data'!$H:$H&'SUA Data'!$J:$J&'SUA Data'!$F:$F,'SUA Data'!$L:$L)","v":0},{"$f":"_xlfn.XLOOKUP($A55&$C55&$D55&R$3,'SUA Data'!$D:$D&'SUA Data'!$H:$H&'SUA Data'!$J:$J&'SUA Data'!$F:$F,'SUA Data'!$M:$M)","v":"I"},{"$f":"_xlfn.XLOOKUP($A55&$C55&$D55&T$3,'SUA Data'!$D:$D&'SUA Data'!$H:$H&'SUA Data'!$J:$J&'SUA Data'!$F:$F,'SUA Data'!$L:$L)","v":41842.730000000003},{"$f":"_xlfn.XLOOKUP($A55&$C55&$D55&T$3,'SUA Data'!$D:$D&'SUA Data'!$H:$H&'SUA Data'!$J:$J&'SUA Data'!$F:$F,'SUA Data'!$M:$M)","v":"E"},{"$f":"_xlfn.XLOOKUP($A55&$C55&$D55&V$3,'SUA Data'!$D:$D&'SUA Data'!$H:$H&'SUA Data'!$J:$J&'SUA Data'!$F:$F,'SUA Data'!$L:$L)","v":369130.77},{"$f":"_xlfn.XLOOKUP($A55&$C55&$D55&V$3,'SUA Data'!$D:$D&'SUA Data'!$H:$H&'SUA Data'!$J:$J&'SUA Data'!$F:$F,'SUA Data'!$M:$M)","v":"E"},369130.77,"E"]
["Norway","Bananas","Bananas",2022,{"$f":"_xlfn.XLOOKUP($A56&$C56&$D56&$E$3,'SUA Data'!$D:$D&'SUA Data'!$H:$H&'SUA Data'!$J:$J&'SUA Data'!$F:$F,'SUA Data'!$L:$L)","v":{"$error":"#N/A"}},{"$f":"_xlfn.XLOOKUP($A56&$C56&$D56&$E$3,'SUA Data'!$D:$D&'SUA Data'!$H:$H&'SUA Data'!$J:$J&'SUA Data'!$F:$F,'SUA Data'!$M:$M)","v":{"$error":"#N/A"}},{"$f":"_xlfn.XLOOKUP($A56&$C56&$D56&G$3,'SUA Data'!$D:$D&'SUA Data'!$H:$H&'SUA Data'!$J:$J&'SUA Data'!$F:$F,'SUA Data'!$L:$L)","v":79926.44},{"$f":"_xlfn.XLOOKUP($A56&$C56&$D56&G$3,'SUA Data'!$D:$D&'SUA Data'!$H:$H&'SUA Data'!$J:$J&'SUA Data'!$F:$F,'SUA Data'!$M:$M)","v":"A"},{"$f":"_xlfn.XLOOKUP($A56&$C56&$D56&I$3,'SUA Data'!$D:$D&'SUA Data'!$H:$H&'SUA Data'!$J:$J&'SUA Data'!$F:$F,'SUA Data'!$L:$L)","v":{"$error":"#N/A"}},{"$f":"_xlfn.XLOOKUP($A56&$C56&$D56&I$3,'SUA Data'!$D:$D&'SUA Data'!$H:$H&'SUA Data'!$J:$J&'SUA Data'!$F:$F,'SUA Data'!$M:$M)","v":{"$error":"#N/A"}},0,{"$f":"_xlfn.XLOOKUP($A56&$C56&$D56&\"Loss\",'SUA Data'!$D:$D&'SUA Data'!$H:$H&'SUA Data'!$J:$J&'SUA Data'!$F:$F,'SUA Data'!$L:$L)","v":3996.32},{"$f":"_xlfn.XLOOKUP($A56&$C56&$D56&\"Loss\",'SUA Data'!$D:$D&'SUA Data'!$H:$H&'SUA Data'!$J:$J&'SUA Data'!$F:$F,'SUA Data'!$M:$M)","v":"I"},"",{"$f":"IF(ISNUMBER(N56),N56,'FFV Coefficients'!$H$7)","v":0.16529522313417541},3996.32,"I",{"$f":"_xlfn.XLOOKUP($A56&$C56&$D56&R$3,'SUA Data'!$D:$D&'SUA Data'!$H:$H&'SUA Data'!$J:$J&'SUA Data'!$F:$F,'SUA Data'!$L:$L)","v":0},{"$f":"_xlfn.XLOOKUP($A56&$C56&$D56&R$3,'SUA Data'!$D:$D&'SUA Data'!$H:$H&'SUA Data'!$J:$J&'SUA Data'!$F:$F,'SUA Data'!$M:$M)","v":"I"},{"$f":"_xlfn.XLOOKUP($A56&$C56&$D56&T$3,'SUA Data'!$D:$D&'SUA Data'!$H:$H&'SUA Data'!$J:$J&'SUA Data'!$F:$F,'SUA Data'!$L:$L)","v":{"$error":"#N/A"}},{"$f":"_xlfn.XLOOKUP($A56&$C56&$D56&T$3,'SUA Data'!$D:$D&'SUA Data'!$H:$H&'SUA Data'!$J:$J&'SUA Data'!$F:$F,'SUA Data'!$M:$M)","v":{"$error":"#N/A"}},{"$f":"_xlfn.XLOOKUP($A56&$C56&$D56&V$3,'SUA Data'!$D:$D&'SUA Data'!$H:$H&'SUA Data'!$J:$J&'SUA Data'!$F:$F,'SUA Data'!$L:$L)","v":75930.12},{"$f":"_xlfn.XLOOKUP($A56&$C56&$D56&V$3,'SUA Data'!$D:$D&'SUA Data'!$H:$H&'SUA Data'!$J:$J&'SUA Data'!$F:$F,'SUA Data'!$M:$M)","v":"E"},63379.233871995282,"AE"]
["Poland","Bananas","Bananas",2022,{"$f":"_xlfn.XLOOKUP($A57&$C57&$D57&$E$3,'SUA Data'!$D:$D&'SUA Data'!$H:$H&'SUA Data'!$J:$J&'SUA Data'!$F:$F,'SUA Data'!$L:$L)","v":0},{"$f":"_xlfn.XLOOKUP($A57&$C57&$D57&$E$3,'SUA Data'!$D:$D&'SUA Data'!$H:$H&'SUA Data'!$J:$J&'SUA Data'!$F:$F,'SUA Data'!$M:$M)","v":"A"},{"$f":"_xlfn.XLOOKUP($A57&$C57&$D57&G$3,'SUA Data'!$D:$D&'SUA Data'!$H:$H&'SUA Data'!$J:$J&'SUA Data'!$F:$F,'SUA Data'!$L:$L)","v":469185.2},{"$f":"_xlfn.XLOOKUP($A57&$C57&$D57&G$3,'SUA Data'!$D:$D&'SUA Data'!$H:$H&'SUA Data'!$J:$J&'SUA Data'!$F:$F,'SUA Data'!$M:$M)","v":"A"},{"$f":"_xlfn.XLOOKUP($A57&$C57&$D57&I$3,'SUA Data'!$D:$D&'SUA Data'!$H:$H&'SUA Data'!$J:$J&'SUA Data'!$F:$F,'SUA Data'!$L:$L)","v":56864.17},{"$f":"_xlfn.XLOOKUP($A57&$C57&$D57&I$3,'SUA Data'!$D:$D&'SUA Data'!$H:$H&'SUA Data'!$J:$J&'SUA Data'!$F:$F,'SUA Data'!$M:$M)","v":"A"},0,{"$f":"_xlfn.XLOOKUP($A57&$C57&$D57&\"Loss\",'SUA Data'!$D:$D&'SUA Data'!$H:$H&'SUA Data'!$J:$J&'SUA Data'!$F:$F,'SUA Data'!$L:$L)","v":46918.52},{"$f":"_xlfn.XLOOKUP($A57&$C57&$D57&\"Loss\",'SUA Data'!$D:$D&'SUA Data'!$H:$H&'SUA Data'!$J:$J&'SUA Data'!$F:$F,'SUA Data'!$M:$M)","v":"I"},0.58696108709274419,{"$f":"IF(ISNUMBER(N57),N57,'FFV Coefficients'!$H$7)","v":0.58696108709274419},19379.174496017338,"AE",{"$f":"_xlfn.XLOOKUP($A57&$C57&$D57&R$3,'SUA Data'!$D:$D&'SUA Data'!$H:$H&'SUA Data'!$J:$J&'SUA Data'!$F:$F,'SUA Data'!$L:$L)","v":0},{"$f":"_xlfn.XLOOKUP($A57&$C57&$D57&R$3,'SUA Data'!$D:$D&'SUA Data'!$H:$H&'SUA Data'!$J:$J&'SUA Data'!$F:$F,'SUA Data'!$M:$M)","v":"I"},{"$f":"_xlfn.XLOOKUP($A57&$C57&$D57&T$3,'SUA Data'!$D:$D&'SUA Data'!$H:$H&'SUA Data'!$J:$J&'SUA Data'!$F:$F,'SUA Data'!$L:$L)","v":242016.4},{"$f":"_xlfn.XLOOKUP($A57&$C57&$D57&T$3,'SUA Data'!$D:$D&'SUA Data'!$H:$H&'SUA Data'!$J:$J&'SUA Data'!$F:$F,'SUA Data'!$M:$M)","v":"E"},{"$f":"_xlfn.XLOOKUP($A57&$C57&$D57&V$3,'SUA Data'!$D:$D&'SUA Data'!$H:$H&'SUA Data'!$J:$J&'SUA Data'!$F:$F,'SUA Data'!$L:$L)","v":123386.11},{"$f":"_xlfn.XLOOKUP($A57&$C57&$D57&V$3,'SUA Data'!$D:$D&'SUA Data'!$H:$H&'SUA Data'!$J:$J&'SUA Data'!$F:$F,'SUA Data'!$M:$M)","v":"E"},123386.11,"E"]
["Portugal","Bananas","Bananas",2022,{"$f":"_xlfn.XLOOKUP($A58&$C58&$D58&$E$3,'SUA Data'!$D:$D&'SUA Data'!$H:$H&'SUA Data'!$J:$J&'SUA Data'!$F:$F,'SUA Data'!$L:$L)","v":28460},{"$f":"_xlfn.XLOOKUP($A58&$C58&$D58&$E$3,'SUA Data'!$D:$D&'SUA Data'!$H:$H&'SUA Data'!$J:$J&'SUA Data'!$F:$F,'SUA Data'!$M:$M)","v":"A"},{"$f":"_xlfn.XLOOKUP($A58&$C58&$D58&G$3,'SUA Data'!$D:$D&'SUA Data'!$H:$H&'SUA Data'!$J:$J&'SUA Data'!$F:$F,'SUA Data'!$L:$L)","v":218229.77},{"$f":"_xlfn.XLOOKUP($A58&$C58&$D58&G$3,'SUA Data'!$D:$D&'SUA Data'!$H:$H&'SUA Data'!$J:$J&'SUA Data'!$F:$F,'SUA Data'!$M:$M)","v":"A"},{"$f":"_xlfn.XLOOKUP($A58&$C58&$D58&I$3,'SUA Data'!$D:$D&'SUA Data'!$H:$H&'SUA Data'!$J:$J&'SUA Data'!$F:$F,'SUA Data'!$L:$L)","v":37054.5},{"$f":"_xlfn.XLOOKUP($A58&$C58&$D58&I$3,'SUA Data'!$D:$D&'SUA Data'!$H:$H&'SUA Data'!$J:$J&'SUA Data'!$F:$F,'SUA Data'!$M:$M)","v":"A"},0.11536757280206635,{"$f":"_xlfn.XLOOKUP($A58&$C58&$D58&\"Loss\",'SUA Data'!$D:$D&'SUA Data'!$H:$H&'SUA Data'!$J:$J&'SUA Data'!$F:$F,'SUA Data'!$L:$L)","v":24668.98},{"$f":"_xlfn.XLOOKUP($A58&$C58&$D58&\"Loss\",'SUA Data'!$D:$D&'SUA Data'!$H:$H&'SUA Data'!$J:$J&'SUA Data'!$F:$F,'SUA Data'!$M:$M)","v":"I"},2.141256948734965E-2,{"$f":"IF(ISNUMBER(N58),N58,'FFV Coefficients'!$H$7)","v":2.141256948734965E-2},24140.753751567961,"AE",{"$f":"_xlfn.XLOOKUP($A58&$C58&$D58&R$3,'SUA Data'!$D:$D&'SUA Data'!$H:$H&'SUA Data'!$J:$J&'SUA Data'!$F:$F,'SUA Data'!$L:$L)","v":0},{"$f":"_xlfn.XLOOKUP($A58&$C58&$D58&R$3,'SUA Data'!$D:$D&'SUA Data'!$H:$H&'SUA Data'!$J:$J&'SUA Data'!$F:$F,'SUA Data'!$M:$M)","v":"I"},{"$f":"_xlfn.XLOOKUP($A58&$C58&$D58&T$3,'SUA Data'!$D:$D&'SUA Data'!$H:$H&'SUA Data'!$J:$J&'SUA Data'!$F:$F,'SUA Data'!$L:$L)","v":4488.83},{"$f":"_xlfn.XLOOKUP($A58&$C58&$D58&T$3,'SUA Data'!$D:$D&'SUA Data'!$H:$H&'SUA Data'!$J:$J&'SUA Data'!$F:$F,'SUA Data'!$M:$M)","v":"E"},{"$f":"_xlfn.XLOOKUP($A58&$C58&$D58&V$3,'SUA Data'!$D:$D&'SUA Data'!$H:$H&'SUA Data'!$J:$J&'SUA Data'!$F:$F,'SUA Data'!$L:$L)","v":180477.47},{"$f":"_xlfn.XLOOKUP($A58&$C58&$D58&V$3,'SUA Data'!$D:$D&'SUA Data'!$H:$H&'SUA Data'!$J:$J&'SUA Data'!$F:$F,'SUA Data'!$M:$M)","v":"E"},180477.47,"E"]
["Romania","Bananas","Bananas",2022,{"$f":"_xlfn.XLOOKUP($A59&$C59&$D59&$E$3,'SUA Data'!$D:$D&'SUA Data'!$H:$H&'SUA Data'!$J:$J&'SUA Data'!$F:$F,'SUA Data'!$L:$L)","v":0},{"$f":"_xlfn.XLOOKUP($A59&$C59&$D59&$E$3,'SUA Data'!$D:$D&'SUA Data'!$H:$H&'SUA Data'!$J:$J&'SUA Data'!$F:$F,'SUA Data'!$M:$M)","v":"A"},{"$f":"_xlfn.XLOOKUP($A59&$C59&$D59&G$3,'SUA Data'!$D:$D&'SUA Data'!$H:$H&'SUA Data'!$J:$J&'SUA Data'!$F:$F,'SUA Data'!$L:$L)","v":169455.72},{"$f":"_xlfn.XLOOKUP($A59&$C59&$D59&G$3,'SUA Data'!$D:$D&'SUA Data'!$H:$H&'SUA Data'!$J:$J&'SUA Data'!$F:$F,'SUA Data'!$M:$M)","v":"A"},{"$f":"_xlfn.XLOOKUP($A59&$C59&$D59&I$3,'SUA Data'!$D:$D&'SUA Data'!$H:$H&'SUA Data'!$J:$J&'SUA Data'!$F:$F,'SUA Data'!$L:$L)","v":15013.24},{"$f":"_xlfn.XLOOKUP($A59&$C59&$D59&I$3,'SUA Data'!$D:$D&'SUA Data'!$H:$H&'SUA Data'!$J:$J&'SUA Data'!$F:$F,'SUA Data'!$M:$M)","v":"A"},0,{"$f":"_xlfn.XLOOKUP($A59&$C59&$D59&\"Loss\",'SUA Data'!$D:$D&'SUA Data'!$H:$H&'SUA Data'!$J:$J&'SUA Data'!$F:$F,'SUA Data'!$L:$L)","v":8472.7900000000009},{"$f":"_xlfn.XLOOKUP($A59&$C59&$D59&\"Loss\",'SUA Data'!$D:$D&'SUA Data'!$H:$H&'SUA Data'!$J:$J&'SUA Data'!$F:$F,'SUA Data'!$M:$M)","v":"I"},"",{"$f":"IF(ISNUMBER(N59),N59,'FFV Coefficients'!$H$7)","v":0.16529522313417541},8472.7900000000009,"I",{"$f":"_xlfn.XLOOKUP($A59&$C59&$D59&R$3,'SUA Data'!$D:$D&'SUA Data'!$H:$H&'SUA Data'!$J:$J&'SUA Data'!$F:$F,'SUA Data'!$L:$L)","v":0},{"$f":"_xlfn.XLOOKUP($A59&$C59&$D59&R$3,'SUA Data'!$D:$D&'SUA Data'!$H:$H&'SUA Data'!$J:$J&'SUA Data'!$F:$F,'SUA Data'!$M:$M)","v":"I"},{"$f":"_xlfn.XLOOKUP($A59&$C59&$D59&T$3,'SUA Data'!$D:$D&'SUA Data'!$H:$H&'SUA Data'!$J:$J&'SUA Data'!$F:$F,'SUA Data'!$L:$L)","v":{"$error":"#N/A"}},{"$f":"_xlfn.XLOOKUP($A59&$C59&$D59&T$3,'SUA Data'!$D:$D&'SUA Data'!$H:$H&'SUA Data'!$J:$J&'SUA Data'!$F:$F,'SUA Data'!$M:$M)","v":{"$error":"#N/A"}},{"$f":"_xlfn.XLOOKUP($A59&$C59&$D59&V$3,'SUA Data'!$D:$D&'SUA Data'!$H:$H&'SUA Data'!$J:$J&'SUA Data'!$F:$F,'SUA Data'!$L:$L)","v":145969.69},{"$f":"_xlfn.XLOOKUP($A59&$C59&$D59&V$3,'SUA Data'!$D:$D&'SUA Data'!$H:$H&'SUA Data'!$J:$J&'SUA Data'!$F:$F,'SUA Data'!$M:$M)","v":"E"},121841.59752062359,"AE"]
["Slovakia","Bananas","Bananas",2022,{"$f":"_xlfn.XLOOKUP($A60&$C60&$D60&$E$3,'SUA Data'!$D:$D&'SUA Data'!$H:$H&'SUA Data'!$J:$J&'SUA Data'!$F:$F,'SUA Data'!$L:$L)","v":0},{"$f":"_xlfn.XLOOKUP($A60&$C60&$D60&$E$3,'SUA Data'!$D:$D&'SUA Data'!$H:$H&'SUA Data'!$J:$J&'SUA Data'!$F:$F,'SUA Data'!$M:$M)","v":"A"},{"$f":"_xlfn.XLOOKUP($A60&$C60&$D60&G$3,'SUA Data'!$D:$D&'SUA Data'!$H:$H&'SUA Data'!$J:$J&'SUA Data'!$F:$F,'SUA Data'!$L:$L)","v":70638.47},{"$f":"_xlfn.XLOOKUP($A60&$C60&$D60&G$3,'SUA Data'!$D:$D&'SUA Data'!$H:$H&'SUA Data'!$J:$J&'SUA Data'!$F:$F,'SUA Data'!$M:$M)","v":"A"},{"$f":"_xlfn.XLOOKUP($A60&$C60&$D60&I$3,'SUA Data'!$D:$D&'SUA Data'!$H:$H&'SUA Data'!$J:$J&'SUA Data'!$F:$F,'SUA Data'!$L:$L)","v":14929.69},{"$f":"_xlfn.XLOOKUP($A60&$C60&$D60&I$3,'SUA Data'!$D:$D&'SUA Data'!$H:$H&'SUA Data'!$J:$J&'SUA Data'!$F:$F,'SUA Data'!$M:$M)","v":"A"},0,{"$f":"_xlfn.XLOOKUP($A60&$C60&$D60&\"Loss\",'SUA Data'!$D:$D&'SUA Data'!$H:$H&'SUA Data'!$J:$J&'SUA Data'!$F:$F,'SUA Data'!$L:$L)","v":3531.92},{"$f":"_xlfn.XLOOKUP($A60&$C60&$D60&\"Loss\",'SUA Data'!$D:$D&'SUA Data'!$H:$H&'SUA Data'!$J:$J&'SUA Data'!$F:$F,'SUA Data'!$M:$M)","v":"I"},3.935268372418136E-2,{"$f":"IF(ISNUMBER(N60),N60,'FFV Coefficients'!$H$7)","v":3.935268372418136E-2},3392.9294693008897,"AE",{"$f":"_xlfn.XLOOKUP($A60&$C60&$D60&R$3,'SUA Data'!$D:$D&'SUA Data'!$H:$H&'SUA Data'!$J:$J&'SUA Data'!$F:$F,'SUA Data'!$L:$L)","v":0},{"$f":"_xlfn.XLOOKUP($A60&$C60&$D60&R$3,'SUA Data'!$D:$D&'SUA Data'!$H:$H&'SUA Data'!$J:$J&'SUA Data'!$F:$F,'SUA Data'!$M:$M)","v":"I"},{"$f":"_xlfn.XLOOKUP($A60&$C60&$D60&T$3,'SUA Data'!$D:$D&'SUA Data'!$H:$H&'SUA Data'!$J:$J&'SUA Data'!$F:$F,'SUA Data'!$L:$L)","v":2192.29},{"$f":"_xlfn.XLOOKUP($A60&$C60&$D60&T$3,'SUA Data'!$D:$D&'SUA Data'!$H:$H&'SUA Data'!$J:$J&'SUA Data'!$F:$F,'SUA Data'!$M:$M)","v":"E"},{"$f":"_xlfn.XLOOKUP($A60&$C60&$D60&V$3,'SUA Data'!$D:$D&'SUA Data'!$H:$H&'SUA Data'!$J:$J&'SUA Data'!$F:$F,'SUA Data'!$L:$L)","v":49984.57},{"$f":"_xlfn.XLOOKUP($A60&$C60&$D60&V$3,'SUA Data'!$D:$D&'SUA Data'!$H:$H&'SUA Data'!$J:$J&'SUA Data'!$F:$F,'SUA Data'!$M:$M)","v":"E"},49984.57,"E"]
["Slovenia","Bananas","Bananas",2022,{"$f":"_xlfn.XLOOKUP($A61&$C61&$D61&$E$3,'SUA Data'!$D:$D&'SUA Data'!$H:$H&'SUA Data'!$J:$J&'SUA Data'!$F:$F,'SUA Data'!$L:$L)","v":0},{"$f":"_xlfn.XLOOKUP($A61&$C61&$D61&$E$3,'SUA Data'!$D:$D&'SUA Data'!$H:$H&'SUA Data'!$J:$J&'SUA Data'!$F:$F,'SUA Data'!$M:$M)","v":"A"},{"$f":"_xlfn.XLOOKUP($A61&$C61&$D61&G$3,'SUA Data'!$D:$D&'SUA Data'!$H:$H&'SUA Data'!$J:$J&'SUA Data'!$F:$F,'SUA Data'!$L:$L)","v":123729.12},{"$f":"_xlfn.XLOOKUP($A61&$C61&$D61&G$3,'SUA Data'!$D:$D&'SUA Data'!$H:$H&'SUA Data'!$J:$J&'SUA Data'!$F:$F,'SUA Data'!$M:$M)","v":"A"},{"$f":"_xlfn.XLOOKUP($A61&$C61&$D61&I$3,'SUA Data'!$D:$D&'SUA Data'!$H:$H&'SUA Data'!$J:$J&'SUA Data'!$F:$F,'SUA Data'!$L:$L)","v":89136.12},{"$f":"_xlfn.XLOOKUP($A61&$C61&$D61&I$3,'SUA Data'!$D:$D&'SUA Data'!$H:$H&'SUA Data'!$J:$J&'SUA Data'!$F:$F,'SUA Data'!$M:$M)","v":"A"},0,{"$f":"_xlfn.XLOOKUP($A61&$C61&$D61&\"Loss\",'SUA Data'!$D:$D&'SUA Data'!$H:$H&'SUA Data'!$J:$J&'SUA Data'!$F:$F,'SUA Data'!$L:$L)","v":12372.91},{"$f":"_xlfn.XLOOKUP($A61&$C61&$D61&\"Loss\",'SUA Data'!$D:$D&'SUA Data'!$H:$H&'SUA Data'!$J:$J&'SUA Data'!$F:$F,'SUA Data'!$M:$M)","v":"I"},"",{"$f":"IF(ISNUMBER(N61),N61,'FFV Coefficients'!$H$7)","v":0.16529522313417541},12372.91,"I",{"$f":"_xlfn.XLOOKUP($A61&$C61&$D61&R$3,'SUA Data'!$D:$D&'SUA Data'!$H:$H&'SUA Data'!$J:$J&'SUA Data'!$F:$F,'SUA Data'!$L:$L)","v":0},{"$f":"_xlfn.XLOOKUP($A61&$C61&$D61&R$3,'SUA Data'!$D:$D&'SUA Data'!$H:$H&'SUA Data'!$J:$J&'SUA Data'!$F:$F,'SUA Data'!$M:$M)","v":"I"},{"$f":"_xlfn.XLOOKUP($A61&$C61&$D61&T$3,'SUA Data'!$D:$D&'SUA Data'!$H:$H&'SUA Data'!$J:$J&'SUA Data'!$F:$F,'SUA Data'!$L:$L)","v":{"$error":"#N/A"}},{"$f":"_xlfn.XLOOKUP($A61&$C61&$D61&T$3,'SUA Data'!$D:$D&'SUA Data'!$H:$H&'SUA Data'!$J:$J&'SUA Data'!$F:$F,'SUA Data'!$M:$M)","v":{"$error":"#N/A"}},{"$f":"_xlfn.XLOOKUP($A61&$C61&$D61&V$3,'SUA Data'!$D:$D&'SUA Data'!$H:$H&'SUA Data'!$J:$J&'SUA Data'!$F:$F,'SUA Data'!$L:$L)","v":22220.09},{"$f":"_xlfn.XLOOKUP($A61&$C61&$D61&V$3,'SUA Data'!$D:$D&'SUA Data'!$H:$H&'SUA Data'!$J:$J&'SUA Data'!$F:$F,'SUA Data'!$M:$M)","v":"E"},18547.215265388539,"AE"]
["Spain","Bananas","Bananas",2022,{"$f":"_xlfn.XLOOKUP($A62&$C62&$D62&$E$3,'SUA Data'!$D:$D&'SUA Data'!$H:$H&'SUA Data'!$J:$J&'SUA Data'!$F:$F,'SUA Data'!$L:$L)","v":348870},{"$f":"_xlfn.XLOOKUP($A62&$C62&$D62&$E$3,'SUA Data'!$D:$D&'SUA Data'!$H:$H&'SUA Data'!$J:$J&'SUA Data'!$F:$F,'SUA Data'!$M:$M)","v":"A"},{"$f":"_xlfn.XLOOKUP($A62&$C62&$D62&G$3,'SUA Data'!$D:$D&'SUA Data'!$H:$H&'SUA Data'!$J:$J&'SUA Data'!$F:$F,'SUA Data'!$L:$L)","v":403756.32},{"$f":"_xlfn.XLOOKUP($A62&$C62&$D62&G$3,'SUA Data'!$D:$D&'SUA Data'!$H:$H&'SUA Data'!$J:$J&'SUA Data'!$F:$F,'SUA Data'!$M:$M)","v":"A"},{"$f":"_xlfn.XLOOKUP($A62&$C62&$D62&I$3,'SUA Data'!$D:$D&'SUA Data'!$H:$H&'SUA Data'!$J:$J&'SUA Data'!$F:$F,'SUA Data'!$L:$L)","v":71590.36},{"$f":"_xlfn.XLOOKUP($A62&$C62&$D62&I$3,'SUA Data'!$D:$D&'SUA Data'!$H:$H&'SUA Data'!$J:$J&'SUA Data'!$F:$F,'SUA Data'!$M:$M)","v":"A"},0.46353680535647485,{"$f":"_xlfn.XLOOKUP($A62&$C62&$D62&\"Loss\",'SUA Data'!$D:$D&'SUA Data'!$H:$H&'SUA Data'!$J:$J&'SUA Data'!$F:$F,'SUA Data'!$L:$L)","v":97841.42},{"$f":"_xlfn.XLOOKUP($A62&$C62&$D62&\"Loss\",'SUA Data'!$D:$D&'SUA Data'!$H:$H&'SUA Data'!$J:$J&'SUA Data'!$F:$F,'SUA Data'!$M:$M)","v":"I"},0.37291733277810074,{"$f":"IF(ISNUMBER(N62),N62,'FFV Coefficients'!$H$7)","v":0.37291733277810074},61354.658618378075,"AE",{"$f":"_xlfn.XLOOKUP($A62&$C62&$D62&R$3,'SUA Data'!$D:$D&'SUA Data'!$H:$H&'SUA Data'!$J:$J&'SUA Data'!$F:$F,'SUA Data'!$L:$L)","v":0},{"$f":"_xlfn.XLOOKUP($A62&$C62&$D62&R$3,'SUA Data'!$D:$D&'SUA Data'!$H:$H&'SUA Data'!$J:$J&'SUA Data'!$F:$F,'SUA Data'!$M:$M)","v":"I"},{"$f":"_xlfn.XLOOKUP($A62&$C62&$D62&T$3,'SUA Data'!$D:$D&'SUA Data'!$H:$H&'SUA Data'!$J:$J&'SUA Data'!$F:$F,'SUA Data'!$L:$L)","v":253970.11},{"$f":"_xlfn.XLOOKUP($A62&$C62&$D62&T$3,'SUA Data'!$D:$D&'SUA Data'!$H:$H&'SUA Data'!$J:$J&'SUA Data'!$F:$F,'SUA Data'!$M:$M)","v":"E"},{"$f":"_xlfn.XLOOKUP($A62&$C62&$D62&V$3,'SUA Data'!$D:$D&'SUA Data'!$H:$H&'SUA Data'!$J:$J&'SUA Data'!$F:$F,'SUA Data'!$L:$L)","v":329224.42},{"$f":"_xlfn.XLOOKUP($A62&$C62&$D62&V$3,'SUA Data'!$D:$D&'SUA Data'!$H:$H&'SUA Data'!$J:$J&'SUA Data'!$F:$F,'SUA Data'!$M:$M)","v":"E"},329224.42,"E"]
["Sweden","Bananas","Bananas",2022,{"$f":"_xlfn.XLOOKUP($A63&$C63&$D63&$E$3,'SUA Data'!$D:$D&'SUA Data'!$H:$H&'SUA Data'!$J:$J&'SUA Data'!$F:$F,'SUA Data'!$L:$L)","v":0},{"$f":"_xlfn.XLOOKUP($A63&$C63&$D63&$E$3,'SUA Data'!$D:$D&'SUA Data'!$H:$H&'SUA Data'!$J:$J&'SUA Data'!$F:$F,'SUA Data'!$M:$M)","v":"A"},{"$f":"_xlfn.XLOOKUP($A63&$C63&$D63&G$3,'SUA Data'!$D:$D&'SUA Data'!$H:$H&'SUA Data'!$J:$J&'SUA Data'!$F:$F,'SUA Data'!$L:$L)","v":192958.14},{"$f":"_xlfn.XLOOKUP($A63&$C63&$D63&G$3,'SUA Data'!$D:$D&'SUA Data'!$H:$H&'SUA Data'!$J:$J&'SUA Data'!$F:$F,'SUA Data'!$M:$M)","v":"A"},{"$f":"_xlfn.XLOOKUP($A63&$C63&$D63&I$3,'SUA Data'!$D:$D&'SUA Data'!$H:$H&'SUA Data'!$J:$J&'SUA Data'!$F:$F,'SUA Data'!$L:$L)","v":26702.92},{"$f":"_xlfn.XLOOKUP($A63&$C63&$D63&I$3,'SUA Data'!$D:$D&'SUA Data'!$H:$H&'SUA Data'!$J:$J&'SUA Data'!$F:$F,'SUA Data'!$M:$M)","v":"A"},0,{"$f":"_xlfn.XLOOKUP($A63&$C63&$D63&\"Loss\",'SUA Data'!$D:$D&'SUA Data'!$H:$H&'SUA Data'!$J:$J&'SUA Data'!$F:$F,'SUA Data'!$L:$L)","v":9647.91},{"$f":"_xlfn.XLOOKUP($A63&$C63&$D63&\"Loss\",'SUA Data'!$D:$D&'SUA Data'!$H:$H&'SUA Data'!$J:$J&'SUA Data'!$F:$F,'SUA Data'!$M:$M)","v":"I"},0.50226603411309434,{"$f":"IF(ISNUMBER(N63),N63,'FFV Coefficients'!$H$7)","v":0.50226603411309434},4802.0925068199358,"AE",{"$f":"_xlfn.XLOOKUP($A63&$C63&$D63&R$3,'SUA Data'!$D:$D&'SUA Data'!$H:$H&'SUA Data'!$J:$J&'SUA Data'!$F:$F,'SUA Data'!$L:$L)","v":0},{"$f":"_xlfn.XLOOKUP($A63&$C63&$D63&R$3,'SUA Data'!$D:$D&'SUA Data'!$H:$H&'SUA Data'!$J:$J&'SUA Data'!$F:$F,'SUA Data'!$M:$M)","v":"I"},{"$f":"_xlfn.XLOOKUP($A63&$C63&$D63&T$3,'SUA Data'!$D:$D&'SUA Data'!$H:$H&'SUA Data'!$J:$J&'SUA Data'!$F:$F,'SUA Data'!$L:$L)","v":83504.350000000006},{"$f":"_xlfn.XLOOKUP($A63&$C63&$D63&T$3,'SUA Data'!$D:$D&'SUA Data'!$H:$H&'SUA Data'!$J:$J&'SUA Data'!$F:$F,'SUA Data'!$M:$M)","v":"E"},{"$f":"_xlfn.XLOOKUP($A63&$C63&$D63&V$3,'SUA Data'!$D:$D&'SUA Data'!$H:$H&'SUA Data'!$J:$J&'SUA Data'!$F:$F,'SUA Data'!$L:$L)","v":73102.960000000006},{"$f":"_xlfn.XLOOKUP($A63&$C63&$D63&V$3,'SUA Data'!$D:$D&'SUA Data'!$H:$H&'SUA Data'!$J:$J&'SUA Data'!$F:$F,'SUA Data'!$M:$M)","v":"E"},73102.960000000006,"E"]
["Switzerland","Bananas","Bananas",2022,{"$f":"_xlfn.XLOOKUP($A64&$C64&$D64&$E$3,'SUA Data'!$D:$D&'SUA Data'!$H:$H&'SUA Data'!$J:$J&'SUA Data'!$F:$F,'SUA Data'!$L:$L)","v":{"$error":"#N/A"}},{"$f":"_xlfn.XLOOKUP($A64&$C64&$D64&$E$3,'SUA Data'!$D:$D&'SUA Data'!$H:$H&'SUA Data'!$J:$J&'SUA Data'!$F:$F,'SUA Data'!$M:$M)","v":{"$error":"#N/A"}},{"$f":"_xlfn.XLOOKUP($A64&$C64&$D64&G$3,'SUA Data'!$D:$D&'SUA Data'!$H:$H&'SUA Data'!$J:$J&'SUA Data'!$F:$F,'SUA Data'!$L:$L)","v":98714.64},{"$f":"_xlfn.XLOOKUP($A64&$C64&$D64&G$3,'SUA Data'!$D:$D&'SUA Data'!$H:$H&'SUA Data'!$J:$J&'SUA Data'!$F:$F,'SUA Data'!$M:$M)","v":"A"},{"$f":"_xlfn.XLOOKUP($A64&$C64&$D64&I$3,'SUA Data'!$D:$D&'SUA Data'!$H:$H&'SUA Data'!$J:$J&'SUA Data'!$F:$F,'SUA Data'!$L:$L)","v":58.8},{"$f":"_xlfn.XLOOKUP($A64&$C64&$D64&I$3,'SUA Data'!$D:$D&'SUA Data'!$H:$H&'SUA Data'!$J:$J&'SUA Data'!$F:$F,'SUA Data'!$M:$M)","v":"A"},0,{"$f":"_xlfn.XLOOKUP($A64&$C64&$D64&\"Loss\",'SUA Data'!$D:$D&'SUA Data'!$H:$H&'SUA Data'!$J:$J&'SUA Data'!$F:$F,'SUA Data'!$L:$L)","v":1373.45},{"$f":"_xlfn.XLOOKUP($A64&$C64&$D64&\"Loss\",'SUA Data'!$D:$D&'SUA Data'!$H:$H&'SUA Data'!$J:$J&'SUA Data'!$F:$F,'SUA Data'!$M:$M)","v":"I"},"",{"$f":"IF(ISNUMBER(N64),N64,'FFV Coefficients'!$H$7)","v":0.16529522313417541},1373.45,"I",{"$f":"_xlfn.XLOOKUP($A64&$C64&$D64&R$3,'SUA Data'!$D:$D&'SUA Data'!$H:$H&'SUA Data'!$J:$J&'SUA Data'!$F:$F,'SUA Data'!$L:$L)","v":0},{"$f":"_xlfn.XLOOKUP($A64&$C64&$D64&R$3,'SUA Data'!$D:$D&'SUA Data'!$H:$H&'SUA Data'!$J:$J&'SUA Data'!$F:$F,'SUA Data'!$M:$M)","v":"I"},{"$f":"_xlfn.XLOOKUP($A64&$C64&$D64&T$3,'SUA Data'!$D:$D&'SUA Data'!$H:$H&'SUA Data'!$J:$J&'SUA Data'!$F:$F,'SUA Data'!$L:$L)","v":{"$error":"#N/A"}},{"$f":"_xlfn.XLOOKUP($A64&$C64&$D64&T$3,'SUA Data'!$D:$D&'SUA Data'!$H:$H&'SUA Data'!$J:$J&'SUA Data'!$F:$F,'SUA Data'!$M:$M)","v":{"$error":"#N/A"}},{"$f":"_xlfn.XLOOKUP($A64&$C64&$D64&V$3,'SUA Data'!$D:$D&'SUA Data'!$H:$H&'SUA Data'!$J:$J&'SUA Data'!$F:$F,'SUA Data'!$L:$L)","v":97282.39},{"$f":"_xlfn.XLOOKUP($A64&$C64&$D64&V$3,'SUA Data'!$D:$D&'SUA Data'!$H:$H&'SUA Data'!$J:$J&'SUA Data'!$F:$F,'SUA Data'!$M:$M)","v":"E"},81202.075637924121,"AE"]
["United Kingdom","Bananas","Bananas",2022,{"$f":"_xlfn.XLOOKUP($A65&$C65&$D65&$E$3,'SUA Data'!$D:$D&'SUA Data'!$H:$H&'SUA Data'!$J:$J&'SUA Data'!$F:$F,'SUA Data'!$L:$L)","v":{"$error":"#N/A"}},{"$f":"_xlfn.XLOOKUP($A65&$C65&$D65&$E$3,'SUA Data'!$D:$D&'SUA Data'!$H:$H&'SUA Data'!$J:$J&'SUA Data'!$F:$F,'SUA Data'!$M:$M)","v":{"$error":"#N/A"}},{"$f":"_xlfn.XLOOKUP($A65&$C65&$D65&G$3,'SUA Data'!$D:$D&'SUA Data'!$H:$H&'SUA Data'!$J:$J&'SUA Data'!$F:$F,'SUA Data'!$L:$L)","v":852571.75},{"$f":"_xlfn.XLOOKUP($A65&$C65&$D65&G$3,'SUA Data'!$D:$D&'SUA Data'!$H:$H&'SUA Data'!$J:$J&'SUA Data'!$F:$F,'SUA Data'!$M:$M)","v":"A"},{"$f":"_xlfn.XLOOKUP($A65&$C65&$D65&I$3,'SUA Data'!$D:$D&'SUA Data'!$H:$H&'SUA Data'!$J:$J&'SUA Data'!$F:$F,'SUA Data'!$L:$L)","v":1257.92},{"$f":"_xlfn.XLOOKUP($A65&$C65&$D65&I$3,'SUA Data'!$D:$D&'SUA Data'!$H:$H&'SUA Data'!$J:$J&'SUA Data'!$F:$F,'SUA Data'!$M:$M)","v":"A"},0,{"$f":"_xlfn.XLOOKUP($A65&$C65&$D65&\"Loss\",'SUA Data'!$D:$D&'SUA Data'!$H:$H&'SUA Data'!$J:$J&'SUA Data'!$F:$F,'SUA Data'!$L:$L)","v":42628.59},{"$f":"_xlfn.XLOOKUP($A65&$C65&$D65&\"Loss\",'SUA Data'!$D:$D&'SUA Data'!$H:$H&'SUA Data'!$J:$J&'SUA Data'!$F:$F,'SUA Data'!$M:$M)","v":"I"},"",{"$f":"IF(ISNUMBER(N65),N65,'FFV Coefficients'!$H$7)","v":0.16529522313417541},42628.59,"I",{"$f":"_xlfn.XLOOKUP($A65&$C65&$D65&R$3,'SUA Data'!$D:$D&'SUA Data'!$H:$H&'SUA Data'!$J:$J&'SUA Data'!$F:$F,'SUA Data'!$L:$L)","v":0},{"$f":"_xlfn.XLOOKUP($A65&$C65&$D65&R$3,'SUA Data'!$D:$D&'SUA Data'!$H:$H&'SUA Data'!$J:$J&'SUA Data'!$F:$F,'SUA Data'!$M:$M)","v":"I"},{"$f":"_xlfn.XLOOKUP($A65&$C65&$D65&T$3,'SUA Data'!$D:$D&'SUA Data'!$H:$H&'SUA Data'!$J:$J&'SUA Data'!$F:$F,'SUA Data'!$L:$L)","v":{"$error":"#N/A"}},{"$f":"_xlfn.XLOOKUP($A65&$C65&$D65&T$3,'SUA Data'!$D:$D&'SUA Data'!$H:$H&'SUA Data'!$J:$J&'SUA Data'!$F:$F,'SUA Data'!$M:$M)","v":{"$error":"#N/A"}},{"$f":"_xlfn.XLOOKUP($A65&$C65&$D65&V$3,'SUA Data'!$D:$D&'SUA Data'!$H:$H&'SUA Data'!$J:$J&'SUA Data'!$F:$F,'SUA Data'!$L:$L)","v":808685.24},{"$f":"_xlfn.XLOOKUP($A65&$C65&$D65&V$3,'SUA Data'!$D:$D&'SUA Data'!$H:$H&'SUA Data'!$J:$J&'SUA Data'!$F:$F,'SUA Data'!$M:$M)","v":"E"},675013.43280888582,"AE"]
["Austria","Cucumbers","Cucumbers and gherkins",2022,{"$f":"_xlfn.XLOOKUP($A66&$C66&$D66&$E$3,'SUA Data'!$D:$D&'SUA Data'!$H:$H&'SUA Data'!$J:$J&'SUA Data'!$F:$F,'SUA Data'!$L:$L)*'FFV Coefficients'!$AP$11","v":39037.35},"AE",{"$f":"_xlfn.XLOOKUP($A66&$C66&$D66&G$3,'SUA Data'!$D:$D&'SUA Data'!$H:$H&'SUA Data'!$J:$J&'SUA Data'!$F:$F,'SUA Data'!$L:$L)*'FFV Coefficients'!$AP$11","v":26777.6574},"AE",{"$f":"_xlfn.XLOOKUP($A66&$C66&$D66&I$3,'SUA Data'!$D:$D&'SUA Data'!$H:$H&'SUA Data'!$J:$J&'SUA Data'!$F:$F,'SUA Data'!$L:$L)*'FFV Coefficients'!$AP$11","v":14979.57195},"AE",0.59313751592771224,{"$f":"_xlfn.XLOOKUP($A66&$C66&$D66&\"Loss\",'SUA Data'!$D:$D&'SUA Data'!$H:$H&'SUA Data'!$J:$J&'SUA Data'!$F:$F,'SUA Data'!$L:$L)*'FFV Coefficients'!$AP$11","v":2684.2049999999999},"AE",{"$f":"IF(ISNUMBER(T66),T66/(T66+V66+L66),\"\")","v":""},{"$f":"IF(ISNUMBER(N66),N66,'FFV Coefficients'!$H$8)","v":0.21752795858822579},{"$f":"IF(ISNUMBER(T66),L66*(1-N66),L66)","v":2684.2049999999999},"AE",{"$f":"_xlfn.XLOOKUP($A66&$C66&$D66&R$3,'SUA Data'!$D:$D&'SUA Data'!$H:$H&'SUA Data'!$J:$J&'SUA Data'!$F:$F,'SUA Data'!$L:$L)*'FFV Coefficients'!$AP$11","v":-7472.9400000000005},{"$f":"_xlfn.XLOOKUP($A66&$C66&$D66&R$3,'SUA Data'!$D:$D&'SUA Data'!$H:$H&'SUA Data'!$J:$J&'SUA Data'!$F:$F,'SUA Data'!$M:$M)","v":"I"},{"$f":"_xlfn.XLOOKUP($A66&$C66&$D66&T$3,'SUA Data'!$D:$D&'SUA Data'!$H:$H&'SUA Data'!$J:$J&'SUA Data'!$F:$F,'SUA Data'!$L:$L)","v":{"$error":"#N/A"}},{"$f":"_xlfn.XLOOKUP($A66&$C66&$D66&T$3,'SUA Data'!$D:$D&'SUA Data'!$H:$H&'SUA Data'!$J:$J&'SUA Data'!$F:$F,'SUA Data'!$M:$M)","v":{"$error":"#N/A"}},{"$f":"_xlfn.XLOOKUP($A66&$C66&$D66&V$3,'SUA Data'!$D:$D&'SUA Data'!$H:$H&'SUA Data'!$J:$J&'SUA Data'!$F:$F,'SUA Data'!$L:$L)*'FFV Coefficients'!$AP$11","v":55624.020000000004},"AE",{"$f":"IF(ISNUMBER(T66),V66,V66*(1-O66))","v":43524.240480929358},"AE"]
["Belgium","Cucumbers","Cucumbers and gherkins",2022,{"$f":"_xlfn.XLOOKUP($A67&$C67&$D67&$E$3,'SUA Data'!$D:$D&'SUA Data'!$H:$H&'SUA Data'!$J:$J&'SUA Data'!$F:$F,'SUA Data'!$L:$L)*'FFV Coefficients'!$AP$11","v":30904.2},"AE",{"$f":"_xlfn.XLOOKUP($A67&$C67&$D67&G$3,'SUA Data'!$D:$D&'SUA Data'!$H:$H&'SUA Data'!$J:$J&'SUA Data'!$F:$F,'SUA Data'!$L:$L)*'FFV Coefficients'!$AP$11","v":54890.620500000005},"AE",{"$f":"_xlfn.XLOOKUP($A67&$C67&$D67&I$3,'SUA Data'!$D:$D&'SUA Data'!$H:$H&'SUA Data'!$J:$J&'SUA Data'!$F:$F,'SUA Data'!$L:$L)*'FFV Coefficients'!$AP$11","v":38463.595650000003},"AE",0.36021055606730945,{"$f":"_xlfn.XLOOKUP($A67&$C67&$D67&\"Loss\",'SUA Data'!$D:$D&'SUA Data'!$H:$H&'SUA Data'!$J:$J&'SUA Data'!$F:$F,'SUA Data'!$L:$L)*'FFV Coefficients'!$AP$11","v":1536.28035},"AE",{"$f":"IF(ISNUMBER(T67),T67/(T67+V67+L67),\"\")","v":0.59613629613599317},{"$f":"IF(ISNUMBER(N67),N67,'FFV Coefficients'!$H$8)","v":0.59613629613599317},620.44787232449278,{"$f":"IF(ISNUMBER(N67),\"AE\",M67)","v":"AE"},{"$f":"_xlfn.XLOOKUP($A67&$C67&$D67&R$3,'SUA Data'!$D:$D&'SUA Data'!$H:$H&'SUA Data'!$J:$J&'SUA Data'!$F:$F,'SUA Data'!$L:$L)*'FFV Coefficients'!$AP$11","v":0},{"$f":"_xlfn.XLOOKUP($A67&$C67&$D67&R$3,'SUA Data'!$D:$D&'SUA Data'!$H:$H&'SUA Data'!$J:$J&'SUA Data'!$F:$F,'SUA Data'!$M:$M)","v":"I"},{"$f":"_xlfn.XLOOKUP($A67&$C67&$D67&T$3,'SUA Data'!$D:$D&'SUA Data'!$H:$H&'SUA Data'!$J:$J&'SUA Data'!$F:$F,'SUA Data'!$L:$L)","v":30292.59},"AE",{"$f":"_xlfn.XLOOKUP($A67&$C67&$D67&V$3,'SUA Data'!$D:$D&'SUA Data'!$H:$H&'SUA Data'!$J:$J&'SUA Data'!$F:$F,'SUA Data'!$L:$L)*'FFV Coefficients'!$AP$11","v":18986.002350000002},"AE",18986.002350000002,"AE"]
["Bulgaria","Cucumbers","Cucumbers and gherkins",2022,{"$f":"_xlfn.XLOOKUP($A68&$C68&$D68&$E$3,'SUA Data'!$D:$D&'SUA Data'!$H:$H&'SUA Data'!$J:$J&'SUA Data'!$F:$F,'SUA Data'!$L:$L)*'FFV Coefficients'!$AP$11","v":46258.95},"AE",{"$f":"_xlfn.XLOOKUP($A68&$C68&$D68&G$3,'SUA Data'!$D:$D&'SUA Data'!$H:$H&'SUA Data'!$J:$J&'SUA Data'!$F:$F,'SUA Data'!$L:$L)*'FFV Coefficients'!$AP$11","v":26518.600200000001},"AE",{"$f":"_xlfn.XLOOKUP($A68&$C68&$D68&I$3,'SUA Data'!$D:$D&'SUA Data'!$H:$H&'SUA Data'!$J:$J&'SUA Data'!$F:$F,'SUA Data'!$L:$L)*'FFV Coefficients'!$AP$11","v":9419.9045999999998},"AE",0.63562114790722923,{"$f":"_xlfn.XLOOKUP($A68&$C68&$D68&\"Loss\",'SUA Data'!$D:$D&'SUA Data'!$H:$H&'SUA Data'!$J:$J&'SUA Data'!$F:$F,'SUA Data'!$L:$L)*'FFV Coefficients'!$AP$11","v":4508.1722999999993},"AE",6.8749674882848069E-2,{"$f":"IF(ISNUMBER(N68),N68,'FFV Coefficients'!$H$8)","v":6.8749674882848069E-2},4198.2369200591374,"AE",{"$f":"_xlfn.XLOOKUP($A68&$C68&$D68&R$3,'SUA Data'!$D:$D&'SUA Data'!$H:$H&'SUA Data'!$J:$J&'SUA Data'!$F:$F,'SUA Data'!$L:$L)*'FFV Coefficients'!$AP$11","v":0},{"$f":"_xlfn.XLOOKUP($A68&$C68&$D68&R$3,'SUA Data'!$D:$D&'SUA Data'!$H:$H&'SUA Data'!$J:$J&'SUA Data'!$F:$F,'SUA Data'!$M:$M)","v":"I"},{"$f":"_xlfn.XLOOKUP($A68&$C68&$D68&T$3,'SUA Data'!$D:$D&'SUA Data'!$H:$H&'SUA Data'!$J:$J&'SUA Data'!$F:$F,'SUA Data'!$L:$L)","v":4390.53},"AE",{"$f":"_xlfn.XLOOKUP($A68&$C68&$D68&V$3,'SUA Data'!$D:$D&'SUA Data'!$H:$H&'SUA Data'!$J:$J&'SUA Data'!$F:$F,'SUA Data'!$L:$L)*'FFV Coefficients'!$AP$11","v":54963.854250000004},"AE",54963.854250000004,"AE"]
["Croatia","Cucumbers","Cucumbers and gherkins",2022,{"$f":"_xlfn.XLOOKUP($A69&$C69&$D69&$E$3,'SUA Data'!$D:$D&'SUA Data'!$H:$H&'SUA Data'!$J:$J&'SUA Data'!$F:$F,'SUA Data'!$L:$L)*'FFV Coefficients'!$AP$11","v":10062.450000000001},"AE",{"$f":"_xlfn.XLOOKUP($A69&$C69&$D69&G$3,'SUA Data'!$D:$D&'SUA Data'!$H:$H&'SUA Data'!$J:$J&'SUA Data'!$F:$F,'SUA Data'!$L:$L)*'FFV Coefficients'!$AP$11","v":9679.4662499999995},"AE",{"$f":"_xlfn.XLOOKUP($A69&$C69&$D69&I$3,'SUA Data'!$D:$D&'SUA Data'!$H:$H&'SUA Data'!$J:$J&'SUA Data'!$F:$F,'SUA Data'!$L:$L)*'FFV Coefficients'!$AP$11","v":7456.2488999999996},"AE",{"$f":"IFERROR(E69/(E69+G69),0)","v":0.50969976128837036},{"$f":"_xlfn.XLOOKUP($A69&$C69&$D69&\"Loss\",'SUA Data'!$D:$D&'SUA Data'!$H:$H&'SUA Data'!$J:$J&'SUA Data'!$F:$F,'SUA Data'!$L:$L)*'FFV Coefficients'!$AP$11","v":931.51559999999995},"AE",0,{"$f":"IF(ISNUMBER(N69),N69,'FFV Coefficients'!$H$8)","v":0},{"$f":"IF(ISNUMBER(T69),L69*(1-N69),L69)","v":931.51559999999995},"AE",{"$f":"_xlfn.XLOOKUP($A69&$C69&$D69&R$3,'SUA Data'!$D:$D&'SUA Data'!$H:$H&'SUA Data'!$J:$J&'SUA Data'!$F:$F,'SUA Data'!$L:$L)*'FFV Coefficients'!$AP$11","v":0},{"$f":"_xlfn.XLOOKUP($A69&$C69&$D69&R$3,'SUA Data'!$D:$D&'SUA Data'!$H:$H&'SUA Data'!$J:$J&'SUA Data'!$F:$F,'SUA Data'!$M:$M)","v":"I"},{"$f":"_xlfn.XLOOKUP($A69&$C69&$D69&T$3,'SUA Data'!$D:$D&'SUA Data'!$H:$H&'SUA Data'!$J:$J&'SUA Data'!$F:$F,'SUA Data'!$L:$L)","v":0},"AE",{"$f":"_xlfn.XLOOKUP($A69&$C69&$D69&V$3,'SUA Data'!$D:$D&'SUA Data'!$H:$H&'SUA Data'!$J:$J&'SUA Data'!$F:$F,'SUA Data'!$L:$L)*'FFV Coefficients'!$AP$11","v":11354.142900000001},"AE",{"$f":"IF(ISNUMBER(T69),V69,V69*(1-O69))","v":11354.142900000001},{"$f":"IF(ISNUMBER(T69),W69,\"AE\")","v":"AE"}]
["Cyprus","Cucumbers","Cucumbers and gherkins",2022,{"$f":"_xlfn.XLOOKUP($A70&$C70&$D70&$E$3,'SUA Data'!$D:$D&'SUA Data'!$H:$H&'SUA Data'!$J:$J&'SUA Data'!$F:$F,'SUA Data'!$L:$L)*'FFV Coefficients'!$AP$11","v":6770.25},"AE",{"$f":"_xlfn.XLOOKUP($A70&$C70&$D70&G$3,'SUA Data'!$D:$D&'SUA Data'!$H:$H&'SUA Data'!$J:$J&'SUA Data'!$F:$F,'SUA Data'!$L:$L)*'FFV Coefficients'!$AP$11","v":273.94290000000001},"AE",{"$f":"_xlfn.XLOOKUP($A70&$C70&$D70&I$3,'SUA Data'!$D:$D&'SUA Data'!$H:$H&'SUA Data'!$J:$J&'SUA Data'!$F:$F,'SUA Data'!$L:$L)*'FFV Coefficients'!$AP$11","v":{"$error":"#N/A"}},"AE",0.96111081796184206,{"$f":"_xlfn.XLOOKUP($A70&$C70&$D70&\"Loss\",'SUA Data'!$D:$D&'SUA Data'!$H:$H&'SUA Data'!$J:$J&'SUA Data'!$F:$F,'SUA Data'!$L:$L)*'FFV Coefficients'!$AP$11","v":578.07315000000006},"AE",0.18519618875087754,{"$f":"IF(ISNUMBER(N70),N70,'FFV Coefficients'!$H$8)","v":0.18519618875087754},471.01620580078571,"AE",{"$f":"_xlfn.XLOOKUP($A70&$C70&$D70&R$3,'SUA Data'!$D:$D&'SUA Data'!$H:$H&'SUA Data'!$J:$J&'SUA Data'!$F:$F,'SUA Data'!$L:$L)*'FFV Coefficients'!$AP$11","v":0},{"$f":"_xlfn.XLOOKUP($A70&$C70&$D70&R$3,'SUA Data'!$D:$D&'SUA Data'!$H:$H&'SUA Data'!$J:$J&'SUA Data'!$F:$F,'SUA Data'!$M:$M)","v":"I"},{"$f":"_xlfn.XLOOKUP($A70&$C70&$D70&T$3,'SUA Data'!$D:$D&'SUA Data'!$H:$H&'SUA Data'!$J:$J&'SUA Data'!$F:$F,'SUA Data'!$L:$L)","v":1273.98},"AE",{"$f":"_xlfn.XLOOKUP($A70&$C70&$D70&V$3,'SUA Data'!$D:$D&'SUA Data'!$H:$H&'SUA Data'!$J:$J&'SUA Data'!$F:$F,'SUA Data'!$L:$L)*'FFV Coefficients'!$AP$11","v":5027.0300999999999},"AE",5027.0300999999999,"AE"]
["Czechia","Cucumbers","Cucumbers and gherkins",2022,{"$f":"_xlfn.XLOOKUP($A71&$C71&$D71&$E$3,'SUA Data'!$D:$D&'SUA Data'!$H:$H&'SUA Data'!$J:$J&'SUA Data'!$F:$F,'SUA Data'!$L:$L)*'FFV Coefficients'!$AP$11","v":17310.599999999999},"AE",{"$f":"_xlfn.XLOOKUP($A71&$C71&$D71&G$3,'SUA Data'!$D:$D&'SUA Data'!$H:$H&'SUA Data'!$J:$J&'SUA Data'!$F:$F,'SUA Data'!$L:$L)*'FFV Coefficients'!$AP$11","v":53333.993999999999},"AE",{"$f":"_xlfn.XLOOKUP($A71&$C71&$D71&I$3,'SUA Data'!$D:$D&'SUA Data'!$H:$H&'SUA Data'!$J:$J&'SUA Data'!$F:$F,'SUA Data'!$L:$L)*'FFV Coefficients'!$AP$11","v":15228.991500000002},"AE",0.24503785809852624,{"$f":"_xlfn.XLOOKUP($A71&$C71&$D71&\"Loss\",'SUA Data'!$D:$D&'SUA Data'!$H:$H&'SUA Data'!$J:$J&'SUA Data'!$F:$F,'SUA Data'!$L:$L)*'FFV Coefficients'!$AP$11","v":344.90220000000005},"AE","",{"$f":"IF(ISNUMBER(N71),N71,'FFV Coefficients'!$H$8)","v":0.21752795858822579},344.90220000000005,"AE",{"$f":"_xlfn.XLOOKUP($A71&$C71&$D71&R$3,'SUA Data'!$D:$D&'SUA Data'!$H:$H&'SUA Data'!$J:$J&'SUA Data'!$F:$F,'SUA Data'!$L:$L)*'FFV Coefficients'!$AP$11","v":0},{"$f":"_xlfn.XLOOKUP($A71&$C71&$D71&R$3,'SUA Data'!$D:$D&'SUA Data'!$H:$H&'SUA Data'!$J:$J&'SUA Data'!$F:$F,'SUA Data'!$M:$M)","v":"I"},{"$f":"_xlfn.XLOOKUP($A71&$C71&$D71&T$3,'SUA Data'!$D:$D&'SUA Data'!$H:$H&'SUA Data'!$J:$J&'SUA Data'!$F:$F,'SUA Data'!$L:$L)","v":{"$error":"#N/A"}},{"$f":"_xlfn.XLOOKUP($A71&$C71&$D71&T$3,'SUA Data'!$D:$D&'SUA Data'!$H:$H&'SUA Data'!$J:$J&'SUA Data'!$F:$F,'SUA Data'!$M:$M)","v":{"$error":"#N/A"}},{"$f":"_xlfn.XLOOKUP($A71&$C71&$D71&V$3,'SUA Data'!$D:$D&'SUA Data'!$H:$H&'SUA Data'!$J:$J&'SUA Data'!$F:$F,'SUA Data'!$L:$L)*'FFV Coefficients'!$AP$11","v":55070.700299999997},"AE",43091.283285717,"AE"]
["Denmark","Cucumbers","Cucumbers and gherkins",2022,{"$f":"_xlfn.XLOOKUP($A72&$C72&$D72&$E$3,'SUA Data'!$D:$D&'SUA Data'!$H:$H&'SUA Data'!$J:$J&'SUA Data'!$F:$F,'SUA Data'!$L:$L)*'FFV Coefficients'!$AP$11","v":13832.55},"AE",{"$f":"_xlfn.XLOOKUP($A72&$C72&$D72&G$3,'SUA Data'!$D:$D&'SUA Data'!$H:$H&'SUA Data'!$J:$J&'SUA Data'!$F:$F,'SUA Data'!$L:$L)*'FFV Coefficients'!$AP$11","v":22206.322649999998},"AE",{"$f":"_xlfn.XLOOKUP($A72&$C72&$D72&I$3,'SUA Data'!$D:$D&'SUA Data'!$H:$H&'SUA Data'!$J:$J&'SUA Data'!$F:$F,'SUA Data'!$L:$L)*'FFV Coefficients'!$AP$11","v":286.37714999999997},"AE",0.38382304947044454,{"$f":"_xlfn.XLOOKUP($A72&$C72&$D72&\"Loss\",'SUA Data'!$D:$D&'SUA Data'!$H:$H&'SUA Data'!$J:$J&'SUA Data'!$F:$F,'SUA Data'!$L:$L)*'FFV Coefficients'!$AP$11","v":1370.2101},"AE",0.21567647142012358,{"$f":"IF(ISNUMBER(N72),N72,'FFV Coefficients'!$H$8)","v":0.21567647142012358},1074.6880205277853,"AE",{"$f":"_xlfn.XLOOKUP($A72&$C72&$D72&R$3,'SUA Data'!$D:$D&'SUA Data'!$H:$H&'SUA Data'!$J:$J&'SUA Data'!$F:$F,'SUA Data'!$L:$L)*'FFV Coefficients'!$AP$11","v":0},{"$f":"_xlfn.XLOOKUP($A72&$C72&$D72&R$3,'SUA Data'!$D:$D&'SUA Data'!$H:$H&'SUA Data'!$J:$J&'SUA Data'!$F:$F,'SUA Data'!$M:$M)","v":"I"},{"$f":"_xlfn.XLOOKUP($A72&$C72&$D72&T$3,'SUA Data'!$D:$D&'SUA Data'!$H:$H&'SUA Data'!$J:$J&'SUA Data'!$F:$F,'SUA Data'!$L:$L)","v":7907.09},"AE",{"$f":"_xlfn.XLOOKUP($A72&$C72&$D72&V$3,'SUA Data'!$D:$D&'SUA Data'!$H:$H&'SUA Data'!$J:$J&'SUA Data'!$F:$F,'SUA Data'!$L:$L)*'FFV Coefficients'!$AP$11","v":27384.510750000001},"AE",27384.510750000001,"AE"]
["Estonia","Cucumbers","Cucumbers and gherkins",2022,{"$f":"_xlfn.XLOOKUP($A73&$C73&$D73&$E$3,'SUA Data'!$D:$D&'SUA Data'!$H:$H&'SUA Data'!$J:$J&'SUA Data'!$F:$F,'SUA Data'!$L:$L)*'FFV Coefficients'!$AP$11","v":5115.3},"AE",{"$f":"_xlfn.XLOOKUP($A73&$C73&$D73&G$3,'SUA Data'!$D:$D&'SUA Data'!$H:$H&'SUA Data'!$J:$J&'SUA Data'!$F:$F,'SUA Data'!$L:$L)*'FFV Coefficients'!$AP$11","v":5953.3861500000003},"AE",{"$f":"_xlfn.XLOOKUP($A73&$C73&$D73&I$3,'SUA Data'!$D:$D&'SUA Data'!$H:$H&'SUA Data'!$J:$J&'SUA Data'!$F:$F,'SUA Data'!$L:$L)*'FFV Coefficients'!$AP$11","v":792.21659999999997},"AE",0.46214157043381338,{"$f":"_xlfn.XLOOKUP($A73&$C73&$D73&\"Loss\",'SUA Data'!$D:$D&'SUA Data'!$H:$H&'SUA Data'!$J:$J&'SUA Data'!$F:$F,'SUA Data'!$L:$L)*'FFV Coefficients'!$AP$11","v":556.16940000000011},"AE","",{"$f":"IF(ISNUMBER(N73),N73,'FFV Coefficients'!$H$8)","v":0.21752795858822579},556.16940000000011,"AE",{"$f":"_xlfn.XLOOKUP($A73&$C73&$D73&R$3,'SUA Data'!$D:$D&'SUA Data'!$H:$H&'SUA Data'!$J:$J&'SUA Data'!$F:$F,'SUA Data'!$L:$L)*'FFV Coefficients'!$AP$11","v":0},{"$f":"_xlfn.XLOOKUP($A73&$C73&$D73&R$3,'SUA Data'!$D:$D&'SUA Data'!$H:$H&'SUA Data'!$J:$J&'SUA Data'!$F:$F,'SUA Data'!$M:$M)","v":"I"},{"$f":"_xlfn.XLOOKUP($A73&$C73&$D73&T$3,'SUA Data'!$D:$D&'SUA Data'!$H:$H&'SUA Data'!$J:$J&'SUA Data'!$F:$F,'SUA Data'!$L:$L)","v":{"$error":"#N/A"}},{"$f":"_xlfn.XLOOKUP($A73&$C73&$D73&T$3,'SUA Data'!$D:$D&'SUA Data'!$H:$H&'SUA Data'!$J:$J&'SUA Data'!$F:$F,'SUA Data'!$M:$M)","v":{"$error":"#N/A"}},{"$f":"_xlfn.XLOOKUP($A73&$C73&$D73&V$3,'SUA Data'!$D:$D&'SUA Data'!$H:$H&'SUA Data'!$J:$J&'SUA Data'!$F:$F,'SUA Data'!$L:$L)*'FFV Coefficients'!$AP$11","v":9720.3001499999991},"AE",7605.8631015056744,"AE"]
["Finland","Cucumbers","Cucumbers and gherkins",2022,{"$f":"_xlfn.XLOOKUP($A74&$C74&$D74&$E$3,'SUA Data'!$D:$D&'SUA Data'!$H:$H&'SUA Data'!$J:$J&'SUA Data'!$F:$F,'SUA Data'!$L:$L)*'FFV Coefficients'!$AP$11","v":50409.599999999999},"AE",{"$f":"_xlfn.XLOOKUP($A74&$C74&$D74&G$3,'SUA Data'!$D:$D&'SUA Data'!$H:$H&'SUA Data'!$J:$J&'SUA Data'!$F:$F,'SUA Data'!$L:$L)*'FFV Coefficients'!$AP$11","v":5375.6847000000007},"AE",{"$f":"_xlfn.XLOOKUP($A74&$C74&$D74&I$3,'SUA Data'!$D:$D&'SUA Data'!$H:$H&'SUA Data'!$J:$J&'SUA Data'!$F:$F,'SUA Data'!$L:$L)*'FFV Coefficients'!$AP$11","v":3748.5944999999997},"AE",0.90363615191875146,{"$f":"_xlfn.XLOOKUP($A74&$C74&$D74&\"Loss\",'SUA Data'!$D:$D&'SUA Data'!$H:$H&'SUA Data'!$J:$J&'SUA Data'!$F:$F,'SUA Data'!$L:$L)*'FFV Coefficients'!$AP$11","v":3916.0807500000001},"AE","",{"$f":"IF(ISNUMBER(N74),N74,'FFV Coefficients'!$H$8)","v":0.21752795858822579},3916.0807500000001,"AE",{"$f":"_xlfn.XLOOKUP($A74&$C74&$D74&R$3,'SUA Data'!$D:$D&'SUA Data'!$H:$H&'SUA Data'!$J:$J&'SUA Data'!$F:$F,'SUA Data'!$L:$L)*'FFV Coefficients'!$AP$11","v":0},{"$f":"_xlfn.XLOOKUP($A74&$C74&$D74&R$3,'SUA Data'!$D:$D&'SUA Data'!$H:$H&'SUA Data'!$J:$J&'SUA Data'!$F:$F,'SUA Data'!$M:$M)","v":"I"},{"$f":"_xlfn.XLOOKUP($A74&$C74&$D74&T$3,'SUA Data'!$D:$D&'SUA Data'!$H:$H&'SUA Data'!$J:$J&'SUA Data'!$F:$F,'SUA Data'!$L:$L)","v":{"$error":"#N/A"}},{"$f":"_xlfn.XLOOKUP($A74&$C74&$D74&T$3,'SUA Data'!$D:$D&'SUA Data'!$H:$H&'SUA Data'!$J:$J&'SUA Data'!$F:$F,'SUA Data'!$M:$M)","v":{"$error":"#N/A"}},{"$f":"_xlfn.XLOOKUP($A74&$C74&$D74&V$3,'SUA Data'!$D:$D&'SUA Data'!$H:$H&'SUA Data'!$J:$J&'SUA Data'!$F:$F,'SUA Data'!$L:$L)*'FFV Coefficients'!$AP$11","v":48120.609450000004},"AE",37653.031510320216,"AE"]
["France","Cucumbers","Cucumbers and gherkins",2022,{"$f":"_xlfn.XLOOKUP($A75&$C75&$D75&$E$3,'SUA Data'!$D:$D&'SUA Data'!$H:$H&'SUA Data'!$J:$J&'SUA Data'!$F:$F,'SUA Data'!$L:$L)*'FFV Coefficients'!$AP$11","v":155034.29999999999},"AE",{"$f":"_xlfn.XLOOKUP($A75&$C75&$D75&G$3,'SUA Data'!$D:$D&'SUA Data'!$H:$H&'SUA Data'!$J:$J&'SUA Data'!$F:$F,'SUA Data'!$L:$L)*'FFV Coefficients'!$AP$11","v":65126.32695000001},"AE",{"$f":"_xlfn.XLOOKUP($A75&$C75&$D75&I$3,'SUA Data'!$D:$D&'SUA Data'!$H:$H&'SUA Data'!$J:$J&'SUA Data'!$F:$F,'SUA Data'!$L:$L)*'FFV Coefficients'!$AP$11","v":11563.3215},"AE",0.70418722070231632,{"$f":"_xlfn.XLOOKUP($A75&$C75&$D75&\"Loss\",'SUA Data'!$D:$D&'SUA Data'!$H:$H&'SUA Data'!$J:$J&'SUA Data'!$F:$F,'SUA Data'!$L:$L)*'FFV Coefficients'!$AP$11","v":33024.0936},"AE","",{"$f":"IF(ISNUMBER(N75),N75,'FFV Coefficients'!$H$8)","v":0.21752795858822579},33024.0936,"AE",{"$f":"_xlfn.XLOOKUP($A75&$C75&$D75&R$3,'SUA Data'!$D:$D&'SUA Data'!$H:$H&'SUA Data'!$J:$J&'SUA Data'!$F:$F,'SUA Data'!$L:$L)*'FFV Coefficients'!$AP$11","v":0},{"$f":"_xlfn.XLOOKUP($A75&$C75&$D75&R$3,'SUA Data'!$D:$D&'SUA Data'!$H:$H&'SUA Data'!$J:$J&'SUA Data'!$F:$F,'SUA Data'!$M:$M)","v":"I"},{"$f":"_xlfn.XLOOKUP($A75&$C75&$D75&T$3,'SUA Data'!$D:$D&'SUA Data'!$H:$H&'SUA Data'!$J:$J&'SUA Data'!$F:$F,'SUA Data'!$L:$L)","v":{"$error":"#N/A"}},{"$f":"_xlfn.XLOOKUP($A75&$C75&$D75&T$3,'SUA Data'!$D:$D&'SUA Data'!$H:$H&'SUA Data'!$J:$J&'SUA Data'!$F:$F,'SUA Data'!$M:$M)","v":{"$error":"#N/A"}},{"$f":"_xlfn.XLOOKUP($A75&$C75&$D75&V$3,'SUA Data'!$D:$D&'SUA Data'!$H:$H&'SUA Data'!$J:$J&'SUA Data'!$F:$F,'SUA Data'!$L:$L)*'FFV Coefficients'!$AP$11","v":175573.21184999999},"AE",137381.1294934914,"AE"]
["Germany","Cucumbers","Cucumbers and gherkins",2022,{"$f":"_xlfn.XLOOKUP($A76&$C76&$D76&$E$3,'SUA Data'!$D:$D&'SUA Data'!$H:$H&'SUA Data'!$J:$J&'SUA Data'!$F:$F,'SUA Data'!$L:$L)*'FFV Coefficients'!$AP$11","v":206833.35},"AE",{"$f":"_xlfn.XLOOKUP($A76&$C76&$D76&G$3,'SUA Data'!$D:$D&'SUA Data'!$H:$H&'SUA Data'!$J:$J&'SUA Data'!$F:$F,'SUA Data'!$L:$L)*'FFV Coefficients'!$AP$11","v":478259.25689999998},"AE",{"$f":"_xlfn.XLOOKUP($A76&$C76&$D76&I$3,'SUA Data'!$D:$D&'SUA Data'!$H:$H&'SUA Data'!$J:$J&'SUA Data'!$F:$F,'SUA Data'!$L:$L)*'FFV Coefficients'!$AP$11","v":33266.80485},"AE",0.30190568095006542,{"$f":"_xlfn.XLOOKUP($A76&$C76&$D76&\"Loss\",'SUA Data'!$D:$D&'SUA Data'!$H:$H&'SUA Data'!$J:$J&'SUA Data'!$F:$F,'SUA Data'!$L:$L)*'FFV Coefficients'!$AP$11","v":82211.110350000003},"AE","",{"$f":"IF(ISNUMBER(N76),N76,'FFV Coefficients'!$H$8)","v":0.21752795858822579},82211.110350000003,"AE",{"$f":"_xlfn.XLOOKUP($A76&$C76&$D76&R$3,'SUA Data'!$D:$D&'SUA Data'!$H:$H&'SUA Data'!$J:$J&'SUA Data'!$F:$F,'SUA Data'!$L:$L)*'FFV Coefficients'!$AP$11","v":0},{"$f":"_xlfn.XLOOKUP($A76&$C76&$D76&R$3,'SUA Data'!$D:$D&'SUA Data'!$H:$H&'SUA Data'!$J:$J&'SUA Data'!$F:$F,'SUA Data'!$M:$M)","v":"I"},{"$f":"_xlfn.XLOOKUP($A76&$C76&$D76&T$3,'SUA Data'!$D:$D&'SUA Data'!$H:$H&'SUA Data'!$J:$J&'SUA Data'!$F:$F,'SUA Data'!$L:$L)","v":{"$error":"#N/A"}},{"$f":"_xlfn.XLOOKUP($A76&$C76&$D76&T$3,'SUA Data'!$D:$D&'SUA Data'!$H:$H&'SUA Data'!$J:$J&'SUA Data'!$F:$F,'SUA Data'!$M:$M)","v":{"$error":"#N/A"}},{"$f":"_xlfn.XLOOKUP($A76&$C76&$D76&V$3,'SUA Data'!$D:$D&'SUA Data'!$H:$H&'SUA Data'!$J:$J&'SUA Data'!$F:$F,'SUA Data'!$L:$L)*'FFV Coefficients'!$AP$11","v":569614.68284999998},"AE",445707.56370775978,"AE"]
["Greece","Cucumbers","Cucumbers and gherkins",2022,{"$f":"_xlfn.XLOOKUP($A77&$C77&$D77&$E$3,'SUA Data'!$D:$D&'SUA Data'!$H:$H&'SUA Data'!$J:$J&'SUA Data'!$F:$F,'SUA Data'!$L:$L)*'FFV Coefficients'!$AP$11","v":126103.65},"AE",{"$f":"_xlfn.XLOOKUP($A77&$C77&$D77&G$3,'SUA Data'!$D:$D&'SUA Data'!$H:$H&'SUA Data'!$J:$J&'SUA Data'!$F:$F,'SUA Data'!$L:$L)*'FFV Coefficients'!$AP$11","v":689.22029999999995},"AE",{"$f":"_xlfn.XLOOKUP($A77&$C77&$D77&I$3,'SUA Data'!$D:$D&'SUA Data'!$H:$H&'SUA Data'!$J:$J&'SUA Data'!$F:$F,'SUA Data'!$L:$L)*'FFV Coefficients'!$AP$11","v":45540.356549999997},"AE",0.9945642030315327,{"$f":"_xlfn.XLOOKUP($A77&$C77&$D77&\"Loss\",'SUA Data'!$D:$D&'SUA Data'!$H:$H&'SUA Data'!$J:$J&'SUA Data'!$F:$F,'SUA Data'!$L:$L)*'FFV Coefficients'!$AP$11","v":12575.64645},"AE",8.1592745568855249E-2,{"$f":"IF(ISNUMBER(N77),N77,'FFV Coefficients'!$H$8)","v":8.1592745568855249E-2},11549.564928841273,"AE",{"$f":"_xlfn.XLOOKUP($A77&$C77&$D77&R$3,'SUA Data'!$D:$D&'SUA Data'!$H:$H&'SUA Data'!$J:$J&'SUA Data'!$F:$F,'SUA Data'!$L:$L)*'FFV Coefficients'!$AP$11","v":0},{"$f":"_xlfn.XLOOKUP($A77&$C77&$D77&R$3,'SUA Data'!$D:$D&'SUA Data'!$H:$H&'SUA Data'!$J:$J&'SUA Data'!$F:$F,'SUA Data'!$M:$M)","v":"I"},{"$f":"_xlfn.XLOOKUP($A77&$C77&$D77&T$3,'SUA Data'!$D:$D&'SUA Data'!$H:$H&'SUA Data'!$J:$J&'SUA Data'!$F:$F,'SUA Data'!$L:$L)","v":6356.43},"AE",{"$f":"_xlfn.XLOOKUP($A77&$C77&$D77&V$3,'SUA Data'!$D:$D&'SUA Data'!$H:$H&'SUA Data'!$J:$J&'SUA Data'!$F:$F,'SUA Data'!$L:$L)*'FFV Coefficients'!$AP$11","v":58972.275900000001},"AE",58972.275900000001,"AE"]
["Hungary","Cucumbers","Cucumbers and gherkins",2022,{"$f":"_xlfn.XLOOKUP($A78&$C78&$D78&$E$3,'SUA Data'!$D:$D&'SUA Data'!$H:$H&'SUA Data'!$J:$J&'SUA Data'!$F:$F,'SUA Data'!$L:$L)*'FFV Coefficients'!$AP$11","v":20301.900000000001},"AE",{"$f":"_xlfn.XLOOKUP($A78&$C78&$D78&G$3,'SUA Data'!$D:$D&'SUA Data'!$H:$H&'SUA Data'!$J:$J&'SUA Data'!$F:$F,'SUA Data'!$L:$L)*'FFV Coefficients'!$AP$11","v":21544.050600000002},"AE",{"$f":"_xlfn.XLOOKUP($A78&$C78&$D78&I$3,'SUA Data'!$D:$D&'SUA Data'!$H:$H&'SUA Data'!$J:$J&'SUA Data'!$F:$F,'SUA Data'!$L:$L)*'FFV Coefficients'!$AP$11","v":9268.7466000000004},"AE",0.4851580549349499,{"$f":"_xlfn.XLOOKUP($A78&$C78&$D78&\"Loss\",'SUA Data'!$D:$D&'SUA Data'!$H:$H&'SUA Data'!$J:$J&'SUA Data'!$F:$F,'SUA Data'!$L:$L)*'FFV Coefficients'!$AP$11","v":1087.8420000000001},"AE",0.31085717898479021,{"$f":"IF(ISNUMBER(N78),N78,'FFV Coefficients'!$H$8)","v":0.31085717898479021},749.67850469882785,"AE",{"$f":"_xlfn.XLOOKUP($A78&$C78&$D78&R$3,'SUA Data'!$D:$D&'SUA Data'!$H:$H&'SUA Data'!$J:$J&'SUA Data'!$F:$F,'SUA Data'!$L:$L)*'FFV Coefficients'!$AP$11","v":0},{"$f":"_xlfn.XLOOKUP($A78&$C78&$D78&R$3,'SUA Data'!$D:$D&'SUA Data'!$H:$H&'SUA Data'!$J:$J&'SUA Data'!$F:$F,'SUA Data'!$M:$M)","v":"I"},{"$f":"_xlfn.XLOOKUP($A78&$C78&$D78&T$3,'SUA Data'!$D:$D&'SUA Data'!$H:$H&'SUA Data'!$J:$J&'SUA Data'!$F:$F,'SUA Data'!$L:$L)","v":10502.3},"AE",{"$f":"_xlfn.XLOOKUP($A78&$C78&$D78&V$3,'SUA Data'!$D:$D&'SUA Data'!$H:$H&'SUA Data'!$J:$J&'SUA Data'!$F:$F,'SUA Data'!$L:$L)*'FFV Coefficients'!$AP$11","v":22194.826500000003},"AE",22194.826500000003,"AE"]
["Iceland","Cucumbers","Cucumbers and gherkins",2022,{"$f":"_xlfn.XLOOKUP($A79&$C79&$D79&$E$3,'SUA Data'!$D:$D&'SUA Data'!$H:$H&'SUA Data'!$J:$J&'SUA Data'!$F:$F,'SUA Data'!$L:$L)*'FFV Coefficients'!$AP$11","v":1846.1100000000001},"AE",{"$f":"_xlfn.XLOOKUP($A79&$C79&$D79&G$3,'SUA Data'!$D:$D&'SUA Data'!$H:$H&'SUA Data'!$J:$J&'SUA Data'!$F:$F,'SUA Data'!$L:$L)*'FFV Coefficients'!$AP$11","v":67.614000000000004},"AE",{"$f":"_xlfn.XLOOKUP($A79&$C79&$D79&I$3,'SUA Data'!$D:$D&'SUA Data'!$H:$H&'SUA Data'!$J:$J&'SUA Data'!$F:$F,'SUA Data'!$L:$L)*'FFV Coefficients'!$AP$11","v":183.87645000000001},"AE",0.96466888642249349,{"$f":"_xlfn.XLOOKUP($A79&$C79&$D79&\"Loss\",'SUA Data'!$D:$D&'SUA Data'!$H:$H&'SUA Data'!$J:$J&'SUA Data'!$F:$F,'SUA Data'!$L:$L)*'FFV Coefficients'!$AP$11","v":157.65389999999999},"AE","",{"$f":"IF(ISNUMBER(N79),N79,'FFV Coefficients'!$H$8)","v":0.21752795858822579},157.65389999999999,"AE",{"$f":"_xlfn.XLOOKUP($A79&$C79&$D79&R$3,'SUA Data'!$D:$D&'SUA Data'!$H:$H&'SUA Data'!$J:$J&'SUA Data'!$F:$F,'SUA Data'!$L:$L)*'FFV Coefficients'!$AP$11","v":0},{"$f":"_xlfn.XLOOKUP($A79&$C79&$D79&R$3,'SUA Data'!$D:$D&'SUA Data'!$H:$H&'SUA Data'!$J:$J&'SUA Data'!$F:$F,'SUA Data'!$M:$M)","v":"I"},{"$f":"_xlfn.XLOOKUP($A79&$C79&$D79&T$3,'SUA Data'!$D:$D&'SUA Data'!$H:$H&'SUA Data'!$J:$J&'SUA Data'!$F:$F,'SUA Data'!$L:$L)","v":{"$error":"#N/A"}},{"$f":"_xlfn.XLOOKUP($A79&$C79&$D79&T$3,'SUA Data'!$D:$D&'SUA Data'!$H:$H&'SUA Data'!$J:$J&'SUA Data'!$F:$F,'SUA Data'!$M:$M)","v":{"$error":"#N/A"}},{"$f":"_xlfn.XLOOKUP($A79&$C79&$D79&V$3,'SUA Data'!$D:$D&'SUA Data'!$H:$H&'SUA Data'!$J:$J&'SUA Data'!$F:$F,'SUA Data'!$L:$L)*'FFV Coefficients'!$AP$11","v":1572.1936499999999},"AE",1230.1975748101283,"AE"]
["Ireland","Cucumbers","Cucumbers and gherkins",2022,{"$f":"_xlfn.XLOOKUP($A80&$C80&$D80&$E$3,'SUA Data'!$D:$D&'SUA Data'!$H:$H&'SUA Data'!$J:$J&'SUA Data'!$F:$F,'SUA Data'!$L:$L)*'FFV Coefficients'!$AP$11","v":1584.15},"AE",{"$f":"_xlfn.XLOOKUP($A80&$C80&$D80&G$3,'SUA Data'!$D:$D&'SUA Data'!$H:$H&'SUA Data'!$J:$J&'SUA Data'!$F:$F,'SUA Data'!$L:$L)*'FFV Coefficients'!$AP$11","v":6648.0226500000008},"AE",{"$f":"_xlfn.XLOOKUP($A80&$C80&$D80&I$3,'SUA Data'!$D:$D&'SUA Data'!$H:$H&'SUA Data'!$J:$J&'SUA Data'!$F:$F,'SUA Data'!$L:$L)*'FFV Coefficients'!$AP$11","v":215.20544999999998},"AE",0.19243401072255209,{"$f":"_xlfn.XLOOKUP($A80&$C80&$D80&\"Loss\",'SUA Data'!$D:$D&'SUA Data'!$H:$H&'SUA Data'!$J:$J&'SUA Data'!$F:$F,'SUA Data'!$L:$L)*'FFV Coefficients'!$AP$11","v":821.40390000000002},"AE","",{"$f":"IF(ISNUMBER(N80),N80,'FFV Coefficients'!$H$8)","v":0.21752795858822579},821.40390000000002,"AE",{"$f":"_xlfn.XLOOKUP($A80&$C80&$D80&R$3,'SUA Data'!$D:$D&'SUA Data'!$H:$H&'SUA Data'!$J:$J&'SUA Data'!$F:$F,'SUA Data'!$L:$L)*'FFV Coefficients'!$AP$11","v":0},{"$f":"_xlfn.XLOOKUP($A80&$C80&$D80&R$3,'SUA Data'!$D:$D&'SUA Data'!$H:$H&'SUA Data'!$J:$J&'SUA Data'!$F:$F,'SUA Data'!$M:$M)","v":"I"},{"$f":"_xlfn.XLOOKUP($A80&$C80&$D80&T$3,'SUA Data'!$D:$D&'SUA Data'!$H:$H&'SUA Data'!$J:$J&'SUA Data'!$F:$F,'SUA Data'!$L:$L)","v":{"$error":"#N/A"}},{"$f":"_xlfn.XLOOKUP($A80&$C80&$D80&T$3,'SUA Data'!$D:$D&'SUA Data'!$H:$H&'SUA Data'!$J:$J&'SUA Data'!$F:$F,'SUA Data'!$M:$M)","v":{"$error":"#N/A"}},{"$f":"_xlfn.XLOOKUP($A80&$C80&$D80&V$3,'SUA Data'!$D:$D&'SUA Data'!$H:$H&'SUA Data'!$J:$J&'SUA Data'!$F:$F,'SUA Data'!$L:$L)*'FFV Coefficients'!$AP$11","v":7195.5632999999998},"AE",5630.3271044586427,"AE"]
["Italy","Cucumbers","Cucumbers and gherkins",2022,{"$f":"_xlfn.XLOOKUP($A81&$C81&$D81&$E$3,'SUA Data'!$D:$D&'SUA Data'!$H:$H&'SUA Data'!$J:$J&'SUA Data'!$F:$F,'SUA Data'!$L:$L)*'FFV Coefficients'!$AP$11","v":54719.55},"AE",{"$f":"_xlfn.XLOOKUP($A81&$C81&$D81&G$3,'SUA Data'!$D:$D&'SUA Data'!$H:$H&'SUA Data'!$J:$J&'SUA Data'!$F:$F,'SUA Data'!$L:$L)*'FFV Coefficients'!$AP$11","v":17432.703450000001},"AE",{"$f":"_xlfn.XLOOKUP($A81&$C81&$D81&I$3,'SUA Data'!$D:$D&'SUA Data'!$H:$H&'SUA Data'!$J:$J&'SUA Data'!$F:$F,'SUA Data'!$L:$L)*'FFV Coefficients'!$AP$11","v":5416.4743500000004},"AE",0.75839003473286526,{"$f":"_xlfn.XLOOKUP($A81&$C81&$D81&\"Loss\",'SUA Data'!$D:$D&'SUA Data'!$H:$H&'SUA Data'!$J:$J&'SUA Data'!$F:$F,'SUA Data'!$L:$L)*'FFV Coefficients'!$AP$11","v":9393.0537000000004},"AE","",{"$f":"IF(ISNUMBER(N81),N81,'FFV Coefficients'!$H$8)","v":0.21752795858822579},9393.0537000000004,"AE",{"$f":"_xlfn.XLOOKUP($A81&$C81&$D81&R$3,'SUA Data'!$D:$D&'SUA Data'!$H:$H&'SUA Data'!$J:$J&'SUA Data'!$F:$F,'SUA Data'!$L:$L)*'FFV Coefficients'!$AP$11","v":0},{"$f":"_xlfn.XLOOKUP($A81&$C81&$D81&R$3,'SUA Data'!$D:$D&'SUA Data'!$H:$H&'SUA Data'!$J:$J&'SUA Data'!$F:$F,'SUA Data'!$M:$M)","v":"I"},{"$f":"_xlfn.XLOOKUP($A81&$C81&$D81&T$3,'SUA Data'!$D:$D&'SUA Data'!$H:$H&'SUA Data'!$J:$J&'SUA Data'!$F:$F,'SUA Data'!$L:$L)","v":{"$error":"#N/A"}},{"$f":"_xlfn.XLOOKUP($A81&$C81&$D81&T$3,'SUA Data'!$D:$D&'SUA Data'!$H:$H&'SUA Data'!$J:$J&'SUA Data'!$F:$F,'SUA Data'!$M:$M)","v":{"$error":"#N/A"}},{"$f":"_xlfn.XLOOKUP($A81&$C81&$D81&V$3,'SUA Data'!$D:$D&'SUA Data'!$H:$H&'SUA Data'!$J:$J&'SUA Data'!$F:$F,'SUA Data'!$L:$L)*'FFV Coefficients'!$AP$11","v":57342.725400000003},"AE",44869.079403852797,"AE"]
["Latvia","Cucumbers","Cucumbers and gherkins",2022,{"$f":"_xlfn.XLOOKUP($A82&$C82&$D82&$E$3,'SUA Data'!$D:$D&'SUA Data'!$H:$H&'SUA Data'!$J:$J&'SUA Data'!$F:$F,'SUA Data'!$L:$L)*'FFV Coefficients'!$AP$11","v":7203.9},"AE",{"$f":"_xlfn.XLOOKUP($A82&$C82&$D82&G$3,'SUA Data'!$D:$D&'SUA Data'!$H:$H&'SUA Data'!$J:$J&'SUA Data'!$F:$F,'SUA Data'!$L:$L)*'FFV Coefficients'!$AP$11","v":7388.92695},"AE",{"$f":"_xlfn.XLOOKUP($A82&$C82&$D82&I$3,'SUA Data'!$D:$D&'SUA Data'!$H:$H&'SUA Data'!$J:$J&'SUA Data'!$F:$F,'SUA Data'!$L:$L)*'FFV Coefficients'!$AP$11","v":2328.9394500000003},"AE",0.49366034591399033,{"$f":"_xlfn.XLOOKUP($A82&$C82&$D82&\"Loss\",'SUA Data'!$D:$D&'SUA Data'!$H:$H&'SUA Data'!$J:$J&'SUA Data'!$F:$F,'SUA Data'!$L:$L)*'FFV Coefficients'!$AP$11","v":709.93815000000006},"AE","",{"$f":"IF(ISNUMBER(N82),N82,'FFV Coefficients'!$H$8)","v":0.21752795858822579},709.93815000000006,"AE",{"$f":"_xlfn.XLOOKUP($A82&$C82&$D82&R$3,'SUA Data'!$D:$D&'SUA Data'!$H:$H&'SUA Data'!$J:$J&'SUA Data'!$F:$F,'SUA Data'!$L:$L)*'FFV Coefficients'!$AP$11","v":0},{"$f":"_xlfn.XLOOKUP($A82&$C82&$D82&R$3,'SUA Data'!$D:$D&'SUA Data'!$H:$H&'SUA Data'!$J:$J&'SUA Data'!$F:$F,'SUA Data'!$M:$M)","v":"I"},{"$f":"_xlfn.XLOOKUP($A82&$C82&$D82&T$3,'SUA Data'!$D:$D&'SUA Data'!$H:$H&'SUA Data'!$J:$J&'SUA Data'!$F:$F,'SUA Data'!$L:$L)","v":{"$error":"#N/A"}},{"$f":"_xlfn.XLOOKUP($A82&$C82&$D82&T$3,'SUA Data'!$D:$D&'SUA Data'!$H:$H&'SUA Data'!$J:$J&'SUA Data'!$F:$F,'SUA Data'!$M:$M)","v":{"$error":"#N/A"}},{"$f":"_xlfn.XLOOKUP($A82&$C82&$D82&V$3,'SUA Data'!$D:$D&'SUA Data'!$H:$H&'SUA Data'!$J:$J&'SUA Data'!$F:$F,'SUA Data'!$L:$L)*'FFV Coefficients'!$AP$11","v":11553.958199999999},"AE",9040.6492591403075,"AE"]
["Lithuania","Cucumbers","Cucumbers and gherkins",2022,{"$f":"_xlfn.XLOOKUP($A83&$C83&$D83&$E$3,'SUA Data'!$D:$D&'SUA Data'!$H:$H&'SUA Data'!$J:$J&'SUA Data'!$F:$F,'SUA Data'!$L:$L)*'FFV Coefficients'!$AP$11","v":20576.25},"AE",{"$f":"_xlfn.XLOOKUP($A83&$C83&$D83&G$3,'SUA Data'!$D:$D&'SUA Data'!$H:$H&'SUA Data'!$J:$J&'SUA Data'!$F:$F,'SUA Data'!$L:$L)*'FFV Coefficients'!$AP$11","v":9943.7095499999996},"AE",{"$f":"_xlfn.XLOOKUP($A83&$C83&$D83&I$3,'SUA Data'!$D:$D&'SUA Data'!$H:$H&'SUA Data'!$J:$J&'SUA Data'!$F:$F,'SUA Data'!$L:$L)*'FFV Coefficients'!$AP$11","v":1726.0331999999999},"AE",0.67418994990116232,{"$f":"_xlfn.XLOOKUP($A83&$C83&$D83&\"Loss\",'SUA Data'!$D:$D&'SUA Data'!$H:$H&'SUA Data'!$J:$J&'SUA Data'!$F:$F,'SUA Data'!$L:$L)*'FFV Coefficients'!$AP$11","v":579.1617},"AE",8.9598740313396791E-2,{"$f":"IF(ISNUMBER(N83),N83,'FFV Coefficients'!$H$8)","v":8.9598740313396791E-2},527.2695412422346,"AE",{"$f":"_xlfn.XLOOKUP($A83&$C83&$D83&R$3,'SUA Data'!$D:$D&'SUA Data'!$H:$H&'SUA Data'!$J:$J&'SUA Data'!$F:$F,'SUA Data'!$L:$L)*'FFV Coefficients'!$AP$11","v":0},{"$f":"_xlfn.XLOOKUP($A83&$C83&$D83&R$3,'SUA Data'!$D:$D&'SUA Data'!$H:$H&'SUA Data'!$J:$J&'SUA Data'!$F:$F,'SUA Data'!$M:$M)","v":"I"},{"$f":"_xlfn.XLOOKUP($A83&$C83&$D83&T$3,'SUA Data'!$D:$D&'SUA Data'!$H:$H&'SUA Data'!$J:$J&'SUA Data'!$F:$F,'SUA Data'!$L:$L)","v":2606.7600000000002},"AE",{"$f":"_xlfn.XLOOKUP($A83&$C83&$D83&V$3,'SUA Data'!$D:$D&'SUA Data'!$H:$H&'SUA Data'!$J:$J&'SUA Data'!$F:$F,'SUA Data'!$L:$L)*'FFV Coefficients'!$AP$11","v":25907.7909},"AE",25907.7909,"AE"]
["Luxembourg","Cucumbers","Cucumbers and gherkins",2022,{"$f":"_xlfn.XLOOKUP($A84&$C84&$D84&$E$3,'SUA Data'!$D:$D&'SUA Data'!$H:$H&'SUA Data'!$J:$J&'SUA Data'!$F:$F,'SUA Data'!$L:$L)*'FFV Coefficients'!$AP$11","v":26.55},"AE",{"$f":"_xlfn.XLOOKUP($A84&$C84&$D84&G$3,'SUA Data'!$D:$D&'SUA Data'!$H:$H&'SUA Data'!$J:$J&'SUA Data'!$F:$F,'SUA Data'!$L:$L)*'FFV Coefficients'!$AP$11","v":2475.8229000000001},"AE",{"$f":"_xlfn.XLOOKUP($A84&$C84&$D84&I$3,'SUA Data'!$D:$D&'SUA Data'!$H:$H&'SUA Data'!$J:$J&'SUA Data'!$F:$F,'SUA Data'!$L:$L)*'FFV Coefficients'!$AP$11","v":242.53425000000001},"AE",1.0609929479335393E-2,{"$f":"_xlfn.XLOOKUP($A84&$C84&$D84&\"Loss\",'SUA Data'!$D:$D&'SUA Data'!$H:$H&'SUA Data'!$J:$J&'SUA Data'!$F:$F,'SUA Data'!$L:$L)*'FFV Coefficients'!$AP$11","v":2.9293499999999999},"AE","",{"$f":"IF(ISNUMBER(N84),N84,'FFV Coefficients'!$H$8)","v":0.21752795858822579},2.9293499999999999,"AE",{"$f":"_xlfn.XLOOKUP($A84&$C84&$D84&R$3,'SUA Data'!$D:$D&'SUA Data'!$H:$H&'SUA Data'!$J:$J&'SUA Data'!$F:$F,'SUA Data'!$L:$L)*'FFV Coefficients'!$AP$11","v":0},{"$f":"_xlfn.XLOOKUP($A84&$C84&$D84&R$3,'SUA Data'!$D:$D&'SUA Data'!$H:$H&'SUA Data'!$J:$J&'SUA Data'!$F:$F,'SUA Data'!$M:$M)","v":"I"},{"$f":"_xlfn.XLOOKUP($A84&$C84&$D84&T$3,'SUA Data'!$D:$D&'SUA Data'!$H:$H&'SUA Data'!$J:$J&'SUA Data'!$F:$F,'SUA Data'!$L:$L)","v":{"$error":"#N/A"}},{"$f":"_xlfn.XLOOKUP($A84&$C84&$D84&T$3,'SUA Data'!$D:$D&'SUA Data'!$H:$H&'SUA Data'!$J:$J&'SUA Data'!$F:$F,'SUA Data'!$M:$M)","v":{"$error":"#N/A"}},{"$f":"_xlfn.XLOOKUP($A84&$C84&$D84&V$3,'SUA Data'!$D:$D&'SUA Data'!$H:$H&'SUA Data'!$J:$J&'SUA Data'!$F:$F,'SUA Data'!$L:$L)*'FFV Coefficients'!$AP$11","v":2256.9092999999998},"AE",1765.9684272522181,"AE"]
["Malta","Cucumbers","Cucumbers and gherkins",2022,{"$f":"_xlfn.XLOOKUP($A85&$C85&$D85&$E$3,'SUA Data'!$D:$D&'SUA Data'!$H:$H&'SUA Data'!$J:$J&'SUA Data'!$F:$F,'SUA Data'!$L:$L)*'FFV Coefficients'!$AP$11","v":725.7},"AE",{"$f":"_xlfn.XLOOKUP($A85&$C85&$D85&G$3,'SUA Data'!$D:$D&'SUA Data'!$H:$H&'SUA Data'!$J:$J&'SUA Data'!$F:$F,'SUA Data'!$L:$L)*'FFV Coefficients'!$AP$11","v":528.66359999999997},"AE",{"$f":"_xlfn.XLOOKUP($A85&$C85&$D85&I$3,'SUA Data'!$D:$D&'SUA Data'!$H:$H&'SUA Data'!$J:$J&'SUA Data'!$F:$F,'SUA Data'!$L:$L)*'FFV Coefficients'!$AP$11","v":0.41594999999999999},"AE",0.57854038494101712,{"$f":"_xlfn.XLOOKUP($A85&$C85&$D85&\"Loss\",'SUA Data'!$D:$D&'SUA Data'!$H:$H&'SUA Data'!$J:$J&'SUA Data'!$F:$F,'SUA Data'!$L:$L)*'FFV Coefficients'!$AP$11","v":76.897649999999999},"AE","",{"$f":"IF(ISNUMBER(N85),N85,'FFV Coefficients'!$H$8)","v":0.21752795858822579},76.897649999999999,"AE",{"$f":"_xlfn.XLOOKUP($A85&$C85&$D85&R$3,'SUA Data'!$D:$D&'SUA Data'!$H:$H&'SUA Data'!$J:$J&'SUA Data'!$F:$F,'SUA Data'!$L:$L)*'FFV Coefficients'!$AP$11","v":0},{"$f":"_xlfn.XLOOKUP($A85&$C85&$D85&R$3,'SUA Data'!$D:$D&'SUA Data'!$H:$H&'SUA Data'!$J:$J&'SUA Data'!$F:$F,'SUA Data'!$M:$M)","v":"I"},{"$f":"_xlfn.XLOOKUP($A85&$C85&$D85&T$3,'SUA Data'!$D:$D&'SUA Data'!$H:$H&'SUA Data'!$J:$J&'SUA Data'!$F:$F,'SUA Data'!$L:$L)","v":{"$error":"#N/A"}},{"$f":"_xlfn.XLOOKUP($A85&$C85&$D85&T$3,'SUA Data'!$D:$D&'SUA Data'!$H:$H&'SUA Data'!$J:$J&'SUA Data'!$F:$F,'SUA Data'!$M:$M)","v":{"$error":"#N/A"}},{"$f":"_xlfn.XLOOKUP($A85&$C85&$D85&V$3,'SUA Data'!$D:$D&'SUA Data'!$H:$H&'SUA Data'!$J:$J&'SUA Data'!$F:$F,'SUA Data'!$L:$L)*'FFV Coefficients'!$AP$11","v":1084.32855},"AE",848.45677407956896,"AE"]
["Netherlands","Cucumbers","Cucumbers and gherkins",2022,{"$f":"_xlfn.XLOOKUP($A86&$C86&$D86&$E$3,'SUA Data'!$D:$D&'SUA Data'!$H:$H&'SUA Data'!$J:$J&'SUA Data'!$F:$F,'SUA Data'!$L:$L)*'FFV Coefficients'!$AP$11","v":354115.05},"AE",{"$f":"_xlfn.XLOOKUP($A86&$C86&$D86&G$3,'SUA Data'!$D:$D&'SUA Data'!$H:$H&'SUA Data'!$J:$J&'SUA Data'!$F:$F,'SUA Data'!$L:$L)*'FFV Coefficients'!$AP$11","v":94346.433900000004},"AE",{"$f":"_xlfn.XLOOKUP($A86&$C86&$D86&I$3,'SUA Data'!$D:$D&'SUA Data'!$H:$H&'SUA Data'!$J:$J&'SUA Data'!$F:$F,'SUA Data'!$L:$L)*'FFV Coefficients'!$AP$11","v":384854.73735000001},"AE",0.78962199143720047,{"$f":"_xlfn.XLOOKUP($A86&$C86&$D86&\"Loss\",'SUA Data'!$D:$D&'SUA Data'!$H:$H&'SUA Data'!$J:$J&'SUA Data'!$F:$F,'SUA Data'!$L:$L)*'FFV Coefficients'!$AP$11","v":16327.674749999998},"AE",0.76577064331938571,{"$f":"IF(ISNUMBER(N86),N86,'FFV Coefficients'!$H$8)","v":0.76577064331938571},3824.4207527828094,"AE",{"$f":"_xlfn.XLOOKUP($A86&$C86&$D86&R$3,'SUA Data'!$D:$D&'SUA Data'!$H:$H&'SUA Data'!$J:$J&'SUA Data'!$F:$F,'SUA Data'!$L:$L)*'FFV Coefficients'!$AP$11","v":0},{"$f":"_xlfn.XLOOKUP($A86&$C86&$D86&R$3,'SUA Data'!$D:$D&'SUA Data'!$H:$H&'SUA Data'!$J:$J&'SUA Data'!$F:$F,'SUA Data'!$M:$M)","v":"I"},{"$f":"_xlfn.XLOOKUP($A86&$C86&$D86&T$3,'SUA Data'!$D:$D&'SUA Data'!$H:$H&'SUA Data'!$J:$J&'SUA Data'!$F:$F,'SUA Data'!$L:$L)","v":53411.81},"AE",{"$f":"_xlfn.XLOOKUP($A86&$C86&$D86&V$3,'SUA Data'!$D:$D&'SUA Data'!$H:$H&'SUA Data'!$J:$J&'SUA Data'!$F:$F,'SUA Data'!$L:$L)*'FFV Coefficients'!$AP$11","v":9.6111000000000004},"AE",9.6111000000000004,"AE"]
["Norway","Cucumbers","Cucumbers and gherkins",2022,{"$f":"_xlfn.XLOOKUP($A87&$C87&$D87&$E$3,'SUA Data'!$D:$D&'SUA Data'!$H:$H&'SUA Data'!$J:$J&'SUA Data'!$F:$F,'SUA Data'!$L:$L)*'FFV Coefficients'!$AP$11","v":19212.465},"AE",{"$f":"_xlfn.XLOOKUP($A87&$C87&$D87&G$3,'SUA Data'!$D:$D&'SUA Data'!$H:$H&'SUA Data'!$J:$J&'SUA Data'!$F:$F,'SUA Data'!$L:$L)*'FFV Coefficients'!$AP$11","v":5721.5869499999999},"AE",{"$f":"_xlfn.XLOOKUP($A87&$C87&$D87&I$3,'SUA Data'!$D:$D&'SUA Data'!$H:$H&'SUA Data'!$J:$J&'SUA Data'!$F:$F,'SUA Data'!$L:$L)*'FFV Coefficients'!$AP$11","v":4.4250000000000005E-2},"AE",0.7705312012073513,{"$f":"_xlfn.XLOOKUP($A87&$C87&$D87&\"Loss\",'SUA Data'!$D:$D&'SUA Data'!$H:$H&'SUA Data'!$J:$J&'SUA Data'!$F:$F,'SUA Data'!$L:$L)*'FFV Coefficients'!$AP$11","v":1373.54655},"AE","",{"$f":"IF(ISNUMBER(N87),N87,'FFV Coefficients'!$H$8)","v":0.21752795858822579},1373.54655,"AE",{"$f":"_xlfn.XLOOKUP($A87&$C87&$D87&R$3,'SUA Data'!$D:$D&'SUA Data'!$H:$H&'SUA Data'!$J:$J&'SUA Data'!$F:$F,'SUA Data'!$L:$L)*'FFV Coefficients'!$AP$11","v":0},{"$f":"_xlfn.XLOOKUP($A87&$C87&$D87&R$3,'SUA Data'!$D:$D&'SUA Data'!$H:$H&'SUA Data'!$J:$J&'SUA Data'!$F:$F,'SUA Data'!$M:$M)","v":"I"},{"$f":"_xlfn.XLOOKUP($A87&$C87&$D87&T$3,'SUA Data'!$D:$D&'SUA Data'!$H:$H&'SUA Data'!$J:$J&'SUA Data'!$F:$F,'SUA Data'!$L:$L)","v":{"$error":"#N/A"}},{"$f":"_xlfn.XLOOKUP($A87&$C87&$D87&T$3,'SUA Data'!$D:$D&'SUA Data'!$H:$H&'SUA Data'!$J:$J&'SUA Data'!$F:$F,'SUA Data'!$M:$M)","v":{"$error":"#N/A"}},{"$f":"_xlfn.XLOOKUP($A87&$C87&$D87&V$3,'SUA Data'!$D:$D&'SUA Data'!$H:$H&'SUA Data'!$J:$J&'SUA Data'!$F:$F,'SUA Data'!$L:$L)*'FFV Coefficients'!$AP$11","v":23560.47},"AE",18435.409057520865,"AE"]
["Poland","Cucumbers","Cucumbers and gherkins",2022,{"$f":"_xlfn.XLOOKUP($A88&$C88&$D88&$E$3,'SUA Data'!$D:$D&'SUA Data'!$H:$H&'SUA Data'!$J:$J&'SUA Data'!$F:$F,'SUA Data'!$L:$L)*'FFV Coefficients'!$AP$11","v":417897},"AE",{"$f":"_xlfn.XLOOKUP($A88&$C88&$D88&G$3,'SUA Data'!$D:$D&'SUA Data'!$H:$H&'SUA Data'!$J:$J&'SUA Data'!$F:$F,'SUA Data'!$L:$L)*'FFV Coefficients'!$AP$11","v":70300.231650000002},"AE",{"$f":"_xlfn.XLOOKUP($A88&$C88&$D88&I$3,'SUA Data'!$D:$D&'SUA Data'!$H:$H&'SUA Data'!$J:$J&'SUA Data'!$F:$F,'SUA Data'!$L:$L)*'FFV Coefficients'!$AP$11","v":17305.2546},"AE",0.85600034762097987,{"$f":"_xlfn.XLOOKUP($A88&$C88&$D88&\"Loss\",'SUA Data'!$D:$D&'SUA Data'!$H:$H&'SUA Data'!$J:$J&'SUA Data'!$F:$F,'SUA Data'!$L:$L)*'FFV Coefficients'!$AP$11","v":63355.256099999999},"AE",3.2449047066248973E-3,{"$f":"IF(ISNUMBER(N88),N88,'FFV Coefficients'!$H$8)","v":3.2449047066248973E-3},63149.674331291688,"AE",{"$f":"_xlfn.XLOOKUP($A88&$C88&$D88&R$3,'SUA Data'!$D:$D&'SUA Data'!$H:$H&'SUA Data'!$J:$J&'SUA Data'!$F:$F,'SUA Data'!$L:$L)*'FFV Coefficients'!$AP$11","v":0},{"$f":"_xlfn.XLOOKUP($A88&$C88&$D88&R$3,'SUA Data'!$D:$D&'SUA Data'!$H:$H&'SUA Data'!$J:$J&'SUA Data'!$F:$F,'SUA Data'!$M:$M)","v":"I"},{"$f":"_xlfn.XLOOKUP($A88&$C88&$D88&T$3,'SUA Data'!$D:$D&'SUA Data'!$H:$H&'SUA Data'!$J:$J&'SUA Data'!$F:$F,'SUA Data'!$L:$L)","v":1528.57},"AE",{"$f":"_xlfn.XLOOKUP($A88&$C88&$D88&V$3,'SUA Data'!$D:$D&'SUA Data'!$H:$H&'SUA Data'!$J:$J&'SUA Data'!$F:$F,'SUA Data'!$L:$L)*'FFV Coefficients'!$AP$11","v":406183.93650000001},"AE",406183.93650000001,"AE"]
["Portugal","Cucumbers","Cucumbers and gherkins",2022,{"$f":"_xlfn.XLOOKUP($A89&$C89&$D89&$E$3,'SUA Data'!$D:$D&'SUA Data'!$H:$H&'SUA Data'!$J:$J&'SUA Data'!$F:$F,'SUA Data'!$L:$L)*'FFV Coefficients'!$AP$11","v":11035.95},"AE",{"$f":"_xlfn.XLOOKUP($A89&$C89&$D89&G$3,'SUA Data'!$D:$D&'SUA Data'!$H:$H&'SUA Data'!$J:$J&'SUA Data'!$F:$F,'SUA Data'!$L:$L)*'FFV Coefficients'!$AP$11","v":6529.9017000000003},"AE",{"$f":"_xlfn.XLOOKUP($A89&$C89&$D89&I$3,'SUA Data'!$D:$D&'SUA Data'!$H:$H&'SUA Data'!$J:$J&'SUA Data'!$F:$F,'SUA Data'!$L:$L)*'FFV Coefficients'!$AP$11","v":1140.11895},"AE",0.628261594625668,{"$f":"_xlfn.XLOOKUP($A89&$C89&$D89&\"Loss\",'SUA Data'!$D:$D&'SUA Data'!$H:$H&'SUA Data'!$J:$J&'SUA Data'!$F:$F,'SUA Data'!$L:$L)*'FFV Coefficients'!$AP$11","v":1032.2020499999999},"AE","",{"$f":"IF(ISNUMBER(N89),N89,'FFV Coefficients'!$H$8)","v":0.21752795858822579},1032.2020499999999,"AE",{"$f":"_xlfn.XLOOKUP($A89&$C89&$D89&R$3,'SUA Data'!$D:$D&'SUA Data'!$H:$H&'SUA Data'!$J:$J&'SUA Data'!$F:$F,'SUA Data'!$L:$L)*'FFV Coefficients'!$AP$11","v":0},{"$f":"_xlfn.XLOOKUP($A89&$C89&$D89&R$3,'SUA Data'!$D:$D&'SUA Data'!$H:$H&'SUA Data'!$J:$J&'SUA Data'!$F:$F,'SUA Data'!$M:$M)","v":"I"},{"$f":"_xlfn.XLOOKUP($A89&$C89&$D89&T$3,'SUA Data'!$D:$D&'SUA Data'!$H:$H&'SUA Data'!$J:$J&'SUA Data'!$F:$F,'SUA Data'!$L:$L)","v":{"$error":"#N/A"}},{"$f":"_xlfn.XLOOKUP($A89&$C89&$D89&T$3,'SUA Data'!$D:$D&'SUA Data'!$H:$H&'SUA Data'!$J:$J&'SUA Data'!$F:$F,'SUA Data'!$M:$M)","v":{"$error":"#N/A"}},{"$f":"_xlfn.XLOOKUP($A89&$C89&$D89&V$3,'SUA Data'!$D:$D&'SUA Data'!$H:$H&'SUA Data'!$J:$J&'SUA Data'!$F:$F,'SUA Data'!$L:$L)*'FFV Coefficients'!$AP$11","v":15393.530699999999},"AE",12045.007391363817,"AE"]
["Romania","Cucumbers","Cucumbers and gherkins",2022,{"$f":"_xlfn.XLOOKUP($A90&$C90&$D90&$E$3,'SUA Data'!$D:$D&'SUA Data'!$H:$H&'SUA Data'!$J:$J&'SUA Data'!$F:$F,'SUA Data'!$L:$L)*'FFV Coefficients'!$AP$11","v":68879.55},"AE",{"$f":"_xlfn.XLOOKUP($A90&$C90&$D90&G$3,'SUA Data'!$D:$D&'SUA Data'!$H:$H&'SUA Data'!$J:$J&'SUA Data'!$F:$F,'SUA Data'!$L:$L)*'FFV Coefficients'!$AP$11","v":22996.6011},"AE",{"$f":"_xlfn.XLOOKUP($A90&$C90&$D90&I$3,'SUA Data'!$D:$D&'SUA Data'!$H:$H&'SUA Data'!$J:$J&'SUA Data'!$F:$F,'SUA Data'!$L:$L)*'FFV Coefficients'!$AP$11","v":35113.897199999999},"AE",0.74969999477916749,{"$f":"_xlfn.XLOOKUP($A90&$C90&$D90&\"Loss\",'SUA Data'!$D:$D&'SUA Data'!$H:$H&'SUA Data'!$J:$J&'SUA Data'!$F:$F,'SUA Data'!$L:$L)*'FFV Coefficients'!$AP$11","v":7452.2221500000005},"AE","",{"$f":"IF(ISNUMBER(N90),N90,'FFV Coefficients'!$H$8)","v":0.21752795858822579},7452.2221500000005,"AE",{"$f":"_xlfn.XLOOKUP($A90&$C90&$D90&R$3,'SUA Data'!$D:$D&'SUA Data'!$H:$H&'SUA Data'!$J:$J&'SUA Data'!$F:$F,'SUA Data'!$L:$L)*'FFV Coefficients'!$AP$11","v":0},{"$f":"_xlfn.XLOOKUP($A90&$C90&$D90&R$3,'SUA Data'!$D:$D&'SUA Data'!$H:$H&'SUA Data'!$J:$J&'SUA Data'!$F:$F,'SUA Data'!$M:$M)","v":"I"},{"$f":"_xlfn.XLOOKUP($A90&$C90&$D90&T$3,'SUA Data'!$D:$D&'SUA Data'!$H:$H&'SUA Data'!$J:$J&'SUA Data'!$F:$F,'SUA Data'!$L:$L)","v":{"$error":"#N/A"}},{"$f":"_xlfn.XLOOKUP($A90&$C90&$D90&T$3,'SUA Data'!$D:$D&'SUA Data'!$H:$H&'SUA Data'!$J:$J&'SUA Data'!$F:$F,'SUA Data'!$M:$M)","v":{"$error":"#N/A"}},{"$f":"_xlfn.XLOOKUP($A90&$C90&$D90&V$3,'SUA Data'!$D:$D&'SUA Data'!$H:$H&'SUA Data'!$J:$J&'SUA Data'!$F:$F,'SUA Data'!$L:$L)*'FFV Coefficients'!$AP$11","v":49310.022900000004},"AE",38583.714280624336,"AE"]
["Slovakia","Cucumbers","Cucumbers and gherkins",2022,{"$f":"_xlfn.XLOOKUP($A91&$C91&$D91&$E$3,'SUA Data'!$D:$D&'SUA Data'!$H:$H&'SUA Data'!$J:$J&'SUA Data'!$F:$F,'SUA Data'!$L:$L)*'FFV Coefficients'!$AP$11","v":3398.4},"AE",{"$f":"_xlfn.XLOOKUP($A91&$C91&$D91&G$3,'SUA Data'!$D:$D&'SUA Data'!$H:$H&'SUA Data'!$J:$J&'SUA Data'!$F:$F,'SUA Data'!$L:$L)*'FFV Coefficients'!$AP$11","v":14801.332949999998},"AE",{"$f":"_xlfn.XLOOKUP($A91&$C91&$D91&I$3,'SUA Data'!$D:$D&'SUA Data'!$H:$H&'SUA Data'!$J:$J&'SUA Data'!$F:$F,'SUA Data'!$L:$L)*'FFV Coefficients'!$AP$11","v":626.69505000000004},"AE",0.18672801459979668,{"$f":"_xlfn.XLOOKUP($A91&$C91&$D91&\"Loss\",'SUA Data'!$D:$D&'SUA Data'!$H:$H&'SUA Data'!$J:$J&'SUA Data'!$F:$F,'SUA Data'!$L:$L)*'FFV Coefficients'!$AP$11","v":307.44899999999996},"AE","",{"$f":"IF(ISNUMBER(N91),N91,'FFV Coefficients'!$H$8)","v":0.21752795858822579},307.44899999999996,"AE",{"$f":"_xlfn.XLOOKUP($A91&$C91&$D91&R$3,'SUA Data'!$D:$D&'SUA Data'!$H:$H&'SUA Data'!$J:$J&'SUA Data'!$F:$F,'SUA Data'!$L:$L)*'FFV Coefficients'!$AP$11","v":0},{"$f":"_xlfn.XLOOKUP($A91&$C91&$D91&R$3,'SUA Data'!$D:$D&'SUA Data'!$H:$H&'SUA Data'!$J:$J&'SUA Data'!$F:$F,'SUA Data'!$M:$M)","v":"I"},{"$f":"_xlfn.XLOOKUP($A91&$C91&$D91&T$3,'SUA Data'!$D:$D&'SUA Data'!$H:$H&'SUA Data'!$J:$J&'SUA Data'!$F:$F,'SUA Data'!$L:$L)","v":{"$error":"#N/A"}},{"$f":"_xlfn.XLOOKUP($A91&$C91&$D91&T$3,'SUA Data'!$D:$D&'SUA Data'!$H:$H&'SUA Data'!$J:$J&'SUA Data'!$F:$F,'SUA Data'!$M:$M)","v":{"$error":"#N/A"}},{"$f":"_xlfn.XLOOKUP($A91&$C91&$D91&V$3,'SUA Data'!$D:$D&'SUA Data'!$H:$H&'SUA Data'!$J:$J&'SUA Data'!$F:$F,'SUA Data'!$L:$L)*'FFV Coefficients'!$AP$11","v":17265.58005},"AE",13509.833667881903,"AE"]
["Slovenia","Cucumbers","Cucumbers and gherkins",2022,{"$f":"_xlfn.XLOOKUP($A92&$C92&$D92&$E$3,'SUA Data'!$D:$D&'SUA Data'!$H:$H&'SUA Data'!$J:$J&'SUA Data'!$F:$F,'SUA Data'!$L:$L)*'FFV Coefficients'!$AP$11","v":2327.5500000000002},"AE",{"$f":"_xlfn.XLOOKUP($A92&$C92&$D92&G$3,'SUA Data'!$D:$D&'SUA Data'!$H:$H&'SUA Data'!$J:$J&'SUA Data'!$F:$F,'SUA Data'!$L:$L)*'FFV Coefficients'!$AP$11","v":8723.6662500000002},"AE",{"$f":"_xlfn.XLOOKUP($A92&$C92&$D92&I$3,'SUA Data'!$D:$D&'SUA Data'!$H:$H&'SUA Data'!$J:$J&'SUA Data'!$F:$F,'SUA Data'!$L:$L)*'FFV Coefficients'!$AP$11","v":6161.8125},"AE",0.21061482712366614,{"$f":"_xlfn.XLOOKUP($A92&$C92&$D92&\"Loss\",'SUA Data'!$D:$D&'SUA Data'!$H:$H&'SUA Data'!$J:$J&'SUA Data'!$F:$F,'SUA Data'!$L:$L)*'FFV Coefficients'!$AP$11","v":1108.1439},"AE","",{"$f":"IF(ISNUMBER(N92),N92,'FFV Coefficients'!$H$8)","v":0.21752795858822579},1108.1439,"AE",{"$f":"_xlfn.XLOOKUP($A92&$C92&$D92&R$3,'SUA Data'!$D:$D&'SUA Data'!$H:$H&'SUA Data'!$J:$J&'SUA Data'!$F:$F,'SUA Data'!$L:$L)*'FFV Coefficients'!$AP$11","v":0},{"$f":"_xlfn.XLOOKUP($A92&$C92&$D92&R$3,'SUA Data'!$D:$D&'SUA Data'!$H:$H&'SUA Data'!$J:$J&'SUA Data'!$F:$F,'SUA Data'!$M:$M)","v":"I"},{"$f":"_xlfn.XLOOKUP($A92&$C92&$D92&T$3,'SUA Data'!$D:$D&'SUA Data'!$H:$H&'SUA Data'!$J:$J&'SUA Data'!$F:$F,'SUA Data'!$L:$L)","v":{"$error":"#N/A"}},{"$f":"_xlfn.XLOOKUP($A92&$C92&$D92&T$3,'SUA Data'!$D:$D&'SUA Data'!$H:$H&'SUA Data'!$J:$J&'SUA Data'!$F:$F,'SUA Data'!$M:$M)","v":{"$error":"#N/A"}},{"$f":"_xlfn.XLOOKUP($A92&$C92&$D92&V$3,'SUA Data'!$D:$D&'SUA Data'!$H:$H&'SUA Data'!$J:$J&'SUA Data'!$F:$F,'SUA Data'!$L:$L)*'FFV Coefficients'!$AP$11","v":3781.2598499999999},"AE",2958.7301139378787,"AE"]
["Spain","Cucumbers","Cucumbers and gherkins",2022,{"$f":"_xlfn.XLOOKUP($A93&$C93&$D93&$E$3,'SUA Data'!$D:$D&'SUA Data'!$H:$H&'SUA Data'!$J:$J&'SUA Data'!$F:$F,'SUA Data'!$L:$L)*'FFV Coefficients'!$AP$11","v":681423.45},"AE",{"$f":"_xlfn.XLOOKUP($A93&$C93&$D93&G$3,'SUA Data'!$D:$D&'SUA Data'!$H:$H&'SUA Data'!$J:$J&'SUA Data'!$F:$F,'SUA Data'!$L:$L)*'FFV Coefficients'!$AP$11","v":12183.02505},"AE",{"$f":"_xlfn.XLOOKUP($A93&$C93&$D93&I$3,'SUA Data'!$D:$D&'SUA Data'!$H:$H&'SUA Data'!$J:$J&'SUA Data'!$F:$F,'SUA Data'!$L:$L)*'FFV Coefficients'!$AP$11","v":617192.67224999995},"AE",0.98243524896574552,{"$f":"_xlfn.XLOOKUP($A93&$C93&$D93&\"Loss\",'SUA Data'!$D:$D&'SUA Data'!$H:$H&'SUA Data'!$J:$J&'SUA Data'!$F:$F,'SUA Data'!$L:$L)*'FFV Coefficients'!$AP$11","v":69360.644849999997},"AE","",{"$f":"IF(ISNUMBER(N93),N93,'FFV Coefficients'!$H$8)","v":0.21752795858822579},69360.644849999997,"AE",{"$f":"_xlfn.XLOOKUP($A93&$C93&$D93&R$3,'SUA Data'!$D:$D&'SUA Data'!$H:$H&'SUA Data'!$J:$J&'SUA Data'!$F:$F,'SUA Data'!$L:$L)*'FFV Coefficients'!$AP$11","v":0},{"$f":"_xlfn.XLOOKUP($A93&$C93&$D93&R$3,'SUA Data'!$D:$D&'SUA Data'!$H:$H&'SUA Data'!$J:$J&'SUA Data'!$F:$F,'SUA Data'!$M:$M)","v":"I"},{"$f":"_xlfn.XLOOKUP($A93&$C93&$D93&T$3,'SUA Data'!$D:$D&'SUA Data'!$H:$H&'SUA Data'!$J:$J&'SUA Data'!$F:$F,'SUA Data'!$L:$L)","v":{"$error":"#N/A"}},{"$f":"_xlfn.XLOOKUP($A93&$C93&$D93&T$3,'SUA Data'!$D:$D&'SUA Data'!$H:$H&'SUA Data'!$J:$J&'SUA Data'!$F:$F,'SUA Data'!$M:$M)","v":{"$error":"#N/A"}},{"$f":"_xlfn.XLOOKUP($A93&$C93&$D93&V$3,'SUA Data'!$D:$D&'SUA Data'!$H:$H&'SUA Data'!$J:$J&'SUA Data'!$F:$F,'SUA Data'!$L:$L)*'FFV Coefficients'!$AP$11","v":7053.1579499999998},"AE",5518.8988995361842,"AE"]
["Sweden","Cucumbers","Cucumbers and gherkins",2022,{"$f":"_xlfn.XLOOKUP($A94&$C94&$D94&$E$3,'SUA Data'!$D:$D&'SUA Data'!$H:$H&'SUA Data'!$J:$J&'SUA Data'!$F:$F,'SUA Data'!$L:$L)*'FFV Coefficients'!$AP$11","v":32674.2},"AE",{"$f":"_xlfn.XLOOKUP($A94&$C94&$D94&G$3,'SUA Data'!$D:$D&'SUA Data'!$H:$H&'SUA Data'!$J:$J&'SUA Data'!$F:$F,'SUA Data'!$L:$L)*'FFV Coefficients'!$AP$11","v":31570.551900000002},"AE",{"$f":"_xlfn.XLOOKUP($A94&$C94&$D94&I$3,'SUA Data'!$D:$D&'SUA Data'!$H:$H&'SUA Data'!$J:$J&'SUA Data'!$F:$F,'SUA Data'!$L:$L)*'FFV Coefficients'!$AP$11","v":105.34155},"AE",0.50858940277112341,{"$f":"_xlfn.XLOOKUP($A94&$C94&$D94&\"Loss\",'SUA Data'!$D:$D&'SUA Data'!$H:$H&'SUA Data'!$J:$J&'SUA Data'!$F:$F,'SUA Data'!$L:$L)*'FFV Coefficients'!$AP$11","v":9636.7119000000002},"AE","",{"$f":"IF(ISNUMBER(N94),N94,'FFV Coefficients'!$H$8)","v":0.21752795858822579},9636.7119000000002,"AE",{"$f":"_xlfn.XLOOKUP($A94&$C94&$D94&R$3,'SUA Data'!$D:$D&'SUA Data'!$H:$H&'SUA Data'!$J:$J&'SUA Data'!$F:$F,'SUA Data'!$L:$L)*'FFV Coefficients'!$AP$11","v":0},{"$f":"_xlfn.XLOOKUP($A94&$C94&$D94&R$3,'SUA Data'!$D:$D&'SUA Data'!$H:$H&'SUA Data'!$J:$J&'SUA Data'!$F:$F,'SUA Data'!$M:$M)","v":"I"},{"$f":"_xlfn.XLOOKUP($A94&$C94&$D94&T$3,'SUA Data'!$D:$D&'SUA Data'!$H:$H&'SUA Data'!$J:$J&'SUA Data'!$F:$F,'SUA Data'!$L:$L)","v":{"$error":"#N/A"}},{"$f":"_xlfn.XLOOKUP($A94&$C94&$D94&T$3,'SUA Data'!$D:$D&'SUA Data'!$H:$H&'SUA Data'!$J:$J&'SUA Data'!$F:$F,'SUA Data'!$M:$M)","v":{"$error":"#N/A"}},{"$f":"_xlfn.XLOOKUP($A94&$C94&$D94&V$3,'SUA Data'!$D:$D&'SUA Data'!$H:$H&'SUA Data'!$J:$J&'SUA Data'!$F:$F,'SUA Data'!$L:$L)*'FFV Coefficients'!$AP$11","v":54502.698450000004},"AE",42646.837718621842,"AE"]
["Switzerland","Cucumbers","Cucumbers and gherkins",2022,{"$f":"_xlfn.XLOOKUP($A95&$C95&$D95&$E$3,'SUA Data'!$D:$D&'SUA Data'!$H:$H&'SUA Data'!$J:$J&'SUA Data'!$F:$F,'SUA Data'!$L:$L)*'FFV Coefficients'!$AP$11","v":14219.295},"AE",{"$f":"_xlfn.XLOOKUP($A95&$C95&$D95&G$3,'SUA Data'!$D:$D&'SUA Data'!$H:$H&'SUA Data'!$J:$J&'SUA Data'!$F:$F,'SUA Data'!$L:$L)*'FFV Coefficients'!$AP$11","v":19204.181400000001},"AE",{"$f":"_xlfn.XLOOKUP($A95&$C95&$D95&I$3,'SUA Data'!$D:$D&'SUA Data'!$H:$H&'SUA Data'!$J:$J&'SUA Data'!$F:$F,'SUA Data'!$L:$L)*'FFV Coefficients'!$AP$11","v":17.885850000000001},"AE",0.42542836746927976,{"$f":"_xlfn.XLOOKUP($A95&$C95&$D95&\"Loss\",'SUA Data'!$D:$D&'SUA Data'!$H:$H&'SUA Data'!$J:$J&'SUA Data'!$F:$F,'SUA Data'!$L:$L)*'FFV Coefficients'!$AP$11","v":1363.1212499999999},"AE","",{"$f":"IF(ISNUMBER(N95),N95,'FFV Coefficients'!$H$8)","v":0.21752795858822579},1363.1212499999999,"AE",{"$f":"_xlfn.XLOOKUP($A95&$C95&$D95&R$3,'SUA Data'!$D:$D&'SUA Data'!$H:$H&'SUA Data'!$J:$J&'SUA Data'!$F:$F,'SUA Data'!$L:$L)*'FFV Coefficients'!$AP$11","v":0},{"$f":"_xlfn.XLOOKUP($A95&$C95&$D95&R$3,'SUA Data'!$D:$D&'SUA Data'!$H:$H&'SUA Data'!$J:$J&'SUA Data'!$F:$F,'SUA Data'!$M:$M)","v":"I"},{"$f":"_xlfn.XLOOKUP($A95&$C95&$D95&T$3,'SUA Data'!$D:$D&'SUA Data'!$H:$H&'SUA Data'!$J:$J&'SUA Data'!$F:$F,'SUA Data'!$L:$L)","v":{"$error":"#N/A"}},{"$f":"_xlfn.XLOOKUP($A95&$C95&$D95&T$3,'SUA Data'!$D:$D&'SUA Data'!$H:$H&'SUA Data'!$J:$J&'SUA Data'!$F:$F,'SUA Data'!$M:$M)","v":{"$error":"#N/A"}},{"$f":"_xlfn.XLOOKUP($A95&$C95&$D95&V$3,'SUA Data'!$D:$D&'SUA Data'!$H:$H&'SUA Data'!$J:$J&'SUA Data'!$F:$F,'SUA Data'!$L:$L)*'FFV Coefficients'!$AP$11","v":32042.469300000001},"AE",25072.336365045103,"AE"]
["United Kingdom","Cucumbers","Cucumbers and gherkins",2022,{"$f":"_xlfn.XLOOKUP($A96&$C96&$D96&$E$3,'SUA Data'!$D:$D&'SUA Data'!$H:$H&'SUA Data'!$J:$J&'SUA Data'!$F:$F,'SUA Data'!$L:$L)*'FFV Coefficients'!$AP$11","v":39825},"AE",{"$f":"_xlfn.XLOOKUP($A96&$C96&$D96&G$3,'SUA Data'!$D:$D&'SUA Data'!$H:$H&'SUA Data'!$J:$J&'SUA Data'!$F:$F,'SUA Data'!$L:$L)*'FFV Coefficients'!$AP$11","v":178188.70545000001},"AE",{"$f":"_xlfn.XLOOKUP($A96&$C96&$D96&I$3,'SUA Data'!$D:$D&'SUA Data'!$H:$H&'SUA Data'!$J:$J&'SUA Data'!$F:$F,'SUA Data'!$L:$L)*'FFV Coefficients'!$AP$11","v":411.57810000000001},"AE",0.18267200182574575,{"$f":"_xlfn.XLOOKUP($A96&$C96&$D96&\"Loss\",'SUA Data'!$D:$D&'SUA Data'!$H:$H&'SUA Data'!$J:$J&'SUA Data'!$F:$F,'SUA Data'!$L:$L)*'FFV Coefficients'!$AP$11","v":3124.4571000000001},"AE","",{"$f":"IF(ISNUMBER(N96),N96,'FFV Coefficients'!$H$8)","v":0.21752795858822579},3124.4571000000001,"AE",{"$f":"_xlfn.XLOOKUP($A96&$C96&$D96&R$3,'SUA Data'!$D:$D&'SUA Data'!$H:$H&'SUA Data'!$J:$J&'SUA Data'!$F:$F,'SUA Data'!$L:$L)*'FFV Coefficients'!$AP$11","v":0},{"$f":"_xlfn.XLOOKUP($A96&$C96&$D96&R$3,'SUA Data'!$D:$D&'SUA Data'!$H:$H&'SUA Data'!$J:$J&'SUA Data'!$F:$F,'SUA Data'!$M:$M)","v":"I"},{"$f":"_xlfn.XLOOKUP($A96&$C96&$D96&T$3,'SUA Data'!$D:$D&'SUA Data'!$H:$H&'SUA Data'!$J:$J&'SUA Data'!$F:$F,'SUA Data'!$L:$L)","v":{"$error":"#N/A"}},{"$f":"_xlfn.XLOOKUP($A96&$C96&$D96&T$3,'SUA Data'!$D:$D&'SUA Data'!$H:$H&'SUA Data'!$J:$J&'SUA Data'!$F:$F,'SUA Data'!$M:$M)","v":{"$error":"#N/A"}},{"$f":"_xlfn.XLOOKUP($A96&$C96&$D96&V$3,'SUA Data'!$D:$D&'SUA Data'!$H:$H&'SUA Data'!$J:$J&'SUA Data'!$F:$F,'SUA Data'!$L:$L)*'FFV Coefficients'!$AP$11","v":214477.67025},"AE",167822.78047775885,"AE"]
["Austria","Eggplants","Eggplants (aubergines)",2022,{"$f":"_xlfn.XLOOKUP($A97&$C97&$D97&$E$3,'SUA Data'!$D:$D&'SUA Data'!$H:$H&'SUA Data'!$J:$J&'SUA Data'!$F:$F,'SUA Data'!$L:$L)","v":1770},{"$f":"_xlfn.XLOOKUP($A97&$C97&$D97&$E$3,'SUA Data'!$D:$D&'SUA Data'!$H:$H&'SUA Data'!$J:$J&'SUA Data'!$F:$F,'SUA Data'!$M:$M)","v":"A"},{"$f":"_xlfn.XLOOKUP($A97&$C97&$D97&G$3,'SUA Data'!$D:$D&'SUA Data'!$H:$H&'SUA Data'!$J:$J&'SUA Data'!$F:$F,'SUA Data'!$L:$L)","v":7824.06},{"$f":"_xlfn.XLOOKUP($A97&$C97&$D97&G$3,'SUA Data'!$D:$D&'SUA Data'!$H:$H&'SUA Data'!$J:$J&'SUA Data'!$F:$F,'SUA Data'!$M:$M)","v":"A"},{"$f":"_xlfn.XLOOKUP($A97&$C97&$D97&I$3,'SUA Data'!$D:$D&'SUA Data'!$H:$H&'SUA Data'!$J:$J&'SUA Data'!$F:$F,'SUA Data'!$L:$L)","v":4571.95},{"$f":"_xlfn.XLOOKUP($A97&$C97&$D97&I$3,'SUA Data'!$D:$D&'SUA Data'!$H:$H&'SUA Data'!$J:$J&'SUA Data'!$F:$F,'SUA Data'!$M:$M)","v":"A"},0.18448915266321034,{"$f":"_xlfn.XLOOKUP($A97&$C97&$D97&\"Loss\",'SUA Data'!$D:$D&'SUA Data'!$H:$H&'SUA Data'!$J:$J&'SUA Data'!$F:$F,'SUA Data'!$L:$L)","v":959.41},{"$f":"_xlfn.XLOOKUP($A97&$C97&$D97&\"Loss\",'SUA Data'!$D:$D&'SUA Data'!$H:$H&'SUA Data'!$J:$J&'SUA Data'!$F:$F,'SUA Data'!$M:$M)","v":"I"},"",{"$f":"IF(ISNUMBER(N97),N97,'FFV Coefficients'!$H$9)","v":0.128},959.41,"I",{"$f":"_xlfn.XLOOKUP($A97&$C97&$D97&R$3,'SUA Data'!$D:$D&'SUA Data'!$H:$H&'SUA Data'!$J:$J&'SUA Data'!$F:$F,'SUA Data'!$L:$L)","v":0},{"$f":"_xlfn.XLOOKUP($A97&$C97&$D97&R$3,'SUA Data'!$D:$D&'SUA Data'!$H:$H&'SUA Data'!$J:$J&'SUA Data'!$F:$F,'SUA Data'!$M:$M)","v":"I"},{"$f":"_xlfn.XLOOKUP($A97&$C97&$D97&T$3,'SUA Data'!$D:$D&'SUA Data'!$H:$H&'SUA Data'!$J:$J&'SUA Data'!$F:$F,'SUA Data'!$L:$L)","v":{"$error":"#N/A"}},{"$f":"_xlfn.XLOOKUP($A97&$C97&$D97&T$3,'SUA Data'!$D:$D&'SUA Data'!$H:$H&'SUA Data'!$J:$J&'SUA Data'!$F:$F,'SUA Data'!$M:$M)","v":{"$error":"#N/A"}},{"$f":"_xlfn.XLOOKUP($A97&$C97&$D97&V$3,'SUA Data'!$D:$D&'SUA Data'!$H:$H&'SUA Data'!$J:$J&'SUA Data'!$F:$F,'SUA Data'!$L:$L)","v":4062.7},{"$f":"_xlfn.XLOOKUP($A97&$C97&$D97&V$3,'SUA Data'!$D:$D&'SUA Data'!$H:$H&'SUA Data'!$J:$J&'SUA Data'!$F:$F,'SUA Data'!$M:$M)","v":"E"},3542.6743999999999,"AE"]
["Belgium","Eggplants","Eggplants (aubergines)",2022,{"$f":"_xlfn.XLOOKUP($A98&$C98&$D98&$E$3,'SUA Data'!$D:$D&'SUA Data'!$H:$H&'SUA Data'!$J:$J&'SUA Data'!$F:$F,'SUA Data'!$L:$L)","v":13800},{"$f":"_xlfn.XLOOKUP($A98&$C98&$D98&$E$3,'SUA Data'!$D:$D&'SUA Data'!$H:$H&'SUA Data'!$J:$J&'SUA Data'!$F:$F,'SUA Data'!$M:$M)","v":"A"},{"$f":"_xlfn.XLOOKUP($A98&$C98&$D98&G$3,'SUA Data'!$D:$D&'SUA Data'!$H:$H&'SUA Data'!$J:$J&'SUA Data'!$F:$F,'SUA Data'!$L:$L)","v":9427.2900000000009},{"$f":"_xlfn.XLOOKUP($A98&$C98&$D98&G$3,'SUA Data'!$D:$D&'SUA Data'!$H:$H&'SUA Data'!$J:$J&'SUA Data'!$F:$F,'SUA Data'!$M:$M)","v":"A"},{"$f":"_xlfn.XLOOKUP($A98&$C98&$D98&I$3,'SUA Data'!$D:$D&'SUA Data'!$H:$H&'SUA Data'!$J:$J&'SUA Data'!$F:$F,'SUA Data'!$L:$L)","v":9855.51},{"$f":"_xlfn.XLOOKUP($A98&$C98&$D98&I$3,'SUA Data'!$D:$D&'SUA Data'!$H:$H&'SUA Data'!$J:$J&'SUA Data'!$F:$F,'SUA Data'!$M:$M)","v":"A"},0.59412871669488776,{"$f":"_xlfn.XLOOKUP($A98&$C98&$D98&\"Loss\",'SUA Data'!$D:$D&'SUA Data'!$H:$H&'SUA Data'!$J:$J&'SUA Data'!$F:$F,'SUA Data'!$L:$L)","v":910.17},{"$f":"_xlfn.XLOOKUP($A98&$C98&$D98&\"Loss\",'SUA Data'!$D:$D&'SUA Data'!$H:$H&'SUA Data'!$J:$J&'SUA Data'!$F:$F,'SUA Data'!$M:$M)","v":"I"},"",{"$f":"IF(ISNUMBER(N98),N98,'FFV Coefficients'!$H$9)","v":0.128},910.17,"I",{"$f":"_xlfn.XLOOKUP($A98&$C98&$D98&R$3,'SUA Data'!$D:$D&'SUA Data'!$H:$H&'SUA Data'!$J:$J&'SUA Data'!$F:$F,'SUA Data'!$L:$L)","v":0},{"$f":"_xlfn.XLOOKUP($A98&$C98&$D98&R$3,'SUA Data'!$D:$D&'SUA Data'!$H:$H&'SUA Data'!$J:$J&'SUA Data'!$F:$F,'SUA Data'!$M:$M)","v":"I"},{"$f":"_xlfn.XLOOKUP($A98&$C98&$D98&T$3,'SUA Data'!$D:$D&'SUA Data'!$H:$H&'SUA Data'!$J:$J&'SUA Data'!$F:$F,'SUA Data'!$L:$L)","v":{"$error":"#N/A"}},{"$f":"_xlfn.XLOOKUP($A98&$C98&$D98&T$3,'SUA Data'!$D:$D&'SUA Data'!$H:$H&'SUA Data'!$J:$J&'SUA Data'!$F:$F,'SUA Data'!$M:$M)","v":{"$error":"#N/A"}},{"$f":"_xlfn.XLOOKUP($A98&$C98&$D98&V$3,'SUA Data'!$D:$D&'SUA Data'!$H:$H&'SUA Data'!$J:$J&'SUA Data'!$F:$F,'SUA Data'!$L:$L)","v":12461.6},{"$f":"_xlfn.XLOOKUP($A98&$C98&$D98&V$3,'SUA Data'!$D:$D&'SUA Data'!$H:$H&'SUA Data'!$J:$J&'SUA Data'!$F:$F,'SUA Data'!$M:$M)","v":"E"},10866.5152,"AE"]
["Bulgaria","Eggplants","Eggplants (aubergines)",2022,{"$f":"_xlfn.XLOOKUP($A99&$C99&$D99&$E$3,'SUA Data'!$D:$D&'SUA Data'!$H:$H&'SUA Data'!$J:$J&'SUA Data'!$F:$F,'SUA Data'!$L:$L)","v":9690},{"$f":"_xlfn.XLOOKUP($A99&$C99&$D99&$E$3,'SUA Data'!$D:$D&'SUA Data'!$H:$H&'SUA Data'!$J:$J&'SUA Data'!$F:$F,'SUA Data'!$M:$M)","v":"A"},{"$f":"_xlfn.XLOOKUP($A99&$C99&$D99&G$3,'SUA Data'!$D:$D&'SUA Data'!$H:$H&'SUA Data'!$J:$J&'SUA Data'!$F:$F,'SUA Data'!$L:$L)","v":3844.2},{"$f":"_xlfn.XLOOKUP($A99&$C99&$D99&G$3,'SUA Data'!$D:$D&'SUA Data'!$H:$H&'SUA Data'!$J:$J&'SUA Data'!$F:$F,'SUA Data'!$M:$M)","v":"A"},{"$f":"_xlfn.XLOOKUP($A99&$C99&$D99&I$3,'SUA Data'!$D:$D&'SUA Data'!$H:$H&'SUA Data'!$J:$J&'SUA Data'!$F:$F,'SUA Data'!$L:$L)","v":320.51},{"$f":"_xlfn.XLOOKUP($A99&$C99&$D99&I$3,'SUA Data'!$D:$D&'SUA Data'!$H:$H&'SUA Data'!$J:$J&'SUA Data'!$F:$F,'SUA Data'!$M:$M)","v":"A"},0.71596400230527102,{"$f":"_xlfn.XLOOKUP($A99&$C99&$D99&\"Loss\",'SUA Data'!$D:$D&'SUA Data'!$H:$H&'SUA Data'!$J:$J&'SUA Data'!$F:$F,'SUA Data'!$L:$L)","v":862.87},{"$f":"_xlfn.XLOOKUP($A99&$C99&$D99&\"Loss\",'SUA Data'!$D:$D&'SUA Data'!$H:$H&'SUA Data'!$J:$J&'SUA Data'!$F:$F,'SUA Data'!$M:$M)","v":"I"},"",{"$f":"IF(ISNUMBER(N99),N99,'FFV Coefficients'!$H$9)","v":0.128},862.87,"I",{"$f":"_xlfn.XLOOKUP($A99&$C99&$D99&R$3,'SUA Data'!$D:$D&'SUA Data'!$H:$H&'SUA Data'!$J:$J&'SUA Data'!$F:$F,'SUA Data'!$L:$L)","v":0},{"$f":"_xlfn.XLOOKUP($A99&$C99&$D99&R$3,'SUA Data'!$D:$D&'SUA Data'!$H:$H&'SUA Data'!$J:$J&'SUA Data'!$F:$F,'SUA Data'!$M:$M)","v":"I"},{"$f":"_xlfn.XLOOKUP($A99&$C99&$D99&T$3,'SUA Data'!$D:$D&'SUA Data'!$H:$H&'SUA Data'!$J:$J&'SUA Data'!$F:$F,'SUA Data'!$L:$L)","v":{"$error":"#N/A"}},{"$f":"_xlfn.XLOOKUP($A99&$C99&$D99&T$3,'SUA Data'!$D:$D&'SUA Data'!$H:$H&'SUA Data'!$J:$J&'SUA Data'!$F:$F,'SUA Data'!$M:$M)","v":{"$error":"#N/A"}},{"$f":"_xlfn.XLOOKUP($A99&$C99&$D99&V$3,'SUA Data'!$D:$D&'SUA Data'!$H:$H&'SUA Data'!$J:$J&'SUA Data'!$F:$F,'SUA Data'!$L:$L)","v":12350.82},{"$f":"_xlfn.XLOOKUP($A99&$C99&$D99&V$3,'SUA Data'!$D:$D&'SUA Data'!$H:$H&'SUA Data'!$J:$J&'SUA Data'!$F:$F,'SUA Data'!$M:$M)","v":"E"},10769.91504,"AE"]
["Croatia","Eggplants","Eggplants (aubergines)",2022,{"$f":"_xlfn.XLOOKUP($A100&$C100&$D100&$E$3,'SUA Data'!$D:$D&'SUA Data'!$H:$H&'SUA Data'!$J:$J&'SUA Data'!$F:$F,'SUA Data'!$L:$L)","v":1500},{"$f":"_xlfn.XLOOKUP($A100&$C100&$D100&$E$3,'SUA Data'!$D:$D&'SUA Data'!$H:$H&'SUA Data'!$J:$J&'SUA Data'!$F:$F,'SUA Data'!$M:$M)","v":"A"},{"$f":"_xlfn.XLOOKUP($A100&$C100&$D100&G$3,'SUA Data'!$D:$D&'SUA Data'!$H:$H&'SUA Data'!$J:$J&'SUA Data'!$F:$F,'SUA Data'!$L:$L)","v":1472.81},{"$f":"_xlfn.XLOOKUP($A100&$C100&$D100&G$3,'SUA Data'!$D:$D&'SUA Data'!$H:$H&'SUA Data'!$J:$J&'SUA Data'!$F:$F,'SUA Data'!$M:$M)","v":"A"},{"$f":"_xlfn.XLOOKUP($A100&$C100&$D100&I$3,'SUA Data'!$D:$D&'SUA Data'!$H:$H&'SUA Data'!$J:$J&'SUA Data'!$F:$F,'SUA Data'!$L:$L)","v":60.88},{"$f":"_xlfn.XLOOKUP($A100&$C100&$D100&I$3,'SUA Data'!$D:$D&'SUA Data'!$H:$H&'SUA Data'!$J:$J&'SUA Data'!$F:$F,'SUA Data'!$M:$M)","v":"A"},0.50457311432617624,{"$f":"_xlfn.XLOOKUP($A100&$C100&$D100&\"Loss\",'SUA Data'!$D:$D&'SUA Data'!$H:$H&'SUA Data'!$J:$J&'SUA Data'!$F:$F,'SUA Data'!$L:$L)","v":{"$error":"#N/A"}},{"$f":"_xlfn.XLOOKUP($A100&$C100&$D100&\"Loss\",'SUA Data'!$D:$D&'SUA Data'!$H:$H&'SUA Data'!$J:$J&'SUA Data'!$F:$F,'SUA Data'!$M:$M)","v":{"$error":"#N/A"}},{"$f":"IF(ISNUMBER(T100),T100/(T100+V100+L100),\"\")","v":""},{"$f":"IF(ISNUMBER(N100),N100,'FFV Coefficients'!$H$9)","v":0.128},{"$error":"#N/A"},{"$f":"IF(ISNUMBER(N100),\"AE\",M100)","v":{"$error":"#N/A"}},{"$f":"_xlfn.XLOOKUP($A100&$C100&$D100&R$3,'SUA Data'!$D:$D&'SUA Data'!$H:$H&'SUA Data'!$J:$J&'SUA Data'!$F:$F,'SUA Data'!$L:$L)","v":0},{"$f":"_xlfn.XLOOKUP($A100&$C100&$D100&R$3,'SUA Data'!$D:$D&'SUA Data'!$H:$H&'SUA Data'!$J:$J&'SUA Data'!$F:$F,'SUA Data'!$M:$M)","v":"I"},{"$f":"_xlfn.XLOOKUP($A100&$C100&$D100&T$3,'SUA Data'!$D:$D&'SUA Data'!$H:$H&'SUA Data'!$J:$J&'SUA Data'!$F:$F,'SUA Data'!$L:$L)","v":{"$error":"#N/A"}},{"$f":"_xlfn.XLOOKUP($A100&$C100&$D100&T$3,'SUA Data'!$D:$D&'SUA Data'!$H:$H&'SUA Data'!$J:$J&'SUA Data'!$F:$F,'SUA Data'!$M:$M)","v":{"$error":"#N/A"}},{"$f":"_xlfn.XLOOKUP($A100&$C100&$D100&V$3,'SUA Data'!$D:$D&'SUA Data'!$H:$H&'SUA Data'!$J:$J&'SUA Data'!$F:$F,'SUA Data'!$L:$L)","v":2911.93},{"$f":"_xlfn.XLOOKUP($A100&$C100&$D100&V$3,'SUA Data'!$D:$D&'SUA Data'!$H:$H&'SUA Data'!$J:$J&'SUA Data'!$F:$F,'SUA Data'!$M:$M)","v":"E"},2539.2029600000001,"AE"]
["Cyprus","Eggplants","Eggplants (aubergines)",2022,{"$f":"_xlfn.XLOOKUP($A101&$C101&$D101&$E$3,'SUA Data'!$D:$D&'SUA Data'!$H:$H&'SUA Data'!$J:$J&'SUA Data'!$F:$F,'SUA Data'!$L:$L)","v":1300},{"$f":"_xlfn.XLOOKUP($A101&$C101&$D101&$E$3,'SUA Data'!$D:$D&'SUA Data'!$H:$H&'SUA Data'!$J:$J&'SUA Data'!$F:$F,'SUA Data'!$M:$M)","v":"A"},{"$f":"_xlfn.XLOOKUP($A101&$C101&$D101&G$3,'SUA Data'!$D:$D&'SUA Data'!$H:$H&'SUA Data'!$J:$J&'SUA Data'!$F:$F,'SUA Data'!$L:$L)","v":58.04},{"$f":"_xlfn.XLOOKUP($A101&$C101&$D101&G$3,'SUA Data'!$D:$D&'SUA Data'!$H:$H&'SUA Data'!$J:$J&'SUA Data'!$F:$F,'SUA Data'!$M:$M)","v":"A"},{"$f":"_xlfn.XLOOKUP($A101&$C101&$D101&I$3,'SUA Data'!$D:$D&'SUA Data'!$H:$H&'SUA Data'!$J:$J&'SUA Data'!$F:$F,'SUA Data'!$L:$L)","v":{"$error":"#N/A"}},{"$f":"_xlfn.XLOOKUP($A101&$C101&$D101&I$3,'SUA Data'!$D:$D&'SUA Data'!$H:$H&'SUA Data'!$J:$J&'SUA Data'!$F:$F,'SUA Data'!$M:$M)","v":{"$error":"#N/A"}},0.95726193631999057,{"$f":"_xlfn.XLOOKUP($A101&$C101&$D101&\"Loss\",'SUA Data'!$D:$D&'SUA Data'!$H:$H&'SUA Data'!$J:$J&'SUA Data'!$F:$F,'SUA Data'!$L:$L)","v":112.4},{"$f":"_xlfn.XLOOKUP($A101&$C101&$D101&\"Loss\",'SUA Data'!$D:$D&'SUA Data'!$H:$H&'SUA Data'!$J:$J&'SUA Data'!$F:$F,'SUA Data'!$M:$M)","v":"I"},{"$f":"IF(ISNUMBER(T101),T101/(T101+V101+L101),\"\")","v":""},{"$f":"IF(ISNUMBER(N101),N101,'FFV Coefficients'!$H$9)","v":0.128},112.4,"I",{"$f":"_xlfn.XLOOKUP($A101&$C101&$D101&R$3,'SUA Data'!$D:$D&'SUA Data'!$H:$H&'SUA Data'!$J:$J&'SUA Data'!$F:$F,'SUA Data'!$L:$L)","v":0},{"$f":"_xlfn.XLOOKUP($A101&$C101&$D101&R$3,'SUA Data'!$D:$D&'SUA Data'!$H:$H&'SUA Data'!$J:$J&'SUA Data'!$F:$F,'SUA Data'!$M:$M)","v":"I"},{"$f":"_xlfn.XLOOKUP($A101&$C101&$D101&T$3,'SUA Data'!$D:$D&'SUA Data'!$H:$H&'SUA Data'!$J:$J&'SUA Data'!$F:$F,'SUA Data'!$L:$L)","v":{"$error":"#N/A"}},{"$f":"_xlfn.XLOOKUP($A101&$C101&$D101&T$3,'SUA Data'!$D:$D&'SUA Data'!$H:$H&'SUA Data'!$J:$J&'SUA Data'!$F:$F,'SUA Data'!$M:$M)","v":{"$error":"#N/A"}},{"$f":"_xlfn.XLOOKUP($A101&$C101&$D101&V$3,'SUA Data'!$D:$D&'SUA Data'!$H:$H&'SUA Data'!$J:$J&'SUA Data'!$F:$F,'SUA Data'!$L:$L)","v":1188.8800000000001},{"$f":"_xlfn.XLOOKUP($A101&$C101&$D101&V$3,'SUA Data'!$D:$D&'SUA Data'!$H:$H&'SUA Data'!$J:$J&'SUA Data'!$F:$F,'SUA Data'!$M:$M)","v":"E"},1036.7033600000002,"AE"]
["Czechia","Eggplants","Eggplants (aubergines)",2022,{"$f":"_xlfn.XLOOKUP($A102&$C102&$D102&$E$3,'SUA Data'!$D:$D&'SUA Data'!$H:$H&'SUA Data'!$J:$J&'SUA Data'!$F:$F,'SUA Data'!$L:$L)","v":{"$error":"#N/A"}},{"$f":"_xlfn.XLOOKUP($A102&$C102&$D102&$E$3,'SUA Data'!$D:$D&'SUA Data'!$H:$H&'SUA Data'!$J:$J&'SUA Data'!$F:$F,'SUA Data'!$M:$M)","v":{"$error":"#N/A"}},{"$f":"_xlfn.XLOOKUP($A102&$C102&$D102&G$3,'SUA Data'!$D:$D&'SUA Data'!$H:$H&'SUA Data'!$J:$J&'SUA Data'!$F:$F,'SUA Data'!$L:$L)","v":2358.4499999999998},{"$f":"_xlfn.XLOOKUP($A102&$C102&$D102&G$3,'SUA Data'!$D:$D&'SUA Data'!$H:$H&'SUA Data'!$J:$J&'SUA Data'!$F:$F,'SUA Data'!$M:$M)","v":"A"},{"$f":"_xlfn.XLOOKUP($A102&$C102&$D102&I$3,'SUA Data'!$D:$D&'SUA Data'!$H:$H&'SUA Data'!$J:$J&'SUA Data'!$F:$F,'SUA Data'!$L:$L)","v":251.64},{"$f":"_xlfn.XLOOKUP($A102&$C102&$D102&I$3,'SUA Data'!$D:$D&'SUA Data'!$H:$H&'SUA Data'!$J:$J&'SUA Data'!$F:$F,'SUA Data'!$M:$M)","v":"A"},0,{"$f":"_xlfn.XLOOKUP($A102&$C102&$D102&\"Loss\",'SUA Data'!$D:$D&'SUA Data'!$H:$H&'SUA Data'!$J:$J&'SUA Data'!$F:$F,'SUA Data'!$L:$L)","v":{"$error":"#N/A"}},{"$f":"_xlfn.XLOOKUP($A102&$C102&$D102&\"Loss\",'SUA Data'!$D:$D&'SUA Data'!$H:$H&'SUA Data'!$J:$J&'SUA Data'!$F:$F,'SUA Data'!$M:$M)","v":{"$error":"#N/A"}},"",{"$f":"IF(ISNUMBER(N102),N102,'FFV Coefficients'!$H$9)","v":0.128},{"$error":"#N/A"},{"$error":"#N/A"},{"$f":"_xlfn.XLOOKUP($A102&$C102&$D102&R$3,'SUA Data'!$D:$D&'SUA Data'!$H:$H&'SUA Data'!$J:$J&'SUA Data'!$F:$F,'SUA Data'!$L:$L)","v":0},{"$f":"_xlfn.XLOOKUP($A102&$C102&$D102&R$3,'SUA Data'!$D:$D&'SUA Data'!$H:$H&'SUA Data'!$J:$J&'SUA Data'!$F:$F,'SUA Data'!$M:$M)","v":"I"},{"$f":"_xlfn.XLOOKUP($A102&$C102&$D102&T$3,'SUA Data'!$D:$D&'SUA Data'!$H:$H&'SUA Data'!$J:$J&'SUA Data'!$F:$F,'SUA Data'!$L:$L)","v":{"$error":"#N/A"}},{"$f":"_xlfn.XLOOKUP($A102&$C102&$D102&T$3,'SUA Data'!$D:$D&'SUA Data'!$H:$H&'SUA Data'!$J:$J&'SUA Data'!$F:$F,'SUA Data'!$M:$M)","v":{"$error":"#N/A"}},{"$f":"_xlfn.XLOOKUP($A102&$C102&$D102&V$3,'SUA Data'!$D:$D&'SUA Data'!$H:$H&'SUA Data'!$J:$J&'SUA Data'!$F:$F,'SUA Data'!$L:$L)","v":2106.8000000000002},{"$f":"_xlfn.XLOOKUP($A102&$C102&$D102&V$3,'SUA Data'!$D:$D&'SUA Data'!$H:$H&'SUA Data'!$J:$J&'SUA Data'!$F:$F,'SUA Data'!$M:$M)","v":"E"},1837.1296000000002,"AE"]
["Denmark","Eggplants","Eggplants (aubergines)",2022,{"$f":"_xlfn.XLOOKUP($A103&$C103&$D103&$E$3,'SUA Data'!$D:$D&'SUA Data'!$H:$H&'SUA Data'!$J:$J&'SUA Data'!$F:$F,'SUA Data'!$L:$L)","v":{"$error":"#N/A"}},{"$f":"_xlfn.XLOOKUP($A103&$C103&$D103&$E$3,'SUA Data'!$D:$D&'SUA Data'!$H:$H&'SUA Data'!$J:$J&'SUA Data'!$F:$F,'SUA Data'!$M:$M)","v":{"$error":"#N/A"}},{"$f":"_xlfn.XLOOKUP($A103&$C103&$D103&G$3,'SUA Data'!$D:$D&'SUA Data'!$H:$H&'SUA Data'!$J:$J&'SUA Data'!$F:$F,'SUA Data'!$L:$L)","v":4647.2700000000004},{"$f":"_xlfn.XLOOKUP($A103&$C103&$D103&G$3,'SUA Data'!$D:$D&'SUA Data'!$H:$H&'SUA Data'!$J:$J&'SUA Data'!$F:$F,'SUA Data'!$M:$M)","v":"A"},{"$f":"_xlfn.XLOOKUP($A103&$C103&$D103&I$3,'SUA Data'!$D:$D&'SUA Data'!$H:$H&'SUA Data'!$J:$J&'SUA Data'!$F:$F,'SUA Data'!$L:$L)","v":40.25},{"$f":"_xlfn.XLOOKUP($A103&$C103&$D103&I$3,'SUA Data'!$D:$D&'SUA Data'!$H:$H&'SUA Data'!$J:$J&'SUA Data'!$F:$F,'SUA Data'!$M:$M)","v":"A"},0,{"$f":"_xlfn.XLOOKUP($A103&$C103&$D103&\"Loss\",'SUA Data'!$D:$D&'SUA Data'!$H:$H&'SUA Data'!$J:$J&'SUA Data'!$F:$F,'SUA Data'!$L:$L)","v":139.41999999999999},{"$f":"_xlfn.XLOOKUP($A103&$C103&$D103&\"Loss\",'SUA Data'!$D:$D&'SUA Data'!$H:$H&'SUA Data'!$J:$J&'SUA Data'!$F:$F,'SUA Data'!$M:$M)","v":"I"},"",{"$f":"IF(ISNUMBER(N103),N103,'FFV Coefficients'!$H$9)","v":0.128},139.41999999999999,"I",{"$f":"_xlfn.XLOOKUP($A103&$C103&$D103&R$3,'SUA Data'!$D:$D&'SUA Data'!$H:$H&'SUA Data'!$J:$J&'SUA Data'!$F:$F,'SUA Data'!$L:$L)","v":0},{"$f":"_xlfn.XLOOKUP($A103&$C103&$D103&R$3,'SUA Data'!$D:$D&'SUA Data'!$H:$H&'SUA Data'!$J:$J&'SUA Data'!$F:$F,'SUA Data'!$M:$M)","v":"I"},{"$f":"_xlfn.XLOOKUP($A103&$C103&$D103&T$3,'SUA Data'!$D:$D&'SUA Data'!$H:$H&'SUA Data'!$J:$J&'SUA Data'!$F:$F,'SUA Data'!$L:$L)","v":{"$error":"#N/A"}},{"$f":"_xlfn.XLOOKUP($A103&$C103&$D103&T$3,'SUA Data'!$D:$D&'SUA Data'!$H:$H&'SUA Data'!$J:$J&'SUA Data'!$F:$F,'SUA Data'!$M:$M)","v":{"$error":"#N/A"}},{"$f":"_xlfn.XLOOKUP($A103&$C103&$D103&V$3,'SUA Data'!$D:$D&'SUA Data'!$H:$H&'SUA Data'!$J:$J&'SUA Data'!$F:$F,'SUA Data'!$L:$L)","v":4467.6099999999997},{"$f":"_xlfn.XLOOKUP($A103&$C103&$D103&V$3,'SUA Data'!$D:$D&'SUA Data'!$H:$H&'SUA Data'!$J:$J&'SUA Data'!$F:$F,'SUA Data'!$M:$M)","v":"E"},3895.7559199999996,"AE"]
["Estonia","Eggplants","Eggplants (aubergines)",2022,{"$f":"_xlfn.XLOOKUP($A104&$C104&$D104&$E$3,'SUA Data'!$D:$D&'SUA Data'!$H:$H&'SUA Data'!$J:$J&'SUA Data'!$F:$F,'SUA Data'!$L:$L)","v":0},{"$f":"_xlfn.XLOOKUP($A104&$C104&$D104&$E$3,'SUA Data'!$D:$D&'SUA Data'!$H:$H&'SUA Data'!$J:$J&'SUA Data'!$F:$F,'SUA Data'!$M:$M)","v":"A"},{"$f":"_xlfn.XLOOKUP($A104&$C104&$D104&G$3,'SUA Data'!$D:$D&'SUA Data'!$H:$H&'SUA Data'!$J:$J&'SUA Data'!$F:$F,'SUA Data'!$L:$L)","v":472.06},{"$f":"_xlfn.XLOOKUP($A104&$C104&$D104&G$3,'SUA Data'!$D:$D&'SUA Data'!$H:$H&'SUA Data'!$J:$J&'SUA Data'!$F:$F,'SUA Data'!$M:$M)","v":"A"},{"$f":"_xlfn.XLOOKUP($A104&$C104&$D104&I$3,'SUA Data'!$D:$D&'SUA Data'!$H:$H&'SUA Data'!$J:$J&'SUA Data'!$F:$F,'SUA Data'!$L:$L)","v":10.46},{"$f":"_xlfn.XLOOKUP($A104&$C104&$D104&I$3,'SUA Data'!$D:$D&'SUA Data'!$H:$H&'SUA Data'!$J:$J&'SUA Data'!$F:$F,'SUA Data'!$M:$M)","v":"A"},0,{"$f":"_xlfn.XLOOKUP($A104&$C104&$D104&\"Loss\",'SUA Data'!$D:$D&'SUA Data'!$H:$H&'SUA Data'!$J:$J&'SUA Data'!$F:$F,'SUA Data'!$L:$L)","v":{"$error":"#N/A"}},{"$f":"_xlfn.XLOOKUP($A104&$C104&$D104&\"Loss\",'SUA Data'!$D:$D&'SUA Data'!$H:$H&'SUA Data'!$J:$J&'SUA Data'!$F:$F,'SUA Data'!$M:$M)","v":{"$error":"#N/A"}},"",{"$f":"IF(ISNUMBER(N104),N104,'FFV Coefficients'!$H$9)","v":0.128},{"$error":"#N/A"},{"$error":"#N/A"},{"$f":"_xlfn.XLOOKUP($A104&$C104&$D104&R$3,'SUA Data'!$D:$D&'SUA Data'!$H:$H&'SUA Data'!$J:$J&'SUA Data'!$F:$F,'SUA Data'!$L:$L)","v":0},{"$f":"_xlfn.XLOOKUP($A104&$C104&$D104&R$3,'SUA Data'!$D:$D&'SUA Data'!$H:$H&'SUA Data'!$J:$J&'SUA Data'!$F:$F,'SUA Data'!$M:$M)","v":"I"},{"$f":"_xlfn.XLOOKUP($A104&$C104&$D104&T$3,'SUA Data'!$D:$D&'SUA Data'!$H:$H&'SUA Data'!$J:$J&'SUA Data'!$F:$F,'SUA Data'!$L:$L)","v":{"$error":"#N/A"}},{"$f":"_xlfn.XLOOKUP($A104&$C104&$D104&T$3,'SUA Data'!$D:$D&'SUA Data'!$H:$H&'SUA Data'!$J:$J&'SUA Data'!$F:$F,'SUA Data'!$M:$M)","v":{"$error":"#N/A"}},{"$f":"_xlfn.XLOOKUP($A104&$C104&$D104&V$3,'SUA Data'!$D:$D&'SUA Data'!$H:$H&'SUA Data'!$J:$J&'SUA Data'!$F:$F,'SUA Data'!$L:$L)","v":461.61},{"$f":"_xlfn.XLOOKUP($A104&$C104&$D104&V$3,'SUA Data'!$D:$D&'SUA Data'!$H:$H&'SUA Data'!$J:$J&'SUA Data'!$F:$F,'SUA Data'!$M:$M)","v":"E"},402.52392000000003,"AE"]
["Finland","Eggplants","Eggplants (aubergines)",2022,{"$f":"_xlfn.XLOOKUP($A105&$C105&$D105&$E$3,'SUA Data'!$D:$D&'SUA Data'!$H:$H&'SUA Data'!$J:$J&'SUA Data'!$F:$F,'SUA Data'!$L:$L)","v":0},{"$f":"_xlfn.XLOOKUP($A105&$C105&$D105&$E$3,'SUA Data'!$D:$D&'SUA Data'!$H:$H&'SUA Data'!$J:$J&'SUA Data'!$F:$F,'SUA Data'!$M:$M)","v":"A"},{"$f":"_xlfn.XLOOKUP($A105&$C105&$D105&G$3,'SUA Data'!$D:$D&'SUA Data'!$H:$H&'SUA Data'!$J:$J&'SUA Data'!$F:$F,'SUA Data'!$L:$L)","v":1576.34},{"$f":"_xlfn.XLOOKUP($A105&$C105&$D105&G$3,'SUA Data'!$D:$D&'SUA Data'!$H:$H&'SUA Data'!$J:$J&'SUA Data'!$F:$F,'SUA Data'!$M:$M)","v":"A"},{"$f":"_xlfn.XLOOKUP($A105&$C105&$D105&I$3,'SUA Data'!$D:$D&'SUA Data'!$H:$H&'SUA Data'!$J:$J&'SUA Data'!$F:$F,'SUA Data'!$L:$L)","v":2.65},{"$f":"_xlfn.XLOOKUP($A105&$C105&$D105&I$3,'SUA Data'!$D:$D&'SUA Data'!$H:$H&'SUA Data'!$J:$J&'SUA Data'!$F:$F,'SUA Data'!$M:$M)","v":"A"},0,{"$f":"_xlfn.XLOOKUP($A105&$C105&$D105&\"Loss\",'SUA Data'!$D:$D&'SUA Data'!$H:$H&'SUA Data'!$J:$J&'SUA Data'!$F:$F,'SUA Data'!$L:$L)","v":{"$error":"#N/A"}},{"$f":"_xlfn.XLOOKUP($A105&$C105&$D105&\"Loss\",'SUA Data'!$D:$D&'SUA Data'!$H:$H&'SUA Data'!$J:$J&'SUA Data'!$F:$F,'SUA Data'!$M:$M)","v":{"$error":"#N/A"}},"",{"$f":"IF(ISNUMBER(N105),N105,'FFV Coefficients'!$H$9)","v":0.128},{"$error":"#N/A"},{"$error":"#N/A"},{"$f":"_xlfn.XLOOKUP($A105&$C105&$D105&R$3,'SUA Data'!$D:$D&'SUA Data'!$H:$H&'SUA Data'!$J:$J&'SUA Data'!$F:$F,'SUA Data'!$L:$L)","v":0},{"$f":"_xlfn.XLOOKUP($A105&$C105&$D105&R$3,'SUA Data'!$D:$D&'SUA Data'!$H:$H&'SUA Data'!$J:$J&'SUA Data'!$F:$F,'SUA Data'!$M:$M)","v":"I"},{"$f":"_xlfn.XLOOKUP($A105&$C105&$D105&T$3,'SUA Data'!$D:$D&'SUA Data'!$H:$H&'SUA Data'!$J:$J&'SUA Data'!$F:$F,'SUA Data'!$L:$L)","v":{"$error":"#N/A"}},{"$f":"_xlfn.XLOOKUP($A105&$C105&$D105&T$3,'SUA Data'!$D:$D&'SUA Data'!$H:$H&'SUA Data'!$J:$J&'SUA Data'!$F:$F,'SUA Data'!$M:$M)","v":{"$error":"#N/A"}},{"$f":"_xlfn.XLOOKUP($A105&$C105&$D105&V$3,'SUA Data'!$D:$D&'SUA Data'!$H:$H&'SUA Data'!$J:$J&'SUA Data'!$F:$F,'SUA Data'!$L:$L)","v":1573.68},{"$f":"_xlfn.XLOOKUP($A105&$C105&$D105&V$3,'SUA Data'!$D:$D&'SUA Data'!$H:$H&'SUA Data'!$J:$J&'SUA Data'!$F:$F,'SUA Data'!$M:$M)","v":"E"},1372.2489600000001,"AE"]
["France","Eggplants","Eggplants (aubergines)",2022,{"$f":"_xlfn.XLOOKUP($A106&$C106&$D106&$E$3,'SUA Data'!$D:$D&'SUA Data'!$H:$H&'SUA Data'!$J:$J&'SUA Data'!$F:$F,'SUA Data'!$L:$L)","v":42480},{"$f":"_xlfn.XLOOKUP($A106&$C106&$D106&$E$3,'SUA Data'!$D:$D&'SUA Data'!$H:$H&'SUA Data'!$J:$J&'SUA Data'!$F:$F,'SUA Data'!$M:$M)","v":"A"},{"$f":"_xlfn.XLOOKUP($A106&$C106&$D106&G$3,'SUA Data'!$D:$D&'SUA Data'!$H:$H&'SUA Data'!$J:$J&'SUA Data'!$F:$F,'SUA Data'!$L:$L)","v":50213.3},{"$f":"_xlfn.XLOOKUP($A106&$C106&$D106&G$3,'SUA Data'!$D:$D&'SUA Data'!$H:$H&'SUA Data'!$J:$J&'SUA Data'!$F:$F,'SUA Data'!$M:$M)","v":"A"},{"$f":"_xlfn.XLOOKUP($A106&$C106&$D106&I$3,'SUA Data'!$D:$D&'SUA Data'!$H:$H&'SUA Data'!$J:$J&'SUA Data'!$F:$F,'SUA Data'!$L:$L)","v":7349.72},{"$f":"_xlfn.XLOOKUP($A106&$C106&$D106&I$3,'SUA Data'!$D:$D&'SUA Data'!$H:$H&'SUA Data'!$J:$J&'SUA Data'!$F:$F,'SUA Data'!$M:$M)","v":"A"},0.45828555030406726,{"$f":"_xlfn.XLOOKUP($A106&$C106&$D106&\"Loss\",'SUA Data'!$D:$D&'SUA Data'!$H:$H&'SUA Data'!$J:$J&'SUA Data'!$F:$F,'SUA Data'!$L:$L)","v":13903.99},{"$f":"_xlfn.XLOOKUP($A106&$C106&$D106&\"Loss\",'SUA Data'!$D:$D&'SUA Data'!$H:$H&'SUA Data'!$J:$J&'SUA Data'!$F:$F,'SUA Data'!$M:$M)","v":"I"},"",{"$f":"IF(ISNUMBER(N106),N106,'FFV Coefficients'!$H$9)","v":0.128},13903.99,"I",{"$f":"_xlfn.XLOOKUP($A106&$C106&$D106&R$3,'SUA Data'!$D:$D&'SUA Data'!$H:$H&'SUA Data'!$J:$J&'SUA Data'!$F:$F,'SUA Data'!$L:$L)","v":0},{"$f":"_xlfn.XLOOKUP($A106&$C106&$D106&R$3,'SUA Data'!$D:$D&'SUA Data'!$H:$H&'SUA Data'!$J:$J&'SUA Data'!$F:$F,'SUA Data'!$M:$M)","v":"I"},{"$f":"_xlfn.XLOOKUP($A106&$C106&$D106&T$3,'SUA Data'!$D:$D&'SUA Data'!$H:$H&'SUA Data'!$J:$J&'SUA Data'!$F:$F,'SUA Data'!$L:$L)","v":{"$error":"#N/A"}},{"$f":"_xlfn.XLOOKUP($A106&$C106&$D106&T$3,'SUA Data'!$D:$D&'SUA Data'!$H:$H&'SUA Data'!$J:$J&'SUA Data'!$F:$F,'SUA Data'!$M:$M)","v":{"$error":"#N/A"}},{"$f":"_xlfn.XLOOKUP($A106&$C106&$D106&V$3,'SUA Data'!$D:$D&'SUA Data'!$H:$H&'SUA Data'!$J:$J&'SUA Data'!$F:$F,'SUA Data'!$L:$L)","v":71439.58},{"$f":"_xlfn.XLOOKUP($A106&$C106&$D106&V$3,'SUA Data'!$D:$D&'SUA Data'!$H:$H&'SUA Data'!$J:$J&'SUA Data'!$F:$F,'SUA Data'!$M:$M)","v":"E"},62295.313760000005,"AE"]
["Germany","Eggplants","Eggplants (aubergines)",2022,{"$f":"_xlfn.XLOOKUP($A107&$C107&$D107&$E$3,'SUA Data'!$D:$D&'SUA Data'!$H:$H&'SUA Data'!$J:$J&'SUA Data'!$F:$F,'SUA Data'!$L:$L)","v":{"$error":"#N/A"}},{"$f":"_xlfn.XLOOKUP($A107&$C107&$D107&$E$3,'SUA Data'!$D:$D&'SUA Data'!$H:$H&'SUA Data'!$J:$J&'SUA Data'!$F:$F,'SUA Data'!$M:$M)","v":{"$error":"#N/A"}},{"$f":"_xlfn.XLOOKUP($A107&$C107&$D107&G$3,'SUA Data'!$D:$D&'SUA Data'!$H:$H&'SUA Data'!$J:$J&'SUA Data'!$F:$F,'SUA Data'!$L:$L)","v":53382.63},{"$f":"_xlfn.XLOOKUP($A107&$C107&$D107&G$3,'SUA Data'!$D:$D&'SUA Data'!$H:$H&'SUA Data'!$J:$J&'SUA Data'!$F:$F,'SUA Data'!$M:$M)","v":"A"},{"$f":"_xlfn.XLOOKUP($A107&$C107&$D107&I$3,'SUA Data'!$D:$D&'SUA Data'!$H:$H&'SUA Data'!$J:$J&'SUA Data'!$F:$F,'SUA Data'!$L:$L)","v":1238.78},{"$f":"_xlfn.XLOOKUP($A107&$C107&$D107&I$3,'SUA Data'!$D:$D&'SUA Data'!$H:$H&'SUA Data'!$J:$J&'SUA Data'!$F:$F,'SUA Data'!$M:$M)","v":"A"},0,{"$f":"_xlfn.XLOOKUP($A107&$C107&$D107&\"Loss\",'SUA Data'!$D:$D&'SUA Data'!$H:$H&'SUA Data'!$J:$J&'SUA Data'!$F:$F,'SUA Data'!$L:$L)","v":5338.26},{"$f":"_xlfn.XLOOKUP($A107&$C107&$D107&\"Loss\",'SUA Data'!$D:$D&'SUA Data'!$H:$H&'SUA Data'!$J:$J&'SUA Data'!$F:$F,'SUA Data'!$M:$M)","v":"I"},"",{"$f":"IF(ISNUMBER(N107),N107,'FFV Coefficients'!$H$9)","v":0.128},5338.26,"I",{"$f":"_xlfn.XLOOKUP($A107&$C107&$D107&R$3,'SUA Data'!$D:$D&'SUA Data'!$H:$H&'SUA Data'!$J:$J&'SUA Data'!$F:$F,'SUA Data'!$L:$L)","v":0},{"$f":"_xlfn.XLOOKUP($A107&$C107&$D107&R$3,'SUA Data'!$D:$D&'SUA Data'!$H:$H&'SUA Data'!$J:$J&'SUA Data'!$F:$F,'SUA Data'!$M:$M)","v":"I"},{"$f":"_xlfn.XLOOKUP($A107&$C107&$D107&T$3,'SUA Data'!$D:$D&'SUA Data'!$H:$H&'SUA Data'!$J:$J&'SUA Data'!$F:$F,'SUA Data'!$L:$L)","v":{"$error":"#N/A"}},{"$f":"_xlfn.XLOOKUP($A107&$C107&$D107&T$3,'SUA Data'!$D:$D&'SUA Data'!$H:$H&'SUA Data'!$J:$J&'SUA Data'!$F:$F,'SUA Data'!$M:$M)","v":{"$error":"#N/A"}},{"$f":"_xlfn.XLOOKUP($A107&$C107&$D107&V$3,'SUA Data'!$D:$D&'SUA Data'!$H:$H&'SUA Data'!$J:$J&'SUA Data'!$F:$F,'SUA Data'!$L:$L)","v":46805.59},{"$f":"_xlfn.XLOOKUP($A107&$C107&$D107&V$3,'SUA Data'!$D:$D&'SUA Data'!$H:$H&'SUA Data'!$J:$J&'SUA Data'!$F:$F,'SUA Data'!$M:$M)","v":"E"},40814.474479999997,"AE"]
["Greece","Eggplants","Eggplants (aubergines)",2022,{"$f":"_xlfn.XLOOKUP($A108&$C108&$D108&$E$3,'SUA Data'!$D:$D&'SUA Data'!$H:$H&'SUA Data'!$J:$J&'SUA Data'!$F:$F,'SUA Data'!$L:$L)","v":44500},{"$f":"_xlfn.XLOOKUP($A108&$C108&$D108&$E$3,'SUA Data'!$D:$D&'SUA Data'!$H:$H&'SUA Data'!$J:$J&'SUA Data'!$F:$F,'SUA Data'!$M:$M)","v":"A"},{"$f":"_xlfn.XLOOKUP($A108&$C108&$D108&G$3,'SUA Data'!$D:$D&'SUA Data'!$H:$H&'SUA Data'!$J:$J&'SUA Data'!$F:$F,'SUA Data'!$L:$L)","v":2017.03},{"$f":"_xlfn.XLOOKUP($A108&$C108&$D108&G$3,'SUA Data'!$D:$D&'SUA Data'!$H:$H&'SUA Data'!$J:$J&'SUA Data'!$F:$F,'SUA Data'!$M:$M)","v":"A"},{"$f":"_xlfn.XLOOKUP($A108&$C108&$D108&I$3,'SUA Data'!$D:$D&'SUA Data'!$H:$H&'SUA Data'!$J:$J&'SUA Data'!$F:$F,'SUA Data'!$L:$L)","v":2102.21},{"$f":"_xlfn.XLOOKUP($A108&$C108&$D108&I$3,'SUA Data'!$D:$D&'SUA Data'!$H:$H&'SUA Data'!$J:$J&'SUA Data'!$F:$F,'SUA Data'!$M:$M)","v":"A"},0.95663889117598444,{"$f":"_xlfn.XLOOKUP($A108&$C108&$D108&\"Loss\",'SUA Data'!$D:$D&'SUA Data'!$H:$H&'SUA Data'!$J:$J&'SUA Data'!$F:$F,'SUA Data'!$L:$L)","v":3827.74},{"$f":"_xlfn.XLOOKUP($A108&$C108&$D108&\"Loss\",'SUA Data'!$D:$D&'SUA Data'!$H:$H&'SUA Data'!$J:$J&'SUA Data'!$F:$F,'SUA Data'!$M:$M)","v":"I"},"",{"$f":"IF(ISNUMBER(N108),N108,'FFV Coefficients'!$H$9)","v":0.128},3827.74,"I",{"$f":"_xlfn.XLOOKUP($A108&$C108&$D108&R$3,'SUA Data'!$D:$D&'SUA Data'!$H:$H&'SUA Data'!$J:$J&'SUA Data'!$F:$F,'SUA Data'!$L:$L)","v":0},{"$f":"_xlfn.XLOOKUP($A108&$C108&$D108&R$3,'SUA Data'!$D:$D&'SUA Data'!$H:$H&'SUA Data'!$J:$J&'SUA Data'!$F:$F,'SUA Data'!$M:$M)","v":"I"},{"$f":"_xlfn.XLOOKUP($A108&$C108&$D108&T$3,'SUA Data'!$D:$D&'SUA Data'!$H:$H&'SUA Data'!$J:$J&'SUA Data'!$F:$F,'SUA Data'!$L:$L)","v":{"$error":"#N/A"}},{"$f":"_xlfn.XLOOKUP($A108&$C108&$D108&T$3,'SUA Data'!$D:$D&'SUA Data'!$H:$H&'SUA Data'!$J:$J&'SUA Data'!$F:$F,'SUA Data'!$M:$M)","v":{"$error":"#N/A"}},{"$f":"_xlfn.XLOOKUP($A108&$C108&$D108&V$3,'SUA Data'!$D:$D&'SUA Data'!$H:$H&'SUA Data'!$J:$J&'SUA Data'!$F:$F,'SUA Data'!$L:$L)","v":40587.08},{"$f":"_xlfn.XLOOKUP($A108&$C108&$D108&V$3,'SUA Data'!$D:$D&'SUA Data'!$H:$H&'SUA Data'!$J:$J&'SUA Data'!$F:$F,'SUA Data'!$M:$M)","v":"E"},35391.93376,"AE"]
["Hungary","Eggplants","Eggplants (aubergines)",2022,{"$f":"_xlfn.XLOOKUP($A109&$C109&$D109&$E$3,'SUA Data'!$D:$D&'SUA Data'!$H:$H&'SUA Data'!$J:$J&'SUA Data'!$F:$F,'SUA Data'!$L:$L)","v":740},{"$f":"_xlfn.XLOOKUP($A109&$C109&$D109&$E$3,'SUA Data'!$D:$D&'SUA Data'!$H:$H&'SUA Data'!$J:$J&'SUA Data'!$F:$F,'SUA Data'!$M:$M)","v":"A"},{"$f":"_xlfn.XLOOKUP($A109&$C109&$D109&G$3,'SUA Data'!$D:$D&'SUA Data'!$H:$H&'SUA Data'!$J:$J&'SUA Data'!$F:$F,'SUA Data'!$L:$L)","v":1416.02},{"$f":"_xlfn.XLOOKUP($A109&$C109&$D109&G$3,'SUA Data'!$D:$D&'SUA Data'!$H:$H&'SUA Data'!$J:$J&'SUA Data'!$F:$F,'SUA Data'!$M:$M)","v":"A"},{"$f":"_xlfn.XLOOKUP($A109&$C109&$D109&I$3,'SUA Data'!$D:$D&'SUA Data'!$H:$H&'SUA Data'!$J:$J&'SUA Data'!$F:$F,'SUA Data'!$L:$L)","v":15.29},{"$f":"_xlfn.XLOOKUP($A109&$C109&$D109&I$3,'SUA Data'!$D:$D&'SUA Data'!$H:$H&'SUA Data'!$J:$J&'SUA Data'!$F:$F,'SUA Data'!$M:$M)","v":"A"},0.34322501646552445,{"$f":"_xlfn.XLOOKUP($A109&$C109&$D109&\"Loss\",'SUA Data'!$D:$D&'SUA Data'!$H:$H&'SUA Data'!$J:$J&'SUA Data'!$F:$F,'SUA Data'!$L:$L)","v":36.9},{"$f":"_xlfn.XLOOKUP($A109&$C109&$D109&\"Loss\",'SUA Data'!$D:$D&'SUA Data'!$H:$H&'SUA Data'!$J:$J&'SUA Data'!$F:$F,'SUA Data'!$M:$M)","v":"I"},"",{"$f":"IF(ISNUMBER(N109),N109,'FFV Coefficients'!$H$9)","v":0.128},36.9,"I",{"$f":"_xlfn.XLOOKUP($A109&$C109&$D109&R$3,'SUA Data'!$D:$D&'SUA Data'!$H:$H&'SUA Data'!$J:$J&'SUA Data'!$F:$F,'SUA Data'!$L:$L)","v":0},{"$f":"_xlfn.XLOOKUP($A109&$C109&$D109&R$3,'SUA Data'!$D:$D&'SUA Data'!$H:$H&'SUA Data'!$J:$J&'SUA Data'!$F:$F,'SUA Data'!$M:$M)","v":"I"},{"$f":"_xlfn.XLOOKUP($A109&$C109&$D109&T$3,'SUA Data'!$D:$D&'SUA Data'!$H:$H&'SUA Data'!$J:$J&'SUA Data'!$F:$F,'SUA Data'!$L:$L)","v":{"$error":"#N/A"}},{"$f":"_xlfn.XLOOKUP($A109&$C109&$D109&T$3,'SUA Data'!$D:$D&'SUA Data'!$H:$H&'SUA Data'!$J:$J&'SUA Data'!$F:$F,'SUA Data'!$M:$M)","v":{"$error":"#N/A"}},{"$f":"_xlfn.XLOOKUP($A109&$C109&$D109&V$3,'SUA Data'!$D:$D&'SUA Data'!$H:$H&'SUA Data'!$J:$J&'SUA Data'!$F:$F,'SUA Data'!$L:$L)","v":2103.84},{"$f":"_xlfn.XLOOKUP($A109&$C109&$D109&V$3,'SUA Data'!$D:$D&'SUA Data'!$H:$H&'SUA Data'!$J:$J&'SUA Data'!$F:$F,'SUA Data'!$M:$M)","v":"E"},1834.5484800000002,"AE"]
["Iceland","Eggplants","Eggplants (aubergines)",2022,{"$f":"_xlfn.XLOOKUP($A110&$C110&$D110&$E$3,'SUA Data'!$D:$D&'SUA Data'!$H:$H&'SUA Data'!$J:$J&'SUA Data'!$F:$F,'SUA Data'!$L:$L)","v":{"$error":"#N/A"}},{"$f":"_xlfn.XLOOKUP($A110&$C110&$D110&$E$3,'SUA Data'!$D:$D&'SUA Data'!$H:$H&'SUA Data'!$J:$J&'SUA Data'!$F:$F,'SUA Data'!$M:$M)","v":{"$error":"#N/A"}},{"$f":"_xlfn.XLOOKUP($A110&$C110&$D110&G$3,'SUA Data'!$D:$D&'SUA Data'!$H:$H&'SUA Data'!$J:$J&'SUA Data'!$F:$F,'SUA Data'!$L:$L)","v":123.02},{"$f":"_xlfn.XLOOKUP($A110&$C110&$D110&G$3,'SUA Data'!$D:$D&'SUA Data'!$H:$H&'SUA Data'!$J:$J&'SUA Data'!$F:$F,'SUA Data'!$M:$M)","v":"A"},{"$f":"_xlfn.XLOOKUP($A110&$C110&$D110&I$3,'SUA Data'!$D:$D&'SUA Data'!$H:$H&'SUA Data'!$J:$J&'SUA Data'!$F:$F,'SUA Data'!$L:$L)","v":0.67},{"$f":"_xlfn.XLOOKUP($A110&$C110&$D110&I$3,'SUA Data'!$D:$D&'SUA Data'!$H:$H&'SUA Data'!$J:$J&'SUA Data'!$F:$F,'SUA Data'!$M:$M)","v":"A"},0,{"$f":"_xlfn.XLOOKUP($A110&$C110&$D110&\"Loss\",'SUA Data'!$D:$D&'SUA Data'!$H:$H&'SUA Data'!$J:$J&'SUA Data'!$F:$F,'SUA Data'!$L:$L)","v":{"$error":"#N/A"}},{"$f":"_xlfn.XLOOKUP($A110&$C110&$D110&\"Loss\",'SUA Data'!$D:$D&'SUA Data'!$H:$H&'SUA Data'!$J:$J&'SUA Data'!$F:$F,'SUA Data'!$M:$M)","v":{"$error":"#N/A"}},"",{"$f":"IF(ISNUMBER(N110),N110,'FFV Coefficients'!$H$9)","v":0.128},{"$error":"#N/A"},{"$error":"#N/A"},{"$f":"_xlfn.XLOOKUP($A110&$C110&$D110&R$3,'SUA Data'!$D:$D&'SUA Data'!$H:$H&'SUA Data'!$J:$J&'SUA Data'!$F:$F,'SUA Data'!$L:$L)","v":0},{"$f":"_xlfn.XLOOKUP($A110&$C110&$D110&R$3,'SUA Data'!$D:$D&'SUA Data'!$H:$H&'SUA Data'!$J:$J&'SUA Data'!$F:$F,'SUA Data'!$M:$M)","v":"I"},{"$f":"_xlfn.XLOOKUP($A110&$C110&$D110&T$3,'SUA Data'!$D:$D&'SUA Data'!$H:$H&'SUA Data'!$J:$J&'SUA Data'!$F:$F,'SUA Data'!$L:$L)","v":{"$error":"#N/A"}},{"$f":"_xlfn.XLOOKUP($A110&$C110&$D110&T$3,'SUA Data'!$D:$D&'SUA Data'!$H:$H&'SUA Data'!$J:$J&'SUA Data'!$F:$F,'SUA Data'!$M:$M)","v":{"$error":"#N/A"}},{"$f":"_xlfn.XLOOKUP($A110&$C110&$D110&V$3,'SUA Data'!$D:$D&'SUA Data'!$H:$H&'SUA Data'!$J:$J&'SUA Data'!$F:$F,'SUA Data'!$L:$L)","v":122.35},{"$f":"_xlfn.XLOOKUP($A110&$C110&$D110&V$3,'SUA Data'!$D:$D&'SUA Data'!$H:$H&'SUA Data'!$J:$J&'SUA Data'!$F:$F,'SUA Data'!$M:$M)","v":"E"},106.6892,"AE"]
["Ireland","Eggplants","Eggplants (aubergines)",2022,{"$f":"_xlfn.XLOOKUP($A111&$C111&$D111&$E$3,'SUA Data'!$D:$D&'SUA Data'!$H:$H&'SUA Data'!$J:$J&'SUA Data'!$F:$F,'SUA Data'!$L:$L)","v":{"$error":"#N/A"}},{"$f":"_xlfn.XLOOKUP($A111&$C111&$D111&$E$3,'SUA Data'!$D:$D&'SUA Data'!$H:$H&'SUA Data'!$J:$J&'SUA Data'!$F:$F,'SUA Data'!$M:$M)","v":{"$error":"#N/A"}},{"$f":"_xlfn.XLOOKUP($A111&$C111&$D111&G$3,'SUA Data'!$D:$D&'SUA Data'!$H:$H&'SUA Data'!$J:$J&'SUA Data'!$F:$F,'SUA Data'!$L:$L)","v":1465.22},{"$f":"_xlfn.XLOOKUP($A111&$C111&$D111&G$3,'SUA Data'!$D:$D&'SUA Data'!$H:$H&'SUA Data'!$J:$J&'SUA Data'!$F:$F,'SUA Data'!$M:$M)","v":"A"},{"$f":"_xlfn.XLOOKUP($A111&$C111&$D111&I$3,'SUA Data'!$D:$D&'SUA Data'!$H:$H&'SUA Data'!$J:$J&'SUA Data'!$F:$F,'SUA Data'!$L:$L)","v":1.64},{"$f":"_xlfn.XLOOKUP($A111&$C111&$D111&I$3,'SUA Data'!$D:$D&'SUA Data'!$H:$H&'SUA Data'!$J:$J&'SUA Data'!$F:$F,'SUA Data'!$M:$M)","v":"A"},0,{"$f":"_xlfn.XLOOKUP($A111&$C111&$D111&\"Loss\",'SUA Data'!$D:$D&'SUA Data'!$H:$H&'SUA Data'!$J:$J&'SUA Data'!$F:$F,'SUA Data'!$L:$L)","v":{"$error":"#N/A"}},{"$f":"_xlfn.XLOOKUP($A111&$C111&$D111&\"Loss\",'SUA Data'!$D:$D&'SUA Data'!$H:$H&'SUA Data'!$J:$J&'SUA Data'!$F:$F,'SUA Data'!$M:$M)","v":{"$error":"#N/A"}},"",{"$f":"IF(ISNUMBER(N111),N111,'FFV Coefficients'!$H$9)","v":0.128},{"$error":"#N/A"},{"$error":"#N/A"},{"$f":"_xlfn.XLOOKUP($A111&$C111&$D111&R$3,'SUA Data'!$D:$D&'SUA Data'!$H:$H&'SUA Data'!$J:$J&'SUA Data'!$F:$F,'SUA Data'!$L:$L)","v":0},{"$f":"_xlfn.XLOOKUP($A111&$C111&$D111&R$3,'SUA Data'!$D:$D&'SUA Data'!$H:$H&'SUA Data'!$J:$J&'SUA Data'!$F:$F,'SUA Data'!$M:$M)","v":"I"},{"$f":"_xlfn.XLOOKUP($A111&$C111&$D111&T$3,'SUA Data'!$D:$D&'SUA Data'!$H:$H&'SUA Data'!$J:$J&'SUA Data'!$F:$F,'SUA Data'!$L:$L)","v":{"$error":"#N/A"}},{"$f":"_xlfn.XLOOKUP($A111&$C111&$D111&T$3,'SUA Data'!$D:$D&'SUA Data'!$H:$H&'SUA Data'!$J:$J&'SUA Data'!$F:$F,'SUA Data'!$M:$M)","v":{"$error":"#N/A"}},{"$f":"_xlfn.XLOOKUP($A111&$C111&$D111&V$3,'SUA Data'!$D:$D&'SUA Data'!$H:$H&'SUA Data'!$J:$J&'SUA Data'!$F:$F,'SUA Data'!$L:$L)","v":1463.58},{"$f":"_xlfn.XLOOKUP($A111&$C111&$D111&V$3,'SUA Data'!$D:$D&'SUA Data'!$H:$H&'SUA Data'!$J:$J&'SUA Data'!$F:$F,'SUA Data'!$M:$M)","v":"E"},1276.2417599999999,"AE"]
["Italy","Eggplants","Eggplants (aubergines)",2022,{"$f":"_xlfn.XLOOKUP($A112&$C112&$D112&$E$3,'SUA Data'!$D:$D&'SUA Data'!$H:$H&'SUA Data'!$J:$J&'SUA Data'!$F:$F,'SUA Data'!$L:$L)","v":307430},{"$f":"_xlfn.XLOOKUP($A112&$C112&$D112&$E$3,'SUA Data'!$D:$D&'SUA Data'!$H:$H&'SUA Data'!$J:$J&'SUA Data'!$F:$F,'SUA Data'!$M:$M)","v":"A"},{"$f":"_xlfn.XLOOKUP($A112&$C112&$D112&G$3,'SUA Data'!$D:$D&'SUA Data'!$H:$H&'SUA Data'!$J:$J&'SUA Data'!$F:$F,'SUA Data'!$L:$L)","v":26622.27},{"$f":"_xlfn.XLOOKUP($A112&$C112&$D112&G$3,'SUA Data'!$D:$D&'SUA Data'!$H:$H&'SUA Data'!$J:$J&'SUA Data'!$F:$F,'SUA Data'!$M:$M)","v":"A"},{"$f":"_xlfn.XLOOKUP($A112&$C112&$D112&I$3,'SUA Data'!$D:$D&'SUA Data'!$H:$H&'SUA Data'!$J:$J&'SUA Data'!$F:$F,'SUA Data'!$L:$L)","v":5338.6},{"$f":"_xlfn.XLOOKUP($A112&$C112&$D112&I$3,'SUA Data'!$D:$D&'SUA Data'!$H:$H&'SUA Data'!$J:$J&'SUA Data'!$F:$F,'SUA Data'!$M:$M)","v":"A"},0.92030507680729123,{"$f":"_xlfn.XLOOKUP($A112&$C112&$D112&\"Loss\",'SUA Data'!$D:$D&'SUA Data'!$H:$H&'SUA Data'!$J:$J&'SUA Data'!$F:$F,'SUA Data'!$L:$L)","v":44053.11},{"$f":"_xlfn.XLOOKUP($A112&$C112&$D112&\"Loss\",'SUA Data'!$D:$D&'SUA Data'!$H:$H&'SUA Data'!$J:$J&'SUA Data'!$F:$F,'SUA Data'!$M:$M)","v":"I"},"",{"$f":"IF(ISNUMBER(N112),N112,'FFV Coefficients'!$H$9)","v":0.128},44053.11,"I",{"$f":"_xlfn.XLOOKUP($A112&$C112&$D112&R$3,'SUA Data'!$D:$D&'SUA Data'!$H:$H&'SUA Data'!$J:$J&'SUA Data'!$F:$F,'SUA Data'!$L:$L)","v":0},{"$f":"_xlfn.XLOOKUP($A112&$C112&$D112&R$3,'SUA Data'!$D:$D&'SUA Data'!$H:$H&'SUA Data'!$J:$J&'SUA Data'!$F:$F,'SUA Data'!$M:$M)","v":"I"},{"$f":"_xlfn.XLOOKUP($A112&$C112&$D112&T$3,'SUA Data'!$D:$D&'SUA Data'!$H:$H&'SUA Data'!$J:$J&'SUA Data'!$F:$F,'SUA Data'!$L:$L)","v":{"$error":"#N/A"}},{"$f":"_xlfn.XLOOKUP($A112&$C112&$D112&T$3,'SUA Data'!$D:$D&'SUA Data'!$H:$H&'SUA Data'!$J:$J&'SUA Data'!$F:$F,'SUA Data'!$M:$M)","v":{"$error":"#N/A"}},{"$f":"_xlfn.XLOOKUP($A112&$C112&$D112&V$3,'SUA Data'!$D:$D&'SUA Data'!$H:$H&'SUA Data'!$J:$J&'SUA Data'!$F:$F,'SUA Data'!$L:$L)","v":284660.56},{"$f":"_xlfn.XLOOKUP($A112&$C112&$D112&V$3,'SUA Data'!$D:$D&'SUA Data'!$H:$H&'SUA Data'!$J:$J&'SUA Data'!$F:$F,'SUA Data'!$M:$M)","v":"E"},248224.00831999999,"AE"]
["Latvia","Eggplants","Eggplants (aubergines)",2022,{"$f":"_xlfn.XLOOKUP($A113&$C113&$D113&$E$3,'SUA Data'!$D:$D&'SUA Data'!$H:$H&'SUA Data'!$J:$J&'SUA Data'!$F:$F,'SUA Data'!$L:$L)","v":{"$error":"#N/A"}},{"$f":"_xlfn.XLOOKUP($A113&$C113&$D113&$E$3,'SUA Data'!$D:$D&'SUA Data'!$H:$H&'SUA Data'!$J:$J&'SUA Data'!$F:$F,'SUA Data'!$M:$M)","v":{"$error":"#N/A"}},{"$f":"_xlfn.XLOOKUP($A113&$C113&$D113&G$3,'SUA Data'!$D:$D&'SUA Data'!$H:$H&'SUA Data'!$J:$J&'SUA Data'!$F:$F,'SUA Data'!$L:$L)","v":930.32},{"$f":"_xlfn.XLOOKUP($A113&$C113&$D113&G$3,'SUA Data'!$D:$D&'SUA Data'!$H:$H&'SUA Data'!$J:$J&'SUA Data'!$F:$F,'SUA Data'!$M:$M)","v":"A"},{"$f":"_xlfn.XLOOKUP($A113&$C113&$D113&I$3,'SUA Data'!$D:$D&'SUA Data'!$H:$H&'SUA Data'!$J:$J&'SUA Data'!$F:$F,'SUA Data'!$L:$L)","v":164.02},{"$f":"_xlfn.XLOOKUP($A113&$C113&$D113&I$3,'SUA Data'!$D:$D&'SUA Data'!$H:$H&'SUA Data'!$J:$J&'SUA Data'!$F:$F,'SUA Data'!$M:$M)","v":"A"},0,{"$f":"_xlfn.XLOOKUP($A113&$C113&$D113&\"Loss\",'SUA Data'!$D:$D&'SUA Data'!$H:$H&'SUA Data'!$J:$J&'SUA Data'!$F:$F,'SUA Data'!$L:$L)","v":{"$error":"#N/A"}},{"$f":"_xlfn.XLOOKUP($A113&$C113&$D113&\"Loss\",'SUA Data'!$D:$D&'SUA Data'!$H:$H&'SUA Data'!$J:$J&'SUA Data'!$F:$F,'SUA Data'!$M:$M)","v":{"$error":"#N/A"}},"",{"$f":"IF(ISNUMBER(N113),N113,'FFV Coefficients'!$H$9)","v":0.128},{"$error":"#N/A"},{"$error":"#N/A"},{"$f":"_xlfn.XLOOKUP($A113&$C113&$D113&R$3,'SUA Data'!$D:$D&'SUA Data'!$H:$H&'SUA Data'!$J:$J&'SUA Data'!$F:$F,'SUA Data'!$L:$L)","v":0},{"$f":"_xlfn.XLOOKUP($A113&$C113&$D113&R$3,'SUA Data'!$D:$D&'SUA Data'!$H:$H&'SUA Data'!$J:$J&'SUA Data'!$F:$F,'SUA Data'!$M:$M)","v":"I"},{"$f":"_xlfn.XLOOKUP($A113&$C113&$D113&T$3,'SUA Data'!$D:$D&'SUA Data'!$H:$H&'SUA Data'!$J:$J&'SUA Data'!$F:$F,'SUA Data'!$L:$L)","v":{"$error":"#N/A"}},{"$f":"_xlfn.XLOOKUP($A113&$C113&$D113&T$3,'SUA Data'!$D:$D&'SUA Data'!$H:$H&'SUA Data'!$J:$J&'SUA Data'!$F:$F,'SUA Data'!$M:$M)","v":{"$error":"#N/A"}},{"$f":"_xlfn.XLOOKUP($A113&$C113&$D113&V$3,'SUA Data'!$D:$D&'SUA Data'!$H:$H&'SUA Data'!$J:$J&'SUA Data'!$F:$F,'SUA Data'!$L:$L)","v":766.3},{"$f":"_xlfn.XLOOKUP($A113&$C113&$D113&V$3,'SUA Data'!$D:$D&'SUA Data'!$H:$H&'SUA Data'!$J:$J&'SUA Data'!$F:$F,'SUA Data'!$M:$M)","v":"E"},668.21359999999993,"AE"]
["Lithuania","Eggplants","Eggplants (aubergines)",2022,{"$f":"_xlfn.XLOOKUP($A114&$C114&$D114&$E$3,'SUA Data'!$D:$D&'SUA Data'!$H:$H&'SUA Data'!$J:$J&'SUA Data'!$F:$F,'SUA Data'!$L:$L)","v":{"$error":"#N/A"}},{"$f":"_xlfn.XLOOKUP($A114&$C114&$D114&$E$3,'SUA Data'!$D:$D&'SUA Data'!$H:$H&'SUA Data'!$J:$J&'SUA Data'!$F:$F,'SUA Data'!$M:$M)","v":{"$error":"#N/A"}},{"$f":"_xlfn.XLOOKUP($A114&$C114&$D114&G$3,'SUA Data'!$D:$D&'SUA Data'!$H:$H&'SUA Data'!$J:$J&'SUA Data'!$F:$F,'SUA Data'!$L:$L)","v":1236.0899999999999},{"$f":"_xlfn.XLOOKUP($A114&$C114&$D114&G$3,'SUA Data'!$D:$D&'SUA Data'!$H:$H&'SUA Data'!$J:$J&'SUA Data'!$F:$F,'SUA Data'!$M:$M)","v":"A"},{"$f":"_xlfn.XLOOKUP($A114&$C114&$D114&I$3,'SUA Data'!$D:$D&'SUA Data'!$H:$H&'SUA Data'!$J:$J&'SUA Data'!$F:$F,'SUA Data'!$L:$L)","v":264.51},{"$f":"_xlfn.XLOOKUP($A114&$C114&$D114&I$3,'SUA Data'!$D:$D&'SUA Data'!$H:$H&'SUA Data'!$J:$J&'SUA Data'!$F:$F,'SUA Data'!$M:$M)","v":"A"},0,{"$f":"_xlfn.XLOOKUP($A114&$C114&$D114&\"Loss\",'SUA Data'!$D:$D&'SUA Data'!$H:$H&'SUA Data'!$J:$J&'SUA Data'!$F:$F,'SUA Data'!$L:$L)","v":38.71},{"$f":"_xlfn.XLOOKUP($A114&$C114&$D114&\"Loss\",'SUA Data'!$D:$D&'SUA Data'!$H:$H&'SUA Data'!$J:$J&'SUA Data'!$F:$F,'SUA Data'!$M:$M)","v":"I"},"",{"$f":"IF(ISNUMBER(N114),N114,'FFV Coefficients'!$H$9)","v":0.128},38.71,"I",{"$f":"_xlfn.XLOOKUP($A114&$C114&$D114&R$3,'SUA Data'!$D:$D&'SUA Data'!$H:$H&'SUA Data'!$J:$J&'SUA Data'!$F:$F,'SUA Data'!$L:$L)","v":0},{"$f":"_xlfn.XLOOKUP($A114&$C114&$D114&R$3,'SUA Data'!$D:$D&'SUA Data'!$H:$H&'SUA Data'!$J:$J&'SUA Data'!$F:$F,'SUA Data'!$M:$M)","v":"I"},{"$f":"_xlfn.XLOOKUP($A114&$C114&$D114&T$3,'SUA Data'!$D:$D&'SUA Data'!$H:$H&'SUA Data'!$J:$J&'SUA Data'!$F:$F,'SUA Data'!$L:$L)","v":{"$error":"#N/A"}},{"$f":"_xlfn.XLOOKUP($A114&$C114&$D114&T$3,'SUA Data'!$D:$D&'SUA Data'!$H:$H&'SUA Data'!$J:$J&'SUA Data'!$F:$F,'SUA Data'!$M:$M)","v":{"$error":"#N/A"}},{"$f":"_xlfn.XLOOKUP($A114&$C114&$D114&V$3,'SUA Data'!$D:$D&'SUA Data'!$H:$H&'SUA Data'!$J:$J&'SUA Data'!$F:$F,'SUA Data'!$L:$L)","v":932.88},{"$f":"_xlfn.XLOOKUP($A114&$C114&$D114&V$3,'SUA Data'!$D:$D&'SUA Data'!$H:$H&'SUA Data'!$J:$J&'SUA Data'!$F:$F,'SUA Data'!$M:$M)","v":"E"},813.47136,"AE"]
["Luxembourg","Eggplants","Eggplants (aubergines)",2022,{"$f":"_xlfn.XLOOKUP($A115&$C115&$D115&$E$3,'SUA Data'!$D:$D&'SUA Data'!$H:$H&'SUA Data'!$J:$J&'SUA Data'!$F:$F,'SUA Data'!$L:$L)","v":{"$error":"#N/A"}},{"$f":"_xlfn.XLOOKUP($A115&$C115&$D115&$E$3,'SUA Data'!$D:$D&'SUA Data'!$H:$H&'SUA Data'!$J:$J&'SUA Data'!$F:$F,'SUA Data'!$M:$M)","v":{"$error":"#N/A"}},{"$f":"_xlfn.XLOOKUP($A115&$C115&$D115&G$3,'SUA Data'!$D:$D&'SUA Data'!$H:$H&'SUA Data'!$J:$J&'SUA Data'!$F:$F,'SUA Data'!$L:$L)","v":704.23},{"$f":"_xlfn.XLOOKUP($A115&$C115&$D115&G$3,'SUA Data'!$D:$D&'SUA Data'!$H:$H&'SUA Data'!$J:$J&'SUA Data'!$F:$F,'SUA Data'!$M:$M)","v":"A"},{"$f":"_xlfn.XLOOKUP($A115&$C115&$D115&I$3,'SUA Data'!$D:$D&'SUA Data'!$H:$H&'SUA Data'!$J:$J&'SUA Data'!$F:$F,'SUA Data'!$L:$L)","v":70.31},{"$f":"_xlfn.XLOOKUP($A115&$C115&$D115&I$3,'SUA Data'!$D:$D&'SUA Data'!$H:$H&'SUA Data'!$J:$J&'SUA Data'!$F:$F,'SUA Data'!$M:$M)","v":"A"},0,{"$f":"_xlfn.XLOOKUP($A115&$C115&$D115&\"Loss\",'SUA Data'!$D:$D&'SUA Data'!$H:$H&'SUA Data'!$J:$J&'SUA Data'!$F:$F,'SUA Data'!$L:$L)","v":14.08},{"$f":"_xlfn.XLOOKUP($A115&$C115&$D115&\"Loss\",'SUA Data'!$D:$D&'SUA Data'!$H:$H&'SUA Data'!$J:$J&'SUA Data'!$F:$F,'SUA Data'!$M:$M)","v":"I"},"",{"$f":"IF(ISNUMBER(N115),N115,'FFV Coefficients'!$H$9)","v":0.128},14.08,"I",{"$f":"_xlfn.XLOOKUP($A115&$C115&$D115&R$3,'SUA Data'!$D:$D&'SUA Data'!$H:$H&'SUA Data'!$J:$J&'SUA Data'!$F:$F,'SUA Data'!$L:$L)","v":0},{"$f":"_xlfn.XLOOKUP($A115&$C115&$D115&R$3,'SUA Data'!$D:$D&'SUA Data'!$H:$H&'SUA Data'!$J:$J&'SUA Data'!$F:$F,'SUA Data'!$M:$M)","v":"I"},{"$f":"_xlfn.XLOOKUP($A115&$C115&$D115&T$3,'SUA Data'!$D:$D&'SUA Data'!$H:$H&'SUA Data'!$J:$J&'SUA Data'!$F:$F,'SUA Data'!$L:$L)","v":{"$error":"#N/A"}},{"$f":"_xlfn.XLOOKUP($A115&$C115&$D115&T$3,'SUA Data'!$D:$D&'SUA Data'!$H:$H&'SUA Data'!$J:$J&'SUA Data'!$F:$F,'SUA Data'!$M:$M)","v":{"$error":"#N/A"}},{"$f":"_xlfn.XLOOKUP($A115&$C115&$D115&V$3,'SUA Data'!$D:$D&'SUA Data'!$H:$H&'SUA Data'!$J:$J&'SUA Data'!$F:$F,'SUA Data'!$L:$L)","v":619.84},{"$f":"_xlfn.XLOOKUP($A115&$C115&$D115&V$3,'SUA Data'!$D:$D&'SUA Data'!$H:$H&'SUA Data'!$J:$J&'SUA Data'!$F:$F,'SUA Data'!$M:$M)","v":"E"},540.50048000000004,"AE"]
["Malta","Eggplants","Eggplants (aubergines)",2022,{"$f":"_xlfn.XLOOKUP($A116&$C116&$D116&$E$3,'SUA Data'!$D:$D&'SUA Data'!$H:$H&'SUA Data'!$J:$J&'SUA Data'!$F:$F,'SUA Data'!$L:$L)","v":820},{"$f":"_xlfn.XLOOKUP($A116&$C116&$D116&$E$3,'SUA Data'!$D:$D&'SUA Data'!$H:$H&'SUA Data'!$J:$J&'SUA Data'!$F:$F,'SUA Data'!$M:$M)","v":"A"},{"$f":"_xlfn.XLOOKUP($A116&$C116&$D116&G$3,'SUA Data'!$D:$D&'SUA Data'!$H:$H&'SUA Data'!$J:$J&'SUA Data'!$F:$F,'SUA Data'!$L:$L)","v":175.41},{"$f":"_xlfn.XLOOKUP($A116&$C116&$D116&G$3,'SUA Data'!$D:$D&'SUA Data'!$H:$H&'SUA Data'!$J:$J&'SUA Data'!$F:$F,'SUA Data'!$M:$M)","v":"A"},{"$f":"_xlfn.XLOOKUP($A116&$C116&$D116&I$3,'SUA Data'!$D:$D&'SUA Data'!$H:$H&'SUA Data'!$J:$J&'SUA Data'!$F:$F,'SUA Data'!$L:$L)","v":7.0000000000000007E-2},{"$f":"_xlfn.XLOOKUP($A116&$C116&$D116&I$3,'SUA Data'!$D:$D&'SUA Data'!$H:$H&'SUA Data'!$J:$J&'SUA Data'!$F:$F,'SUA Data'!$M:$M)","v":"A"},0.8237811555037623,{"$f":"_xlfn.XLOOKUP($A116&$C116&$D116&\"Loss\",'SUA Data'!$D:$D&'SUA Data'!$H:$H&'SUA Data'!$J:$J&'SUA Data'!$F:$F,'SUA Data'!$L:$L)","v":70.819999999999993},{"$f":"_xlfn.XLOOKUP($A116&$C116&$D116&\"Loss\",'SUA Data'!$D:$D&'SUA Data'!$H:$H&'SUA Data'!$J:$J&'SUA Data'!$F:$F,'SUA Data'!$M:$M)","v":"I"},"",{"$f":"IF(ISNUMBER(N116),N116,'FFV Coefficients'!$H$9)","v":0.128},70.819999999999993,"I",{"$f":"_xlfn.XLOOKUP($A116&$C116&$D116&R$3,'SUA Data'!$D:$D&'SUA Data'!$H:$H&'SUA Data'!$J:$J&'SUA Data'!$F:$F,'SUA Data'!$L:$L)","v":0},{"$f":"_xlfn.XLOOKUP($A116&$C116&$D116&R$3,'SUA Data'!$D:$D&'SUA Data'!$H:$H&'SUA Data'!$J:$J&'SUA Data'!$F:$F,'SUA Data'!$M:$M)","v":"I"},{"$f":"_xlfn.XLOOKUP($A116&$C116&$D116&T$3,'SUA Data'!$D:$D&'SUA Data'!$H:$H&'SUA Data'!$J:$J&'SUA Data'!$F:$F,'SUA Data'!$L:$L)","v":{"$error":"#N/A"}},{"$f":"_xlfn.XLOOKUP($A116&$C116&$D116&T$3,'SUA Data'!$D:$D&'SUA Data'!$H:$H&'SUA Data'!$J:$J&'SUA Data'!$F:$F,'SUA Data'!$M:$M)","v":{"$error":"#N/A"}},{"$f":"_xlfn.XLOOKUP($A116&$C116&$D116&V$3,'SUA Data'!$D:$D&'SUA Data'!$H:$H&'SUA Data'!$J:$J&'SUA Data'!$F:$F,'SUA Data'!$L:$L)","v":909.47},{"$f":"_xlfn.XLOOKUP($A116&$C116&$D116&V$3,'SUA Data'!$D:$D&'SUA Data'!$H:$H&'SUA Data'!$J:$J&'SUA Data'!$F:$F,'SUA Data'!$M:$M)","v":"E"},793.05784000000006,"AE"]
["Netherlands","Eggplants","Eggplants (aubergines)",2022,{"$f":"_xlfn.XLOOKUP($A117&$C117&$D117&$E$3,'SUA Data'!$D:$D&'SUA Data'!$H:$H&'SUA Data'!$J:$J&'SUA Data'!$F:$F,'SUA Data'!$L:$L)","v":66000},{"$f":"_xlfn.XLOOKUP($A117&$C117&$D117&$E$3,'SUA Data'!$D:$D&'SUA Data'!$H:$H&'SUA Data'!$J:$J&'SUA Data'!$F:$F,'SUA Data'!$M:$M)","v":"A"},{"$f":"_xlfn.XLOOKUP($A117&$C117&$D117&G$3,'SUA Data'!$D:$D&'SUA Data'!$H:$H&'SUA Data'!$J:$J&'SUA Data'!$F:$F,'SUA Data'!$L:$L)","v":16392.990000000002},{"$f":"_xlfn.XLOOKUP($A117&$C117&$D117&G$3,'SUA Data'!$D:$D&'SUA Data'!$H:$H&'SUA Data'!$J:$J&'SUA Data'!$F:$F,'SUA Data'!$M:$M)","v":"A"},{"$f":"_xlfn.XLOOKUP($A117&$C117&$D117&I$3,'SUA Data'!$D:$D&'SUA Data'!$H:$H&'SUA Data'!$J:$J&'SUA Data'!$F:$F,'SUA Data'!$L:$L)","v":61134.54},{"$f":"_xlfn.XLOOKUP($A117&$C117&$D117&I$3,'SUA Data'!$D:$D&'SUA Data'!$H:$H&'SUA Data'!$J:$J&'SUA Data'!$F:$F,'SUA Data'!$M:$M)","v":"A"},0.80103902043122843,{"$f":"_xlfn.XLOOKUP($A117&$C117&$D117&\"Loss\",'SUA Data'!$D:$D&'SUA Data'!$H:$H&'SUA Data'!$J:$J&'SUA Data'!$F:$F,'SUA Data'!$L:$L)","v":5420.04},{"$f":"_xlfn.XLOOKUP($A117&$C117&$D117&\"Loss\",'SUA Data'!$D:$D&'SUA Data'!$H:$H&'SUA Data'!$J:$J&'SUA Data'!$F:$F,'SUA Data'!$M:$M)","v":"I"},"",{"$f":"IF(ISNUMBER(N117),N117,'FFV Coefficients'!$H$9)","v":0.128},5420.04,"I",{"$f":"_xlfn.XLOOKUP($A117&$C117&$D117&R$3,'SUA Data'!$D:$D&'SUA Data'!$H:$H&'SUA Data'!$J:$J&'SUA Data'!$F:$F,'SUA Data'!$L:$L)","v":0},{"$f":"_xlfn.XLOOKUP($A117&$C117&$D117&R$3,'SUA Data'!$D:$D&'SUA Data'!$H:$H&'SUA Data'!$J:$J&'SUA Data'!$F:$F,'SUA Data'!$M:$M)","v":"I"},{"$f":"_xlfn.XLOOKUP($A117&$C117&$D117&T$3,'SUA Data'!$D:$D&'SUA Data'!$H:$H&'SUA Data'!$J:$J&'SUA Data'!$F:$F,'SUA Data'!$L:$L)","v":{"$error":"#N/A"}},{"$f":"_xlfn.XLOOKUP($A117&$C117&$D117&T$3,'SUA Data'!$D:$D&'SUA Data'!$H:$H&'SUA Data'!$J:$J&'SUA Data'!$F:$F,'SUA Data'!$M:$M)","v":{"$error":"#N/A"}},{"$f":"_xlfn.XLOOKUP($A117&$C117&$D117&V$3,'SUA Data'!$D:$D&'SUA Data'!$H:$H&'SUA Data'!$J:$J&'SUA Data'!$F:$F,'SUA Data'!$L:$L)","v":15838.42},{"$f":"_xlfn.XLOOKUP($A117&$C117&$D117&V$3,'SUA Data'!$D:$D&'SUA Data'!$H:$H&'SUA Data'!$J:$J&'SUA Data'!$F:$F,'SUA Data'!$M:$M)","v":"E"},13811.10224,"AE"]
["Norway","Eggplants","Eggplants (aubergines)",2022,{"$f":"_xlfn.XLOOKUP($A118&$C118&$D118&$E$3,'SUA Data'!$D:$D&'SUA Data'!$H:$H&'SUA Data'!$J:$J&'SUA Data'!$F:$F,'SUA Data'!$L:$L)","v":{"$error":"#N/A"}},{"$f":"_xlfn.XLOOKUP($A118&$C118&$D118&$E$3,'SUA Data'!$D:$D&'SUA Data'!$H:$H&'SUA Data'!$J:$J&'SUA Data'!$F:$F,'SUA Data'!$M:$M)","v":{"$error":"#N/A"}},{"$f":"_xlfn.XLOOKUP($A118&$C118&$D118&G$3,'SUA Data'!$D:$D&'SUA Data'!$H:$H&'SUA Data'!$J:$J&'SUA Data'!$F:$F,'SUA Data'!$L:$L)","v":2003.37},{"$f":"_xlfn.XLOOKUP($A118&$C118&$D118&G$3,'SUA Data'!$D:$D&'SUA Data'!$H:$H&'SUA Data'!$J:$J&'SUA Data'!$F:$F,'SUA Data'!$M:$M)","v":"A"},{"$f":"_xlfn.XLOOKUP($A118&$C118&$D118&I$3,'SUA Data'!$D:$D&'SUA Data'!$H:$H&'SUA Data'!$J:$J&'SUA Data'!$F:$F,'SUA Data'!$L:$L)","v":{"$error":"#N/A"}},{"$f":"_xlfn.XLOOKUP($A118&$C118&$D118&I$3,'SUA Data'!$D:$D&'SUA Data'!$H:$H&'SUA Data'!$J:$J&'SUA Data'!$F:$F,'SUA Data'!$M:$M)","v":{"$error":"#N/A"}},0,{"$f":"_xlfn.XLOOKUP($A118&$C118&$D118&\"Loss\",'SUA Data'!$D:$D&'SUA Data'!$H:$H&'SUA Data'!$J:$J&'SUA Data'!$F:$F,'SUA Data'!$L:$L)","v":200.34},{"$f":"_xlfn.XLOOKUP($A118&$C118&$D118&\"Loss\",'SUA Data'!$D:$D&'SUA Data'!$H:$H&'SUA Data'!$J:$J&'SUA Data'!$F:$F,'SUA Data'!$M:$M)","v":"I"},"",{"$f":"IF(ISNUMBER(N118),N118,'FFV Coefficients'!$H$9)","v":0.128},200.34,"I",{"$f":"_xlfn.XLOOKUP($A118&$C118&$D118&R$3,'SUA Data'!$D:$D&'SUA Data'!$H:$H&'SUA Data'!$J:$J&'SUA Data'!$F:$F,'SUA Data'!$L:$L)","v":0},{"$f":"_xlfn.XLOOKUP($A118&$C118&$D118&R$3,'SUA Data'!$D:$D&'SUA Data'!$H:$H&'SUA Data'!$J:$J&'SUA Data'!$F:$F,'SUA Data'!$M:$M)","v":"I"},{"$f":"_xlfn.XLOOKUP($A118&$C118&$D118&T$3,'SUA Data'!$D:$D&'SUA Data'!$H:$H&'SUA Data'!$J:$J&'SUA Data'!$F:$F,'SUA Data'!$L:$L)","v":{"$error":"#N/A"}},{"$f":"_xlfn.XLOOKUP($A118&$C118&$D118&T$3,'SUA Data'!$D:$D&'SUA Data'!$H:$H&'SUA Data'!$J:$J&'SUA Data'!$F:$F,'SUA Data'!$M:$M)","v":{"$error":"#N/A"}},{"$f":"_xlfn.XLOOKUP($A118&$C118&$D118&V$3,'SUA Data'!$D:$D&'SUA Data'!$H:$H&'SUA Data'!$J:$J&'SUA Data'!$F:$F,'SUA Data'!$L:$L)","v":1803.03},{"$f":"_xlfn.XLOOKUP($A118&$C118&$D118&V$3,'SUA Data'!$D:$D&'SUA Data'!$H:$H&'SUA Data'!$J:$J&'SUA Data'!$F:$F,'SUA Data'!$M:$M)","v":"E"},1572.24216,"AE"]
["Poland","Eggplants","Eggplants (aubergines)",2022,{"$f":"_xlfn.XLOOKUP($A119&$C119&$D119&$E$3,'SUA Data'!$D:$D&'SUA Data'!$H:$H&'SUA Data'!$J:$J&'SUA Data'!$F:$F,'SUA Data'!$L:$L)","v":900},{"$f":"_xlfn.XLOOKUP($A119&$C119&$D119&$E$3,'SUA Data'!$D:$D&'SUA Data'!$H:$H&'SUA Data'!$J:$J&'SUA Data'!$F:$F,'SUA Data'!$M:$M)","v":"A"},{"$f":"_xlfn.XLOOKUP($A119&$C119&$D119&G$3,'SUA Data'!$D:$D&'SUA Data'!$H:$H&'SUA Data'!$J:$J&'SUA Data'!$F:$F,'SUA Data'!$L:$L)","v":5228.3999999999996},{"$f":"_xlfn.XLOOKUP($A119&$C119&$D119&G$3,'SUA Data'!$D:$D&'SUA Data'!$H:$H&'SUA Data'!$J:$J&'SUA Data'!$F:$F,'SUA Data'!$M:$M)","v":"A"},{"$f":"_xlfn.XLOOKUP($A119&$C119&$D119&I$3,'SUA Data'!$D:$D&'SUA Data'!$H:$H&'SUA Data'!$J:$J&'SUA Data'!$F:$F,'SUA Data'!$L:$L)","v":2143.44},{"$f":"_xlfn.XLOOKUP($A119&$C119&$D119&I$3,'SUA Data'!$D:$D&'SUA Data'!$H:$H&'SUA Data'!$J:$J&'SUA Data'!$F:$F,'SUA Data'!$M:$M)","v":"A"},0.14685725474838457,{"$f":"_xlfn.XLOOKUP($A119&$C119&$D119&\"Loss\",'SUA Data'!$D:$D&'SUA Data'!$H:$H&'SUA Data'!$J:$J&'SUA Data'!$F:$F,'SUA Data'!$L:$L)","v":360.86},{"$f":"_xlfn.XLOOKUP($A119&$C119&$D119&\"Loss\",'SUA Data'!$D:$D&'SUA Data'!$H:$H&'SUA Data'!$J:$J&'SUA Data'!$F:$F,'SUA Data'!$M:$M)","v":"I"},"",{"$f":"IF(ISNUMBER(N119),N119,'FFV Coefficients'!$H$9)","v":0.128},360.86,"I",{"$f":"_xlfn.XLOOKUP($A119&$C119&$D119&R$3,'SUA Data'!$D:$D&'SUA Data'!$H:$H&'SUA Data'!$J:$J&'SUA Data'!$F:$F,'SUA Data'!$L:$L)","v":0},{"$f":"_xlfn.XLOOKUP($A119&$C119&$D119&R$3,'SUA Data'!$D:$D&'SUA Data'!$H:$H&'SUA Data'!$J:$J&'SUA Data'!$F:$F,'SUA Data'!$M:$M)","v":"I"},{"$f":"_xlfn.XLOOKUP($A119&$C119&$D119&T$3,'SUA Data'!$D:$D&'SUA Data'!$H:$H&'SUA Data'!$J:$J&'SUA Data'!$F:$F,'SUA Data'!$L:$L)","v":{"$error":"#N/A"}},{"$f":"_xlfn.XLOOKUP($A119&$C119&$D119&T$3,'SUA Data'!$D:$D&'SUA Data'!$H:$H&'SUA Data'!$J:$J&'SUA Data'!$F:$F,'SUA Data'!$M:$M)","v":{"$error":"#N/A"}},{"$f":"_xlfn.XLOOKUP($A119&$C119&$D119&V$3,'SUA Data'!$D:$D&'SUA Data'!$H:$H&'SUA Data'!$J:$J&'SUA Data'!$F:$F,'SUA Data'!$L:$L)","v":3624.11},{"$f":"_xlfn.XLOOKUP($A119&$C119&$D119&V$3,'SUA Data'!$D:$D&'SUA Data'!$H:$H&'SUA Data'!$J:$J&'SUA Data'!$F:$F,'SUA Data'!$M:$M)","v":"E"},3160.2239199999999,"AE"]
["Portugal","Eggplants","Eggplants (aubergines)",2022,{"$f":"_xlfn.XLOOKUP($A120&$C120&$D120&$E$3,'SUA Data'!$D:$D&'SUA Data'!$H:$H&'SUA Data'!$J:$J&'SUA Data'!$F:$F,'SUA Data'!$L:$L)","v":5390},{"$f":"_xlfn.XLOOKUP($A120&$C120&$D120&$E$3,'SUA Data'!$D:$D&'SUA Data'!$H:$H&'SUA Data'!$J:$J&'SUA Data'!$F:$F,'SUA Data'!$M:$M)","v":"A"},{"$f":"_xlfn.XLOOKUP($A120&$C120&$D120&G$3,'SUA Data'!$D:$D&'SUA Data'!$H:$H&'SUA Data'!$J:$J&'SUA Data'!$F:$F,'SUA Data'!$L:$L)","v":3885.7},{"$f":"_xlfn.XLOOKUP($A120&$C120&$D120&G$3,'SUA Data'!$D:$D&'SUA Data'!$H:$H&'SUA Data'!$J:$J&'SUA Data'!$F:$F,'SUA Data'!$M:$M)","v":"A"},{"$f":"_xlfn.XLOOKUP($A120&$C120&$D120&I$3,'SUA Data'!$D:$D&'SUA Data'!$H:$H&'SUA Data'!$J:$J&'SUA Data'!$F:$F,'SUA Data'!$L:$L)","v":87.13},{"$f":"_xlfn.XLOOKUP($A120&$C120&$D120&I$3,'SUA Data'!$D:$D&'SUA Data'!$H:$H&'SUA Data'!$J:$J&'SUA Data'!$F:$F,'SUA Data'!$M:$M)","v":"A"},0.58108821975699942,{"$f":"_xlfn.XLOOKUP($A120&$C120&$D120&\"Loss\",'SUA Data'!$D:$D&'SUA Data'!$H:$H&'SUA Data'!$J:$J&'SUA Data'!$F:$F,'SUA Data'!$L:$L)","v":478.72},{"$f":"_xlfn.XLOOKUP($A120&$C120&$D120&\"Loss\",'SUA Data'!$D:$D&'SUA Data'!$H:$H&'SUA Data'!$J:$J&'SUA Data'!$F:$F,'SUA Data'!$M:$M)","v":"I"},"",{"$f":"IF(ISNUMBER(N120),N120,'FFV Coefficients'!$H$9)","v":0.128},478.72,"I",{"$f":"_xlfn.XLOOKUP($A120&$C120&$D120&R$3,'SUA Data'!$D:$D&'SUA Data'!$H:$H&'SUA Data'!$J:$J&'SUA Data'!$F:$F,'SUA Data'!$L:$L)","v":0},{"$f":"_xlfn.XLOOKUP($A120&$C120&$D120&R$3,'SUA Data'!$D:$D&'SUA Data'!$H:$H&'SUA Data'!$J:$J&'SUA Data'!$F:$F,'SUA Data'!$M:$M)","v":"I"},{"$f":"_xlfn.XLOOKUP($A120&$C120&$D120&T$3,'SUA Data'!$D:$D&'SUA Data'!$H:$H&'SUA Data'!$J:$J&'SUA Data'!$F:$F,'SUA Data'!$L:$L)","v":{"$error":"#N/A"}},{"$f":"_xlfn.XLOOKUP($A120&$C120&$D120&T$3,'SUA Data'!$D:$D&'SUA Data'!$H:$H&'SUA Data'!$J:$J&'SUA Data'!$F:$F,'SUA Data'!$M:$M)","v":{"$error":"#N/A"}},{"$f":"_xlfn.XLOOKUP($A120&$C120&$D120&V$3,'SUA Data'!$D:$D&'SUA Data'!$H:$H&'SUA Data'!$J:$J&'SUA Data'!$F:$F,'SUA Data'!$L:$L)","v":8709.86},{"$f":"_xlfn.XLOOKUP($A120&$C120&$D120&V$3,'SUA Data'!$D:$D&'SUA Data'!$H:$H&'SUA Data'!$J:$J&'SUA Data'!$F:$F,'SUA Data'!$M:$M)","v":"E"},7594.9979200000007,"AE"]
["Romania","Eggplants","Eggplants (aubergines)",2022,{"$f":"_xlfn.XLOOKUP($A121&$C121&$D121&$E$3,'SUA Data'!$D:$D&'SUA Data'!$H:$H&'SUA Data'!$J:$J&'SUA Data'!$F:$F,'SUA Data'!$L:$L)","v":64560},{"$f":"_xlfn.XLOOKUP($A121&$C121&$D121&$E$3,'SUA Data'!$D:$D&'SUA Data'!$H:$H&'SUA Data'!$J:$J&'SUA Data'!$F:$F,'SUA Data'!$M:$M)","v":"A"},{"$f":"_xlfn.XLOOKUP($A121&$C121&$D121&G$3,'SUA Data'!$D:$D&'SUA Data'!$H:$H&'SUA Data'!$J:$J&'SUA Data'!$F:$F,'SUA Data'!$L:$L)","v":4784.3100000000004},{"$f":"_xlfn.XLOOKUP($A121&$C121&$D121&G$3,'SUA Data'!$D:$D&'SUA Data'!$H:$H&'SUA Data'!$J:$J&'SUA Data'!$F:$F,'SUA Data'!$M:$M)","v":"A"},{"$f":"_xlfn.XLOOKUP($A121&$C121&$D121&I$3,'SUA Data'!$D:$D&'SUA Data'!$H:$H&'SUA Data'!$J:$J&'SUA Data'!$F:$F,'SUA Data'!$L:$L)","v":494.81},{"$f":"_xlfn.XLOOKUP($A121&$C121&$D121&I$3,'SUA Data'!$D:$D&'SUA Data'!$H:$H&'SUA Data'!$J:$J&'SUA Data'!$F:$F,'SUA Data'!$M:$M)","v":"A"},0.9310064517189659,{"$f":"_xlfn.XLOOKUP($A121&$C121&$D121&\"Loss\",'SUA Data'!$D:$D&'SUA Data'!$H:$H&'SUA Data'!$J:$J&'SUA Data'!$F:$F,'SUA Data'!$L:$L)","v":4231.21},{"$f":"_xlfn.XLOOKUP($A121&$C121&$D121&\"Loss\",'SUA Data'!$D:$D&'SUA Data'!$H:$H&'SUA Data'!$J:$J&'SUA Data'!$F:$F,'SUA Data'!$M:$M)","v":"I"},"",{"$f":"IF(ISNUMBER(N121),N121,'FFV Coefficients'!$H$9)","v":0.128},4231.21,"I",{"$f":"_xlfn.XLOOKUP($A121&$C121&$D121&R$3,'SUA Data'!$D:$D&'SUA Data'!$H:$H&'SUA Data'!$J:$J&'SUA Data'!$F:$F,'SUA Data'!$L:$L)","v":0},{"$f":"_xlfn.XLOOKUP($A121&$C121&$D121&R$3,'SUA Data'!$D:$D&'SUA Data'!$H:$H&'SUA Data'!$J:$J&'SUA Data'!$F:$F,'SUA Data'!$M:$M)","v":"I"},{"$f":"_xlfn.XLOOKUP($A121&$C121&$D121&T$3,'SUA Data'!$D:$D&'SUA Data'!$H:$H&'SUA Data'!$J:$J&'SUA Data'!$F:$F,'SUA Data'!$L:$L)","v":{"$error":"#N/A"}},{"$f":"_xlfn.XLOOKUP($A121&$C121&$D121&T$3,'SUA Data'!$D:$D&'SUA Data'!$H:$H&'SUA Data'!$J:$J&'SUA Data'!$F:$F,'SUA Data'!$M:$M)","v":{"$error":"#N/A"}},{"$f":"_xlfn.XLOOKUP($A121&$C121&$D121&V$3,'SUA Data'!$D:$D&'SUA Data'!$H:$H&'SUA Data'!$J:$J&'SUA Data'!$F:$F,'SUA Data'!$L:$L)","v":64618.29},{"$f":"_xlfn.XLOOKUP($A121&$C121&$D121&V$3,'SUA Data'!$D:$D&'SUA Data'!$H:$H&'SUA Data'!$J:$J&'SUA Data'!$F:$F,'SUA Data'!$M:$M)","v":"E"},56347.148880000001,"AE"]
["Slovakia","Eggplants","Eggplants (aubergines)",2022,{"$f":"_xlfn.XLOOKUP($A122&$C122&$D122&$E$3,'SUA Data'!$D:$D&'SUA Data'!$H:$H&'SUA Data'!$J:$J&'SUA Data'!$F:$F,'SUA Data'!$L:$L)","v":{"$error":"#N/A"}},{"$f":"_xlfn.XLOOKUP($A122&$C122&$D122&$E$3,'SUA Data'!$D:$D&'SUA Data'!$H:$H&'SUA Data'!$J:$J&'SUA Data'!$F:$F,'SUA Data'!$M:$M)","v":{"$error":"#N/A"}},{"$f":"_xlfn.XLOOKUP($A122&$C122&$D122&G$3,'SUA Data'!$D:$D&'SUA Data'!$H:$H&'SUA Data'!$J:$J&'SUA Data'!$F:$F,'SUA Data'!$L:$L)","v":792.89},{"$f":"_xlfn.XLOOKUP($A122&$C122&$D122&G$3,'SUA Data'!$D:$D&'SUA Data'!$H:$H&'SUA Data'!$J:$J&'SUA Data'!$F:$F,'SUA Data'!$M:$M)","v":"A"},{"$f":"_xlfn.XLOOKUP($A122&$C122&$D122&I$3,'SUA Data'!$D:$D&'SUA Data'!$H:$H&'SUA Data'!$J:$J&'SUA Data'!$F:$F,'SUA Data'!$L:$L)","v":27.42},{"$f":"_xlfn.XLOOKUP($A122&$C122&$D122&I$3,'SUA Data'!$D:$D&'SUA Data'!$H:$H&'SUA Data'!$J:$J&'SUA Data'!$F:$F,'SUA Data'!$M:$M)","v":"A"},0,{"$f":"_xlfn.XLOOKUP($A122&$C122&$D122&\"Loss\",'SUA Data'!$D:$D&'SUA Data'!$H:$H&'SUA Data'!$J:$J&'SUA Data'!$F:$F,'SUA Data'!$L:$L)","v":39.64},{"$f":"_xlfn.XLOOKUP($A122&$C122&$D122&\"Loss\",'SUA Data'!$D:$D&'SUA Data'!$H:$H&'SUA Data'!$J:$J&'SUA Data'!$F:$F,'SUA Data'!$M:$M)","v":"I"},"",{"$f":"IF(ISNUMBER(N122),N122,'FFV Coefficients'!$H$9)","v":0.128},39.64,"I",{"$f":"_xlfn.XLOOKUP($A122&$C122&$D122&R$3,'SUA Data'!$D:$D&'SUA Data'!$H:$H&'SUA Data'!$J:$J&'SUA Data'!$F:$F,'SUA Data'!$L:$L)","v":0},{"$f":"_xlfn.XLOOKUP($A122&$C122&$D122&R$3,'SUA Data'!$D:$D&'SUA Data'!$H:$H&'SUA Data'!$J:$J&'SUA Data'!$F:$F,'SUA Data'!$M:$M)","v":"I"},{"$f":"_xlfn.XLOOKUP($A122&$C122&$D122&T$3,'SUA Data'!$D:$D&'SUA Data'!$H:$H&'SUA Data'!$J:$J&'SUA Data'!$F:$F,'SUA Data'!$L:$L)","v":{"$error":"#N/A"}},{"$f":"_xlfn.XLOOKUP($A122&$C122&$D122&T$3,'SUA Data'!$D:$D&'SUA Data'!$H:$H&'SUA Data'!$J:$J&'SUA Data'!$F:$F,'SUA Data'!$M:$M)","v":{"$error":"#N/A"}},{"$f":"_xlfn.XLOOKUP($A122&$C122&$D122&V$3,'SUA Data'!$D:$D&'SUA Data'!$H:$H&'SUA Data'!$J:$J&'SUA Data'!$F:$F,'SUA Data'!$L:$L)","v":725.83},{"$f":"_xlfn.XLOOKUP($A122&$C122&$D122&V$3,'SUA Data'!$D:$D&'SUA Data'!$H:$H&'SUA Data'!$J:$J&'SUA Data'!$F:$F,'SUA Data'!$M:$M)","v":"E"},632.92376000000002,"AE"]
["Slovenia","Eggplants","Eggplants (aubergines)",2022,{"$f":"_xlfn.XLOOKUP($A123&$C123&$D123&$E$3,'SUA Data'!$D:$D&'SUA Data'!$H:$H&'SUA Data'!$J:$J&'SUA Data'!$F:$F,'SUA Data'!$L:$L)","v":340},{"$f":"_xlfn.XLOOKUP($A123&$C123&$D123&$E$3,'SUA Data'!$D:$D&'SUA Data'!$H:$H&'SUA Data'!$J:$J&'SUA Data'!$F:$F,'SUA Data'!$M:$M)","v":"A"},{"$f":"_xlfn.XLOOKUP($A123&$C123&$D123&G$3,'SUA Data'!$D:$D&'SUA Data'!$H:$H&'SUA Data'!$J:$J&'SUA Data'!$F:$F,'SUA Data'!$L:$L)","v":516.88},{"$f":"_xlfn.XLOOKUP($A123&$C123&$D123&G$3,'SUA Data'!$D:$D&'SUA Data'!$H:$H&'SUA Data'!$J:$J&'SUA Data'!$F:$F,'SUA Data'!$M:$M)","v":"A"},{"$f":"_xlfn.XLOOKUP($A123&$C123&$D123&I$3,'SUA Data'!$D:$D&'SUA Data'!$H:$H&'SUA Data'!$J:$J&'SUA Data'!$F:$F,'SUA Data'!$L:$L)","v":660.09},{"$f":"_xlfn.XLOOKUP($A123&$C123&$D123&I$3,'SUA Data'!$D:$D&'SUA Data'!$H:$H&'SUA Data'!$J:$J&'SUA Data'!$F:$F,'SUA Data'!$M:$M)","v":"A"},0.3967883484268509,{"$f":"_xlfn.XLOOKUP($A123&$C123&$D123&\"Loss\",'SUA Data'!$D:$D&'SUA Data'!$H:$H&'SUA Data'!$J:$J&'SUA Data'!$F:$F,'SUA Data'!$L:$L)","v":85.94},{"$f":"_xlfn.XLOOKUP($A123&$C123&$D123&\"Loss\",'SUA Data'!$D:$D&'SUA Data'!$H:$H&'SUA Data'!$J:$J&'SUA Data'!$F:$F,'SUA Data'!$M:$M)","v":"I"},"",{"$f":"IF(ISNUMBER(N123),N123,'FFV Coefficients'!$H$9)","v":0.128},85.94,"I",{"$f":"_xlfn.XLOOKUP($A123&$C123&$D123&R$3,'SUA Data'!$D:$D&'SUA Data'!$H:$H&'SUA Data'!$J:$J&'SUA Data'!$F:$F,'SUA Data'!$L:$L)","v":0},{"$f":"_xlfn.XLOOKUP($A123&$C123&$D123&R$3,'SUA Data'!$D:$D&'SUA Data'!$H:$H&'SUA Data'!$J:$J&'SUA Data'!$F:$F,'SUA Data'!$M:$M)","v":"I"},{"$f":"_xlfn.XLOOKUP($A123&$C123&$D123&T$3,'SUA Data'!$D:$D&'SUA Data'!$H:$H&'SUA Data'!$J:$J&'SUA Data'!$F:$F,'SUA Data'!$L:$L)","v":{"$error":"#N/A"}},{"$f":"_xlfn.XLOOKUP($A123&$C123&$D123&T$3,'SUA Data'!$D:$D&'SUA Data'!$H:$H&'SUA Data'!$J:$J&'SUA Data'!$F:$F,'SUA Data'!$M:$M)","v":{"$error":"#N/A"}},{"$f":"_xlfn.XLOOKUP($A123&$C123&$D123&V$3,'SUA Data'!$D:$D&'SUA Data'!$H:$H&'SUA Data'!$J:$J&'SUA Data'!$F:$F,'SUA Data'!$L:$L)","v":110.85},{"$f":"_xlfn.XLOOKUP($A123&$C123&$D123&V$3,'SUA Data'!$D:$D&'SUA Data'!$H:$H&'SUA Data'!$J:$J&'SUA Data'!$F:$F,'SUA Data'!$M:$M)","v":"E"},96.661199999999994,"AE"]
["Spain","Eggplants","Eggplants (aubergines)",2022,{"$f":"_xlfn.XLOOKUP($A124&$C124&$D124&$E$3,'SUA Data'!$D:$D&'SUA Data'!$H:$H&'SUA Data'!$J:$J&'SUA Data'!$F:$F,'SUA Data'!$L:$L)","v":276320},{"$f":"_xlfn.XLOOKUP($A124&$C124&$D124&$E$3,'SUA Data'!$D:$D&'SUA Data'!$H:$H&'SUA Data'!$J:$J&'SUA Data'!$F:$F,'SUA Data'!$M:$M)","v":"A"},{"$f":"_xlfn.XLOOKUP($A124&$C124&$D124&G$3,'SUA Data'!$D:$D&'SUA Data'!$H:$H&'SUA Data'!$J:$J&'SUA Data'!$F:$F,'SUA Data'!$L:$L)","v":1621.21},{"$f":"_xlfn.XLOOKUP($A124&$C124&$D124&G$3,'SUA Data'!$D:$D&'SUA Data'!$H:$H&'SUA Data'!$J:$J&'SUA Data'!$F:$F,'SUA Data'!$M:$M)","v":"A"},{"$f":"_xlfn.XLOOKUP($A124&$C124&$D124&I$3,'SUA Data'!$D:$D&'SUA Data'!$H:$H&'SUA Data'!$J:$J&'SUA Data'!$F:$F,'SUA Data'!$L:$L)","v":150351.46},{"$f":"_xlfn.XLOOKUP($A124&$C124&$D124&I$3,'SUA Data'!$D:$D&'SUA Data'!$H:$H&'SUA Data'!$J:$J&'SUA Data'!$F:$F,'SUA Data'!$M:$M)","v":"A"},0.99416707583592945,{"$f":"_xlfn.XLOOKUP($A124&$C124&$D124&\"Loss\",'SUA Data'!$D:$D&'SUA Data'!$H:$H&'SUA Data'!$J:$J&'SUA Data'!$F:$F,'SUA Data'!$L:$L)","v":27794.12},{"$f":"_xlfn.XLOOKUP($A124&$C124&$D124&\"Loss\",'SUA Data'!$D:$D&'SUA Data'!$H:$H&'SUA Data'!$J:$J&'SUA Data'!$F:$F,'SUA Data'!$M:$M)","v":"I"},0.12822667965099077,{"$f":"IF(ISNUMBER(N124),N124,'FFV Coefficients'!$H$9)","v":0.12822667965099077},24230.172278578804,"AE",{"$f":"_xlfn.XLOOKUP($A124&$C124&$D124&R$3,'SUA Data'!$D:$D&'SUA Data'!$H:$H&'SUA Data'!$J:$J&'SUA Data'!$F:$F,'SUA Data'!$L:$L)","v":0},{"$f":"_xlfn.XLOOKUP($A124&$C124&$D124&R$3,'SUA Data'!$D:$D&'SUA Data'!$H:$H&'SUA Data'!$J:$J&'SUA Data'!$F:$F,'SUA Data'!$M:$M)","v":"I"},{"$f":"_xlfn.XLOOKUP($A124&$C124&$D124&T$3,'SUA Data'!$D:$D&'SUA Data'!$H:$H&'SUA Data'!$J:$J&'SUA Data'!$F:$F,'SUA Data'!$L:$L)","v":16360.41},{"$f":"_xlfn.XLOOKUP($A124&$C124&$D124&T$3,'SUA Data'!$D:$D&'SUA Data'!$H:$H&'SUA Data'!$J:$J&'SUA Data'!$F:$F,'SUA Data'!$M:$M)","v":"E"},{"$f":"_xlfn.XLOOKUP($A124&$C124&$D124&V$3,'SUA Data'!$D:$D&'SUA Data'!$H:$H&'SUA Data'!$J:$J&'SUA Data'!$F:$F,'SUA Data'!$L:$L)","v":83435.22},{"$f":"_xlfn.XLOOKUP($A124&$C124&$D124&V$3,'SUA Data'!$D:$D&'SUA Data'!$H:$H&'SUA Data'!$J:$J&'SUA Data'!$F:$F,'SUA Data'!$M:$M)","v":"E"},83435.22,"E"]
["Sweden","Eggplants","Eggplants (aubergines)",2022,{"$f":"_xlfn.XLOOKUP($A125&$C125&$D125&$E$3,'SUA Data'!$D:$D&'SUA Data'!$H:$H&'SUA Data'!$J:$J&'SUA Data'!$F:$F,'SUA Data'!$L:$L)","v":20},{"$f":"_xlfn.XLOOKUP($A125&$C125&$D125&$E$3,'SUA Data'!$D:$D&'SUA Data'!$H:$H&'SUA Data'!$J:$J&'SUA Data'!$F:$F,'SUA Data'!$M:$M)","v":"A"},{"$f":"_xlfn.XLOOKUP($A125&$C125&$D125&G$3,'SUA Data'!$D:$D&'SUA Data'!$H:$H&'SUA Data'!$J:$J&'SUA Data'!$F:$F,'SUA Data'!$L:$L)","v":6715.03},{"$f":"_xlfn.XLOOKUP($A125&$C125&$D125&G$3,'SUA Data'!$D:$D&'SUA Data'!$H:$H&'SUA Data'!$J:$J&'SUA Data'!$F:$F,'SUA Data'!$M:$M)","v":"A"},{"$f":"_xlfn.XLOOKUP($A125&$C125&$D125&I$3,'SUA Data'!$D:$D&'SUA Data'!$H:$H&'SUA Data'!$J:$J&'SUA Data'!$F:$F,'SUA Data'!$L:$L)","v":26.9},{"$f":"_xlfn.XLOOKUP($A125&$C125&$D125&I$3,'SUA Data'!$D:$D&'SUA Data'!$H:$H&'SUA Data'!$J:$J&'SUA Data'!$F:$F,'SUA Data'!$M:$M)","v":"A"},2.9695487622178373E-3,{"$f":"_xlfn.XLOOKUP($A125&$C125&$D125&\"Loss\",'SUA Data'!$D:$D&'SUA Data'!$H:$H&'SUA Data'!$J:$J&'SUA Data'!$F:$F,'SUA Data'!$L:$L)","v":673.5},{"$f":"_xlfn.XLOOKUP($A125&$C125&$D125&\"Loss\",'SUA Data'!$D:$D&'SUA Data'!$H:$H&'SUA Data'!$J:$J&'SUA Data'!$F:$F,'SUA Data'!$M:$M)","v":"I"},"",{"$f":"IF(ISNUMBER(N125),N125,'FFV Coefficients'!$H$9)","v":0.128},673.5,"I",{"$f":"_xlfn.XLOOKUP($A125&$C125&$D125&R$3,'SUA Data'!$D:$D&'SUA Data'!$H:$H&'SUA Data'!$J:$J&'SUA Data'!$F:$F,'SUA Data'!$L:$L)","v":0},{"$f":"_xlfn.XLOOKUP($A125&$C125&$D125&R$3,'SUA Data'!$D:$D&'SUA Data'!$H:$H&'SUA Data'!$J:$J&'SUA Data'!$F:$F,'SUA Data'!$M:$M)","v":"I"},{"$f":"_xlfn.XLOOKUP($A125&$C125&$D125&T$3,'SUA Data'!$D:$D&'SUA Data'!$H:$H&'SUA Data'!$J:$J&'SUA Data'!$F:$F,'SUA Data'!$L:$L)","v":{"$error":"#N/A"}},{"$f":"_xlfn.XLOOKUP($A125&$C125&$D125&T$3,'SUA Data'!$D:$D&'SUA Data'!$H:$H&'SUA Data'!$J:$J&'SUA Data'!$F:$F,'SUA Data'!$M:$M)","v":{"$error":"#N/A"}},{"$f":"_xlfn.XLOOKUP($A125&$C125&$D125&V$3,'SUA Data'!$D:$D&'SUA Data'!$H:$H&'SUA Data'!$J:$J&'SUA Data'!$F:$F,'SUA Data'!$L:$L)","v":6034.63},{"$f":"_xlfn.XLOOKUP($A125&$C125&$D125&V$3,'SUA Data'!$D:$D&'SUA Data'!$H:$H&'SUA Data'!$J:$J&'SUA Data'!$F:$F,'SUA Data'!$M:$M)","v":"E"},5262.1973600000001,"AE"]
["Switzerland","Eggplants","Eggplants (aubergines)",2022,{"$f":"_xlfn.XLOOKUP($A126&$C126&$D126&$E$3,'SUA Data'!$D:$D&'SUA Data'!$H:$H&'SUA Data'!$J:$J&'SUA Data'!$F:$F,'SUA Data'!$L:$L)","v":{"$error":"#N/A"}},{"$f":"_xlfn.XLOOKUP($A126&$C126&$D126&$E$3,'SUA Data'!$D:$D&'SUA Data'!$H:$H&'SUA Data'!$J:$J&'SUA Data'!$F:$F,'SUA Data'!$M:$M)","v":{"$error":"#N/A"}},{"$f":"_xlfn.XLOOKUP($A126&$C126&$D126&G$3,'SUA Data'!$D:$D&'SUA Data'!$H:$H&'SUA Data'!$J:$J&'SUA Data'!$F:$F,'SUA Data'!$L:$L)","v":7085.34},{"$f":"_xlfn.XLOOKUP($A126&$C126&$D126&G$3,'SUA Data'!$D:$D&'SUA Data'!$H:$H&'SUA Data'!$J:$J&'SUA Data'!$F:$F,'SUA Data'!$M:$M)","v":"A"},{"$f":"_xlfn.XLOOKUP($A126&$C126&$D126&I$3,'SUA Data'!$D:$D&'SUA Data'!$H:$H&'SUA Data'!$J:$J&'SUA Data'!$F:$F,'SUA Data'!$L:$L)","v":0.56000000000000005},{"$f":"_xlfn.XLOOKUP($A126&$C126&$D126&I$3,'SUA Data'!$D:$D&'SUA Data'!$H:$H&'SUA Data'!$J:$J&'SUA Data'!$F:$F,'SUA Data'!$M:$M)","v":"A"},0,{"$f":"_xlfn.XLOOKUP($A126&$C126&$D126&\"Loss\",'SUA Data'!$D:$D&'SUA Data'!$H:$H&'SUA Data'!$J:$J&'SUA Data'!$F:$F,'SUA Data'!$L:$L)","v":708.53},{"$f":"_xlfn.XLOOKUP($A126&$C126&$D126&\"Loss\",'SUA Data'!$D:$D&'SUA Data'!$H:$H&'SUA Data'!$J:$J&'SUA Data'!$F:$F,'SUA Data'!$M:$M)","v":"I"},"",{"$f":"IF(ISNUMBER(N126),N126,'FFV Coefficients'!$H$9)","v":0.128},708.53,"I",{"$f":"_xlfn.XLOOKUP($A126&$C126&$D126&R$3,'SUA Data'!$D:$D&'SUA Data'!$H:$H&'SUA Data'!$J:$J&'SUA Data'!$F:$F,'SUA Data'!$L:$L)","v":0},{"$f":"_xlfn.XLOOKUP($A126&$C126&$D126&R$3,'SUA Data'!$D:$D&'SUA Data'!$H:$H&'SUA Data'!$J:$J&'SUA Data'!$F:$F,'SUA Data'!$M:$M)","v":"I"},{"$f":"_xlfn.XLOOKUP($A126&$C126&$D126&T$3,'SUA Data'!$D:$D&'SUA Data'!$H:$H&'SUA Data'!$J:$J&'SUA Data'!$F:$F,'SUA Data'!$L:$L)","v":{"$error":"#N/A"}},{"$f":"_xlfn.XLOOKUP($A126&$C126&$D126&T$3,'SUA Data'!$D:$D&'SUA Data'!$H:$H&'SUA Data'!$J:$J&'SUA Data'!$F:$F,'SUA Data'!$M:$M)","v":{"$error":"#N/A"}},{"$f":"_xlfn.XLOOKUP($A126&$C126&$D126&V$3,'SUA Data'!$D:$D&'SUA Data'!$H:$H&'SUA Data'!$J:$J&'SUA Data'!$F:$F,'SUA Data'!$L:$L)","v":6376.25},{"$f":"_xlfn.XLOOKUP($A126&$C126&$D126&V$3,'SUA Data'!$D:$D&'SUA Data'!$H:$H&'SUA Data'!$J:$J&'SUA Data'!$F:$F,'SUA Data'!$M:$M)","v":"E"},5560.09,"AE"]
["United Kingdom","Eggplants","Eggplants (aubergines)",2022,{"$f":"_xlfn.XLOOKUP($A127&$C127&$D127&$E$3,'SUA Data'!$D:$D&'SUA Data'!$H:$H&'SUA Data'!$J:$J&'SUA Data'!$F:$F,'SUA Data'!$L:$L)","v":{"$error":"#N/A"}},{"$f":"_xlfn.XLOOKUP($A127&$C127&$D127&$E$3,'SUA Data'!$D:$D&'SUA Data'!$H:$H&'SUA Data'!$J:$J&'SUA Data'!$F:$F,'SUA Data'!$M:$M)","v":{"$error":"#N/A"}},{"$f":"_xlfn.XLOOKUP($A127&$C127&$D127&G$3,'SUA Data'!$D:$D&'SUA Data'!$H:$H&'SUA Data'!$J:$J&'SUA Data'!$F:$F,'SUA Data'!$L:$L)","v":29974.97},{"$f":"_xlfn.XLOOKUP($A127&$C127&$D127&G$3,'SUA Data'!$D:$D&'SUA Data'!$H:$H&'SUA Data'!$J:$J&'SUA Data'!$F:$F,'SUA Data'!$M:$M)","v":"A"},{"$f":"_xlfn.XLOOKUP($A127&$C127&$D127&I$3,'SUA Data'!$D:$D&'SUA Data'!$H:$H&'SUA Data'!$J:$J&'SUA Data'!$F:$F,'SUA Data'!$L:$L)","v":31.95},{"$f":"_xlfn.XLOOKUP($A127&$C127&$D127&I$3,'SUA Data'!$D:$D&'SUA Data'!$H:$H&'SUA Data'!$J:$J&'SUA Data'!$F:$F,'SUA Data'!$M:$M)","v":"A"},0,{"$f":"_xlfn.XLOOKUP($A127&$C127&$D127&\"Loss\",'SUA Data'!$D:$D&'SUA Data'!$H:$H&'SUA Data'!$J:$J&'SUA Data'!$F:$F,'SUA Data'!$L:$L)","v":1498.75},{"$f":"_xlfn.XLOOKUP($A127&$C127&$D127&\"Loss\",'SUA Data'!$D:$D&'SUA Data'!$H:$H&'SUA Data'!$J:$J&'SUA Data'!$F:$F,'SUA Data'!$M:$M)","v":"I"},"",{"$f":"IF(ISNUMBER(N127),N127,'FFV Coefficients'!$H$9)","v":0.128},1498.75,"I",{"$f":"_xlfn.XLOOKUP($A127&$C127&$D127&R$3,'SUA Data'!$D:$D&'SUA Data'!$H:$H&'SUA Data'!$J:$J&'SUA Data'!$F:$F,'SUA Data'!$L:$L)","v":0},{"$f":"_xlfn.XLOOKUP($A127&$C127&$D127&R$3,'SUA Data'!$D:$D&'SUA Data'!$H:$H&'SUA Data'!$J:$J&'SUA Data'!$F:$F,'SUA Data'!$M:$M)","v":"I"},{"$f":"_xlfn.XLOOKUP($A127&$C127&$D127&T$3,'SUA Data'!$D:$D&'SUA Data'!$H:$H&'SUA Data'!$J:$J&'SUA Data'!$F:$F,'SUA Data'!$L:$L)","v":{"$error":"#N/A"}},{"$f":"_xlfn.XLOOKUP($A127&$C127&$D127&T$3,'SUA Data'!$D:$D&'SUA Data'!$H:$H&'SUA Data'!$J:$J&'SUA Data'!$F:$F,'SUA Data'!$M:$M)","v":{"$error":"#N/A"}},{"$f":"_xlfn.XLOOKUP($A127&$C127&$D127&V$3,'SUA Data'!$D:$D&'SUA Data'!$H:$H&'SUA Data'!$J:$J&'SUA Data'!$F:$F,'SUA Data'!$L:$L)","v":28444.27},{"$f":"_xlfn.XLOOKUP($A127&$C127&$D127&V$3,'SUA Data'!$D:$D&'SUA Data'!$H:$H&'SUA Data'!$J:$J&'SUA Data'!$F:$F,'SUA Data'!$M:$M)","v":"E"},24803.403440000002,"AE"]
["Austria","Peppers","Chillies and peppers, green (Capsicum spp. and Pimenta spp.)",2022,{"$f":"_xlfn.XLOOKUP($A128&$C128&$D128&$E$3,'SUA Data'!$D:$D&'SUA Data'!$H:$H&'SUA Data'!$J:$J&'SUA Data'!$F:$F,'SUA Data'!$L:$L)","v":12770},{"$f":"_xlfn.XLOOKUP($A128&$C128&$D128&$E$3,'SUA Data'!$D:$D&'SUA Data'!$H:$H&'SUA Data'!$J:$J&'SUA Data'!$F:$F,'SUA Data'!$M:$M)","v":"A"},{"$f":"_xlfn.XLOOKUP($A128&$C128&$D128&G$3,'SUA Data'!$D:$D&'SUA Data'!$H:$H&'SUA Data'!$J:$J&'SUA Data'!$F:$F,'SUA Data'!$L:$L)","v":62735.19},{"$f":"_xlfn.XLOOKUP($A128&$C128&$D128&G$3,'SUA Data'!$D:$D&'SUA Data'!$H:$H&'SUA Data'!$J:$J&'SUA Data'!$F:$F,'SUA Data'!$M:$M)","v":"A"},{"$f":"_xlfn.XLOOKUP($A128&$C128&$D128&I$3,'SUA Data'!$D:$D&'SUA Data'!$H:$H&'SUA Data'!$J:$J&'SUA Data'!$F:$F,'SUA Data'!$L:$L)","v":34927.550000000003},{"$f":"_xlfn.XLOOKUP($A128&$C128&$D128&I$3,'SUA Data'!$D:$D&'SUA Data'!$H:$H&'SUA Data'!$J:$J&'SUA Data'!$F:$F,'SUA Data'!$M:$M)","v":"A"},0.16912744673578067,{"$f":"_xlfn.XLOOKUP($A128&$C128&$D128&\"Loss\",'SUA Data'!$D:$D&'SUA Data'!$H:$H&'SUA Data'!$J:$J&'SUA Data'!$F:$F,'SUA Data'!$L:$L)","v":7550.52},{"$f":"_xlfn.XLOOKUP($A128&$C128&$D128&\"Loss\",'SUA Data'!$D:$D&'SUA Data'!$H:$H&'SUA Data'!$J:$J&'SUA Data'!$F:$F,'SUA Data'!$M:$M)","v":"I"},"",{"$f":"IF(ISNUMBER(N128),N128,'FFV Coefficients'!$H$10)","v":0.27913047828454707},7550.52,"I",{"$f":"_xlfn.XLOOKUP($A128&$C128&$D128&R$3,'SUA Data'!$D:$D&'SUA Data'!$H:$H&'SUA Data'!$J:$J&'SUA Data'!$F:$F,'SUA Data'!$L:$L)","v":0},{"$f":"_xlfn.XLOOKUP($A128&$C128&$D128&R$3,'SUA Data'!$D:$D&'SUA Data'!$H:$H&'SUA Data'!$J:$J&'SUA Data'!$F:$F,'SUA Data'!$M:$M)","v":"I"},{"$f":"_xlfn.XLOOKUP($A128&$C128&$D128&T$3,'SUA Data'!$D:$D&'SUA Data'!$H:$H&'SUA Data'!$J:$J&'SUA Data'!$F:$F,'SUA Data'!$L:$L)","v":{"$error":"#N/A"}},{"$f":"_xlfn.XLOOKUP($A128&$C128&$D128&T$3,'SUA Data'!$D:$D&'SUA Data'!$H:$H&'SUA Data'!$J:$J&'SUA Data'!$F:$F,'SUA Data'!$M:$M)","v":{"$error":"#N/A"}},{"$f":"_xlfn.XLOOKUP($A128&$C128&$D128&V$3,'SUA Data'!$D:$D&'SUA Data'!$H:$H&'SUA Data'!$J:$J&'SUA Data'!$F:$F,'SUA Data'!$L:$L)","v":33027.120000000003},{"$f":"_xlfn.XLOOKUP($A128&$C128&$D128&V$3,'SUA Data'!$D:$D&'SUA Data'!$H:$H&'SUA Data'!$J:$J&'SUA Data'!$F:$F,'SUA Data'!$M:$M)","v":"E"},23808.244198038872,"AE"]
["Belgium","Peppers","Chillies and peppers, green (Capsicum spp. and Pimenta spp.)",2022,{"$f":"_xlfn.XLOOKUP($A129&$C129&$D129&$E$3,'SUA Data'!$D:$D&'SUA Data'!$H:$H&'SUA Data'!$J:$J&'SUA Data'!$F:$F,'SUA Data'!$L:$L)","v":35100},{"$f":"_xlfn.XLOOKUP($A129&$C129&$D129&$E$3,'SUA Data'!$D:$D&'SUA Data'!$H:$H&'SUA Data'!$J:$J&'SUA Data'!$F:$F,'SUA Data'!$M:$M)","v":"A"},{"$f":"_xlfn.XLOOKUP($A129&$C129&$D129&G$3,'SUA Data'!$D:$D&'SUA Data'!$H:$H&'SUA Data'!$J:$J&'SUA Data'!$F:$F,'SUA Data'!$L:$L)","v":57576.31},{"$f":"_xlfn.XLOOKUP($A129&$C129&$D129&G$3,'SUA Data'!$D:$D&'SUA Data'!$H:$H&'SUA Data'!$J:$J&'SUA Data'!$F:$F,'SUA Data'!$M:$M)","v":"A"},{"$f":"_xlfn.XLOOKUP($A129&$C129&$D129&I$3,'SUA Data'!$D:$D&'SUA Data'!$H:$H&'SUA Data'!$J:$J&'SUA Data'!$F:$F,'SUA Data'!$L:$L)","v":43912.65},{"$f":"_xlfn.XLOOKUP($A129&$C129&$D129&I$3,'SUA Data'!$D:$D&'SUA Data'!$H:$H&'SUA Data'!$J:$J&'SUA Data'!$F:$F,'SUA Data'!$M:$M)","v":"A"},0.37873756518791046,{"$f":"_xlfn.XLOOKUP($A129&$C129&$D129&\"Loss\",'SUA Data'!$D:$D&'SUA Data'!$H:$H&'SUA Data'!$J:$J&'SUA Data'!$F:$F,'SUA Data'!$L:$L)","v":2688.37},{"$f":"_xlfn.XLOOKUP($A129&$C129&$D129&\"Loss\",'SUA Data'!$D:$D&'SUA Data'!$H:$H&'SUA Data'!$J:$J&'SUA Data'!$F:$F,'SUA Data'!$M:$M)","v":"I"},0.1072190043198161,{"$f":"IF(ISNUMBER(N129),N129,'FFV Coefficients'!$H$10)","v":0.1072190043198161},2400.1256453567357,"AE",{"$f":"_xlfn.XLOOKUP($A129&$C129&$D129&R$3,'SUA Data'!$D:$D&'SUA Data'!$H:$H&'SUA Data'!$J:$J&'SUA Data'!$F:$F,'SUA Data'!$L:$L)","v":0},{"$f":"_xlfn.XLOOKUP($A129&$C129&$D129&R$3,'SUA Data'!$D:$D&'SUA Data'!$H:$H&'SUA Data'!$J:$J&'SUA Data'!$F:$F,'SUA Data'!$M:$M)","v":"I"},{"$f":"_xlfn.XLOOKUP($A129&$C129&$D129&T$3,'SUA Data'!$D:$D&'SUA Data'!$H:$H&'SUA Data'!$J:$J&'SUA Data'!$F:$F,'SUA Data'!$L:$L)","v":5228.3900000000003},{"$f":"_xlfn.XLOOKUP($A129&$C129&$D129&T$3,'SUA Data'!$D:$D&'SUA Data'!$H:$H&'SUA Data'!$J:$J&'SUA Data'!$F:$F,'SUA Data'!$M:$M)","v":"E"},{"$f":"_xlfn.XLOOKUP($A129&$C129&$D129&V$3,'SUA Data'!$D:$D&'SUA Data'!$H:$H&'SUA Data'!$J:$J&'SUA Data'!$F:$F,'SUA Data'!$L:$L)","v":40846.89},{"$f":"_xlfn.XLOOKUP($A129&$C129&$D129&V$3,'SUA Data'!$D:$D&'SUA Data'!$H:$H&'SUA Data'!$J:$J&'SUA Data'!$F:$F,'SUA Data'!$M:$M)","v":"E"},40846.89,"E"]
["Bulgaria","Peppers","Chillies and peppers, green (Capsicum spp. and Pimenta spp.)",2022,{"$f":"_xlfn.XLOOKUP($A130&$C130&$D130&$E$3,'SUA Data'!$D:$D&'SUA Data'!$H:$H&'SUA Data'!$J:$J&'SUA Data'!$F:$F,'SUA Data'!$L:$L)","v":46790},{"$f":"_xlfn.XLOOKUP($A130&$C130&$D130&$E$3,'SUA Data'!$D:$D&'SUA Data'!$H:$H&'SUA Data'!$J:$J&'SUA Data'!$F:$F,'SUA Data'!$M:$M)","v":"A"},{"$f":"_xlfn.XLOOKUP($A130&$C130&$D130&G$3,'SUA Data'!$D:$D&'SUA Data'!$H:$H&'SUA Data'!$J:$J&'SUA Data'!$F:$F,'SUA Data'!$L:$L)","v":28938.5},{"$f":"_xlfn.XLOOKUP($A130&$C130&$D130&G$3,'SUA Data'!$D:$D&'SUA Data'!$H:$H&'SUA Data'!$J:$J&'SUA Data'!$F:$F,'SUA Data'!$M:$M)","v":"A"},{"$f":"_xlfn.XLOOKUP($A130&$C130&$D130&I$3,'SUA Data'!$D:$D&'SUA Data'!$H:$H&'SUA Data'!$J:$J&'SUA Data'!$F:$F,'SUA Data'!$L:$L)","v":4958.21},{"$f":"_xlfn.XLOOKUP($A130&$C130&$D130&I$3,'SUA Data'!$D:$D&'SUA Data'!$H:$H&'SUA Data'!$J:$J&'SUA Data'!$F:$F,'SUA Data'!$M:$M)","v":"A"},0.6178651366394422,{"$f":"_xlfn.XLOOKUP($A130&$C130&$D130&\"Loss\",'SUA Data'!$D:$D&'SUA Data'!$H:$H&'SUA Data'!$J:$J&'SUA Data'!$F:$F,'SUA Data'!$L:$L)","v":5499.57},{"$f":"_xlfn.XLOOKUP($A130&$C130&$D130&\"Loss\",'SUA Data'!$D:$D&'SUA Data'!$H:$H&'SUA Data'!$J:$J&'SUA Data'!$F:$F,'SUA Data'!$M:$M)","v":"I"},5.4752637017595938E-2,{"$f":"IF(ISNUMBER(N130),N130,'FFV Coefficients'!$H$10)","v":5.4752637017595938E-2},5198.4540400371397,"AE",{"$f":"_xlfn.XLOOKUP($A130&$C130&$D130&R$3,'SUA Data'!$D:$D&'SUA Data'!$H:$H&'SUA Data'!$J:$J&'SUA Data'!$F:$F,'SUA Data'!$L:$L)","v":0},{"$f":"_xlfn.XLOOKUP($A130&$C130&$D130&R$3,'SUA Data'!$D:$D&'SUA Data'!$H:$H&'SUA Data'!$J:$J&'SUA Data'!$F:$F,'SUA Data'!$M:$M)","v":"I"},{"$f":"_xlfn.XLOOKUP($A130&$C130&$D130&T$3,'SUA Data'!$D:$D&'SUA Data'!$H:$H&'SUA Data'!$J:$J&'SUA Data'!$F:$F,'SUA Data'!$L:$L)","v":3874.86},{"$f":"_xlfn.XLOOKUP($A130&$C130&$D130&T$3,'SUA Data'!$D:$D&'SUA Data'!$H:$H&'SUA Data'!$J:$J&'SUA Data'!$F:$F,'SUA Data'!$M:$M)","v":"E"},{"$f":"_xlfn.XLOOKUP($A130&$C130&$D130&V$3,'SUA Data'!$D:$D&'SUA Data'!$H:$H&'SUA Data'!$J:$J&'SUA Data'!$F:$F,'SUA Data'!$L:$L)","v":61395.86},{"$f":"_xlfn.XLOOKUP($A130&$C130&$D130&V$3,'SUA Data'!$D:$D&'SUA Data'!$H:$H&'SUA Data'!$J:$J&'SUA Data'!$F:$F,'SUA Data'!$M:$M)","v":"E"},61395.86,"E"]
["Croatia","Peppers","Chillies and peppers, green (Capsicum spp. and Pimenta spp.)",2022,{"$f":"_xlfn.XLOOKUP($A131&$C131&$D131&$E$3,'SUA Data'!$D:$D&'SUA Data'!$H:$H&'SUA Data'!$J:$J&'SUA Data'!$F:$F,'SUA Data'!$L:$L)","v":7910},{"$f":"_xlfn.XLOOKUP($A131&$C131&$D131&$E$3,'SUA Data'!$D:$D&'SUA Data'!$H:$H&'SUA Data'!$J:$J&'SUA Data'!$F:$F,'SUA Data'!$M:$M)","v":"A"},{"$f":"_xlfn.XLOOKUP($A131&$C131&$D131&G$3,'SUA Data'!$D:$D&'SUA Data'!$H:$H&'SUA Data'!$J:$J&'SUA Data'!$F:$F,'SUA Data'!$L:$L)","v":20461.16},{"$f":"_xlfn.XLOOKUP($A131&$C131&$D131&G$3,'SUA Data'!$D:$D&'SUA Data'!$H:$H&'SUA Data'!$J:$J&'SUA Data'!$F:$F,'SUA Data'!$M:$M)","v":"A"},{"$f":"_xlfn.XLOOKUP($A131&$C131&$D131&I$3,'SUA Data'!$D:$D&'SUA Data'!$H:$H&'SUA Data'!$J:$J&'SUA Data'!$F:$F,'SUA Data'!$L:$L)","v":1683.07},{"$f":"_xlfn.XLOOKUP($A131&$C131&$D131&I$3,'SUA Data'!$D:$D&'SUA Data'!$H:$H&'SUA Data'!$J:$J&'SUA Data'!$F:$F,'SUA Data'!$M:$M)","v":"A"},0.27880425051354968,{"$f":"_xlfn.XLOOKUP($A131&$C131&$D131&\"Loss\",'SUA Data'!$D:$D&'SUA Data'!$H:$H&'SUA Data'!$J:$J&'SUA Data'!$F:$F,'SUA Data'!$L:$L)","v":1373.99},{"$f":"_xlfn.XLOOKUP($A131&$C131&$D131&\"Loss\",'SUA Data'!$D:$D&'SUA Data'!$H:$H&'SUA Data'!$J:$J&'SUA Data'!$F:$F,'SUA Data'!$M:$M)","v":"I"},"",{"$f":"IF(ISNUMBER(N131),N131,'FFV Coefficients'!$H$10)","v":0.27913047828454707},1373.99,"I",{"$f":"_xlfn.XLOOKUP($A131&$C131&$D131&R$3,'SUA Data'!$D:$D&'SUA Data'!$H:$H&'SUA Data'!$J:$J&'SUA Data'!$F:$F,'SUA Data'!$L:$L)","v":0},{"$f":"_xlfn.XLOOKUP($A131&$C131&$D131&R$3,'SUA Data'!$D:$D&'SUA Data'!$H:$H&'SUA Data'!$J:$J&'SUA Data'!$F:$F,'SUA Data'!$M:$M)","v":"I"},{"$f":"_xlfn.XLOOKUP($A131&$C131&$D131&T$3,'SUA Data'!$D:$D&'SUA Data'!$H:$H&'SUA Data'!$J:$J&'SUA Data'!$F:$F,'SUA Data'!$L:$L)","v":{"$error":"#N/A"}},{"$f":"_xlfn.XLOOKUP($A131&$C131&$D131&T$3,'SUA Data'!$D:$D&'SUA Data'!$H:$H&'SUA Data'!$J:$J&'SUA Data'!$F:$F,'SUA Data'!$M:$M)","v":{"$error":"#N/A"}},{"$f":"_xlfn.XLOOKUP($A131&$C131&$D131&V$3,'SUA Data'!$D:$D&'SUA Data'!$H:$H&'SUA Data'!$J:$J&'SUA Data'!$F:$F,'SUA Data'!$L:$L)","v":25314.1},{"$f":"_xlfn.XLOOKUP($A131&$C131&$D131&V$3,'SUA Data'!$D:$D&'SUA Data'!$H:$H&'SUA Data'!$J:$J&'SUA Data'!$F:$F,'SUA Data'!$M:$M)","v":"E"},18248.163159657146,"AE"]
["Cyprus","Peppers","Chillies and peppers, green (Capsicum spp. and Pimenta spp.)",2022,{"$f":"_xlfn.XLOOKUP($A132&$C132&$D132&$E$3,'SUA Data'!$D:$D&'SUA Data'!$H:$H&'SUA Data'!$J:$J&'SUA Data'!$F:$F,'SUA Data'!$L:$L)","v":940},{"$f":"_xlfn.XLOOKUP($A132&$C132&$D132&$E$3,'SUA Data'!$D:$D&'SUA Data'!$H:$H&'SUA Data'!$J:$J&'SUA Data'!$F:$F,'SUA Data'!$M:$M)","v":"A"},{"$f":"_xlfn.XLOOKUP($A132&$C132&$D132&G$3,'SUA Data'!$D:$D&'SUA Data'!$H:$H&'SUA Data'!$J:$J&'SUA Data'!$F:$F,'SUA Data'!$L:$L)","v":1888.35},{"$f":"_xlfn.XLOOKUP($A132&$C132&$D132&G$3,'SUA Data'!$D:$D&'SUA Data'!$H:$H&'SUA Data'!$J:$J&'SUA Data'!$F:$F,'SUA Data'!$M:$M)","v":"A"},{"$f":"_xlfn.XLOOKUP($A132&$C132&$D132&I$3,'SUA Data'!$D:$D&'SUA Data'!$H:$H&'SUA Data'!$J:$J&'SUA Data'!$F:$F,'SUA Data'!$L:$L)","v":{"$error":"#N/A"}},{"$f":"_xlfn.XLOOKUP($A132&$C132&$D132&I$3,'SUA Data'!$D:$D&'SUA Data'!$H:$H&'SUA Data'!$J:$J&'SUA Data'!$F:$F,'SUA Data'!$M:$M)","v":{"$error":"#N/A"}},0.33234924956246575,{"$f":"_xlfn.XLOOKUP($A132&$C132&$D132&\"Loss\",'SUA Data'!$D:$D&'SUA Data'!$H:$H&'SUA Data'!$J:$J&'SUA Data'!$F:$F,'SUA Data'!$L:$L)","v":282.83999999999997},{"$f":"_xlfn.XLOOKUP($A132&$C132&$D132&\"Loss\",'SUA Data'!$D:$D&'SUA Data'!$H:$H&'SUA Data'!$J:$J&'SUA Data'!$F:$F,'SUA Data'!$M:$M)","v":"I"},"",{"$f":"IF(ISNUMBER(N132),N132,'FFV Coefficients'!$H$10)","v":0.27913047828454707},282.83999999999997,"I",{"$f":"_xlfn.XLOOKUP($A132&$C132&$D132&R$3,'SUA Data'!$D:$D&'SUA Data'!$H:$H&'SUA Data'!$J:$J&'SUA Data'!$F:$F,'SUA Data'!$L:$L)","v":0},{"$f":"_xlfn.XLOOKUP($A132&$C132&$D132&R$3,'SUA Data'!$D:$D&'SUA Data'!$H:$H&'SUA Data'!$J:$J&'SUA Data'!$F:$F,'SUA Data'!$M:$M)","v":"I"},{"$f":"_xlfn.XLOOKUP($A132&$C132&$D132&T$3,'SUA Data'!$D:$D&'SUA Data'!$H:$H&'SUA Data'!$J:$J&'SUA Data'!$F:$F,'SUA Data'!$L:$L)","v":{"$error":"#N/A"}},{"$f":"_xlfn.XLOOKUP($A132&$C132&$D132&T$3,'SUA Data'!$D:$D&'SUA Data'!$H:$H&'SUA Data'!$J:$J&'SUA Data'!$F:$F,'SUA Data'!$M:$M)","v":{"$error":"#N/A"}},{"$f":"_xlfn.XLOOKUP($A132&$C132&$D132&V$3,'SUA Data'!$D:$D&'SUA Data'!$H:$H&'SUA Data'!$J:$J&'SUA Data'!$F:$F,'SUA Data'!$L:$L)","v":2403.7600000000002},{"$f":"_xlfn.XLOOKUP($A132&$C132&$D132&V$3,'SUA Data'!$D:$D&'SUA Data'!$H:$H&'SUA Data'!$J:$J&'SUA Data'!$F:$F,'SUA Data'!$M:$M)","v":"E"},1732.7973215187374,"AE"]
["Czechia","Peppers","Chillies and peppers, green (Capsicum spp. and Pimenta spp.)",2022,{"$f":"_xlfn.XLOOKUP($A133&$C133&$D133&$E$3,'SUA Data'!$D:$D&'SUA Data'!$H:$H&'SUA Data'!$J:$J&'SUA Data'!$F:$F,'SUA Data'!$L:$L)","v":12070},{"$f":"_xlfn.XLOOKUP($A133&$C133&$D133&$E$3,'SUA Data'!$D:$D&'SUA Data'!$H:$H&'SUA Data'!$J:$J&'SUA Data'!$F:$F,'SUA Data'!$M:$M)","v":"A"},{"$f":"_xlfn.XLOOKUP($A133&$C133&$D133&G$3,'SUA Data'!$D:$D&'SUA Data'!$H:$H&'SUA Data'!$J:$J&'SUA Data'!$F:$F,'SUA Data'!$L:$L)","v":48856.75},{"$f":"_xlfn.XLOOKUP($A133&$C133&$D133&G$3,'SUA Data'!$D:$D&'SUA Data'!$H:$H&'SUA Data'!$J:$J&'SUA Data'!$F:$F,'SUA Data'!$M:$M)","v":"A"},{"$f":"_xlfn.XLOOKUP($A133&$C133&$D133&I$3,'SUA Data'!$D:$D&'SUA Data'!$H:$H&'SUA Data'!$J:$J&'SUA Data'!$F:$F,'SUA Data'!$L:$L)","v":5476.12},{"$f":"_xlfn.XLOOKUP($A133&$C133&$D133&I$3,'SUA Data'!$D:$D&'SUA Data'!$H:$H&'SUA Data'!$J:$J&'SUA Data'!$F:$F,'SUA Data'!$M:$M)","v":"A"},{"$f":"IFERROR(E133/(E133+G133),0)","v":0.19810674293311231},{"$f":"_xlfn.XLOOKUP($A133&$C133&$D133&\"Loss\",'SUA Data'!$D:$D&'SUA Data'!$H:$H&'SUA Data'!$J:$J&'SUA Data'!$F:$F,'SUA Data'!$L:$L)","v":238.09},{"$f":"_xlfn.XLOOKUP($A133&$C133&$D133&\"Loss\",'SUA Data'!$D:$D&'SUA Data'!$H:$H&'SUA Data'!$J:$J&'SUA Data'!$F:$F,'SUA Data'!$M:$M)","v":"E"},"",{"$f":"IF(ISNUMBER(N133),N133,'FFV Coefficients'!$H$10)","v":0.27913047828454707},{"$f":"IF(ISNUMBER(T133),L133*(1-N133),L133)","v":238.09},"E",{"$f":"_xlfn.XLOOKUP($A133&$C133&$D133&R$3,'SUA Data'!$D:$D&'SUA Data'!$H:$H&'SUA Data'!$J:$J&'SUA Data'!$F:$F,'SUA Data'!$L:$L)","v":0},{"$f":"_xlfn.XLOOKUP($A133&$C133&$D133&R$3,'SUA Data'!$D:$D&'SUA Data'!$H:$H&'SUA Data'!$J:$J&'SUA Data'!$F:$F,'SUA Data'!$M:$M)","v":"I"},{"$f":"_xlfn.XLOOKUP($A133&$C133&$D133&T$3,'SUA Data'!$D:$D&'SUA Data'!$H:$H&'SUA Data'!$J:$J&'SUA Data'!$F:$F,'SUA Data'!$L:$L)","v":{"$error":"#N/A"}},{"$f":"_xlfn.XLOOKUP($A133&$C133&$D133&T$3,'SUA Data'!$D:$D&'SUA Data'!$H:$H&'SUA Data'!$J:$J&'SUA Data'!$F:$F,'SUA Data'!$M:$M)","v":{"$error":"#N/A"}},{"$f":"_xlfn.XLOOKUP($A133&$C133&$D133&V$3,'SUA Data'!$D:$D&'SUA Data'!$H:$H&'SUA Data'!$J:$J&'SUA Data'!$F:$F,'SUA Data'!$L:$L)","v":55212.53},{"$f":"_xlfn.XLOOKUP($A133&$C133&$D133&V$3,'SUA Data'!$D:$D&'SUA Data'!$H:$H&'SUA Data'!$J:$J&'SUA Data'!$F:$F,'SUA Data'!$M:$M)","v":"E"},{"$f":"IF(ISNUMBER(T133),V133,V133*(1-O133))","v":39801.030093800095},{"$f":"IF(ISNUMBER(T133),W133,\"AE\")","v":"AE"}]
["Denmark","Peppers","Chillies and peppers, green (Capsicum spp. and Pimenta spp.)",2022,{"$f":"_xlfn.XLOOKUP($A134&$C134&$D134&$E$3,'SUA Data'!$D:$D&'SUA Data'!$H:$H&'SUA Data'!$J:$J&'SUA Data'!$F:$F,'SUA Data'!$L:$L)","v":{"$error":"#N/A"}},{"$f":"_xlfn.XLOOKUP($A134&$C134&$D134&$E$3,'SUA Data'!$D:$D&'SUA Data'!$H:$H&'SUA Data'!$J:$J&'SUA Data'!$F:$F,'SUA Data'!$M:$M)","v":{"$error":"#N/A"}},{"$f":"_xlfn.XLOOKUP($A134&$C134&$D134&G$3,'SUA Data'!$D:$D&'SUA Data'!$H:$H&'SUA Data'!$J:$J&'SUA Data'!$F:$F,'SUA Data'!$L:$L)","v":22136.33},{"$f":"_xlfn.XLOOKUP($A134&$C134&$D134&G$3,'SUA Data'!$D:$D&'SUA Data'!$H:$H&'SUA Data'!$J:$J&'SUA Data'!$F:$F,'SUA Data'!$M:$M)","v":"A"},{"$f":"_xlfn.XLOOKUP($A134&$C134&$D134&I$3,'SUA Data'!$D:$D&'SUA Data'!$H:$H&'SUA Data'!$J:$J&'SUA Data'!$F:$F,'SUA Data'!$L:$L)","v":992.98},{"$f":"_xlfn.XLOOKUP($A134&$C134&$D134&I$3,'SUA Data'!$D:$D&'SUA Data'!$H:$H&'SUA Data'!$J:$J&'SUA Data'!$F:$F,'SUA Data'!$M:$M)","v":"A"},0,{"$f":"_xlfn.XLOOKUP($A134&$C134&$D134&\"Loss\",'SUA Data'!$D:$D&'SUA Data'!$H:$H&'SUA Data'!$J:$J&'SUA Data'!$F:$F,'SUA Data'!$L:$L)","v":664.09},{"$f":"_xlfn.XLOOKUP($A134&$C134&$D134&\"Loss\",'SUA Data'!$D:$D&'SUA Data'!$H:$H&'SUA Data'!$J:$J&'SUA Data'!$F:$F,'SUA Data'!$M:$M)","v":"I"},"",{"$f":"IF(ISNUMBER(N134),N134,'FFV Coefficients'!$H$10)","v":0.27913047828454707},664.09,"I",{"$f":"_xlfn.XLOOKUP($A134&$C134&$D134&R$3,'SUA Data'!$D:$D&'SUA Data'!$H:$H&'SUA Data'!$J:$J&'SUA Data'!$F:$F,'SUA Data'!$L:$L)","v":0},{"$f":"_xlfn.XLOOKUP($A134&$C134&$D134&R$3,'SUA Data'!$D:$D&'SUA Data'!$H:$H&'SUA Data'!$J:$J&'SUA Data'!$F:$F,'SUA Data'!$M:$M)","v":"I"},{"$f":"_xlfn.XLOOKUP($A134&$C134&$D134&T$3,'SUA Data'!$D:$D&'SUA Data'!$H:$H&'SUA Data'!$J:$J&'SUA Data'!$F:$F,'SUA Data'!$L:$L)","v":{"$error":"#N/A"}},{"$f":"_xlfn.XLOOKUP($A134&$C134&$D134&T$3,'SUA Data'!$D:$D&'SUA Data'!$H:$H&'SUA Data'!$J:$J&'SUA Data'!$F:$F,'SUA Data'!$M:$M)","v":{"$error":"#N/A"}},{"$f":"_xlfn.XLOOKUP($A134&$C134&$D134&V$3,'SUA Data'!$D:$D&'SUA Data'!$H:$H&'SUA Data'!$J:$J&'SUA Data'!$F:$F,'SUA Data'!$L:$L)","v":20479.27},{"$f":"_xlfn.XLOOKUP($A134&$C134&$D134&V$3,'SUA Data'!$D:$D&'SUA Data'!$H:$H&'SUA Data'!$J:$J&'SUA Data'!$F:$F,'SUA Data'!$M:$M)","v":"E"},14762.881569981624,"AE"]
["Estonia","Peppers","Chillies and peppers, green (Capsicum spp. and Pimenta spp.)",2022,{"$f":"_xlfn.XLOOKUP($A135&$C135&$D135&$E$3,'SUA Data'!$D:$D&'SUA Data'!$H:$H&'SUA Data'!$J:$J&'SUA Data'!$F:$F,'SUA Data'!$L:$L)","v":0},{"$f":"_xlfn.XLOOKUP($A135&$C135&$D135&$E$3,'SUA Data'!$D:$D&'SUA Data'!$H:$H&'SUA Data'!$J:$J&'SUA Data'!$F:$F,'SUA Data'!$M:$M)","v":"A"},{"$f":"_xlfn.XLOOKUP($A135&$C135&$D135&G$3,'SUA Data'!$D:$D&'SUA Data'!$H:$H&'SUA Data'!$J:$J&'SUA Data'!$F:$F,'SUA Data'!$L:$L)","v":3990.17},{"$f":"_xlfn.XLOOKUP($A135&$C135&$D135&G$3,'SUA Data'!$D:$D&'SUA Data'!$H:$H&'SUA Data'!$J:$J&'SUA Data'!$F:$F,'SUA Data'!$M:$M)","v":"A"},{"$f":"_xlfn.XLOOKUP($A135&$C135&$D135&I$3,'SUA Data'!$D:$D&'SUA Data'!$H:$H&'SUA Data'!$J:$J&'SUA Data'!$F:$F,'SUA Data'!$L:$L)","v":26.08},{"$f":"_xlfn.XLOOKUP($A135&$C135&$D135&I$3,'SUA Data'!$D:$D&'SUA Data'!$H:$H&'SUA Data'!$J:$J&'SUA Data'!$F:$F,'SUA Data'!$M:$M)","v":"A"},0,{"$f":"_xlfn.XLOOKUP($A135&$C135&$D135&\"Loss\",'SUA Data'!$D:$D&'SUA Data'!$H:$H&'SUA Data'!$J:$J&'SUA Data'!$F:$F,'SUA Data'!$L:$L)","v":{"$error":"#N/A"}},{"$f":"_xlfn.XLOOKUP($A135&$C135&$D135&\"Loss\",'SUA Data'!$D:$D&'SUA Data'!$H:$H&'SUA Data'!$J:$J&'SUA Data'!$F:$F,'SUA Data'!$M:$M)","v":{"$error":"#N/A"}},"",{"$f":"IF(ISNUMBER(N135),N135,'FFV Coefficients'!$H$10)","v":0.27913047828454707},{"$error":"#N/A"},{"$error":"#N/A"},{"$f":"_xlfn.XLOOKUP($A135&$C135&$D135&R$3,'SUA Data'!$D:$D&'SUA Data'!$H:$H&'SUA Data'!$J:$J&'SUA Data'!$F:$F,'SUA Data'!$L:$L)","v":0},{"$f":"_xlfn.XLOOKUP($A135&$C135&$D135&R$3,'SUA Data'!$D:$D&'SUA Data'!$H:$H&'SUA Data'!$J:$J&'SUA Data'!$F:$F,'SUA Data'!$M:$M)","v":"I"},{"$f":"_xlfn.XLOOKUP($A135&$C135&$D135&T$3,'SUA Data'!$D:$D&'SUA Data'!$H:$H&'SUA Data'!$J:$J&'SUA Data'!$F:$F,'SUA Data'!$L:$L)","v":{"$error":"#N/A"}},{"$f":"_xlfn.XLOOKUP($A135&$C135&$D135&T$3,'SUA Data'!$D:$D&'SUA Data'!$H:$H&'SUA Data'!$J:$J&'SUA Data'!$F:$F,'SUA Data'!$M:$M)","v":{"$error":"#N/A"}},{"$f":"_xlfn.XLOOKUP($A135&$C135&$D135&V$3,'SUA Data'!$D:$D&'SUA Data'!$H:$H&'SUA Data'!$J:$J&'SUA Data'!$F:$F,'SUA Data'!$L:$L)","v":3964.09},{"$f":"_xlfn.XLOOKUP($A135&$C135&$D135&V$3,'SUA Data'!$D:$D&'SUA Data'!$H:$H&'SUA Data'!$J:$J&'SUA Data'!$F:$F,'SUA Data'!$M:$M)","v":"E"},2857.5916623370099,"AE"]
["Finland","Peppers","Chillies and peppers, green (Capsicum spp. and Pimenta spp.)",2022,{"$f":"_xlfn.XLOOKUP($A136&$C136&$D136&$E$3,'SUA Data'!$D:$D&'SUA Data'!$H:$H&'SUA Data'!$J:$J&'SUA Data'!$F:$F,'SUA Data'!$L:$L)","v":1340},{"$f":"_xlfn.XLOOKUP($A136&$C136&$D136&$E$3,'SUA Data'!$D:$D&'SUA Data'!$H:$H&'SUA Data'!$J:$J&'SUA Data'!$F:$F,'SUA Data'!$M:$M)","v":"A"},{"$f":"_xlfn.XLOOKUP($A136&$C136&$D136&G$3,'SUA Data'!$D:$D&'SUA Data'!$H:$H&'SUA Data'!$J:$J&'SUA Data'!$F:$F,'SUA Data'!$L:$L)","v":15233.89},{"$f":"_xlfn.XLOOKUP($A136&$C136&$D136&G$3,'SUA Data'!$D:$D&'SUA Data'!$H:$H&'SUA Data'!$J:$J&'SUA Data'!$F:$F,'SUA Data'!$M:$M)","v":"A"},{"$f":"_xlfn.XLOOKUP($A136&$C136&$D136&I$3,'SUA Data'!$D:$D&'SUA Data'!$H:$H&'SUA Data'!$J:$J&'SUA Data'!$F:$F,'SUA Data'!$L:$L)","v":26.88},{"$f":"_xlfn.XLOOKUP($A136&$C136&$D136&I$3,'SUA Data'!$D:$D&'SUA Data'!$H:$H&'SUA Data'!$J:$J&'SUA Data'!$F:$F,'SUA Data'!$M:$M)","v":"A"},8.0850059943682509E-2,{"$f":"_xlfn.XLOOKUP($A136&$C136&$D136&\"Loss\",'SUA Data'!$D:$D&'SUA Data'!$H:$H&'SUA Data'!$J:$J&'SUA Data'!$F:$F,'SUA Data'!$L:$L)","v":1657.39},{"$f":"_xlfn.XLOOKUP($A136&$C136&$D136&\"Loss\",'SUA Data'!$D:$D&'SUA Data'!$H:$H&'SUA Data'!$J:$J&'SUA Data'!$F:$F,'SUA Data'!$M:$M)","v":"I"},"",{"$f":"IF(ISNUMBER(N136),N136,'FFV Coefficients'!$H$10)","v":0.27913047828454707},1657.39,"I",{"$f":"_xlfn.XLOOKUP($A136&$C136&$D136&R$3,'SUA Data'!$D:$D&'SUA Data'!$H:$H&'SUA Data'!$J:$J&'SUA Data'!$F:$F,'SUA Data'!$L:$L)","v":0},{"$f":"_xlfn.XLOOKUP($A136&$C136&$D136&R$3,'SUA Data'!$D:$D&'SUA Data'!$H:$H&'SUA Data'!$J:$J&'SUA Data'!$F:$F,'SUA Data'!$M:$M)","v":"I"},{"$f":"_xlfn.XLOOKUP($A136&$C136&$D136&T$3,'SUA Data'!$D:$D&'SUA Data'!$H:$H&'SUA Data'!$J:$J&'SUA Data'!$F:$F,'SUA Data'!$L:$L)","v":{"$error":"#N/A"}},{"$f":"_xlfn.XLOOKUP($A136&$C136&$D136&T$3,'SUA Data'!$D:$D&'SUA Data'!$H:$H&'SUA Data'!$J:$J&'SUA Data'!$F:$F,'SUA Data'!$M:$M)","v":{"$error":"#N/A"}},{"$f":"_xlfn.XLOOKUP($A136&$C136&$D136&V$3,'SUA Data'!$D:$D&'SUA Data'!$H:$H&'SUA Data'!$J:$J&'SUA Data'!$F:$F,'SUA Data'!$L:$L)","v":14889.62},{"$f":"_xlfn.XLOOKUP($A136&$C136&$D136&V$3,'SUA Data'!$D:$D&'SUA Data'!$H:$H&'SUA Data'!$J:$J&'SUA Data'!$F:$F,'SUA Data'!$M:$M)","v":"E"},10733.473247924843,"AE"]
["France","Peppers","Chillies and peppers, green (Capsicum spp. and Pimenta spp.)",2022,{"$f":"_xlfn.XLOOKUP($A137&$C137&$D137&$E$3,'SUA Data'!$D:$D&'SUA Data'!$H:$H&'SUA Data'!$J:$J&'SUA Data'!$F:$F,'SUA Data'!$L:$L)","v":26440},{"$f":"_xlfn.XLOOKUP($A137&$C137&$D137&$E$3,'SUA Data'!$D:$D&'SUA Data'!$H:$H&'SUA Data'!$J:$J&'SUA Data'!$F:$F,'SUA Data'!$M:$M)","v":"A"},{"$f":"_xlfn.XLOOKUP($A137&$C137&$D137&G$3,'SUA Data'!$D:$D&'SUA Data'!$H:$H&'SUA Data'!$J:$J&'SUA Data'!$F:$F,'SUA Data'!$L:$L)","v":188491.61},{"$f":"_xlfn.XLOOKUP($A137&$C137&$D137&G$3,'SUA Data'!$D:$D&'SUA Data'!$H:$H&'SUA Data'!$J:$J&'SUA Data'!$F:$F,'SUA Data'!$M:$M)","v":"A"},{"$f":"_xlfn.XLOOKUP($A137&$C137&$D137&I$3,'SUA Data'!$D:$D&'SUA Data'!$H:$H&'SUA Data'!$J:$J&'SUA Data'!$F:$F,'SUA Data'!$L:$L)","v":51723.42},{"$f":"_xlfn.XLOOKUP($A137&$C137&$D137&I$3,'SUA Data'!$D:$D&'SUA Data'!$H:$H&'SUA Data'!$J:$J&'SUA Data'!$F:$F,'SUA Data'!$M:$M)","v":"A"},0.12301587467753115,{"$f":"_xlfn.XLOOKUP($A137&$C137&$D137&\"Loss\",'SUA Data'!$D:$D&'SUA Data'!$H:$H&'SUA Data'!$J:$J&'SUA Data'!$F:$F,'SUA Data'!$L:$L)","v":32239.74},{"$f":"_xlfn.XLOOKUP($A137&$C137&$D137&\"Loss\",'SUA Data'!$D:$D&'SUA Data'!$H:$H&'SUA Data'!$J:$J&'SUA Data'!$F:$F,'SUA Data'!$M:$M)","v":"I"},"",{"$f":"IF(ISNUMBER(N137),N137,'FFV Coefficients'!$H$10)","v":0.27913047828454707},32239.74,"I",{"$f":"_xlfn.XLOOKUP($A137&$C137&$D137&R$3,'SUA Data'!$D:$D&'SUA Data'!$H:$H&'SUA Data'!$J:$J&'SUA Data'!$F:$F,'SUA Data'!$L:$L)","v":0},{"$f":"_xlfn.XLOOKUP($A137&$C137&$D137&R$3,'SUA Data'!$D:$D&'SUA Data'!$H:$H&'SUA Data'!$J:$J&'SUA Data'!$F:$F,'SUA Data'!$M:$M)","v":"I"},{"$f":"_xlfn.XLOOKUP($A137&$C137&$D137&T$3,'SUA Data'!$D:$D&'SUA Data'!$H:$H&'SUA Data'!$J:$J&'SUA Data'!$F:$F,'SUA Data'!$L:$L)","v":{"$error":"#N/A"}},{"$f":"_xlfn.XLOOKUP($A137&$C137&$D137&T$3,'SUA Data'!$D:$D&'SUA Data'!$H:$H&'SUA Data'!$J:$J&'SUA Data'!$F:$F,'SUA Data'!$M:$M)","v":{"$error":"#N/A"}},{"$f":"_xlfn.XLOOKUP($A137&$C137&$D137&V$3,'SUA Data'!$D:$D&'SUA Data'!$H:$H&'SUA Data'!$J:$J&'SUA Data'!$F:$F,'SUA Data'!$L:$L)","v":130968.45},{"$f":"_xlfn.XLOOKUP($A137&$C137&$D137&V$3,'SUA Data'!$D:$D&'SUA Data'!$H:$H&'SUA Data'!$J:$J&'SUA Data'!$F:$F,'SUA Data'!$M:$M)","v":"E"},94411.163911314216,"AE"]
["Germany","Peppers","Chillies and peppers, green (Capsicum spp. and Pimenta spp.)",2022,{"$f":"_xlfn.XLOOKUP($A138&$C138&$D138&$E$3,'SUA Data'!$D:$D&'SUA Data'!$H:$H&'SUA Data'!$J:$J&'SUA Data'!$F:$F,'SUA Data'!$L:$L)","v":16950},{"$f":"_xlfn.XLOOKUP($A138&$C138&$D138&$E$3,'SUA Data'!$D:$D&'SUA Data'!$H:$H&'SUA Data'!$J:$J&'SUA Data'!$F:$F,'SUA Data'!$M:$M)","v":"A"},{"$f":"_xlfn.XLOOKUP($A138&$C138&$D138&G$3,'SUA Data'!$D:$D&'SUA Data'!$H:$H&'SUA Data'!$J:$J&'SUA Data'!$F:$F,'SUA Data'!$L:$L)","v":403706.11},{"$f":"_xlfn.XLOOKUP($A138&$C138&$D138&G$3,'SUA Data'!$D:$D&'SUA Data'!$H:$H&'SUA Data'!$J:$J&'SUA Data'!$F:$F,'SUA Data'!$M:$M)","v":"A"},{"$f":"_xlfn.XLOOKUP($A138&$C138&$D138&I$3,'SUA Data'!$D:$D&'SUA Data'!$H:$H&'SUA Data'!$J:$J&'SUA Data'!$F:$F,'SUA Data'!$L:$L)","v":16038.39},{"$f":"_xlfn.XLOOKUP($A138&$C138&$D138&I$3,'SUA Data'!$D:$D&'SUA Data'!$H:$H&'SUA Data'!$J:$J&'SUA Data'!$F:$F,'SUA Data'!$M:$M)","v":"A"},4.0294196606344312E-2,{"$f":"_xlfn.XLOOKUP($A138&$C138&$D138&\"Loss\",'SUA Data'!$D:$D&'SUA Data'!$H:$H&'SUA Data'!$J:$J&'SUA Data'!$F:$F,'SUA Data'!$L:$L)","v":42065.61},{"$f":"_xlfn.XLOOKUP($A138&$C138&$D138&\"Loss\",'SUA Data'!$D:$D&'SUA Data'!$H:$H&'SUA Data'!$J:$J&'SUA Data'!$F:$F,'SUA Data'!$M:$M)","v":"I"},"",{"$f":"IF(ISNUMBER(N138),N138,'FFV Coefficients'!$H$10)","v":0.27913047828454707},42065.61,"I",{"$f":"_xlfn.XLOOKUP($A138&$C138&$D138&R$3,'SUA Data'!$D:$D&'SUA Data'!$H:$H&'SUA Data'!$J:$J&'SUA Data'!$F:$F,'SUA Data'!$L:$L)","v":0},{"$f":"_xlfn.XLOOKUP($A138&$C138&$D138&R$3,'SUA Data'!$D:$D&'SUA Data'!$H:$H&'SUA Data'!$J:$J&'SUA Data'!$F:$F,'SUA Data'!$M:$M)","v":"I"},{"$f":"_xlfn.XLOOKUP($A138&$C138&$D138&T$3,'SUA Data'!$D:$D&'SUA Data'!$H:$H&'SUA Data'!$J:$J&'SUA Data'!$F:$F,'SUA Data'!$L:$L)","v":{"$error":"#N/A"}},{"$f":"_xlfn.XLOOKUP($A138&$C138&$D138&T$3,'SUA Data'!$D:$D&'SUA Data'!$H:$H&'SUA Data'!$J:$J&'SUA Data'!$F:$F,'SUA Data'!$M:$M)","v":{"$error":"#N/A"}},{"$f":"_xlfn.XLOOKUP($A138&$C138&$D138&V$3,'SUA Data'!$D:$D&'SUA Data'!$H:$H&'SUA Data'!$J:$J&'SUA Data'!$F:$F,'SUA Data'!$L:$L)","v":362552.11},{"$f":"_xlfn.XLOOKUP($A138&$C138&$D138&V$3,'SUA Data'!$D:$D&'SUA Data'!$H:$H&'SUA Data'!$J:$J&'SUA Data'!$F:$F,'SUA Data'!$M:$M)","v":"E"},261352.76613262828,"AE"]
["Greece","Peppers","Chillies and peppers, green (Capsicum spp. and Pimenta spp.)",2022,{"$f":"_xlfn.XLOOKUP($A139&$C139&$D139&$E$3,'SUA Data'!$D:$D&'SUA Data'!$H:$H&'SUA Data'!$J:$J&'SUA Data'!$F:$F,'SUA Data'!$L:$L)","v":135810},{"$f":"_xlfn.XLOOKUP($A139&$C139&$D139&$E$3,'SUA Data'!$D:$D&'SUA Data'!$H:$H&'SUA Data'!$J:$J&'SUA Data'!$F:$F,'SUA Data'!$M:$M)","v":"A"},{"$f":"_xlfn.XLOOKUP($A139&$C139&$D139&G$3,'SUA Data'!$D:$D&'SUA Data'!$H:$H&'SUA Data'!$J:$J&'SUA Data'!$F:$F,'SUA Data'!$L:$L)","v":6844.75},{"$f":"_xlfn.XLOOKUP($A139&$C139&$D139&G$3,'SUA Data'!$D:$D&'SUA Data'!$H:$H&'SUA Data'!$J:$J&'SUA Data'!$F:$F,'SUA Data'!$M:$M)","v":"A"},{"$f":"_xlfn.XLOOKUP($A139&$C139&$D139&I$3,'SUA Data'!$D:$D&'SUA Data'!$H:$H&'SUA Data'!$J:$J&'SUA Data'!$F:$F,'SUA Data'!$L:$L)","v":16478.84},{"$f":"_xlfn.XLOOKUP($A139&$C139&$D139&I$3,'SUA Data'!$D:$D&'SUA Data'!$H:$H&'SUA Data'!$J:$J&'SUA Data'!$F:$F,'SUA Data'!$M:$M)","v":"A"},0.95201877259607548,{"$f":"_xlfn.XLOOKUP($A139&$C139&$D139&\"Loss\",'SUA Data'!$D:$D&'SUA Data'!$H:$H&'SUA Data'!$J:$J&'SUA Data'!$F:$F,'SUA Data'!$L:$L)","v":13416.61},{"$f":"_xlfn.XLOOKUP($A139&$C139&$D139&\"Loss\",'SUA Data'!$D:$D&'SUA Data'!$H:$H&'SUA Data'!$J:$J&'SUA Data'!$F:$F,'SUA Data'!$M:$M)","v":"I"},"",{"$f":"IF(ISNUMBER(N139),N139,'FFV Coefficients'!$H$10)","v":0.27913047828454707},13416.61,"I",{"$f":"_xlfn.XLOOKUP($A139&$C139&$D139&R$3,'SUA Data'!$D:$D&'SUA Data'!$H:$H&'SUA Data'!$J:$J&'SUA Data'!$F:$F,'SUA Data'!$L:$L)","v":0},{"$f":"_xlfn.XLOOKUP($A139&$C139&$D139&R$3,'SUA Data'!$D:$D&'SUA Data'!$H:$H&'SUA Data'!$J:$J&'SUA Data'!$F:$F,'SUA Data'!$M:$M)","v":"I"},{"$f":"_xlfn.XLOOKUP($A139&$C139&$D139&T$3,'SUA Data'!$D:$D&'SUA Data'!$H:$H&'SUA Data'!$J:$J&'SUA Data'!$F:$F,'SUA Data'!$L:$L)","v":{"$error":"#N/A"}},{"$f":"_xlfn.XLOOKUP($A139&$C139&$D139&T$3,'SUA Data'!$D:$D&'SUA Data'!$H:$H&'SUA Data'!$J:$J&'SUA Data'!$F:$F,'SUA Data'!$M:$M)","v":{"$error":"#N/A"}},{"$f":"_xlfn.XLOOKUP($A139&$C139&$D139&V$3,'SUA Data'!$D:$D&'SUA Data'!$H:$H&'SUA Data'!$J:$J&'SUA Data'!$F:$F,'SUA Data'!$L:$L)","v":111466.7},{"$f":"_xlfn.XLOOKUP($A139&$C139&$D139&V$3,'SUA Data'!$D:$D&'SUA Data'!$H:$H&'SUA Data'!$J:$J&'SUA Data'!$F:$F,'SUA Data'!$M:$M)","v":"E"},80352.946716199876,"AE"]
["Hungary","Peppers","Chillies and peppers, green (Capsicum spp. and Pimenta spp.)",2022,{"$f":"_xlfn.XLOOKUP($A140&$C140&$D140&$E$3,'SUA Data'!$D:$D&'SUA Data'!$H:$H&'SUA Data'!$J:$J&'SUA Data'!$F:$F,'SUA Data'!$L:$L)","v":84990},{"$f":"_xlfn.XLOOKUP($A140&$C140&$D140&$E$3,'SUA Data'!$D:$D&'SUA Data'!$H:$H&'SUA Data'!$J:$J&'SUA Data'!$F:$F,'SUA Data'!$M:$M)","v":"A"},{"$f":"_xlfn.XLOOKUP($A140&$C140&$D140&G$3,'SUA Data'!$D:$D&'SUA Data'!$H:$H&'SUA Data'!$J:$J&'SUA Data'!$F:$F,'SUA Data'!$L:$L)","v":12162.43},{"$f":"_xlfn.XLOOKUP($A140&$C140&$D140&G$3,'SUA Data'!$D:$D&'SUA Data'!$H:$H&'SUA Data'!$J:$J&'SUA Data'!$F:$F,'SUA Data'!$M:$M)","v":"A"},{"$f":"_xlfn.XLOOKUP($A140&$C140&$D140&I$3,'SUA Data'!$D:$D&'SUA Data'!$H:$H&'SUA Data'!$J:$J&'SUA Data'!$F:$F,'SUA Data'!$L:$L)","v":20048.27},{"$f":"_xlfn.XLOOKUP($A140&$C140&$D140&I$3,'SUA Data'!$D:$D&'SUA Data'!$H:$H&'SUA Data'!$J:$J&'SUA Data'!$F:$F,'SUA Data'!$M:$M)","v":"A"},0.87481085136007408,{"$f":"_xlfn.XLOOKUP($A140&$C140&$D140&\"Loss\",'SUA Data'!$D:$D&'SUA Data'!$H:$H&'SUA Data'!$J:$J&'SUA Data'!$F:$F,'SUA Data'!$L:$L)","v":3600.59},{"$f":"_xlfn.XLOOKUP($A140&$C140&$D140&\"Loss\",'SUA Data'!$D:$D&'SUA Data'!$H:$H&'SUA Data'!$J:$J&'SUA Data'!$F:$F,'SUA Data'!$M:$M)","v":"I"},0.38584143838672263,{"$f":"IF(ISNUMBER(N140),N140,'FFV Coefficients'!$H$10)","v":0.38584143838672263},2211.3331753591506,"AE",{"$f":"_xlfn.XLOOKUP($A140&$C140&$D140&R$3,'SUA Data'!$D:$D&'SUA Data'!$H:$H&'SUA Data'!$J:$J&'SUA Data'!$F:$F,'SUA Data'!$L:$L)","v":0},{"$f":"_xlfn.XLOOKUP($A140&$C140&$D140&R$3,'SUA Data'!$D:$D&'SUA Data'!$H:$H&'SUA Data'!$J:$J&'SUA Data'!$F:$F,'SUA Data'!$M:$M)","v":"I"},{"$f":"_xlfn.XLOOKUP($A140&$C140&$D140&T$3,'SUA Data'!$D:$D&'SUA Data'!$H:$H&'SUA Data'!$J:$J&'SUA Data'!$F:$F,'SUA Data'!$L:$L)","v":29749.98},{"$f":"_xlfn.XLOOKUP($A140&$C140&$D140&T$3,'SUA Data'!$D:$D&'SUA Data'!$H:$H&'SUA Data'!$J:$J&'SUA Data'!$F:$F,'SUA Data'!$M:$M)","v":"E"},{"$f":"_xlfn.XLOOKUP($A140&$C140&$D140&V$3,'SUA Data'!$D:$D&'SUA Data'!$H:$H&'SUA Data'!$J:$J&'SUA Data'!$F:$F,'SUA Data'!$L:$L)","v":43753.59},{"$f":"_xlfn.XLOOKUP($A140&$C140&$D140&V$3,'SUA Data'!$D:$D&'SUA Data'!$H:$H&'SUA Data'!$J:$J&'SUA Data'!$F:$F,'SUA Data'!$M:$M)","v":"E"},43753.59,"E"]
["Iceland","Peppers","Chillies and peppers, green (Capsicum spp. and Pimenta spp.)",2022,{"$f":"_xlfn.XLOOKUP($A141&$C141&$D141&$E$3,'SUA Data'!$D:$D&'SUA Data'!$H:$H&'SUA Data'!$J:$J&'SUA Data'!$F:$F,'SUA Data'!$L:$L)","v":{"$error":"#N/A"}},{"$f":"_xlfn.XLOOKUP($A141&$C141&$D141&$E$3,'SUA Data'!$D:$D&'SUA Data'!$H:$H&'SUA Data'!$J:$J&'SUA Data'!$F:$F,'SUA Data'!$M:$M)","v":{"$error":"#N/A"}},{"$f":"_xlfn.XLOOKUP($A141&$C141&$D141&G$3,'SUA Data'!$D:$D&'SUA Data'!$H:$H&'SUA Data'!$J:$J&'SUA Data'!$F:$F,'SUA Data'!$L:$L)","v":1586.17},{"$f":"_xlfn.XLOOKUP($A141&$C141&$D141&G$3,'SUA Data'!$D:$D&'SUA Data'!$H:$H&'SUA Data'!$J:$J&'SUA Data'!$F:$F,'SUA Data'!$M:$M)","v":"A"},{"$f":"_xlfn.XLOOKUP($A141&$C141&$D141&I$3,'SUA Data'!$D:$D&'SUA Data'!$H:$H&'SUA Data'!$J:$J&'SUA Data'!$F:$F,'SUA Data'!$L:$L)","v":0.65},{"$f":"_xlfn.XLOOKUP($A141&$C141&$D141&I$3,'SUA Data'!$D:$D&'SUA Data'!$H:$H&'SUA Data'!$J:$J&'SUA Data'!$F:$F,'SUA Data'!$M:$M)","v":"A"},0,{"$f":"_xlfn.XLOOKUP($A141&$C141&$D141&\"Loss\",'SUA Data'!$D:$D&'SUA Data'!$H:$H&'SUA Data'!$J:$J&'SUA Data'!$F:$F,'SUA Data'!$L:$L)","v":{"$error":"#N/A"}},{"$f":"_xlfn.XLOOKUP($A141&$C141&$D141&\"Loss\",'SUA Data'!$D:$D&'SUA Data'!$H:$H&'SUA Data'!$J:$J&'SUA Data'!$F:$F,'SUA Data'!$M:$M)","v":{"$error":"#N/A"}},"",{"$f":"IF(ISNUMBER(N141),N141,'FFV Coefficients'!$H$10)","v":0.27913047828454707},{"$error":"#N/A"},{"$error":"#N/A"},{"$f":"_xlfn.XLOOKUP($A141&$C141&$D141&R$3,'SUA Data'!$D:$D&'SUA Data'!$H:$H&'SUA Data'!$J:$J&'SUA Data'!$F:$F,'SUA Data'!$L:$L)","v":0},{"$f":"_xlfn.XLOOKUP($A141&$C141&$D141&R$3,'SUA Data'!$D:$D&'SUA Data'!$H:$H&'SUA Data'!$J:$J&'SUA Data'!$F:$F,'SUA Data'!$M:$M)","v":"I"},{"$f":"_xlfn.XLOOKUP($A141&$C141&$D141&T$3,'SUA Data'!$D:$D&'SUA Data'!$H:$H&'SUA Data'!$J:$J&'SUA Data'!$F:$F,'SUA Data'!$L:$L)","v":{"$error":"#N/A"}},{"$f":"_xlfn.XLOOKUP($A141&$C141&$D141&T$3,'SUA Data'!$D:$D&'SUA Data'!$H:$H&'SUA Data'!$J:$J&'SUA Data'!$F:$F,'SUA Data'!$M:$M)","v":{"$error":"#N/A"}},{"$f":"_xlfn.XLOOKUP($A141&$C141&$D141&V$3,'SUA Data'!$D:$D&'SUA Data'!$H:$H&'SUA Data'!$J:$J&'SUA Data'!$F:$F,'SUA Data'!$L:$L)","v":1585.52},{"$f":"_xlfn.XLOOKUP($A141&$C141&$D141&V$3,'SUA Data'!$D:$D&'SUA Data'!$H:$H&'SUA Data'!$J:$J&'SUA Data'!$F:$F,'SUA Data'!$M:$M)","v":"E"},1142.9530440702849,"AE"]
["Ireland","Peppers","Chillies and peppers, green (Capsicum spp. and Pimenta spp.)",2022,{"$f":"_xlfn.XLOOKUP($A142&$C142&$D142&$E$3,'SUA Data'!$D:$D&'SUA Data'!$H:$H&'SUA Data'!$J:$J&'SUA Data'!$F:$F,'SUA Data'!$L:$L)","v":{"$error":"#N/A"}},{"$f":"_xlfn.XLOOKUP($A142&$C142&$D142&$E$3,'SUA Data'!$D:$D&'SUA Data'!$H:$H&'SUA Data'!$J:$J&'SUA Data'!$F:$F,'SUA Data'!$M:$M)","v":{"$error":"#N/A"}},{"$f":"_xlfn.XLOOKUP($A142&$C142&$D142&G$3,'SUA Data'!$D:$D&'SUA Data'!$H:$H&'SUA Data'!$J:$J&'SUA Data'!$F:$F,'SUA Data'!$L:$L)","v":22947.78},{"$f":"_xlfn.XLOOKUP($A142&$C142&$D142&G$3,'SUA Data'!$D:$D&'SUA Data'!$H:$H&'SUA Data'!$J:$J&'SUA Data'!$F:$F,'SUA Data'!$M:$M)","v":"A"},{"$f":"_xlfn.XLOOKUP($A142&$C142&$D142&I$3,'SUA Data'!$D:$D&'SUA Data'!$H:$H&'SUA Data'!$J:$J&'SUA Data'!$F:$F,'SUA Data'!$L:$L)","v":381.3},{"$f":"_xlfn.XLOOKUP($A142&$C142&$D142&I$3,'SUA Data'!$D:$D&'SUA Data'!$H:$H&'SUA Data'!$J:$J&'SUA Data'!$F:$F,'SUA Data'!$M:$M)","v":"A"},0,{"$f":"_xlfn.XLOOKUP($A142&$C142&$D142&\"Loss\",'SUA Data'!$D:$D&'SUA Data'!$H:$H&'SUA Data'!$J:$J&'SUA Data'!$F:$F,'SUA Data'!$L:$L)","v":2294.7800000000002},{"$f":"_xlfn.XLOOKUP($A142&$C142&$D142&\"Loss\",'SUA Data'!$D:$D&'SUA Data'!$H:$H&'SUA Data'!$J:$J&'SUA Data'!$F:$F,'SUA Data'!$M:$M)","v":"I"},"",{"$f":"IF(ISNUMBER(N142),N142,'FFV Coefficients'!$H$10)","v":0.27913047828454707},2294.7800000000002,"I",{"$f":"_xlfn.XLOOKUP($A142&$C142&$D142&R$3,'SUA Data'!$D:$D&'SUA Data'!$H:$H&'SUA Data'!$J:$J&'SUA Data'!$F:$F,'SUA Data'!$L:$L)","v":0},{"$f":"_xlfn.XLOOKUP($A142&$C142&$D142&R$3,'SUA Data'!$D:$D&'SUA Data'!$H:$H&'SUA Data'!$J:$J&'SUA Data'!$F:$F,'SUA Data'!$M:$M)","v":"I"},{"$f":"_xlfn.XLOOKUP($A142&$C142&$D142&T$3,'SUA Data'!$D:$D&'SUA Data'!$H:$H&'SUA Data'!$J:$J&'SUA Data'!$F:$F,'SUA Data'!$L:$L)","v":{"$error":"#N/A"}},{"$f":"_xlfn.XLOOKUP($A142&$C142&$D142&T$3,'SUA Data'!$D:$D&'SUA Data'!$H:$H&'SUA Data'!$J:$J&'SUA Data'!$F:$F,'SUA Data'!$M:$M)","v":{"$error":"#N/A"}},{"$f":"_xlfn.XLOOKUP($A142&$C142&$D142&V$3,'SUA Data'!$D:$D&'SUA Data'!$H:$H&'SUA Data'!$J:$J&'SUA Data'!$F:$F,'SUA Data'!$L:$L)","v":20271.7},{"$f":"_xlfn.XLOOKUP($A142&$C142&$D142&V$3,'SUA Data'!$D:$D&'SUA Data'!$H:$H&'SUA Data'!$J:$J&'SUA Data'!$F:$F,'SUA Data'!$M:$M)","v":"E"},14613.250683359147,"AE"]
["Italy","Peppers","Chillies and peppers, green (Capsicum spp. and Pimenta spp.)",2022,{"$f":"_xlfn.XLOOKUP($A143&$C143&$D143&$E$3,'SUA Data'!$D:$D&'SUA Data'!$H:$H&'SUA Data'!$J:$J&'SUA Data'!$F:$F,'SUA Data'!$L:$L)","v":232680},{"$f":"_xlfn.XLOOKUP($A143&$C143&$D143&$E$3,'SUA Data'!$D:$D&'SUA Data'!$H:$H&'SUA Data'!$J:$J&'SUA Data'!$F:$F,'SUA Data'!$M:$M)","v":"A"},{"$f":"_xlfn.XLOOKUP($A143&$C143&$D143&G$3,'SUA Data'!$D:$D&'SUA Data'!$H:$H&'SUA Data'!$J:$J&'SUA Data'!$F:$F,'SUA Data'!$L:$L)","v":91136.1},{"$f":"_xlfn.XLOOKUP($A143&$C143&$D143&G$3,'SUA Data'!$D:$D&'SUA Data'!$H:$H&'SUA Data'!$J:$J&'SUA Data'!$F:$F,'SUA Data'!$M:$M)","v":"A"},{"$f":"_xlfn.XLOOKUP($A143&$C143&$D143&I$3,'SUA Data'!$D:$D&'SUA Data'!$H:$H&'SUA Data'!$J:$J&'SUA Data'!$F:$F,'SUA Data'!$L:$L)","v":13072.1},{"$f":"_xlfn.XLOOKUP($A143&$C143&$D143&I$3,'SUA Data'!$D:$D&'SUA Data'!$H:$H&'SUA Data'!$J:$J&'SUA Data'!$F:$F,'SUA Data'!$M:$M)","v":"A"},0.71855599520839153,{"$f":"_xlfn.XLOOKUP($A143&$C143&$D143&\"Loss\",'SUA Data'!$D:$D&'SUA Data'!$H:$H&'SUA Data'!$J:$J&'SUA Data'!$F:$F,'SUA Data'!$L:$L)","v":38841.94},{"$f":"_xlfn.XLOOKUP($A143&$C143&$D143&\"Loss\",'SUA Data'!$D:$D&'SUA Data'!$H:$H&'SUA Data'!$J:$J&'SUA Data'!$F:$F,'SUA Data'!$M:$M)","v":"I"},"",{"$f":"IF(ISNUMBER(N143),N143,'FFV Coefficients'!$H$10)","v":0.27913047828454707},38841.94,"I",{"$f":"_xlfn.XLOOKUP($A143&$C143&$D143&R$3,'SUA Data'!$D:$D&'SUA Data'!$H:$H&'SUA Data'!$J:$J&'SUA Data'!$F:$F,'SUA Data'!$L:$L)","v":0},{"$f":"_xlfn.XLOOKUP($A143&$C143&$D143&R$3,'SUA Data'!$D:$D&'SUA Data'!$H:$H&'SUA Data'!$J:$J&'SUA Data'!$F:$F,'SUA Data'!$M:$M)","v":"I"},{"$f":"_xlfn.XLOOKUP($A143&$C143&$D143&T$3,'SUA Data'!$D:$D&'SUA Data'!$H:$H&'SUA Data'!$J:$J&'SUA Data'!$F:$F,'SUA Data'!$L:$L)","v":{"$error":"#N/A"}},{"$f":"_xlfn.XLOOKUP($A143&$C143&$D143&T$3,'SUA Data'!$D:$D&'SUA Data'!$H:$H&'SUA Data'!$J:$J&'SUA Data'!$F:$F,'SUA Data'!$M:$M)","v":{"$error":"#N/A"}},{"$f":"_xlfn.XLOOKUP($A143&$C143&$D143&V$3,'SUA Data'!$D:$D&'SUA Data'!$H:$H&'SUA Data'!$J:$J&'SUA Data'!$F:$F,'SUA Data'!$L:$L)","v":271902.06},{"$f":"_xlfn.XLOOKUP($A143&$C143&$D143&V$3,'SUA Data'!$D:$D&'SUA Data'!$H:$H&'SUA Data'!$J:$J&'SUA Data'!$F:$F,'SUA Data'!$M:$M)","v":"E"},196005.90794564638,"AE"]
["Latvia","Peppers","Chillies and peppers, green (Capsicum spp. and Pimenta spp.)",2022,{"$f":"_xlfn.XLOOKUP($A144&$C144&$D144&$E$3,'SUA Data'!$D:$D&'SUA Data'!$H:$H&'SUA Data'!$J:$J&'SUA Data'!$F:$F,'SUA Data'!$L:$L)","v":{"$error":"#N/A"}},{"$f":"_xlfn.XLOOKUP($A144&$C144&$D144&$E$3,'SUA Data'!$D:$D&'SUA Data'!$H:$H&'SUA Data'!$J:$J&'SUA Data'!$F:$F,'SUA Data'!$M:$M)","v":{"$error":"#N/A"}},{"$f":"_xlfn.XLOOKUP($A144&$C144&$D144&G$3,'SUA Data'!$D:$D&'SUA Data'!$H:$H&'SUA Data'!$J:$J&'SUA Data'!$F:$F,'SUA Data'!$L:$L)","v":6707.62},{"$f":"_xlfn.XLOOKUP($A144&$C144&$D144&G$3,'SUA Data'!$D:$D&'SUA Data'!$H:$H&'SUA Data'!$J:$J&'SUA Data'!$F:$F,'SUA Data'!$M:$M)","v":"A"},{"$f":"_xlfn.XLOOKUP($A144&$C144&$D144&I$3,'SUA Data'!$D:$D&'SUA Data'!$H:$H&'SUA Data'!$J:$J&'SUA Data'!$F:$F,'SUA Data'!$L:$L)","v":1658.39},{"$f":"_xlfn.XLOOKUP($A144&$C144&$D144&I$3,'SUA Data'!$D:$D&'SUA Data'!$H:$H&'SUA Data'!$J:$J&'SUA Data'!$F:$F,'SUA Data'!$M:$M)","v":"A"},0,{"$f":"_xlfn.XLOOKUP($A144&$C144&$D144&\"Loss\",'SUA Data'!$D:$D&'SUA Data'!$H:$H&'SUA Data'!$J:$J&'SUA Data'!$F:$F,'SUA Data'!$L:$L)","v":{"$error":"#N/A"}},{"$f":"_xlfn.XLOOKUP($A144&$C144&$D144&\"Loss\",'SUA Data'!$D:$D&'SUA Data'!$H:$H&'SUA Data'!$J:$J&'SUA Data'!$F:$F,'SUA Data'!$M:$M)","v":{"$error":"#N/A"}},"",{"$f":"IF(ISNUMBER(N144),N144,'FFV Coefficients'!$H$10)","v":0.27913047828454707},{"$error":"#N/A"},{"$error":"#N/A"},{"$f":"_xlfn.XLOOKUP($A144&$C144&$D144&R$3,'SUA Data'!$D:$D&'SUA Data'!$H:$H&'SUA Data'!$J:$J&'SUA Data'!$F:$F,'SUA Data'!$L:$L)","v":0},{"$f":"_xlfn.XLOOKUP($A144&$C144&$D144&R$3,'SUA Data'!$D:$D&'SUA Data'!$H:$H&'SUA Data'!$J:$J&'SUA Data'!$F:$F,'SUA Data'!$M:$M)","v":"I"},{"$f":"_xlfn.XLOOKUP($A144&$C144&$D144&T$3,'SUA Data'!$D:$D&'SUA Data'!$H:$H&'SUA Data'!$J:$J&'SUA Data'!$F:$F,'SUA Data'!$L:$L)","v":{"$error":"#N/A"}},{"$f":"_xlfn.XLOOKUP($A144&$C144&$D144&T$3,'SUA Data'!$D:$D&'SUA Data'!$H:$H&'SUA Data'!$J:$J&'SUA Data'!$F:$F,'SUA Data'!$M:$M)","v":{"$error":"#N/A"}},{"$f":"_xlfn.XLOOKUP($A144&$C144&$D144&V$3,'SUA Data'!$D:$D&'SUA Data'!$H:$H&'SUA Data'!$J:$J&'SUA Data'!$F:$F,'SUA Data'!$L:$L)","v":5049.2299999999996},{"$f":"_xlfn.XLOOKUP($A144&$C144&$D144&V$3,'SUA Data'!$D:$D&'SUA Data'!$H:$H&'SUA Data'!$J:$J&'SUA Data'!$F:$F,'SUA Data'!$M:$M)","v":"E"},3639.8360151313159,"AE"]
["Lithuania","Peppers","Chillies and peppers, green (Capsicum spp. and Pimenta spp.)",2022,{"$f":"_xlfn.XLOOKUP($A145&$C145&$D145&$E$3,'SUA Data'!$D:$D&'SUA Data'!$H:$H&'SUA Data'!$J:$J&'SUA Data'!$F:$F,'SUA Data'!$L:$L)","v":{"$error":"#N/A"}},{"$f":"_xlfn.XLOOKUP($A145&$C145&$D145&$E$3,'SUA Data'!$D:$D&'SUA Data'!$H:$H&'SUA Data'!$J:$J&'SUA Data'!$F:$F,'SUA Data'!$M:$M)","v":{"$error":"#N/A"}},{"$f":"_xlfn.XLOOKUP($A145&$C145&$D145&G$3,'SUA Data'!$D:$D&'SUA Data'!$H:$H&'SUA Data'!$J:$J&'SUA Data'!$F:$F,'SUA Data'!$L:$L)","v":7286.07},{"$f":"_xlfn.XLOOKUP($A145&$C145&$D145&G$3,'SUA Data'!$D:$D&'SUA Data'!$H:$H&'SUA Data'!$J:$J&'SUA Data'!$F:$F,'SUA Data'!$M:$M)","v":"A"},{"$f":"_xlfn.XLOOKUP($A145&$C145&$D145&I$3,'SUA Data'!$D:$D&'SUA Data'!$H:$H&'SUA Data'!$J:$J&'SUA Data'!$F:$F,'SUA Data'!$L:$L)","v":1221.8599999999999},{"$f":"_xlfn.XLOOKUP($A145&$C145&$D145&I$3,'SUA Data'!$D:$D&'SUA Data'!$H:$H&'SUA Data'!$J:$J&'SUA Data'!$F:$F,'SUA Data'!$M:$M)","v":"A"},0,{"$f":"_xlfn.XLOOKUP($A145&$C145&$D145&\"Loss\",'SUA Data'!$D:$D&'SUA Data'!$H:$H&'SUA Data'!$J:$J&'SUA Data'!$F:$F,'SUA Data'!$L:$L)","v":{"$error":"#N/A"}},{"$f":"_xlfn.XLOOKUP($A145&$C145&$D145&\"Loss\",'SUA Data'!$D:$D&'SUA Data'!$H:$H&'SUA Data'!$J:$J&'SUA Data'!$F:$F,'SUA Data'!$M:$M)","v":{"$error":"#N/A"}},"",{"$f":"IF(ISNUMBER(N145),N145,'FFV Coefficients'!$H$10)","v":0.27913047828454707},{"$error":"#N/A"},{"$error":"#N/A"},{"$f":"_xlfn.XLOOKUP($A145&$C145&$D145&R$3,'SUA Data'!$D:$D&'SUA Data'!$H:$H&'SUA Data'!$J:$J&'SUA Data'!$F:$F,'SUA Data'!$L:$L)","v":0},{"$f":"_xlfn.XLOOKUP($A145&$C145&$D145&R$3,'SUA Data'!$D:$D&'SUA Data'!$H:$H&'SUA Data'!$J:$J&'SUA Data'!$F:$F,'SUA Data'!$M:$M)","v":"I"},{"$f":"_xlfn.XLOOKUP($A145&$C145&$D145&T$3,'SUA Data'!$D:$D&'SUA Data'!$H:$H&'SUA Data'!$J:$J&'SUA Data'!$F:$F,'SUA Data'!$L:$L)","v":{"$error":"#N/A"}},{"$f":"_xlfn.XLOOKUP($A145&$C145&$D145&T$3,'SUA Data'!$D:$D&'SUA Data'!$H:$H&'SUA Data'!$J:$J&'SUA Data'!$F:$F,'SUA Data'!$M:$M)","v":{"$error":"#N/A"}},{"$f":"_xlfn.XLOOKUP($A145&$C145&$D145&V$3,'SUA Data'!$D:$D&'SUA Data'!$H:$H&'SUA Data'!$J:$J&'SUA Data'!$F:$F,'SUA Data'!$L:$L)","v":6064.21},{"$f":"_xlfn.XLOOKUP($A145&$C145&$D145&V$3,'SUA Data'!$D:$D&'SUA Data'!$H:$H&'SUA Data'!$J:$J&'SUA Data'!$F:$F,'SUA Data'!$M:$M)","v":"E"},4371.5041622820672,"AE"]
["Luxembourg","Peppers","Chillies and peppers, green (Capsicum spp. and Pimenta spp.)",2022,{"$f":"_xlfn.XLOOKUP($A146&$C146&$D146&$E$3,'SUA Data'!$D:$D&'SUA Data'!$H:$H&'SUA Data'!$J:$J&'SUA Data'!$F:$F,'SUA Data'!$L:$L)","v":{"$error":"#N/A"}},{"$f":"_xlfn.XLOOKUP($A146&$C146&$D146&$E$3,'SUA Data'!$D:$D&'SUA Data'!$H:$H&'SUA Data'!$J:$J&'SUA Data'!$F:$F,'SUA Data'!$M:$M)","v":{"$error":"#N/A"}},{"$f":"_xlfn.XLOOKUP($A146&$C146&$D146&G$3,'SUA Data'!$D:$D&'SUA Data'!$H:$H&'SUA Data'!$J:$J&'SUA Data'!$F:$F,'SUA Data'!$L:$L)","v":2078.4699999999998},{"$f":"_xlfn.XLOOKUP($A146&$C146&$D146&G$3,'SUA Data'!$D:$D&'SUA Data'!$H:$H&'SUA Data'!$J:$J&'SUA Data'!$F:$F,'SUA Data'!$M:$M)","v":"A"},{"$f":"_xlfn.XLOOKUP($A146&$C146&$D146&I$3,'SUA Data'!$D:$D&'SUA Data'!$H:$H&'SUA Data'!$J:$J&'SUA Data'!$F:$F,'SUA Data'!$L:$L)","v":222.36},{"$f":"_xlfn.XLOOKUP($A146&$C146&$D146&I$3,'SUA Data'!$D:$D&'SUA Data'!$H:$H&'SUA Data'!$J:$J&'SUA Data'!$F:$F,'SUA Data'!$M:$M)","v":"A"},0,{"$f":"_xlfn.XLOOKUP($A146&$C146&$D146&\"Loss\",'SUA Data'!$D:$D&'SUA Data'!$H:$H&'SUA Data'!$J:$J&'SUA Data'!$F:$F,'SUA Data'!$L:$L)","v":83.14},{"$f":"_xlfn.XLOOKUP($A146&$C146&$D146&\"Loss\",'SUA Data'!$D:$D&'SUA Data'!$H:$H&'SUA Data'!$J:$J&'SUA Data'!$F:$F,'SUA Data'!$M:$M)","v":"I"},"",{"$f":"IF(ISNUMBER(N146),N146,'FFV Coefficients'!$H$10)","v":0.27913047828454707},83.14,"I",{"$f":"_xlfn.XLOOKUP($A146&$C146&$D146&R$3,'SUA Data'!$D:$D&'SUA Data'!$H:$H&'SUA Data'!$J:$J&'SUA Data'!$F:$F,'SUA Data'!$L:$L)","v":0},{"$f":"_xlfn.XLOOKUP($A146&$C146&$D146&R$3,'SUA Data'!$D:$D&'SUA Data'!$H:$H&'SUA Data'!$J:$J&'SUA Data'!$F:$F,'SUA Data'!$M:$M)","v":"I"},{"$f":"_xlfn.XLOOKUP($A146&$C146&$D146&T$3,'SUA Data'!$D:$D&'SUA Data'!$H:$H&'SUA Data'!$J:$J&'SUA Data'!$F:$F,'SUA Data'!$L:$L)","v":{"$error":"#N/A"}},{"$f":"_xlfn.XLOOKUP($A146&$C146&$D146&T$3,'SUA Data'!$D:$D&'SUA Data'!$H:$H&'SUA Data'!$J:$J&'SUA Data'!$F:$F,'SUA Data'!$M:$M)","v":{"$error":"#N/A"}},{"$f":"_xlfn.XLOOKUP($A146&$C146&$D146&V$3,'SUA Data'!$D:$D&'SUA Data'!$H:$H&'SUA Data'!$J:$J&'SUA Data'!$F:$F,'SUA Data'!$L:$L)","v":1772.97},{"$f":"_xlfn.XLOOKUP($A146&$C146&$D146&V$3,'SUA Data'!$D:$D&'SUA Data'!$H:$H&'SUA Data'!$J:$J&'SUA Data'!$F:$F,'SUA Data'!$M:$M)","v":"E"},1278.0800359158466,"AE"]
["Malta","Peppers","Chillies and peppers, green (Capsicum spp. and Pimenta spp.)",2022,{"$f":"_xlfn.XLOOKUP($A147&$C147&$D147&$E$3,'SUA Data'!$D:$D&'SUA Data'!$H:$H&'SUA Data'!$J:$J&'SUA Data'!$F:$F,'SUA Data'!$L:$L)","v":{"$error":"#N/A"}},{"$f":"_xlfn.XLOOKUP($A147&$C147&$D147&$E$3,'SUA Data'!$D:$D&'SUA Data'!$H:$H&'SUA Data'!$J:$J&'SUA Data'!$F:$F,'SUA Data'!$M:$M)","v":{"$error":"#N/A"}},{"$f":"_xlfn.XLOOKUP($A147&$C147&$D147&G$3,'SUA Data'!$D:$D&'SUA Data'!$H:$H&'SUA Data'!$J:$J&'SUA Data'!$F:$F,'SUA Data'!$L:$L)","v":915.45},{"$f":"_xlfn.XLOOKUP($A147&$C147&$D147&G$3,'SUA Data'!$D:$D&'SUA Data'!$H:$H&'SUA Data'!$J:$J&'SUA Data'!$F:$F,'SUA Data'!$M:$M)","v":"A"},{"$f":"_xlfn.XLOOKUP($A147&$C147&$D147&I$3,'SUA Data'!$D:$D&'SUA Data'!$H:$H&'SUA Data'!$J:$J&'SUA Data'!$F:$F,'SUA Data'!$L:$L)","v":0.16},{"$f":"_xlfn.XLOOKUP($A147&$C147&$D147&I$3,'SUA Data'!$D:$D&'SUA Data'!$H:$H&'SUA Data'!$J:$J&'SUA Data'!$F:$F,'SUA Data'!$M:$M)","v":"A"},0,{"$f":"_xlfn.XLOOKUP($A147&$C147&$D147&\"Loss\",'SUA Data'!$D:$D&'SUA Data'!$H:$H&'SUA Data'!$J:$J&'SUA Data'!$F:$F,'SUA Data'!$L:$L)","v":{"$error":"#N/A"}},{"$f":"_xlfn.XLOOKUP($A147&$C147&$D147&\"Loss\",'SUA Data'!$D:$D&'SUA Data'!$H:$H&'SUA Data'!$J:$J&'SUA Data'!$F:$F,'SUA Data'!$M:$M)","v":{"$error":"#N/A"}},"",{"$f":"IF(ISNUMBER(N147),N147,'FFV Coefficients'!$H$10)","v":0.27913047828454707},{"$error":"#N/A"},{"$error":"#N/A"},{"$f":"_xlfn.XLOOKUP($A147&$C147&$D147&R$3,'SUA Data'!$D:$D&'SUA Data'!$H:$H&'SUA Data'!$J:$J&'SUA Data'!$F:$F,'SUA Data'!$L:$L)","v":0},{"$f":"_xlfn.XLOOKUP($A147&$C147&$D147&R$3,'SUA Data'!$D:$D&'SUA Data'!$H:$H&'SUA Data'!$J:$J&'SUA Data'!$F:$F,'SUA Data'!$M:$M)","v":"I"},{"$f":"_xlfn.XLOOKUP($A147&$C147&$D147&T$3,'SUA Data'!$D:$D&'SUA Data'!$H:$H&'SUA Data'!$J:$J&'SUA Data'!$F:$F,'SUA Data'!$L:$L)","v":{"$error":"#N/A"}},{"$f":"_xlfn.XLOOKUP($A147&$C147&$D147&T$3,'SUA Data'!$D:$D&'SUA Data'!$H:$H&'SUA Data'!$J:$J&'SUA Data'!$F:$F,'SUA Data'!$M:$M)","v":{"$error":"#N/A"}},{"$f":"_xlfn.XLOOKUP($A147&$C147&$D147&V$3,'SUA Data'!$D:$D&'SUA Data'!$H:$H&'SUA Data'!$J:$J&'SUA Data'!$F:$F,'SUA Data'!$L:$L)","v":847.48},{"$f":"_xlfn.XLOOKUP($A147&$C147&$D147&V$3,'SUA Data'!$D:$D&'SUA Data'!$H:$H&'SUA Data'!$J:$J&'SUA Data'!$F:$F,'SUA Data'!$M:$M)","v":"E"},610.92250226341207,"AE"]
["Netherlands","Peppers","Chillies and peppers, green (Capsicum spp. and Pimenta spp.)",2022,{"$f":"_xlfn.XLOOKUP($A148&$C148&$D148&$E$3,'SUA Data'!$D:$D&'SUA Data'!$H:$H&'SUA Data'!$J:$J&'SUA Data'!$F:$F,'SUA Data'!$L:$L)","v":435000},{"$f":"_xlfn.XLOOKUP($A148&$C148&$D148&$E$3,'SUA Data'!$D:$D&'SUA Data'!$H:$H&'SUA Data'!$J:$J&'SUA Data'!$F:$F,'SUA Data'!$M:$M)","v":"A"},{"$f":"_xlfn.XLOOKUP($A148&$C148&$D148&G$3,'SUA Data'!$D:$D&'SUA Data'!$H:$H&'SUA Data'!$J:$J&'SUA Data'!$F:$F,'SUA Data'!$L:$L)","v":104385.85},{"$f":"_xlfn.XLOOKUP($A148&$C148&$D148&G$3,'SUA Data'!$D:$D&'SUA Data'!$H:$H&'SUA Data'!$J:$J&'SUA Data'!$F:$F,'SUA Data'!$M:$M)","v":"A"},{"$f":"_xlfn.XLOOKUP($A148&$C148&$D148&I$3,'SUA Data'!$D:$D&'SUA Data'!$H:$H&'SUA Data'!$J:$J&'SUA Data'!$F:$F,'SUA Data'!$L:$L)","v":430559.78},{"$f":"_xlfn.XLOOKUP($A148&$C148&$D148&I$3,'SUA Data'!$D:$D&'SUA Data'!$H:$H&'SUA Data'!$J:$J&'SUA Data'!$F:$F,'SUA Data'!$M:$M)","v":"A"},0.8064727689834652,{"$f":"_xlfn.XLOOKUP($A148&$C148&$D148&\"Loss\",'SUA Data'!$D:$D&'SUA Data'!$H:$H&'SUA Data'!$J:$J&'SUA Data'!$F:$F,'SUA Data'!$L:$L)","v":14383.62},{"$f":"_xlfn.XLOOKUP($A148&$C148&$D148&\"Loss\",'SUA Data'!$D:$D&'SUA Data'!$H:$H&'SUA Data'!$J:$J&'SUA Data'!$F:$F,'SUA Data'!$M:$M)","v":"I"},"",{"$f":"IF(ISNUMBER(N148),N148,'FFV Coefficients'!$H$10)","v":0.27913047828454707},14383.62,"I",{"$f":"_xlfn.XLOOKUP($A148&$C148&$D148&R$3,'SUA Data'!$D:$D&'SUA Data'!$H:$H&'SUA Data'!$J:$J&'SUA Data'!$F:$F,'SUA Data'!$L:$L)","v":0},{"$f":"_xlfn.XLOOKUP($A148&$C148&$D148&R$3,'SUA Data'!$D:$D&'SUA Data'!$H:$H&'SUA Data'!$J:$J&'SUA Data'!$F:$F,'SUA Data'!$M:$M)","v":"I"},{"$f":"_xlfn.XLOOKUP($A148&$C148&$D148&T$3,'SUA Data'!$D:$D&'SUA Data'!$H:$H&'SUA Data'!$J:$J&'SUA Data'!$F:$F,'SUA Data'!$L:$L)","v":{"$error":"#N/A"}},{"$f":"_xlfn.XLOOKUP($A148&$C148&$D148&T$3,'SUA Data'!$D:$D&'SUA Data'!$H:$H&'SUA Data'!$J:$J&'SUA Data'!$F:$F,'SUA Data'!$M:$M)","v":{"$error":"#N/A"}},{"$f":"_xlfn.XLOOKUP($A148&$C148&$D148&V$3,'SUA Data'!$D:$D&'SUA Data'!$H:$H&'SUA Data'!$J:$J&'SUA Data'!$F:$F,'SUA Data'!$L:$L)","v":94442.45},{"$f":"_xlfn.XLOOKUP($A148&$C148&$D148&V$3,'SUA Data'!$D:$D&'SUA Data'!$H:$H&'SUA Data'!$J:$J&'SUA Data'!$F:$F,'SUA Data'!$M:$M)","v":"E"},68080.683761135573,"AE"]
["Norway","Peppers","Chillies and peppers, green (Capsicum spp. and Pimenta spp.)",2022,{"$f":"_xlfn.XLOOKUP($A149&$C149&$D149&$E$3,'SUA Data'!$D:$D&'SUA Data'!$H:$H&'SUA Data'!$J:$J&'SUA Data'!$F:$F,'SUA Data'!$L:$L)","v":{"$error":"#N/A"}},{"$f":"_xlfn.XLOOKUP($A149&$C149&$D149&$E$3,'SUA Data'!$D:$D&'SUA Data'!$H:$H&'SUA Data'!$J:$J&'SUA Data'!$F:$F,'SUA Data'!$M:$M)","v":{"$error":"#N/A"}},{"$f":"_xlfn.XLOOKUP($A149&$C149&$D149&G$3,'SUA Data'!$D:$D&'SUA Data'!$H:$H&'SUA Data'!$J:$J&'SUA Data'!$F:$F,'SUA Data'!$L:$L)","v":21001.93},{"$f":"_xlfn.XLOOKUP($A149&$C149&$D149&G$3,'SUA Data'!$D:$D&'SUA Data'!$H:$H&'SUA Data'!$J:$J&'SUA Data'!$F:$F,'SUA Data'!$M:$M)","v":"A"},{"$f":"_xlfn.XLOOKUP($A149&$C149&$D149&I$3,'SUA Data'!$D:$D&'SUA Data'!$H:$H&'SUA Data'!$J:$J&'SUA Data'!$F:$F,'SUA Data'!$L:$L)","v":0.05},{"$f":"_xlfn.XLOOKUP($A149&$C149&$D149&I$3,'SUA Data'!$D:$D&'SUA Data'!$H:$H&'SUA Data'!$J:$J&'SUA Data'!$F:$F,'SUA Data'!$M:$M)","v":"A"},0,{"$f":"_xlfn.XLOOKUP($A149&$C149&$D149&\"Loss\",'SUA Data'!$D:$D&'SUA Data'!$H:$H&'SUA Data'!$J:$J&'SUA Data'!$F:$F,'SUA Data'!$L:$L)","v":2100.19},{"$f":"_xlfn.XLOOKUP($A149&$C149&$D149&\"Loss\",'SUA Data'!$D:$D&'SUA Data'!$H:$H&'SUA Data'!$J:$J&'SUA Data'!$F:$F,'SUA Data'!$M:$M)","v":"I"},"",{"$f":"IF(ISNUMBER(N149),N149,'FFV Coefficients'!$H$10)","v":0.27913047828454707},2100.19,"I",{"$f":"_xlfn.XLOOKUP($A149&$C149&$D149&R$3,'SUA Data'!$D:$D&'SUA Data'!$H:$H&'SUA Data'!$J:$J&'SUA Data'!$F:$F,'SUA Data'!$L:$L)","v":0},{"$f":"_xlfn.XLOOKUP($A149&$C149&$D149&R$3,'SUA Data'!$D:$D&'SUA Data'!$H:$H&'SUA Data'!$J:$J&'SUA Data'!$F:$F,'SUA Data'!$M:$M)","v":"I"},{"$f":"_xlfn.XLOOKUP($A149&$C149&$D149&T$3,'SUA Data'!$D:$D&'SUA Data'!$H:$H&'SUA Data'!$J:$J&'SUA Data'!$F:$F,'SUA Data'!$L:$L)","v":{"$error":"#N/A"}},{"$f":"_xlfn.XLOOKUP($A149&$C149&$D149&T$3,'SUA Data'!$D:$D&'SUA Data'!$H:$H&'SUA Data'!$J:$J&'SUA Data'!$F:$F,'SUA Data'!$M:$M)","v":{"$error":"#N/A"}},{"$f":"_xlfn.XLOOKUP($A149&$C149&$D149&V$3,'SUA Data'!$D:$D&'SUA Data'!$H:$H&'SUA Data'!$J:$J&'SUA Data'!$F:$F,'SUA Data'!$L:$L)","v":18901.7},{"$f":"_xlfn.XLOOKUP($A149&$C149&$D149&V$3,'SUA Data'!$D:$D&'SUA Data'!$H:$H&'SUA Data'!$J:$J&'SUA Data'!$F:$F,'SUA Data'!$M:$M)","v":"E"},13625.659438608976,"AE"]
["Poland","Peppers","Chillies and peppers, green (Capsicum spp. and Pimenta spp.)",2022,{"$f":"_xlfn.XLOOKUP($A150&$C150&$D150&$E$3,'SUA Data'!$D:$D&'SUA Data'!$H:$H&'SUA Data'!$J:$J&'SUA Data'!$F:$F,'SUA Data'!$L:$L)","v":376000},{"$f":"_xlfn.XLOOKUP($A150&$C150&$D150&$E$3,'SUA Data'!$D:$D&'SUA Data'!$H:$H&'SUA Data'!$J:$J&'SUA Data'!$F:$F,'SUA Data'!$M:$M)","v":"A"},{"$f":"_xlfn.XLOOKUP($A150&$C150&$D150&G$3,'SUA Data'!$D:$D&'SUA Data'!$H:$H&'SUA Data'!$J:$J&'SUA Data'!$F:$F,'SUA Data'!$L:$L)","v":71203.86},{"$f":"_xlfn.XLOOKUP($A150&$C150&$D150&G$3,'SUA Data'!$D:$D&'SUA Data'!$H:$H&'SUA Data'!$J:$J&'SUA Data'!$F:$F,'SUA Data'!$M:$M)","v":"A"},{"$f":"_xlfn.XLOOKUP($A150&$C150&$D150&I$3,'SUA Data'!$D:$D&'SUA Data'!$H:$H&'SUA Data'!$J:$J&'SUA Data'!$F:$F,'SUA Data'!$L:$L)","v":26373.91},{"$f":"_xlfn.XLOOKUP($A150&$C150&$D150&I$3,'SUA Data'!$D:$D&'SUA Data'!$H:$H&'SUA Data'!$J:$J&'SUA Data'!$F:$F,'SUA Data'!$M:$M)","v":"A"},0.8407798626782873,{"$f":"_xlfn.XLOOKUP($A150&$C150&$D150&\"Loss\",'SUA Data'!$D:$D&'SUA Data'!$H:$H&'SUA Data'!$J:$J&'SUA Data'!$F:$F,'SUA Data'!$L:$L)","v":44558.01},{"$f":"_xlfn.XLOOKUP($A150&$C150&$D150&\"Loss\",'SUA Data'!$D:$D&'SUA Data'!$H:$H&'SUA Data'!$J:$J&'SUA Data'!$F:$F,'SUA Data'!$M:$M)","v":"I"},0.61971262692418572,{"$f":"IF(ISNUMBER(N150),N150,'FFV Coefficients'!$H$10)","v":0.61971262692418572},16944.848572385865,"AE",{"$f":"_xlfn.XLOOKUP($A150&$C150&$D150&R$3,'SUA Data'!$D:$D&'SUA Data'!$H:$H&'SUA Data'!$J:$J&'SUA Data'!$F:$F,'SUA Data'!$L:$L)","v":0},{"$f":"_xlfn.XLOOKUP($A150&$C150&$D150&R$3,'SUA Data'!$D:$D&'SUA Data'!$H:$H&'SUA Data'!$J:$J&'SUA Data'!$F:$F,'SUA Data'!$M:$M)","v":"I"},{"$f":"_xlfn.XLOOKUP($A150&$C150&$D150&T$3,'SUA Data'!$D:$D&'SUA Data'!$H:$H&'SUA Data'!$J:$J&'SUA Data'!$F:$F,'SUA Data'!$L:$L)","v":260793.64},{"$f":"_xlfn.XLOOKUP($A150&$C150&$D150&T$3,'SUA Data'!$D:$D&'SUA Data'!$H:$H&'SUA Data'!$J:$J&'SUA Data'!$F:$F,'SUA Data'!$M:$M)","v":"E"},{"$f":"_xlfn.XLOOKUP($A150&$C150&$D150&V$3,'SUA Data'!$D:$D&'SUA Data'!$H:$H&'SUA Data'!$J:$J&'SUA Data'!$F:$F,'SUA Data'!$L:$L)","v":115478.31},{"$f":"_xlfn.XLOOKUP($A150&$C150&$D150&V$3,'SUA Data'!$D:$D&'SUA Data'!$H:$H&'SUA Data'!$J:$J&'SUA Data'!$F:$F,'SUA Data'!$M:$M)","v":"E"},115478.31,"E"]
["Portugal","Peppers","Chillies and peppers, green (Capsicum spp. and Pimenta spp.)",2022,{"$f":"_xlfn.XLOOKUP($A151&$C151&$D151&$E$3,'SUA Data'!$D:$D&'SUA Data'!$H:$H&'SUA Data'!$J:$J&'SUA Data'!$F:$F,'SUA Data'!$L:$L)","v":41280},{"$f":"_xlfn.XLOOKUP($A151&$C151&$D151&$E$3,'SUA Data'!$D:$D&'SUA Data'!$H:$H&'SUA Data'!$J:$J&'SUA Data'!$F:$F,'SUA Data'!$M:$M)","v":"A"},{"$f":"_xlfn.XLOOKUP($A151&$C151&$D151&G$3,'SUA Data'!$D:$D&'SUA Data'!$H:$H&'SUA Data'!$J:$J&'SUA Data'!$F:$F,'SUA Data'!$L:$L)","v":25266.23},{"$f":"_xlfn.XLOOKUP($A151&$C151&$D151&G$3,'SUA Data'!$D:$D&'SUA Data'!$H:$H&'SUA Data'!$J:$J&'SUA Data'!$F:$F,'SUA Data'!$M:$M)","v":"A"},{"$f":"_xlfn.XLOOKUP($A151&$C151&$D151&I$3,'SUA Data'!$D:$D&'SUA Data'!$H:$H&'SUA Data'!$J:$J&'SUA Data'!$F:$F,'SUA Data'!$L:$L)","v":3203.17},{"$f":"_xlfn.XLOOKUP($A151&$C151&$D151&I$3,'SUA Data'!$D:$D&'SUA Data'!$H:$H&'SUA Data'!$J:$J&'SUA Data'!$F:$F,'SUA Data'!$M:$M)","v":"A"},0.62032064025264844,{"$f":"_xlfn.XLOOKUP($A151&$C151&$D151&\"Loss\",'SUA Data'!$D:$D&'SUA Data'!$H:$H&'SUA Data'!$J:$J&'SUA Data'!$F:$F,'SUA Data'!$L:$L)","v":174.06},{"$f":"_xlfn.XLOOKUP($A151&$C151&$D151&\"Loss\",'SUA Data'!$D:$D&'SUA Data'!$H:$H&'SUA Data'!$J:$J&'SUA Data'!$F:$F,'SUA Data'!$M:$M)","v":"E"},0.22812668477441489,{"$f":"IF(ISNUMBER(N151),N151,'FFV Coefficients'!$H$10)","v":0.22812668477441489},134.35226924816536,"AE",{"$f":"_xlfn.XLOOKUP($A151&$C151&$D151&R$3,'SUA Data'!$D:$D&'SUA Data'!$H:$H&'SUA Data'!$J:$J&'SUA Data'!$F:$F,'SUA Data'!$L:$L)","v":0},{"$f":"_xlfn.XLOOKUP($A151&$C151&$D151&R$3,'SUA Data'!$D:$D&'SUA Data'!$H:$H&'SUA Data'!$J:$J&'SUA Data'!$F:$F,'SUA Data'!$M:$M)","v":"I"},{"$f":"_xlfn.XLOOKUP($A151&$C151&$D151&T$3,'SUA Data'!$D:$D&'SUA Data'!$H:$H&'SUA Data'!$J:$J&'SUA Data'!$F:$F,'SUA Data'!$L:$L)","v":14450.24},{"$f":"_xlfn.XLOOKUP($A151&$C151&$D151&T$3,'SUA Data'!$D:$D&'SUA Data'!$H:$H&'SUA Data'!$J:$J&'SUA Data'!$F:$F,'SUA Data'!$M:$M)","v":"E"},{"$f":"_xlfn.XLOOKUP($A151&$C151&$D151&V$3,'SUA Data'!$D:$D&'SUA Data'!$H:$H&'SUA Data'!$J:$J&'SUA Data'!$F:$F,'SUA Data'!$L:$L)","v":48718.75},{"$f":"_xlfn.XLOOKUP($A151&$C151&$D151&V$3,'SUA Data'!$D:$D&'SUA Data'!$H:$H&'SUA Data'!$J:$J&'SUA Data'!$F:$F,'SUA Data'!$M:$M)","v":"E"},48718.75,"E"]
["Romania","Peppers","Chillies and peppers, green (Capsicum spp. and Pimenta spp.)",2022,{"$f":"_xlfn.XLOOKUP($A152&$C152&$D152&$E$3,'SUA Data'!$D:$D&'SUA Data'!$H:$H&'SUA Data'!$J:$J&'SUA Data'!$F:$F,'SUA Data'!$L:$L)","v":105210},{"$f":"_xlfn.XLOOKUP($A152&$C152&$D152&$E$3,'SUA Data'!$D:$D&'SUA Data'!$H:$H&'SUA Data'!$J:$J&'SUA Data'!$F:$F,'SUA Data'!$M:$M)","v":"A"},{"$f":"_xlfn.XLOOKUP($A152&$C152&$D152&G$3,'SUA Data'!$D:$D&'SUA Data'!$H:$H&'SUA Data'!$J:$J&'SUA Data'!$F:$F,'SUA Data'!$L:$L)","v":46114.45},{"$f":"_xlfn.XLOOKUP($A152&$C152&$D152&G$3,'SUA Data'!$D:$D&'SUA Data'!$H:$H&'SUA Data'!$J:$J&'SUA Data'!$F:$F,'SUA Data'!$M:$M)","v":"A"},{"$f":"_xlfn.XLOOKUP($A152&$C152&$D152&I$3,'SUA Data'!$D:$D&'SUA Data'!$H:$H&'SUA Data'!$J:$J&'SUA Data'!$F:$F,'SUA Data'!$L:$L)","v":928.09},{"$f":"_xlfn.XLOOKUP($A152&$C152&$D152&I$3,'SUA Data'!$D:$D&'SUA Data'!$H:$H&'SUA Data'!$J:$J&'SUA Data'!$F:$F,'SUA Data'!$M:$M)","v":"A"},0.69526107644865054,{"$f":"_xlfn.XLOOKUP($A152&$C152&$D152&\"Loss\",'SUA Data'!$D:$D&'SUA Data'!$H:$H&'SUA Data'!$J:$J&'SUA Data'!$F:$F,'SUA Data'!$L:$L)","v":8554.08},{"$f":"_xlfn.XLOOKUP($A152&$C152&$D152&\"Loss\",'SUA Data'!$D:$D&'SUA Data'!$H:$H&'SUA Data'!$J:$J&'SUA Data'!$F:$F,'SUA Data'!$M:$M)","v":"I"},"",{"$f":"IF(ISNUMBER(N152),N152,'FFV Coefficients'!$H$10)","v":0.27913047828454707},8554.08,"I",{"$f":"_xlfn.XLOOKUP($A152&$C152&$D152&R$3,'SUA Data'!$D:$D&'SUA Data'!$H:$H&'SUA Data'!$J:$J&'SUA Data'!$F:$F,'SUA Data'!$L:$L)","v":0},{"$f":"_xlfn.XLOOKUP($A152&$C152&$D152&R$3,'SUA Data'!$D:$D&'SUA Data'!$H:$H&'SUA Data'!$J:$J&'SUA Data'!$F:$F,'SUA Data'!$M:$M)","v":"I"},{"$f":"_xlfn.XLOOKUP($A152&$C152&$D152&T$3,'SUA Data'!$D:$D&'SUA Data'!$H:$H&'SUA Data'!$J:$J&'SUA Data'!$F:$F,'SUA Data'!$L:$L)","v":{"$error":"#N/A"}},{"$f":"_xlfn.XLOOKUP($A152&$C152&$D152&T$3,'SUA Data'!$D:$D&'SUA Data'!$H:$H&'SUA Data'!$J:$J&'SUA Data'!$F:$F,'SUA Data'!$M:$M)","v":{"$error":"#N/A"}},{"$f":"_xlfn.XLOOKUP($A152&$C152&$D152&V$3,'SUA Data'!$D:$D&'SUA Data'!$H:$H&'SUA Data'!$J:$J&'SUA Data'!$F:$F,'SUA Data'!$L:$L)","v":141842.28},{"$f":"_xlfn.XLOOKUP($A152&$C152&$D152&V$3,'SUA Data'!$D:$D&'SUA Data'!$H:$H&'SUA Data'!$J:$J&'SUA Data'!$F:$F,'SUA Data'!$M:$M)","v":"E"},102249.77654262935,"AE"]
["Slovakia","Peppers","Chillies and peppers, green (Capsicum spp. and Pimenta spp.)",2022,{"$f":"_xlfn.XLOOKUP($A153&$C153&$D153&$E$3,'SUA Data'!$D:$D&'SUA Data'!$H:$H&'SUA Data'!$J:$J&'SUA Data'!$F:$F,'SUA Data'!$L:$L)","v":1860},{"$f":"_xlfn.XLOOKUP($A153&$C153&$D153&$E$3,'SUA Data'!$D:$D&'SUA Data'!$H:$H&'SUA Data'!$J:$J&'SUA Data'!$F:$F,'SUA Data'!$M:$M)","v":"A"},{"$f":"_xlfn.XLOOKUP($A153&$C153&$D153&G$3,'SUA Data'!$D:$D&'SUA Data'!$H:$H&'SUA Data'!$J:$J&'SUA Data'!$F:$F,'SUA Data'!$L:$L)","v":22156.03},{"$f":"_xlfn.XLOOKUP($A153&$C153&$D153&G$3,'SUA Data'!$D:$D&'SUA Data'!$H:$H&'SUA Data'!$J:$J&'SUA Data'!$F:$F,'SUA Data'!$M:$M)","v":"A"},{"$f":"_xlfn.XLOOKUP($A153&$C153&$D153&I$3,'SUA Data'!$D:$D&'SUA Data'!$H:$H&'SUA Data'!$J:$J&'SUA Data'!$F:$F,'SUA Data'!$L:$L)","v":722.87},{"$f":"_xlfn.XLOOKUP($A153&$C153&$D153&I$3,'SUA Data'!$D:$D&'SUA Data'!$H:$H&'SUA Data'!$J:$J&'SUA Data'!$F:$F,'SUA Data'!$M:$M)","v":"A"},7.7448271008988587E-2,{"$f":"_xlfn.XLOOKUP($A153&$C153&$D153&\"Loss\",'SUA Data'!$D:$D&'SUA Data'!$H:$H&'SUA Data'!$J:$J&'SUA Data'!$F:$F,'SUA Data'!$L:$L)","v":441.29},{"$f":"_xlfn.XLOOKUP($A153&$C153&$D153&\"Loss\",'SUA Data'!$D:$D&'SUA Data'!$H:$H&'SUA Data'!$J:$J&'SUA Data'!$F:$F,'SUA Data'!$M:$M)","v":"I"},"",{"$f":"IF(ISNUMBER(N153),N153,'FFV Coefficients'!$H$10)","v":0.27913047828454707},441.29,"I",{"$f":"_xlfn.XLOOKUP($A153&$C153&$D153&R$3,'SUA Data'!$D:$D&'SUA Data'!$H:$H&'SUA Data'!$J:$J&'SUA Data'!$F:$F,'SUA Data'!$L:$L)","v":0},{"$f":"_xlfn.XLOOKUP($A153&$C153&$D153&R$3,'SUA Data'!$D:$D&'SUA Data'!$H:$H&'SUA Data'!$J:$J&'SUA Data'!$F:$F,'SUA Data'!$M:$M)","v":"I"},{"$f":"_xlfn.XLOOKUP($A153&$C153&$D153&T$3,'SUA Data'!$D:$D&'SUA Data'!$H:$H&'SUA Data'!$J:$J&'SUA Data'!$F:$F,'SUA Data'!$L:$L)","v":{"$error":"#N/A"}},{"$f":"_xlfn.XLOOKUP($A153&$C153&$D153&T$3,'SUA Data'!$D:$D&'SUA Data'!$H:$H&'SUA Data'!$J:$J&'SUA Data'!$F:$F,'SUA Data'!$M:$M)","v":{"$error":"#N/A"}},{"$f":"_xlfn.XLOOKUP($A153&$C153&$D153&V$3,'SUA Data'!$D:$D&'SUA Data'!$H:$H&'SUA Data'!$J:$J&'SUA Data'!$F:$F,'SUA Data'!$L:$L)","v":22851.86},{"$f":"_xlfn.XLOOKUP($A153&$C153&$D153&V$3,'SUA Data'!$D:$D&'SUA Data'!$H:$H&'SUA Data'!$J:$J&'SUA Data'!$F:$F,'SUA Data'!$M:$M)","v":"E"},16473.209388508491,"AE"]
["Slovenia","Peppers","Chillies and peppers, green (Capsicum spp. and Pimenta spp.)",2022,{"$f":"_xlfn.XLOOKUP($A154&$C154&$D154&$E$3,'SUA Data'!$D:$D&'SUA Data'!$H:$H&'SUA Data'!$J:$J&'SUA Data'!$F:$F,'SUA Data'!$L:$L)","v":3250},{"$f":"_xlfn.XLOOKUP($A154&$C154&$D154&$E$3,'SUA Data'!$D:$D&'SUA Data'!$H:$H&'SUA Data'!$J:$J&'SUA Data'!$F:$F,'SUA Data'!$M:$M)","v":"A"},{"$f":"_xlfn.XLOOKUP($A154&$C154&$D154&G$3,'SUA Data'!$D:$D&'SUA Data'!$H:$H&'SUA Data'!$J:$J&'SUA Data'!$F:$F,'SUA Data'!$L:$L)","v":13249.73},{"$f":"_xlfn.XLOOKUP($A154&$C154&$D154&G$3,'SUA Data'!$D:$D&'SUA Data'!$H:$H&'SUA Data'!$J:$J&'SUA Data'!$F:$F,'SUA Data'!$M:$M)","v":"A"},{"$f":"_xlfn.XLOOKUP($A154&$C154&$D154&I$3,'SUA Data'!$D:$D&'SUA Data'!$H:$H&'SUA Data'!$J:$J&'SUA Data'!$F:$F,'SUA Data'!$L:$L)","v":5160.59},{"$f":"_xlfn.XLOOKUP($A154&$C154&$D154&I$3,'SUA Data'!$D:$D&'SUA Data'!$H:$H&'SUA Data'!$J:$J&'SUA Data'!$F:$F,'SUA Data'!$M:$M)","v":"A"},0.19697292016293599,{"$f":"_xlfn.XLOOKUP($A154&$C154&$D154&\"Loss\",'SUA Data'!$D:$D&'SUA Data'!$H:$H&'SUA Data'!$J:$J&'SUA Data'!$F:$F,'SUA Data'!$L:$L)","v":1652.41},{"$f":"_xlfn.XLOOKUP($A154&$C154&$D154&\"Loss\",'SUA Data'!$D:$D&'SUA Data'!$H:$H&'SUA Data'!$J:$J&'SUA Data'!$F:$F,'SUA Data'!$M:$M)","v":"I"},"",{"$f":"IF(ISNUMBER(N154),N154,'FFV Coefficients'!$H$10)","v":0.27913047828454707},1652.41,"I",{"$f":"_xlfn.XLOOKUP($A154&$C154&$D154&R$3,'SUA Data'!$D:$D&'SUA Data'!$H:$H&'SUA Data'!$J:$J&'SUA Data'!$F:$F,'SUA Data'!$L:$L)","v":0},{"$f":"_xlfn.XLOOKUP($A154&$C154&$D154&R$3,'SUA Data'!$D:$D&'SUA Data'!$H:$H&'SUA Data'!$J:$J&'SUA Data'!$F:$F,'SUA Data'!$M:$M)","v":"I"},{"$f":"_xlfn.XLOOKUP($A154&$C154&$D154&T$3,'SUA Data'!$D:$D&'SUA Data'!$H:$H&'SUA Data'!$J:$J&'SUA Data'!$F:$F,'SUA Data'!$L:$L)","v":{"$error":"#N/A"}},{"$f":"_xlfn.XLOOKUP($A154&$C154&$D154&T$3,'SUA Data'!$D:$D&'SUA Data'!$H:$H&'SUA Data'!$J:$J&'SUA Data'!$F:$F,'SUA Data'!$M:$M)","v":{"$error":"#N/A"}},{"$f":"_xlfn.XLOOKUP($A154&$C154&$D154&V$3,'SUA Data'!$D:$D&'SUA Data'!$H:$H&'SUA Data'!$J:$J&'SUA Data'!$F:$F,'SUA Data'!$L:$L)","v":9686.73},{"$f":"_xlfn.XLOOKUP($A154&$C154&$D154&V$3,'SUA Data'!$D:$D&'SUA Data'!$H:$H&'SUA Data'!$J:$J&'SUA Data'!$F:$F,'SUA Data'!$M:$M)","v":"E"},6982.868422086729,"AE"]
["Spain","Peppers","Chillies and peppers, green (Capsicum spp. and Pimenta spp.)",2022,{"$f":"_xlfn.XLOOKUP($A155&$C155&$D155&$E$3,'SUA Data'!$D:$D&'SUA Data'!$H:$H&'SUA Data'!$J:$J&'SUA Data'!$F:$F,'SUA Data'!$L:$L)","v":1533280},{"$f":"_xlfn.XLOOKUP($A155&$C155&$D155&$E$3,'SUA Data'!$D:$D&'SUA Data'!$H:$H&'SUA Data'!$J:$J&'SUA Data'!$F:$F,'SUA Data'!$M:$M)","v":"A"},{"$f":"_xlfn.XLOOKUP($A155&$C155&$D155&G$3,'SUA Data'!$D:$D&'SUA Data'!$H:$H&'SUA Data'!$J:$J&'SUA Data'!$F:$F,'SUA Data'!$L:$L)","v":89571.01},{"$f":"_xlfn.XLOOKUP($A155&$C155&$D155&G$3,'SUA Data'!$D:$D&'SUA Data'!$H:$H&'SUA Data'!$J:$J&'SUA Data'!$F:$F,'SUA Data'!$M:$M)","v":"A"},{"$f":"_xlfn.XLOOKUP($A155&$C155&$D155&I$3,'SUA Data'!$D:$D&'SUA Data'!$H:$H&'SUA Data'!$J:$J&'SUA Data'!$F:$F,'SUA Data'!$L:$L)","v":830354.74},{"$f":"_xlfn.XLOOKUP($A155&$C155&$D155&I$3,'SUA Data'!$D:$D&'SUA Data'!$H:$H&'SUA Data'!$J:$J&'SUA Data'!$F:$F,'SUA Data'!$M:$M)","v":"A"},0.94480638737132128,{"$f":"_xlfn.XLOOKUP($A155&$C155&$D155&\"Loss\",'SUA Data'!$D:$D&'SUA Data'!$H:$H&'SUA Data'!$J:$J&'SUA Data'!$F:$F,'SUA Data'!$L:$L)","v":162285.1},{"$f":"_xlfn.XLOOKUP($A155&$C155&$D155&\"Loss\",'SUA Data'!$D:$D&'SUA Data'!$H:$H&'SUA Data'!$J:$J&'SUA Data'!$F:$F,'SUA Data'!$M:$M)","v":"I"},"",{"$f":"IF(ISNUMBER(N155),N155,'FFV Coefficients'!$H$10)","v":0.27913047828454707},162285.1,"I",{"$f":"_xlfn.XLOOKUP($A155&$C155&$D155&R$3,'SUA Data'!$D:$D&'SUA Data'!$H:$H&'SUA Data'!$J:$J&'SUA Data'!$F:$F,'SUA Data'!$L:$L)","v":0},{"$f":"_xlfn.XLOOKUP($A155&$C155&$D155&R$3,'SUA Data'!$D:$D&'SUA Data'!$H:$H&'SUA Data'!$J:$J&'SUA Data'!$F:$F,'SUA Data'!$M:$M)","v":"I"},{"$f":"_xlfn.XLOOKUP($A155&$C155&$D155&T$3,'SUA Data'!$D:$D&'SUA Data'!$H:$H&'SUA Data'!$J:$J&'SUA Data'!$F:$F,'SUA Data'!$L:$L)","v":{"$error":"#N/A"}},{"$f":"_xlfn.XLOOKUP($A155&$C155&$D155&T$3,'SUA Data'!$D:$D&'SUA Data'!$H:$H&'SUA Data'!$J:$J&'SUA Data'!$F:$F,'SUA Data'!$M:$M)","v":{"$error":"#N/A"}},{"$f":"_xlfn.XLOOKUP($A155&$C155&$D155&V$3,'SUA Data'!$D:$D&'SUA Data'!$H:$H&'SUA Data'!$J:$J&'SUA Data'!$F:$F,'SUA Data'!$L:$L)","v":630211.17000000004},{"$f":"_xlfn.XLOOKUP($A155&$C155&$D155&V$3,'SUA Data'!$D:$D&'SUA Data'!$H:$H&'SUA Data'!$J:$J&'SUA Data'!$F:$F,'SUA Data'!$M:$M)","v":"E"},454300.02469763602,"AE"]
["Sweden","Peppers","Chillies and peppers, green (Capsicum spp. and Pimenta spp.)",2022,{"$f":"_xlfn.XLOOKUP($A156&$C156&$D156&$E$3,'SUA Data'!$D:$D&'SUA Data'!$H:$H&'SUA Data'!$J:$J&'SUA Data'!$F:$F,'SUA Data'!$L:$L)","v":50},{"$f":"_xlfn.XLOOKUP($A156&$C156&$D156&$E$3,'SUA Data'!$D:$D&'SUA Data'!$H:$H&'SUA Data'!$J:$J&'SUA Data'!$F:$F,'SUA Data'!$M:$M)","v":"A"},{"$f":"_xlfn.XLOOKUP($A156&$C156&$D156&G$3,'SUA Data'!$D:$D&'SUA Data'!$H:$H&'SUA Data'!$J:$J&'SUA Data'!$F:$F,'SUA Data'!$L:$L)","v":35106.65},{"$f":"_xlfn.XLOOKUP($A156&$C156&$D156&G$3,'SUA Data'!$D:$D&'SUA Data'!$H:$H&'SUA Data'!$J:$J&'SUA Data'!$F:$F,'SUA Data'!$M:$M)","v":"A"},{"$f":"_xlfn.XLOOKUP($A156&$C156&$D156&I$3,'SUA Data'!$D:$D&'SUA Data'!$H:$H&'SUA Data'!$J:$J&'SUA Data'!$F:$F,'SUA Data'!$L:$L)","v":215.63},{"$f":"_xlfn.XLOOKUP($A156&$C156&$D156&I$3,'SUA Data'!$D:$D&'SUA Data'!$H:$H&'SUA Data'!$J:$J&'SUA Data'!$F:$F,'SUA Data'!$M:$M)","v":"A"},1.4222060406779372E-3,{"$f":"_xlfn.XLOOKUP($A156&$C156&$D156&\"Loss\",'SUA Data'!$D:$D&'SUA Data'!$H:$H&'SUA Data'!$J:$J&'SUA Data'!$F:$F,'SUA Data'!$L:$L)","v":3515.66},{"$f":"_xlfn.XLOOKUP($A156&$C156&$D156&\"Loss\",'SUA Data'!$D:$D&'SUA Data'!$H:$H&'SUA Data'!$J:$J&'SUA Data'!$F:$F,'SUA Data'!$M:$M)","v":"I"},"",{"$f":"IF(ISNUMBER(N156),N156,'FFV Coefficients'!$H$10)","v":0.27913047828454707},3515.66,"I",{"$f":"_xlfn.XLOOKUP($A156&$C156&$D156&R$3,'SUA Data'!$D:$D&'SUA Data'!$H:$H&'SUA Data'!$J:$J&'SUA Data'!$F:$F,'SUA Data'!$L:$L)","v":0},{"$f":"_xlfn.XLOOKUP($A156&$C156&$D156&R$3,'SUA Data'!$D:$D&'SUA Data'!$H:$H&'SUA Data'!$J:$J&'SUA Data'!$F:$F,'SUA Data'!$M:$M)","v":"I"},{"$f":"_xlfn.XLOOKUP($A156&$C156&$D156&T$3,'SUA Data'!$D:$D&'SUA Data'!$H:$H&'SUA Data'!$J:$J&'SUA Data'!$F:$F,'SUA Data'!$L:$L)","v":{"$error":"#N/A"}},{"$f":"_xlfn.XLOOKUP($A156&$C156&$D156&T$3,'SUA Data'!$D:$D&'SUA Data'!$H:$H&'SUA Data'!$J:$J&'SUA Data'!$F:$F,'SUA Data'!$M:$M)","v":{"$error":"#N/A"}},{"$f":"_xlfn.XLOOKUP($A156&$C156&$D156&V$3,'SUA Data'!$D:$D&'SUA Data'!$H:$H&'SUA Data'!$J:$J&'SUA Data'!$F:$F,'SUA Data'!$L:$L)","v":31425.360000000001},{"$f":"_xlfn.XLOOKUP($A156&$C156&$D156&V$3,'SUA Data'!$D:$D&'SUA Data'!$H:$H&'SUA Data'!$J:$J&'SUA Data'!$F:$F,'SUA Data'!$M:$M)","v":"E"},22653.584232935926,"AE"]
["Switzerland","Peppers","Chillies and peppers, green (Capsicum spp. and Pimenta spp.)",2022,{"$f":"_xlfn.XLOOKUP($A157&$C157&$D157&$E$3,'SUA Data'!$D:$D&'SUA Data'!$H:$H&'SUA Data'!$J:$J&'SUA Data'!$F:$F,'SUA Data'!$L:$L)","v":719},{"$f":"_xlfn.XLOOKUP($A157&$C157&$D157&$E$3,'SUA Data'!$D:$D&'SUA Data'!$H:$H&'SUA Data'!$J:$J&'SUA Data'!$F:$F,'SUA Data'!$M:$M)","v":"A"},{"$f":"_xlfn.XLOOKUP($A157&$C157&$D157&G$3,'SUA Data'!$D:$D&'SUA Data'!$H:$H&'SUA Data'!$J:$J&'SUA Data'!$F:$F,'SUA Data'!$L:$L)","v":37653.42},{"$f":"_xlfn.XLOOKUP($A157&$C157&$D157&G$3,'SUA Data'!$D:$D&'SUA Data'!$H:$H&'SUA Data'!$J:$J&'SUA Data'!$F:$F,'SUA Data'!$M:$M)","v":"A"},{"$f":"_xlfn.XLOOKUP($A157&$C157&$D157&I$3,'SUA Data'!$D:$D&'SUA Data'!$H:$H&'SUA Data'!$J:$J&'SUA Data'!$F:$F,'SUA Data'!$L:$L)","v":24.45},{"$f":"_xlfn.XLOOKUP($A157&$C157&$D157&I$3,'SUA Data'!$D:$D&'SUA Data'!$H:$H&'SUA Data'!$J:$J&'SUA Data'!$F:$F,'SUA Data'!$M:$M)","v":"A"},1.8737416092078633E-2,{"$f":"_xlfn.XLOOKUP($A157&$C157&$D157&\"Loss\",'SUA Data'!$D:$D&'SUA Data'!$H:$H&'SUA Data'!$J:$J&'SUA Data'!$F:$F,'SUA Data'!$L:$L)","v":2130.65},{"$f":"_xlfn.XLOOKUP($A157&$C157&$D157&\"Loss\",'SUA Data'!$D:$D&'SUA Data'!$H:$H&'SUA Data'!$J:$J&'SUA Data'!$F:$F,'SUA Data'!$M:$M)","v":"I"},"",{"$f":"IF(ISNUMBER(N157),N157,'FFV Coefficients'!$H$10)","v":0.27913047828454707},2130.65,"I",{"$f":"_xlfn.XLOOKUP($A157&$C157&$D157&R$3,'SUA Data'!$D:$D&'SUA Data'!$H:$H&'SUA Data'!$J:$J&'SUA Data'!$F:$F,'SUA Data'!$L:$L)","v":0},{"$f":"_xlfn.XLOOKUP($A157&$C157&$D157&R$3,'SUA Data'!$D:$D&'SUA Data'!$H:$H&'SUA Data'!$J:$J&'SUA Data'!$F:$F,'SUA Data'!$M:$M)","v":"I"},{"$f":"_xlfn.XLOOKUP($A157&$C157&$D157&T$3,'SUA Data'!$D:$D&'SUA Data'!$H:$H&'SUA Data'!$J:$J&'SUA Data'!$F:$F,'SUA Data'!$L:$L)","v":{"$error":"#N/A"}},{"$f":"_xlfn.XLOOKUP($A157&$C157&$D157&T$3,'SUA Data'!$D:$D&'SUA Data'!$H:$H&'SUA Data'!$J:$J&'SUA Data'!$F:$F,'SUA Data'!$M:$M)","v":{"$error":"#N/A"}},{"$f":"_xlfn.XLOOKUP($A157&$C157&$D157&V$3,'SUA Data'!$D:$D&'SUA Data'!$H:$H&'SUA Data'!$J:$J&'SUA Data'!$F:$F,'SUA Data'!$L:$L)","v":36217.32},{"$f":"_xlfn.XLOOKUP($A157&$C157&$D157&V$3,'SUA Data'!$D:$D&'SUA Data'!$H:$H&'SUA Data'!$J:$J&'SUA Data'!$F:$F,'SUA Data'!$M:$M)","v":"E"},26107.962146215508,"AE"]
["United Kingdom","Peppers","Chillies and peppers, green (Capsicum spp. and Pimenta spp.)",2022,{"$f":"_xlfn.XLOOKUP($A158&$C158&$D158&$E$3,'SUA Data'!$D:$D&'SUA Data'!$H:$H&'SUA Data'!$J:$J&'SUA Data'!$F:$F,'SUA Data'!$L:$L)","v":18260},{"$f":"_xlfn.XLOOKUP($A158&$C158&$D158&$E$3,'SUA Data'!$D:$D&'SUA Data'!$H:$H&'SUA Data'!$J:$J&'SUA Data'!$F:$F,'SUA Data'!$M:$M)","v":"A"},{"$f":"_xlfn.XLOOKUP($A158&$C158&$D158&G$3,'SUA Data'!$D:$D&'SUA Data'!$H:$H&'SUA Data'!$J:$J&'SUA Data'!$F:$F,'SUA Data'!$L:$L)","v":240965.99},{"$f":"_xlfn.XLOOKUP($A158&$C158&$D158&G$3,'SUA Data'!$D:$D&'SUA Data'!$H:$H&'SUA Data'!$J:$J&'SUA Data'!$F:$F,'SUA Data'!$M:$M)","v":"A"},{"$f":"_xlfn.XLOOKUP($A158&$C158&$D158&I$3,'SUA Data'!$D:$D&'SUA Data'!$H:$H&'SUA Data'!$J:$J&'SUA Data'!$F:$F,'SUA Data'!$L:$L)","v":385.54},{"$f":"_xlfn.XLOOKUP($A158&$C158&$D158&I$3,'SUA Data'!$D:$D&'SUA Data'!$H:$H&'SUA Data'!$J:$J&'SUA Data'!$F:$F,'SUA Data'!$M:$M)","v":"A"},7.0440467794143632E-2,{"$f":"_xlfn.XLOOKUP($A158&$C158&$D158&\"Loss\",'SUA Data'!$D:$D&'SUA Data'!$H:$H&'SUA Data'!$J:$J&'SUA Data'!$F:$F,'SUA Data'!$L:$L)","v":1526.29},{"$f":"_xlfn.XLOOKUP($A158&$C158&$D158&\"Loss\",'SUA Data'!$D:$D&'SUA Data'!$H:$H&'SUA Data'!$J:$J&'SUA Data'!$F:$F,'SUA Data'!$M:$M)","v":"E"},"",{"$f":"IF(ISNUMBER(N158),N158,'FFV Coefficients'!$H$10)","v":0.27913047828454707},1526.29,"E",{"$f":"_xlfn.XLOOKUP($A158&$C158&$D158&R$3,'SUA Data'!$D:$D&'SUA Data'!$H:$H&'SUA Data'!$J:$J&'SUA Data'!$F:$F,'SUA Data'!$L:$L)","v":0},{"$f":"_xlfn.XLOOKUP($A158&$C158&$D158&R$3,'SUA Data'!$D:$D&'SUA Data'!$H:$H&'SUA Data'!$J:$J&'SUA Data'!$F:$F,'SUA Data'!$M:$M)","v":"I"},{"$f":"_xlfn.XLOOKUP($A158&$C158&$D158&T$3,'SUA Data'!$D:$D&'SUA Data'!$H:$H&'SUA Data'!$J:$J&'SUA Data'!$F:$F,'SUA Data'!$L:$L)","v":{"$error":"#N/A"}},{"$f":"_xlfn.XLOOKUP($A158&$C158&$D158&T$3,'SUA Data'!$D:$D&'SUA Data'!$H:$H&'SUA Data'!$J:$J&'SUA Data'!$F:$F,'SUA Data'!$M:$M)","v":{"$error":"#N/A"}},{"$f":"_xlfn.XLOOKUP($A158&$C158&$D158&V$3,'SUA Data'!$D:$D&'SUA Data'!$H:$H&'SUA Data'!$J:$J&'SUA Data'!$F:$F,'SUA Data'!$L:$L)","v":257314.16},{"$f":"_xlfn.XLOOKUP($A158&$C158&$D158&V$3,'SUA Data'!$D:$D&'SUA Data'!$H:$H&'SUA Data'!$J:$J&'SUA Data'!$F:$F,'SUA Data'!$M:$M)","v":"E"},185489.93544981352,"AE"]
[]
[]
[{"$nulls":4},{"$f":"E138/(E138+G138)","v":4.0294196606344312E-2}]
[{"$nulls":4},{"$f":"E155/(E155+G155)","v":0.94480638737132128}]

{"sheet":"FFV Coeffs for Calcs","index":13,"n_rows":174,"n_cols":17,"rows_kept":174,"cut":false,"hidden":false,"merged":[]}
["Homepage"]
[]
[]
["Country","Product","Fresh for Processing","Share of cucumbers vs gherkins","Food waste at R&D","Share Households","Share Food Service","Food Waste Households","Food Waste Food Service","kg CO2-eq/kg Pre R&D","kg CO2-eq/kg at R&D","kg CO2-eq/kg at HH&FS","Increase of kg CO2-eq/kg from R&D to CON","price/kg at farm-gate (USD)","price/kg at wholesale-gate (USD)","price/kg at retail-gate (USD)","Weight of Production compared with Imports"]
["Austria","Avocados",0.25,null,3.125E-2,0.85,0.15,0.3691666666666667,0.442,2.39,2.4900000000000002,2.62,4.9618320610686939E-2,3.0059830000000001,{"$f":"N5*1.445","v":4.343645435},{"$f":"O5*1.445","v":6.2765676535750003},0]
["Belgium","Avocados",0.25,null,3.125E-2,0.85,0.15,0.3691666666666667,0.442,2.39,2.4900000000000002,2.62,4.9618320610686939E-2,2.4737399999999998,{"$f":"N6*1.445","v":3.5745543},5.1652309635,0]
["Bulgaria","Avocados",0.25,null,3.125E-2,0.85,0.15,0.3691666666666667,0.442,2.39,2.4900000000000002,2.62,4.9618320610686939E-2,2.5517940000000001,3.6873423300000003,5.3282096668500003,0]
["Croatia","Avocados",0.25,null,3.125E-2,0.85,0.15,0.3691666666666667,0.442,2.39,2.4900000000000002,2.62,4.9618320610686939E-2,2.08846,3.0178247000000002,4.3607566915000007,0]
["Cyprus","Avocados",0.25,null,3.125E-2,0.85,0.15,0.3691666666666667,0.442,2.39,2.4900000000000002,2.62,4.9618320610686939E-2,2.0111059999999998,2.90604817,4.1992396056499999,0.63630072408235683]
["Czechia","Avocados",0.25,null,3.125E-2,0.85,0.15,0.3691666666666667,0.442,2.39,2.4900000000000002,2.62,4.9618320610686939E-2,2.8060839999999998,4.0547913800000002,5.8591735441000008,0]
["Denmark","Avocados",0.25,null,3.125E-2,0.85,0.15,0.36399999999999999,0.442,2.39,2.4900000000000002,2.62,4.9618320610686939E-2,3.1789290000000001,4.5935524050000005,6.6376832252250013,0]
["Estonia","Avocados",0.25,null,3.125E-2,0.85,0.15,0.3691666666666667,0.442,2.39,2.4900000000000002,2.62,4.9618320610686939E-2,3.0780110000000001,4.4477258950000005,6.4269639182750007,0]
["Finland","Avocados",0.25,null,3.125E-2,0.85,0.15,0.32700000000000001,0.442,2.39,2.4900000000000002,2.62,4.9618320610686939E-2,3.3447840000000002,4.8332128800000005,6.9839926116000006,0]
["France","Avocados",0.25,null,3.125E-2,0.85,0.15,0.3691666666666667,0.442,2.39,2.4900000000000002,2.62,4.9618320610686939E-2,2.6495199999999999,3.8285564000000001,5.5322639980000003,5.3513943553492342E-3]
["Germany","Avocados",0.25,null,3.125E-2,0.85,0.15,0.38,0.442,2.39,2.4900000000000002,2.62,4.9618320610686939E-2,3.0054979999999998,4.34294461,6.2755549614500001,0]
["Greece","Avocados",0.25,null,3.125E-2,0.85,0.15,0.3691666666666667,0.442,2.39,2.4900000000000002,2.62,4.9618320610686939E-2,2.6191499999999999,3.7846717499999998,5.46885067875,0.64867167079422361]
["Hungary","Avocados",0.25,null,3.125E-2,0.85,0.15,0.3691666666666667,0.442,2.39,2.4900000000000002,2.62,4.9618320610686939E-2,1.8471569999999999,2.6691418649999998,3.8569099949250001,0]
["Iceland","Avocados",0.25,null,3.125E-2,0.85,0.15,0.3691666666666667,0.442,2.39,2.4900000000000002,2.62,4.9618320610686939E-2,4.1252940000000002,5.9610498300000003,8.6137170043500006,0]
["Ireland","Avocados",0.25,null,3.125E-2,0.85,0.15,0.3691666666666667,0.442,2.39,2.4900000000000002,2.62,4.9618320610686939E-2,3.0564719999999999,4.4166020399999999,6.3819899478000002,0]
["Italy","Avocados",0.25,null,3.125E-2,0.85,0.15,0.3691666666666667,0.442,2.39,2.4900000000000002,2.62,4.9618320610686939E-2,2.268662,3.27821659,4.7370229725500002,0]
["Latvia","Avocados",0.25,null,3.125E-2,0.85,0.15,0.3691666666666667,0.442,2.39,2.4900000000000002,2.62,4.9618320610686939E-2,2.6543320000000001,3.8355097400000004,5.5423115743000011,0]
["Lithuania","Avocados",0.25,null,3.125E-2,0.85,0.15,0.3691666666666667,0.442,2.39,2.4900000000000002,2.62,4.9618320610686939E-2,2.2794490000000001,3.293803805,4.7595464982250002,0]
["Luxembourg","Avocados",0.25,null,3.125E-2,0.85,0.15,0.3691666666666667,0.442,2.39,2.4900000000000002,2.62,4.9618320610686939E-2,4.5948250000000002,6.6395221250000009,9.5941094706250016,0]
["Malta","Avocados",0.25,null,3.125E-2,0.85,0.15,0.3691666666666667,0.442,2.39,2.4900000000000002,2.62,4.9618320610686939E-2,3.1501350000000001,4.5519450750000008,6.5775606333750014,0]
["Netherlands","Avocados",0.25,null,3.125E-2,0.85,0.15,0.40600000000000003,0.442,2.39,2.4900000000000002,2.62,4.9618320610686939E-2,1.9713590000000001,2.8486137550000001,4.1162468759750004,0]
["Norway","Avocados",0.25,null,3.125E-2,0.85,0.15,0.3691666666666667,0.442,2.39,2.4900000000000002,2.62,4.9618320610686939E-2,4.0895169999999998,5.9093520650000002,8.5390137339250014,0]
["Poland","Avocados",0.25,null,3.125E-2,0.85,0.15,0.3691666666666667,0.442,2.39,2.4900000000000002,2.62,4.9618320610686939E-2,2.6644459999999999,3.8501244699999999,5.5634298591500002,0]
["Portugal","Avocados",0.25,null,3.125E-2,0.85,0.15,0.3691666666666667,0.442,2.39,2.4900000000000002,2.62,4.9618320610686939E-2,2.7014049999999998,3.9035302249999999,5.640601175125,0.74133480507982508]
["Romania","Avocados",0.25,null,3.125E-2,0.85,0.15,0.3691666666666667,0.442,2.39,2.4900000000000002,2.62,4.9618320610686939E-2,2.6565050000000001,3.8386497250000002,5.5468488526250006,0]
["Slovakia","Avocados",0.25,null,3.125E-2,0.85,0.15,0.3691666666666667,0.442,2.39,2.4900000000000002,2.62,4.9618320610686939E-2,3.2500369999999998,4.6963034649999997,6.7861585069250001,0]
["Slovenia","Avocados",0.25,null,3.125E-2,0.85,0.15,0.3691666666666667,0.442,2.39,2.4900000000000002,2.62,4.9618320610686939E-2,1.2364919999999999,1.78673094,2.5818262083000003,0]
["Spain","Avocados",0.25,null,3.125E-2,0.85,0.15,0.33700000000000002,0.442,2.39,2.4900000000000002,2.62,4.9618320610686939E-2,2.0468220000000001,2.9576577900000003,4.273815506550001,0.336813335048189]
["Sweden","Avocados",0.25,null,2.5000000000000001E-2,0.85,0.15,0.3691666666666667,0.442,2.39,2.4900000000000002,2.62,4.9618320610686939E-2,2.7191000000000001,3.9290995000000004,5.6775487775000011,0]
["Switzerland","Avocados",0.25,null,3.125E-2,0.85,0.15,0.3691666666666667,0.442,2.39,2.4900000000000002,2.62,4.9618320610686939E-2,3.358123,4.8524877350000004,7.0118447770750008,0]
["United Kingdom","Avocados",0.25,null,{"$f":"AVERAGE(0.025,0.05)","v":3.7500000000000006E-2},0.85,0.15,0.40100000000000002,0.442,{"$f":"IF(ISBLANK(K35),\"\",K35-0.1)","v":2.39},2.4900000000000002,2.62,4.9618320610686939E-2,2.2433179999999999,3.2415945100000001,4.6841040669500007,0]
["Average","Avocados",0.25,{"$error":"#DIV/0!"},3.125E-2,0.85000000000000042,0.15000000000000002,0.3691666666666667,0.442,2.39,2.4900000000000002,2.62,4.9618320610686939E-2,2.7653712580645164,3.9959614679032263,5.7741643211201614,7.6402320301933668E-2]
["Min","Avocados",{"$f":"MIN(C5:C35)","v":0.25},{"$f":"MIN(D5:D35)","v":0},2.5000000000000001E-2,0.85,0.15,0.32700000000000001,0.34599999999999997,2.39,2.4900000000000002,2.62,4.9618320610686939E-2,1.2364919999999999,1.78673094,2.5818262083000003,0]
["Max","Avocados",{"$f":"MAX(C5:C35)","v":0.25},{"$f":"MAX(D5:D35)","v":0},0.05,0.85,0.15,0.40600000000000003,0.58799999999999997,2.39,2.4900000000000002,2.62,4.9618320610686939E-2,4.5948250000000002,6.6395221250000009,9.5941094706250016,0.74133480507982508]
["Austria","Bananas",0.16529522313417541,null,1.8000000000000002E-2,0.85,0.15,0.45916666666666667,0.442,0.82499999999999996,0.92500000000000004,1.1386112906976746,0.24392093023255815,0.91,{"$f":"N39*1.445","v":1.3149500000000001},{"$f":"O39*1.445","v":1.9001027500000001},0]
["Belgium","Bananas",0,null,1.8000000000000002E-2,0.85,0.15,0.45916666666666667,0.442,0.82499999999999996,0.92500000000000004,1.1386112906976746,0.24392093023255815,0.18,{"$f":"N40*1.445","v":0.2601},0.37584450000000003,0]
["Bulgaria","Bananas",0,null,1.8000000000000002E-2,0.85,0.15,0.45916666666666667,0.442,0.82499999999999996,0.92500000000000004,1.1386112906976746,0.24392093023255815,0.84,1.2138,1.753941,0]
["Croatia","Bananas",0.16529522313417541,null,1.8000000000000002E-2,0.85,0.15,0.45916666666666667,0.442,0.82499999999999996,0.92500000000000004,1.1386112906976746,0.24392093023255815,0.87,1.25715,1.8165817500000001,0]
["Cyprus","Bananas",0.16529522313417541,null,1.8000000000000002E-2,0.85,0.15,0.45916666666666667,0.442,0.82499999999999996,0.92500000000000004,1.1386112906976746,0.24392093023255815,0.69,0.99704999999999999,1.44073725,0.44546543822256041]
["Czechia","Bananas",0.16529522313417541,null,1.8000000000000002E-2,0.85,0.15,0.45916666666666667,0.442,0.82499999999999996,0.92500000000000004,1.1386112906976746,0.24392093023255815,0.82,1.1849000000000001,1.7121805000000001,0]
["Denmark","Bananas",0.16529522313417541,null,1.8000000000000002E-2,0.85,0.15,0.45400000000000001,0.442,0.82499999999999996,0.92500000000000004,1.1386112906976746,0.24392093023255815,0.99,1.43055,2.0671447500000002,0]
["Estonia","Bananas",0.16529522313417541,null,1.8000000000000002E-2,0.85,0.15,0.45916666666666667,0.442,0.82499999999999996,0.92500000000000004,1.1386112906976746,0.24392093023255815,0.95,1.3727499999999999,1.98362375,0]
["Finland","Bananas",1.0026635371062772E-2,null,1.8000000000000002E-2,0.85,0.15,0.41699999999999998,0.442,0.82499999999999996,0.92500000000000004,1.1386112906976746,0.24392093023255815,0.74,1.0693000000000001,1.5451385000000002,0]
["France","Bananas",0,null,1.8000000000000002E-2,0.85,0.15,0.45916666666666667,0.442,0.82499999999999996,0.92500000000000004,1.1386112906976746,0.24392093023255815,0.94,1.3583000000000001,1.9627435000000002,0.22875960291033173]
["Germany","Bananas",0.16529522313417541,null,1.8000000000000002E-2,0.85,0.15,0.47,0.442,0.82499999999999996,0.92500000000000004,1.1386112906976746,0.24392093023255815,0.74,1.0693000000000001,1.5451385000000002,0]
["Greece","Bananas",0.16529522313417541,null,1.8000000000000002E-2,0.85,0.15,0.45916666666666667,0.442,0.82499999999999996,0.92500000000000004,1.1386112906976746,0.24392093023255815,0.73,1.0548500000000001,1.5242582500000001,2.2613341072548841E-2]
["Hungary","Bananas",0.16529522313417541,null,1.8000000000000002E-2,0.85,0.15,0.45916666666666667,0.442,0.82499999999999996,0.92500000000000004,1.1386112906976746,0.24392093023255815,0.86,1.2427000000000001,1.7957015000000003,0]
["Iceland","Bananas",0.16529522313417541,null,1.8000000000000002E-2,0.85,0.15,0.45916666666666667,0.442,0.82499999999999996,0.92500000000000004,1.1386112906976746,0.24392093023255815,0.99,1.43055,2.0671447500000002,0]
["Ireland","Bananas",0.27804479092308737,null,1.8000000000000002E-2,0.85,0.15,0.45916666666666667,0.442,0.82499999999999996,0.92500000000000004,1.1386112906976746,0.24392093023255815,0.66,0.9537000000000001,1.3780965000000003,0]
["Italy","Bananas",0,null,1.8000000000000002E-2,0.85,0.15,0.45916666666666667,0.442,0.82499999999999996,0.92500000000000004,1.1386112906976746,0.24392093023255815,0.65,0.93925000000000003,1.35721625,0]
["Latvia","Bananas",0.16529522313417541,null,1.8000000000000002E-2,0.85,0.15,0.45916666666666667,0.442,0.82499999999999996,0.92500000000000004,1.1386112906976746,0.24392093023255815,0.88,1.2716000000000001,1.8374620000000002,0]
["Lithuania","Bananas",0.23946936882349781,null,1.8000000000000002E-2,0.85,0.15,0.45916666666666667,0.442,0.82499999999999996,0.92500000000000004,1.1386112906976746,0.24392093023255815,0.85,1.2282500000000001,1.7748212500000002,0]
["Luxembourg","Bananas",0.16529522313417541,null,1.8000000000000002E-2,0.85,0.15,0.45916666666666667,0.442,0.82499999999999996,0.92500000000000004,1.1386112906976746,0.24392093023255815,1.31,1.8929500000000001,2.7353127500000003,0]
["Malta","Bananas",0.16529522313417541,null,1.8000000000000002E-2,0.85,0.15,0.45916666666666667,0.442,0.82499999999999996,0.92500000000000004,1.1386112906976746,0.24392093023255815,0.87,1.25715,1.8165817500000001,0]
["Netherlands","Bananas",9.8387398431161982E-2,null,1.8000000000000002E-2,0.85,0.15,0.496,0.442,{"$f":"IF(ISBLANK(K59),\"\",K59-0.1)","v":1.02},1.1200000000000001,1.3931914418604654,0.24392093023255815,0.5,0.72250000000000003,1.0440125,0]
["Norway","Bananas",0.16529522313417541,null,1.8000000000000002E-2,0.85,0.15,0.45916666666666667,0.442,1.27,1.37,1.7041716744186048,0.34300000000000003,0.85,1.2282500000000001,1.7748212500000002,0]
["Poland","Bananas",0.58696108709274419,null,1.8000000000000002E-2,0.85,0.15,0.45916666666666667,0.442,0.82499999999999996,0.92500000000000004,1.1386112906976746,0.24392093023255815,0.77,1.1126500000000001,1.6077792500000003,0]
["Portugal","Bananas",2.141256948734965E-2,null,1.8000000000000002E-2,0.85,0.15,0.45916666666666667,0.442,0.82499999999999996,0.92500000000000004,1.1386112906976746,0.24392093023255815,0.67,0.96815000000000007,1.3989767500000001,0.11536757280206635]
["Romania","Bananas",0.16529522313417541,null,1.8000000000000002E-2,0.85,0.15,0.45916666666666667,0.442,0.82499999999999996,0.92500000000000004,1.1386112906976746,0.24392093023255815,0.82,1.1849000000000001,1.7121805000000001,0]
["Slovakia","Bananas",3.935268372418136E-2,null,1.8000000000000002E-2,0.85,0.15,0.45916666666666667,0.442,0.82499999999999996,0.92500000000000004,1.1386112906976746,0.24392093023255815,0.96,1.3872,2.0045040000000003,0]
["Slovenia","Bananas",0.16529522313417541,null,1.8000000000000002E-2,0.85,0.15,0.45916666666666667,0.442,0.82499999999999996,0.92500000000000004,1.1386112906976746,0.24392093023255815,0.68,0.98260000000000014,1.4198570000000004,0]
["Spain","Bananas",0.37291733277810074,null,1.8000000000000002E-2,0.85,0.15,0.42699999999999999,0.442,0.82499999999999996,0.92500000000000004,1.1386112906976746,0.23760000000000001,0.85,1.2282500000000001,1.7748212500000002,0.46353680535647485]
["Sweden","Bananas",0.50226603411309434,null,1.6E-2,0.85,0.15,0.45916666666666667,0.442,0.82499999999999996,0.92500000000000004,1.1386112906976746,0.24392093023255815,0.83,1.1993499999999999,1.7330607499999999,0]
["Switzerland","Bananas",0.16529522313417541,null,1.8000000000000002E-2,0.85,0.15,0.45916666666666667,0.442,0.38,0.48,0.59708204651162788,0.24392093023255815,1.08,1.5606000000000002,2.2550670000000004,0]
["United Kingdom","Bananas",0.16529522313417541,null,0.02,0.85,0.15,0.49099999999999999,0.442,0.63,0.73,0.86,0.15116279069767447,0.73,1.0548500000000001,1.5242582500000001,0]
["Average","Bananas",0.16529522313417541,{"$error":"#DIV/0!"},1.8000000000000002E-2,0.85000000000000042,0.15000000000000002,0.45916666666666667,0.442,0.82499999999999996,0.92500000000000004,1.1386112906976746,0.24392093023255815,0.81322580645161302,1.1751112903225809,1.6980358145161296,4.1152992269805878E-2]
["Min","Bananas",{"$f":"MIN(C39:C69)","v":0},{"$f":"MIN(D39:D69)","v":0},1.6E-2,0.85,0.15,0.41699999999999998,0.34599999999999997,0.38,0.48,0.59708204651162788,0.15116279069767447,0.18,0.2601,0.37584450000000003,0]
["Max","Bananas",{"$f":"MAX(C39:C69)","v":0.58696108709274419},{"$f":"MAX(D39:D69)","v":0},0.02,0.85,0.15,0.496,0.58799999999999997,1.27,1.37,1.7041716744186048,0.34300000000000003,1.31,1.8929500000000001,2.7353127500000003,0.46353680535647485]
["Austria","Cucumbers",0.21752795858822579,0.88500000000000001,4.5999999999999999E-2,0.89,0.11,0.23516666666666666,0.34100000000000003,{"$f":"IF(ISBLANK(K73),\"\",K73-0.1)","v":1.2104563138285083},1.3104563138285084,1.6146693866815551,0.23214285714285721,1.18,{"$f":"N73*1.445","v":1.7051000000000001},{"$f":"O73*1.445","v":2.4638695000000004},0.59313751592771224]
["Belgium","Cucumbers",0.56641133279271139,0.88500000000000001,2.513333333333333E-2,0.89,0.11,0.23516666666666666,0.34100000000000003,{"$f":"IF(ISBLANK(K74),\"\",K74-0.1)","v":0.82542804917926249},0.92542804917926247,1.140259560595877,0.23214285714285721,1.06,{"$f":"N74*1.445","v":1.5317000000000001},2.2133065000000003,0.36021055606730945]
["Bulgaria","Cucumbers",6.1328337143891597E-2,0.88500000000000001,2.513333333333333E-2,0.89,0.11,0.23516666666666666,0.34100000000000003,1.2806817574906497,1.3806817574906498,1.7011971654795508,0.23214285714285721,0.75,1.08375,1.56601875,0.63562114790722923]
["Croatia","Cucumbers",0,0.88500000000000001,2.513333333333333E-2,0.89,0.11,0.23516666666666666,0.34100000000000003,1.072533705409676,1.1725337054096761,1.4447290298797795,0.23214285714285721,0.86,1.2427000000000001,1.7957015000000003,0.50969976128837036]
["Cyprus","Cucumbers",0.16746522807308117,0.88500000000000001,2.513333333333333E-2,0.89,0.11,0.23516666666666666,0.34100000000000003,1.8187161820909246,1.9187161820909246,2.3641324386477467,0.23214285714285721,1.1100000000000001,1.6039500000000002,2.3177077500000003,0.96111081796184206]
["Czechia","Cucumbers",0.21752795858822579,0.88500000000000001,2.513333333333333E-2,0.89,0.11,0.23516666666666666,0.34100000000000003,0.63504757943686385,0.73504757943686383,0.90568362466327867,0.23214285714285721,1.25,1.8062500000000001,2.6100312500000005,0.24503785809852624]
["Denmark","Cucumbers",0.19572828559617605,0.88500000000000001,2.513333333333333E-2,0.89,0.11,0.315,0.34100000000000003,0.86445950077464484,0.96445950077464482,1.1883518848830446,0.23214285714285721,2.0499999999999998,2.96225,4.2804512500000005,0.38382304947044454]
["Estonia","Cucumbers",0.21752795858822579,0.88500000000000001,2.513333333333333E-2,0.89,0.11,0.23516666666666666,0.34100000000000003,0.99392001592709345,1.0939200159270934,1.3478657339101687,0.23214285714285721,1.33,1.9218500000000003,2.7770732500000004,0.46214157043381338]
["Finland","Cucumbers",0.21752795858822579,0.88500000000000001,2.513333333333333E-2,0.89,0.11,0.192,0.34100000000000003,1.7237105591216959,1.823710559121696,2.247071938917804,0.23214285714285721,1.44,2.0808,3.0067560000000002,0.90363615191875146]
["France","Cucumbers",0.21752795858822579,0.88500000000000001,2.513333333333333E-2,0.89,0.11,0.23516666666666666,0.34100000000000003,1.3940214758209286,1.4940214758209287,1.8408478898507872,0.23214285714285721,1.34,1.9363000000000001,2.7979535000000002,0.70418722070231632]
["Germany","Cucumbers",0.21752795858822579,0.88500000000000001,2.513333333333333E-2,0.89,0.11,0.23799999999999999,0.34100000000000003,0.72905009061045811,0.82905009061045809,1.0215081473593144,0.23214285714285721,1.46,2.1097000000000001,3.0485165000000003,0.30190568095006542]
["Greece","Cucumbers",7.289355210928615E-2,0.88500000000000001,2.513333333333333E-2,0.89,0.11,0.23516666666666666,0.34100000000000003,1.8740146276111234,1.9740146276111235,2.432268023306563,0.23214285714285721,0.82,1.1849000000000001,1.7121805000000001,0.9945642030315327]
["Hungary","Cucumbers",0.28530795644709106,0.88500000000000001,2.513333333333333E-2,0.89,0.11,0.23516666666666666,0.34100000000000003,1.0319662648074721,1.1319662648074722,1.3947441477092068,0.23214285714285721,0.87,1.25715,1.8165817500000001,0.4851580549349499]
["Iceland","Cucumbers",0.21752795858822579,0.88500000000000001,2.513333333333333E-2,0.89,0.11,0.23516666666666666,0.34100000000000003,1.8245976692563814,1.9245976692563815,2.3713792710480415,0.23214285714285721,2.99,4.3205500000000008,6.2431947500000016,0.96466888642249349]
["Ireland","Cucumbers",0.21752795858822579,0.88500000000000001,2.513333333333333E-2,0.89,0.11,0.23516666666666666,0.34100000000000003,0.54809341972437864,0.64809341972437862,0.79854367787468084,0.23214285714285721,1.91,2.7599499999999999,3.9881277499999999,0.19243401072255209]
["Italy","Cucumbers",0.21752795858822579,0.88500000000000001,2.513333333333333E-2,0.89,0.11,0.23516666666666666,0.34100000000000003,1.483618727413426,1.5836187274134261,1.9512445034201145,0.23214285714285721,1.07,1.5461500000000001,2.2341867500000001,0.75839003473286526]
["Latvia","Cucumbers",0.21752795858822579,0.88500000000000001,2.513333333333333E-2,0.89,0.11,0.23516666666666666,0.34100000000000003,1.0460205517958259,1.146020551795826,1.4120610370341429,0.23214285714285721,2.1,3.0345000000000004,4.3848525000000009,0.49366034591399033]
["Lithuania","Cucumbers",8.0120434528171067E-2,0.88500000000000001,2.513333333333333E-2,0.89,0.11,0.23516666666666666,0.34100000000000003,1.3444359871866212,1.4444359871866213,1.779751484212087,0.23214285714285721,1.85,2.6732500000000003,3.8628462500000005,0.67418994990116232]
["Luxembourg","Cucumbers",0.21752795858822579,0.88500000000000001,2.513333333333333E-2,0.89,0.11,0.23516666666666666,0.34100000000000003,0.24753821342934143,0.34753821342934144,0.42821672726115284,0.23214285714285721,2.1,3.0345000000000004,4.3848525000000009,1.0609929479335393E-2]
["Malta","Cucumbers",0.21752795858822579,0.88500000000000001,2.513333333333333E-2,0.89,0.11,0.23516666666666666,0.34100000000000003,1.1863272563075011,1.2863272563075012,1.584938940807457,0.23214285714285721,1.68,2.4276,3.5078819999999999,0.57854038494101712]
["Netherlands","Cucumbers",0.74315164649609133,0.88500000000000001,2.513333333333333E-2,0.89,0.11,0.29699999999999999,0.34100000000000003,1.535245151845692,1.6352451518456921,2.0148556335241565,0.23214285714285721,1.1000000000000001,1.5895000000000001,2.2968275000000005,0.78962199143720047]
["Norway","Cucumbers",0.21752795858822579,0.88500000000000001,2.513333333333333E-2,0.89,0.11,0.23516666666666666,0.34100000000000003,1.5036880755957516,1.6036880755957517,1.9759728074304799,0.23214285714285721,2.93,4.2338500000000003,6.1179132500000009,0.7705312012073513]
["Poland","Cucumbers",2.8728126957583717E-3,0.88500000000000001,2.513333333333333E-2,0.89,0.11,0.23516666666666666,0.34100000000000003,1.6449685746174796,1.7449685746174797,2.1500505651536805,0.23214285714285721,0.76,1.0982000000000001,1.5868990000000001,0.85600034762097987]
["Portugal","Cucumbers",0.21752795858822579,0.88500000000000001,2.513333333333333E-2,0.89,0.11,0.23516666666666666,0.34100000000000003,1.2685164159162292,1.3685164159162293,1.6862077267539255,0.23214285714285721,1.1399999999999999,1.6473,2.3803485000000002,0.628261594625668]
["Romania","Cucumbers",0.21752795858822579,0.88500000000000001,2.513333333333333E-2,0.89,0.11,0.23516666666666666,0.34100000000000003,1.4692540913699639,1.569254091369964,1.9335452197237057,0.23214285714285721,1.1200000000000001,1.6184000000000003,2.3385880000000006,0.74969999477916749]
["Slovakia","Cucumbers",0.21752795858822579,0.88500000000000001,2.513333333333333E-2,0.89,0.11,0.23516666666666666,0.34100000000000003,0.53866140813346386,0.63866140813346384,0.78692209216444653,0.23214285714285721,1.35,1.9507500000000002,2.8188337500000005,0.18672801459979668]
["Slovenia","Cucumbers",0.21752795858822579,0.88500000000000001,2.513333333333333E-2,0.89,0.11,0.23516666666666666,0.34100000000000003,0.5781463092354201,0.67814630923542008,0.83557313102221409,0.23214285714285721,0.57999999999999996,0.83809999999999996,1.2110544999999999,0.21061482712366614]
["Spain","Cucumbers",0.21752795858822579,0.88500000000000001,2.513333333333333E-2,0.89,0.11,0.151,0.34100000000000003,1.8539654665403771,1.9539654665403772,2.4075645927015361,0.23214285714285721,1.01,1.4594500000000001,2.1089052500000003,0.98243524896574552]
["Sweden","Cucumbers",0.21752795858822579,0.88500000000000001,9.4000000000000004E-3,0.89,0.11,0.23516666666666666,0.34100000000000003,1.0706982827806668,1.1706982827806669,1.4424675269976075,0.23214285714285721,1.52,2.1964000000000001,3.1737980000000001,0.50858940277112341]
["Switzerland","Cucumbers",0.21752795858822579,0.88500000000000001,2.513333333333333E-2,0.89,0.11,0.23516666666666666,0.34100000000000003,0.9332330914267194,1.0332330914267194,1.2730907733650649,0.23214285714285721,2.38,3.4390999999999998,4.9694995000000004,0.42542836746927976]
["United Kingdom","Cucumbers",0.21752795858822579,0.88500000000000001,0.02,0.89,0.11,0.218,0.34100000000000003,0.32999999999999996,0.43,0.56000000000000005,0.23214285714285721,1.69,2.4420500000000001,3.5287622500000002,0.18267200182574575]
["Average","Cucumbers",0.21752795858822579,0.88500000000000056,2.513333333333333E-2,0.89000000000000035,0.10999999999999997,0.23516666666666666,0.34100000000000003,1.1568069295059531,1.2568069295059532,1.5495391833025538,0.23214285714285721,1.4451612903225808,2.0882580645161286,3.0175329032258067,0.56462290720103259]
["Min","Cucumbers",{"$f":"MIN(C73:C103)","v":0},{"$f":"MIN(D73:D103)","v":0.88500000000000001},9.4000000000000004E-3,0.89,0.11,0.151,0.24399999999999999,0.24753821342934143,0.34753821342934144,0.42821672726115284,0.23214285714285721,0.57999999999999996,0.83809999999999996,1.2110544999999999,1.0609929479335393E-2]
["Max","Cucumbers",{"$f":"MAX(C73:C103)","v":0.74315164649609133},{"$f":"MAX(D73:D103)","v":0.88500000000000001},4.5999999999999999E-2,0.89,0.11,0.315,0.47799999999999998,1.8740146276111234,1.9740146276111235,2.432268023306563,0.23214285714285721,2.99,4.3205500000000008,6.2431947500000016,0.9945642030315327]
["Austria","Eggplants",0.128,null,9.7000000000000003E-2,0.89,0.11,0.22516666666666665,0.34100000000000003,{"$f":"IF(ISBLANK(K107),\"\",K107-0.1)","v":1.25},1.35,1.5213042000000001,0.126892,0.9,{"$f":"N107*1.445","v":1.3005},{"$f":"O107*1.445","v":1.8792225},0.18448915266321034]
["Belgium","Eggplants",0.128,null,9.7000000000000003E-2,0.89,0.11,0.22516666666666665,0.34100000000000003,{"$f":"IF(ISBLANK(K108),\"\",K108-0.1)","v":1.25},1.35,1.5213042000000001,0.126892,1.1299999999999999,{"$f":"N108*1.445","v":1.6328499999999999},2.3594682499999999,0.59412871669488776]
["Bulgaria","Eggplants",0.128,null,9.7000000000000003E-2,0.89,0.11,0.22516666666666665,0.34100000000000003,1.25,1.35,1.5213042000000001,0.126892,0.39,0.56355,0.81432975000000007,0.71596400230527102]
["Croatia","Eggplants",0.128,null,9.7000000000000003E-2,0.89,0.11,0.22516666666666665,0.34100000000000003,1.25,1.35,1.5213042000000001,0.126892,0.98,1.4161000000000001,2.0462645000000004,0.50457311432617624]
["Cyprus","Eggplants",0.128,null,9.7000000000000003E-2,0.89,0.11,0.22516666666666665,0.34100000000000003,1.25,1.35,1.5213042000000001,0.126892,0.78,1.1271,1.6286595000000001,0.95726193631999057]
["Czechia","Eggplants",0.128,null,9.7000000000000003E-2,0.89,0.11,0.22516666666666665,0.34100000000000003,1.25,1.35,1.5213042000000001,0.126892,1.54,2.2253000000000003,3.2155585000000007,0]
["Denmark","Eggplants",0.128,null,9.7000000000000003E-2,0.89,0.11,0.30499999999999999,0.34100000000000003,1.25,1.35,1.5213042000000001,0.126892,1.1100000000000001,1.6039500000000002,2.3177077500000003,0]
["Estonia","Eggplants",0.128,null,9.7000000000000003E-2,0.89,0.11,0.22516666666666665,0.34100000000000003,1.25,1.35,1.5213042000000001,0.126892,1.41,2.0374499999999998,2.9441152499999999,0]
["Finland","Eggplants",0.128,null,9.7000000000000003E-2,0.89,0.11,0.182,0.34100000000000003,1.25,1.35,1.5213042000000001,0.126892,1.84,2.6588000000000003,3.8419660000000007,0]
["France","Eggplants",0.128,null,9.7000000000000003E-2,0.89,0.11,0.22516666666666665,0.34100000000000003,1.25,1.35,1.5213042000000001,0.126892,1.1599999999999999,1.6761999999999999,2.4221089999999998,0.45828555030406726]
["Germany","Eggplants",0.128,null,9.7000000000000003E-2,0.89,0.11,0.22800000000000001,0.34100000000000003,1.25,1.35,1.5213042000000001,0.126892,1.64,2.3698000000000001,3.4243610000000002,0]
["Greece","Eggplants",0.128,null,9.7000000000000003E-2,0.89,0.11,0.22516666666666665,0.34100000000000003,1.25,1.35,1.5213042000000001,0.126892,0.71,1.0259499999999999,1.4824977499999998,0.95663889117598444]
["Hungary","Eggplants",0.128,null,9.7000000000000003E-2,0.89,0.11,0.22516666666666665,0.34100000000000003,1.25,1.35,1.5213042000000001,0.126892,1.19,1.7195499999999999,2.4847497500000002,0.34322501646552445]
["Iceland","Eggplants",0.128,null,9.7000000000000003E-2,0.89,0.11,0.22516666666666665,0.34100000000000003,1.25,1.35,1.5213042000000001,0.126892,2.75,3.9737500000000003,5.7420687500000005,0]
["Ireland","Eggplants",0.128,null,9.7000000000000003E-2,0.89,0.11,0.22516666666666665,0.34100000000000003,1.25,1.35,1.5213042000000001,0.126892,1.9,2.7454999999999998,3.9672475,0]
["Italy","Eggplants",0.128,null,9.7000000000000003E-2,0.89,0.11,0.22516666666666665,0.34100000000000003,1.25,1.35,1.5213042000000001,0.126892,0.88,1.2716000000000001,1.8374620000000002,0.92030507680729123]
["Latvia","Eggplants",0.128,null,9.7000000000000003E-2,0.89,0.11,0.22516666666666665,0.34100000000000003,1.25,1.35,1.5213042000000001,0.126892,1.48,2.1386000000000003,3.0902770000000004,0]
["Lithuania","Eggplants",0.128,null,9.7000000000000003E-2,0.89,0.11,0.22516666666666665,0.34100000000000003,1.25,1.35,1.5213042000000001,0.126892,1.42,2.0518999999999998,2.9649954999999997,0]
["Luxembourg","Eggplants",0.128,null,9.7000000000000003E-2,0.89,0.11,0.22516666666666665,0.34100000000000003,1.25,1.35,1.5213042000000001,0.126892,2.1800000000000002,3.1501000000000006,4.5518945000000013,0]
["Malta","Eggplants",0.128,null,9.7000000000000003E-2,0.89,0.11,0.22516666666666665,0.34100000000000003,1.25,1.35,1.5213042000000001,0.126892,0.85,1.2282500000000001,1.7748212500000002,0.8237811555037623]
["Netherlands","Eggplants",0.128,null,9.7000000000000003E-2,0.89,0.11,0.28699999999999998,0.34100000000000003,1.25,1.35,1.5213042000000001,0.126892,1.03,1.4883500000000001,2.1506657500000004,0.80103902043122843]
["Norway","Eggplants",0.128,null,9.7000000000000003E-2,0.89,0.11,0.22516666666666665,0.34100000000000003,1.25,1.35,1.5213042000000001,0.126892,2.2400000000000002,3.2368000000000006,4.6771760000000011,0]
["Poland","Eggplants",0.128,null,9.7000000000000003E-2,0.89,0.11,0.22516666666666665,0.34100000000000003,1.25,1.35,1.5213042000000001,0.126892,1.4,2.0230000000000001,2.9232350000000005,0.14685725474838457]
["Portugal","Eggplants",0.128,null,9.7000000000000003E-2,0.89,0.11,0.22516666666666665,0.34100000000000003,1.25,1.35,1.5213042000000001,0.126892,0.88,1.2716000000000001,1.8374620000000002,0.58108821975699942]
["Romania","Eggplants",0.128,null,9.7000000000000003E-2,0.89,0.11,0.22516666666666665,0.34100000000000003,1.25,1.35,1.5213042000000001,0.126892,0.9,1.3005,1.8792225,0.9310064517189659]
["Slovakia","Eggplants",0.128,null,9.7000000000000003E-2,0.89,0.11,0.22516666666666665,0.34100000000000003,1.25,1.35,1.5213042000000001,0.126892,1.48,2.1386000000000003,3.0902770000000004,0]
["Slovenia","Eggplants",0.128,null,9.7000000000000003E-2,0.89,0.11,0.22516666666666665,0.34100000000000003,1.25,1.35,1.5213042000000001,0.126892,1.1100000000000001,1.6039500000000002,2.3177077500000003,0.3967883484268509]
["Spain","Eggplants",0.128,null,9.7000000000000003E-2,0.89,0.11,0.14099999999999999,0.34100000000000003,1.25,1.35,1.5213042000000001,0.126892,0.87,1.25715,1.8165817500000001,0.99416707583592945]
["Sweden","Eggplants",0.128,null,9.7000000000000003E-2,0.89,0.11,0.22516666666666665,0.34100000000000003,1.25,1.35,1.5213042000000001,0.126892,1.32,1.9074000000000002,2.7561930000000006,2.9695487622178373E-3]
["Switzerland","Eggplants",0.128,null,9.7000000000000003E-2,0.89,0.11,0.22516666666666665,0.34100000000000003,1.25,1.35,1.5213042000000001,0.126892,2.1800000000000002,3.1501000000000006,4.5518945000000013,0]
["United Kingdom","Eggplants",0.128,null,9.7000000000000003E-2,0.89,0.11,0.20799999999999999,0.34100000000000003,1.25,1.35,1.5213042000000001,0.126892,1.93,2.7888500000000001,4.0298882499999999,0]
["Average","Eggplants",0.128,{"$error":"#DIV/0!"},9.7000000000000003E-2,0.89000000000000035,0.10999999999999997,0.22516666666666665,0.34100000000000003,1.25,1.3500000000000008,1.5213042000000008,0.12689199999999989,1.3412903225806452,1.9381645161290328,2.8006477258064519,0.33266350104021747]
["Min","Eggplants",{"$f":"MIN(C107:C137)","v":0.128},{"$f":"MIN(D107:D137)","v":0},9.7000000000000003E-2,0.89,0.11,0.14099999999999999,0.24399999999999999,1.25,1.35,1.5213042000000001,0.126892,0.39,0.56355,0.81432975000000007,0]
["Max","Eggplants",{"$f":"MAX(C107:C137)","v":0.128},{"$f":"MAX(D107:D137)","v":0},9.7000000000000003E-2,0.89,0.11,0.30499999999999999,0.47799999999999998,1.25,1.35,1.5213042000000001,0.126892,2.75,3.9737500000000003,5.7420687500000005,0.99416707583592945]
["Austria","Peppers",0.27913047828454707,null,0.04,0.89,0.11,0.28516666666666668,0.34100000000000003,{"$f":"IF(ISBLANK(K141),\"\",K141-0.1)","v":0.55682682210322232},0.6568268221032223,0.70392006595213252,7.1698113207547154E-2,1.25,{"$f":"N141*1.445","v":1.8062500000000001},{"$f":"O141*1.445","v":2.6100312500000005},0.16912744673578067]
["Belgium","Peppers",0.1072190043198161,null,0.04,0.89,0.11,0.28516666666666668,0.34100000000000003,{"$f":"IF(ISBLANK(K142),\"\",K142-0.1)","v":0.627255821903138},0.72725582190313798,0.77939869215279689,7.1698113207547154E-2,1.54,{"$f":"N142*1.445","v":2.2253000000000003},3.2155585000000007,0.37873756518791046]
["Bulgaria","Peppers",5.4752637017595938E-2,null,0.04,0.89,0.11,0.28516666666666668,0.34100000000000003,0.70760268591085262,0.8076026859108526,0.86550627471200803,7.1698113207547154E-2,0.56999999999999995,0.82364999999999999,1.1901742500000001,0.6178651366394422]
["Croatia","Peppers",0.27913047828454707,null,0.04,0.89,0.11,0.28516666666666668,0.34100000000000003,0.59367822817255267,0.69367822817255265,0.74341364830567902,7.1698113207547154E-2,1.1599999999999999,1.6761999999999999,2.4221089999999998,0.27880425051354968]
["Cyprus","Peppers",0.27913047828454707,null,0.04,0.89,0.11,0.28516666666666668,0.34100000000000003,0.61166934785298854,0.71166934785298852,0.76269469732169337,7.1698113207547154E-2,1.85,2.6732500000000003,3.8628462500000005,0.33234924956246575]
["Czechia","Peppers",0.27913047828454707,null,0.04,0.89,0.11,0.28516666666666668,0.34100000000000003,0.56656386562552574,0.66656386562552572,0.71435523712320492,7.1698113207547154E-2,1.69,2.4420500000000001,3.5287622500000002,0.19810674293311231]
["Denmark","Peppers",0.27913047828454707,null,0.04,0.89,0.11,0.36499999999999999,0.34100000000000003,0.5,0.6,0.64301886792452823,7.1698113207547154E-2,2.63,3.8003499999999999,5.49150575,0]
["Estonia","Peppers",0.27913047828454707,null,0.04,0.89,0.11,0.28516666666666668,0.34100000000000003,0.5,0.6,0.64301886792452823,7.1698113207547154E-2,2.0099999999999998,2.9044499999999998,4.1969302499999994,0]
["Finland","Peppers",0.27913047828454707,null,0.04,0.89,0.11,0.24199999999999999,0.34100000000000003,0.52716562014107737,0.62716562014107735,0.67213221177383387,7.1698113207547154E-2,2.73,3.9448500000000002,5.7003082500000009,8.0850059943682509E-2]
["France","Peppers",0.27913047828454707,null,0.04,0.89,0.11,0.28516666666666668,0.34100000000000003,0.5413333338916505,0.64133333389165048,0.6873157238687877,7.1698113207547154E-2,1.64,2.3698000000000001,3.4243610000000002,0.12301587467753115]
["Germany","Peppers",0.27913047828454707,null,0.04,0.89,0.11,0.28799999999999998,0.34100000000000003,0.51353885005973166,0.61353885005973163,0.65752842798854261,7.1698113207547154E-2,2.2000000000000002,3.1790000000000003,4.5936550000000009,4.0294196606344312E-2]
["Greece","Peppers",0.27913047828454707,null,0.04,0.89,0.11,0.28516666666666668,0.34100000000000003,0.81987830759228142,0.9198783075922814,0.98583184662719969,7.1698113207547154E-2,0.66,0.9537000000000001,1.3780965000000003,0.95201877259607548]
["Hungary","Peppers",0.38584143838672263,null,0.04,0.89,0.11,0.28516666666666668,0.34100000000000003,0.79393644605698499,0.89393644605698497,0.9580300025667311,7.1698113207547154E-2,0.81,1.1704500000000002,1.6913002500000003,0.87481085136007408]
["Iceland","Peppers",0.27913047828454707,null,0.04,0.89,0.11,0.28516666666666668,0.34100000000000003,0.5,0.6,0.64301886792452823,7.1698113207547154E-2,2.67,3.8581500000000002,5.5750267500000001,0]
["Ireland","Peppers",0.27913047828454707,null,0.04,0.89,0.11,0.28516666666666668,0.34100000000000003,0.5,0.6,0.64301886792452823,7.1698113207547154E-2,2.17,3.13565,4.5310142500000001,0]
["Italy","Peppers",0.27913047828454707,null,0.04,0.89,0.11,0.28516666666666668,0.34100000000000003,0.74143481439001968,0.84143481439001966,0.90176410296892673,7.1698113207547154E-2,1.18,1.7051000000000001,2.4638695000000004,0.71855599520839153]
["Latvia","Peppers",0.27913047828454707,null,0.04,0.89,0.11,0.28516666666666668,0.34100000000000003,0.5,0.6,0.64301886792452823,7.1698113207547154E-2,1.83,2.6443500000000002,3.8210857500000004,0]
["Lithuania","Peppers",0.27913047828454707,null,0.04,0.89,0.11,0.28516666666666668,0.34100000000000003,0.5,0.6,0.64301886792452823,7.1698113207547154E-2,1.91,2.7599499999999999,3.9881277499999999,0]
["Luxembourg","Peppers",0.27913047828454707,null,0.04,0.89,0.11,0.28516666666666668,0.34100000000000003,0.5,0.6,0.64301886792452823,7.1698113207547154E-2,2.69,3.8870499999999999,5.6167872499999998,0]
["Malta","Peppers",0.27913047828454707,null,0.04,0.89,0.11,0.28516666666666668,0.34100000000000003,0.5,0.6,0.64301886792452823,7.1698113207547154E-2,2.13,3.0778500000000002,4.4474932500000008,0]
["Netherlands","Peppers",0.27913047828454707,null,0.04,0.89,0.11,0.34699999999999998,0.34100000000000003,0.77097485037844438,0.87097485037844435,0.93342210380180446,7.1698113207547154E-2,1.37,1.9796500000000001,2.8605942500000001,0.8064727689834652]
["Norway","Peppers",0.27913047828454707,null,0.04,0.89,0.11,0.28516666666666668,0.34100000000000003,0.5,0.6,0.64301886792452823,7.1698113207547154E-2,2.99,4.3205500000000008,6.2431947500000016,0]
["Poland","Peppers",0.61971262692418572,null,0.04,0.89,0.11,0.28516666666666668,0.34100000000000003,0.78250203385990458,0.88250203385990456,0.94577576458948265,7.1698113207547154E-2,1.23,1.77735,2.5682707499999999,0.8407798626782873]
["Portugal","Peppers",0.22812668477441489,null,0.04,0.89,0.11,0.28516666666666668,0.34100000000000003,0.70842773512488988,0.80842773512488986,0.8663904783979951,7.1698113207547154E-2,1.1599999999999999,1.6761999999999999,2.4221089999999998,0.62032064025264844]
["Romania","Peppers",0.27913047828454707,null,0.04,0.89,0.11,0.28516666666666668,0.34100000000000003,0.73360772168674659,0.83360772168674657,0.89337582248692837,7.1698113207547154E-2,1.38,1.9941,2.8814744999999999,0.69526107644865054]
["Slovakia","Peppers",0.27913047828454707,null,0.04,0.89,0.11,0.28516666666666668,0.34100000000000003,0.52602261905902015,0.62602261905902012,0.67090725967079889,7.1698113207547154E-2,1.66,2.3986999999999998,3.4661214999999999,7.7448271008988587E-2]
["Slovenia","Peppers",0.27913047828454707,null,0.04,0.89,0.11,0.28516666666666668,0.34100000000000003,0.56618290117474646,0.66618290117474643,0.71394695824010557,7.1698113207547154E-2,1.0900000000000001,1.5750500000000003,2.2759472500000006,0.19697292016293599]
["Spain","Peppers",0.27913047828454707,null,0.04,0.89,0.11,0.20100000000000001,0.34100000000000003,0.81745494615676406,0.91745494615676404,0.98323473474913581,7.1698113207547154E-2,1.1100000000000001,1.6039500000000002,2.3177077500000003,0.94480638737132128]
["Sweden","Peppers",0.27913047828454707,null,0.04,0.89,0.11,0.28516666666666668,0.34100000000000003,0.50047786122966786,0.60047786122966784,0.64353099090273835,7.1698113207547154E-2,2.25,3.2512500000000002,4.6980562500000005,1.4222060406779372E-3]
["Switzerland","Peppers",0.27913047828454707,null,0.04,0.89,0.11,0.28516666666666668,0.34100000000000003,0.50629577180693841,0.60629577180693839,0.64976603469120942,7.1698113207547154E-2,2.52,3.6414,5.2618230000000006,1.8737416092078633E-2]
["United Kingdom","Peppers",0.27913047828454707,null,0.04,0.89,0.11,0.26800000000000002,0.34100000000000003,2.36,2.46,2.65,7.1698113207547154E-2,2.12,3.0634000000000001,4.4266130000000006,7.0440467794143632E-2]
["Average","Peppers",0.27913047828454707,{"$error":"#DIV/0!"},0.04,0.89000000000000035,0.10999999999999997,0.28516666666666668,0.34100000000000003,0.65718808336055312,0.75718808336055299,0.81191648032943486,7.1698113207547126E-2,1.7483870967741935,2.5264193548387102,3.6506759677419356,0.29152252125153411]
["Min","Peppers",{"$f":"MIN(C141:C171)","v":5.4752637017595938E-2},{"$f":"MIN(D141:D171)","v":0},0.04,0.89,0.11,0.20100000000000001,0.24399999999999999,0.5,0.6,0.64301886792452823,7.1698113207547154E-2,0.56999999999999995,0.82364999999999999,1.1901742500000001,0]
["Max","Peppers",{"$f":"MAX(C141:C171)","v":0.61971262692418572},{"$f":"MAX(D141:D171)","v":0},0.04,0.89,0.11,0.36499999999999999,0.47799999999999998,2.36,2.46,2.65,7.1698113207547154E-2,2.99,4.3205500000000008,6.2431947500000016,0.95201877259607548]

{"sheet":"SUA Data","index":14,"n_rows":2739,"n_cols":15,"rows_kept":2739,"cut":false,"hidden":false,"merged":[]}
["Homepage"]
["Domain Code","Domain","Area Code (M49)","Area","Element Code","Element","Item Code (CPC)","Item","Year Code","Year","Unit","Value","Flag","Flag Description","Note"]
["SCL","Supply Utilization Accounts (2010-)","040","Austria","5510","Production","01311","Avocados","2020","2020","t",0,"A","Official figure"]
["SCL","Supply Utilization Accounts (2010-)","040","Austria","5610","Import quantity","01311","Avocados","2020","2020","t",12519.16,"A","Official figure"]
["SCL","Supply Utilization Accounts (2010-)","040","Austria","5910","Export quantity","01311","Avocados","2020","2020","t",1705.03,"A","Official figure"]
["SCL","Supply Utilization Accounts (2010-)","040","Austria","5016","Loss","01311","Avocados","2020","2020","t",625.96,"I","Imputed value"]
["SCL","Supply Utilization Accounts (2010-)","040","Austria","5166","Residuals","01311","Avocados","2020","2020","t",0,"I","Imputed value"]
["SCL","Supply Utilization Accounts (2010-)","040","Austria","5141","Food supply quantity","01311","Avocados","2020","2020","t",10188.17,"E","Estimated value"]
["SCL","Supply Utilization Accounts (2010-)","040","Austria","5510","Production","01311","Avocados","2021","2021","t",0,"A","Official figure"]
["SCL","Supply Utilization Accounts (2010-)","040","Austria","5610","Import quantity","01311","Avocados","2021","2021","t",12995.34,"A","Official figure"]
["SCL","Supply Utilization Accounts (2010-)","040","Austria","5910","Export quantity","01311","Avocados","2021","2021","t",1755.6,"A","Official figure"]
["SCL","Supply Utilization Accounts (2010-)","040","Austria","5016","Loss","01311","Avocados","2021","2021","t",649.77,"I","Imputed value"]
["SCL","Supply Utilization Accounts (2010-)","040","Austria","5166","Residuals","01311","Avocados","2021","2021","t",0,"I","Imputed value"]
["SCL","Supply Utilization Accounts (2010-)","040","Austria","5141","Food supply quantity","01311","Avocados","2021","2021","t",10589.97,"E","Estimated value"]
["SCL","Supply Utilization Accounts (2010-)","040","Austria","5510","Production","01311","Avocados","2022","2022","t",0,"A","Official figure"]
["SCL","Supply Utilization Accounts (2010-)","040","Austria","5610","Import quantity","01311","Avocados","2022","2022","t",14818.74,"A","Official figure"]
["SCL","Supply Utilization Accounts (2010-)","040","Austria","5910","Export quantity","01311","Avocados","2022","2022","t",1249.57,"A","Official figure"]
["SCL","Supply Utilization Accounts (2010-)","040","Austria","5016","Loss","01311","Avocados","2022","2022","t",740.94,"I","Imputed value"]
["SCL","Supply Utilization Accounts (2010-)","040","Austria","5166","Residuals","01311","Avocados","2022","2022","t",0,"I","Imputed value"]
["SCL","Supply Utilization Accounts (2010-)","040","Austria","5141","Food supply quantity","01311","Avocados","2022","2022","t",12828.24,"E","Estimated value"]
["SCL","Supply Utilization Accounts (2010-)","040","Austria","5510","Production","01312","Bananas","2020","2020","t",0,"A","Official figure"]
["SCL","Supply Utilization Accounts (2010-)","040","Austria","5610","Import quantity","01312","Bananas","2020","2020","t",146316.12,"A","Official figure"]
["SCL","Supply Utilization Accounts (2010-)","040","Austria","5910","Export quantity","01312","Bananas","2020","2020","t",10996.05,"A","Official figure"]
["SCL","Supply Utilization Accounts (2010-)","040","Austria","5016","Loss","01312","Bananas","2020","2020","t",7132,"A","Official figure"]
["SCL","Supply Utilization Accounts (2010-)","040","Austria","5166","Residuals","01312","Bananas","2020","2020","t",1760,"I","Imputed value"]
["SCL","Supply Utilization Accounts (2010-)","040","Austria","5141","Food supply quantity","01312","Bananas","2020","2020","t",126428,"A","Official figure"]
["SCL","Supply Utilization Accounts (2010-)","040","Austria","5510","Production","01312","Bananas","2021","2021","t",0,"A","Official figure"]
["SCL","Supply Utilization Accounts (2010-)","040","Austria","5610","Import quantity","01312","Bananas","2021","2021","t",141069.32999999999,"A","Official figure"]
["SCL","Supply Utilization Accounts (2010-)","040","Austria","5910","Export quantity","01312","Bananas","2021","2021","t",8384.15,"A","Official figure"]
["SCL","Supply Utilization Accounts (2010-)","040","Austria","5016","Loss","01312","Bananas","2021","2021","t",7395,"A","Official figure"]
["SCL","Supply Utilization Accounts (2010-)","040","Austria","5166","Residuals","01312","Bananas","2021","2021","t",-7180,"I","Imputed value"]
["SCL","Supply Utilization Accounts (2010-)","040","Austria","5141","Food supply quantity","01312","Bananas","2021","2021","t",132470,"A","Official figure"]
["SCL","Supply Utilization Accounts (2010-)","040","Austria","5510","Production","01312","Bananas","2022","2022","t",0,"A","Official figure"]
["SCL","Supply Utilization Accounts (2010-)","040","Austria","5610","Import quantity","01312","Bananas","2022","2022","t",153823,"A","Official figure"]
["SCL","Supply Utilization Accounts (2010-)","040","Austria","5910","Export quantity","01312","Bananas","2022","2022","t",8227.27,"A","Official figure"]
["SCL","Supply Utilization Accounts (2010-)","040","Austria","5016","Loss","01312","Bananas","2022","2022","t",8492,"A","Official figure"]
["SCL","Supply Utilization Accounts (2010-)","040","Austria","5166","Residuals","01312","Bananas","2022","2022","t",-15080,"I","Imputed value"]
["SCL","Supply Utilization Accounts (2010-)","040","Austria","5141","Food supply quantity","01312","Bananas","2022","2022","t",152184,"A","Official figure"]
["SCL","Supply Utilization Accounts (2010-)","040","Austria","5510","Production","01231","Chillies and peppers, green (Capsicum spp. and Pimenta spp.)","2020","2020","t",15100,"A","Official figure"]
["SCL","Supply Utilization Accounts (2010-)","040","Austria","5610","Import quantity","01231","Chillies and peppers, green (Capsicum spp. and Pimenta spp.)","2020","2020","t",59584.76,"A","Official figure"]
["SCL","Supply Utilization Accounts (2010-)","040","Austria","5910","Export quantity","01231","Chillies and peppers, green (Capsicum spp. and Pimenta spp.)","2020","2020","t",30269.85,"A","Official figure"]
["SCL","Supply Utilization Accounts (2010-)","040","Austria","5016","Loss","01231","Chillies and peppers, green (Capsicum spp. and Pimenta spp.)","2020","2020","t",7468.48,"I","Imputed value"]
["SCL","Supply Utilization Accounts (2010-)","040","Austria","5166","Residuals","01231","Chillies and peppers, green (Capsicum spp. and Pimenta spp.)","2020","2020","t",0,"I","Imputed value"]
["SCL","Supply Utilization Accounts (2010-)","040","Austria","5141","Food supply quantity","01231","Chillies and peppers, green (Capsicum spp. and Pimenta spp.)","2020","2020","t",36946.43,"E","Estimated value"]
["SCL","Supply Utilization Accounts (2010-)","040","Austria","5510","Production","01231","Chillies and peppers, green (Capsicum spp. and Pimenta spp.)","2021","2021","t",15340,"A","Official figure"]
["SCL","Supply Utilization Accounts (2010-)","040","Austria","5610","Import quantity","01231","Chillies and peppers, green (Capsicum spp. and Pimenta spp.)","2021","2021","t",64318.8,"A","Official figure"]
["SCL","Supply Utilization Accounts (2010-)","040","Austria","5910","Export quantity","01231","Chillies and peppers, green (Capsicum spp. and Pimenta spp.)","2021","2021","t",34275.24,"A","Official figure"]
["SCL","Supply Utilization Accounts (2010-)","040","Austria","5016","Loss","01231","Chillies and peppers, green (Capsicum spp. and Pimenta spp.)","2021","2021","t",7965.88,"I","Imputed value"]
["SCL","Supply Utilization Accounts (2010-)","040","Austria","5166","Residuals","01231","Chillies and peppers, green (Capsicum spp. and Pimenta spp.)","2021","2021","t",0,"I","Imputed value"]
["SCL","Supply Utilization Accounts (2010-)","040","Austria","5141","Food supply quantity","01231","Chillies and peppers, green (Capsicum spp. and Pimenta spp.)","2021","2021","t",37417.68,"E","Estimated value"]
["SCL","Supply Utilization Accounts (2010-)","040","Austria","5510","Production","01231","Chillies and peppers, green (Capsicum spp. and Pimenta spp.)","2022","2022","t",12770,"A","Official figure"]
["SCL","Supply Utilization Accounts (2010-)","040","Austria","5610","Import quantity","01231","Chillies and peppers, green (Capsicum spp. and Pimenta spp.)","2022","2022","t",62735.19,"A","Official figure"]
["SCL","Supply Utilization Accounts (2010-)","040","Austria","5910","Export quantity","01231","Chillies and peppers, green (Capsicum spp. and Pimenta spp.)","2022","2022","t",34927.550000000003,"A","Official figure"]
["SCL","Supply Utilization Accounts (2010-)","040","Austria","5016","Loss","01231","Chillies and peppers, green (Capsicum spp. and Pimenta spp.)","2022","2022","t",7550.52,"I","Imputed value"]
["SCL","Supply Utilization Accounts (2010-)","040","Austria","5166","Residuals","01231","Chillies and peppers, green (Capsicum spp. and Pimenta spp.)","2022","2022","t",0,"I","Imputed value"]
["SCL","Supply Utilization Accounts (2010-)","040","Austria","5141","Food supply quantity","01231","Chillies and peppers, green (Capsicum spp. and Pimenta spp.)","2022","2022","t",33027.120000000003,"E","Estimated value"]
["SCL","Supply Utilization Accounts (2010-)","040","Austria","5510","Production","01232","Cucumbers and gherkins","2020","2020","t",46330,"A","Official figure"]
["SCL","Supply Utilization Accounts (2010-)","040","Austria","5610","Import quantity","01232","Cucumbers and gherkins","2020","2020","t",29825.45,"A","Official figure"]
["SCL","Supply Utilization Accounts (2010-)","040","Austria","5910","Export quantity","01232","Cucumbers and gherkins","2020","2020","t",13951.87,"A","Official figure"]
["SCL","Supply Utilization Accounts (2010-)","040","Austria","5016","Loss","01232","Cucumbers and gherkins","2020","2020","t",3710,"A","Official figure"]
["SCL","Supply Utilization Accounts (2010-)","040","Austria","5166","Residuals","01232","Cucumbers and gherkins","2020","2020","t",-2741,"I","Imputed value"]
["SCL","Supply Utilization Accounts (2010-)","040","Austria","5141","Food supply quantity","01232","Cucumbers and gherkins","2020","2020","t",61235,"A","Official figure"]
["SCL","Supply Utilization Accounts (2010-)","040","Austria","5510","Production","01232","Cucumbers and gherkins","2021","2021","t",47740,"A","Official figure"]
["SCL","Supply Utilization Accounts (2010-)","040","Austria","5610","Import quantity","01232","Cucumbers and gherkins","2021","2021","t",34182.21,"A","Official figure"]
["SCL","Supply Utilization Accounts (2010-)","040","Austria","5910","Export quantity","01232","Cucumbers and gherkins","2021","2021","t",15370.89,"A","Official figure"]
["SCL","Supply Utilization Accounts (2010-)","040","Austria","5016","Loss","01232","Cucumbers and gherkins","2021","2021","t",4059,"A","Official figure"]
["SCL","Supply Utilization Accounts (2010-)","040","Austria","5166","Residuals","01232","Cucumbers and gherkins","2021","2021","t",-5253,"I","Imputed value"]
["SCL","Supply Utilization Accounts (2010-)","040","Austria","5141","Food supply quantity","01232","Cucumbers and gherkins","2021","2021","t",67745,"A","Official figure"]
["SCL","Supply Utilization Accounts (2010-)","040","Austria","5510","Production","01232","Cucumbers and gherkins","2022","2022","t",44110,"A","Official figure"]
["SCL","Supply Utilization Accounts (2010-)","040","Austria","5610","Import quantity","01232","Cucumbers and gherkins","2022","2022","t",30257.24,"A","Official figure"]
["SCL","Supply Utilization Accounts (2010-)","040","Austria","5910","Export quantity","01232","Cucumbers and gherkins","2022","2022","t",16926.07,"A","Official figure"]
["SCL","Supply Utilization Accounts (2010-)","040","Austria","5016","Loss","01232","Cucumbers and gherkins","2022","2022","t",3033,"A","Official figure"]
["SCL","Supply Utilization Accounts (2010-)","040","Austria","5166","Residuals","01232","Cucumbers and gherkins","2022","2022","t",-8444,"I","Imputed value"]
["SCL","Supply Utilization Accounts (2010-)","040","Austria","5141","Food supply quantity","01232","Cucumbers and gherkins","2022","2022","t",62852,"A","Official figure"]
["SCL","Supply Utilization Accounts (2010-)","040","Austria","5510","Production","01233","Eggplants (aubergines)","2020","2020","t",1420,"A","Official figure"]
["SCL","Supply Utilization Accounts (2010-)","040","Austria","5610","Import quantity","01233","Eggplants (aubergines)","2020","2020","t",7585.64,"A","Official figure"]
["SCL","Supply Utilization Accounts (2010-)","040","Austria","5910","Export quantity","01233","Eggplants (aubergines)","2020","2020","t",3932.04,"A","Official figure"]
["SCL","Supply Utilization Accounts (2010-)","040","Austria","5016","Loss","01233","Eggplants (aubergines)","2020","2020","t",900.56,"I","Imputed value"]
["SCL","Supply Utilization Accounts (2010-)","040","Austria","5166","Residuals","01233","Eggplants (aubergines)","2020","2020","t",0,"I","Imputed value"]
["SCL","Supply Utilization Accounts (2010-)","040","Austria","5141","Food supply quantity","01233","Eggplants (aubergines)","2020","2020","t",4173.04,"E","Estimated value"]
["SCL","Supply Utilization Accounts (2010-)","040","Austria","5510","Production","01233","Eggplants (aubergines)","2021","2021","t",1810,"A","Official figure"]
["SCL","Supply Utilization Accounts (2010-)","040","Austria","5610","Import quantity","01233","Eggplants (aubergines)","2021","2021","t",7820.43,"A","Official figure"]
["SCL","Supply Utilization Accounts (2010-)","040","Austria","5910","Export quantity","01233","Eggplants (aubergines)","2021","2021","t",4614.7299999999996,"A","Official figure"]
["SCL","Supply Utilization Accounts (2010-)","040","Austria","5016","Loss","01233","Eggplants (aubergines)","2021","2021","t",963.04,"I","Imputed value"]
["SCL","Supply Utilization Accounts (2010-)","040","Austria","5166","Residuals","01233","Eggplants (aubergines)","2021","2021","t",0,"I","Imputed value"]
["SCL","Supply Utilization Accounts (2010-)","040","Austria","5141","Food supply quantity","01233","Eggplants (aubergines)","2021","2021","t",4052.65,"E","Estimated value"]
["SCL","Supply Utilization Accounts (2010-)","040","Austria","5510","Production","01233","Eggplants (aubergines)","2022","2022","t",1770,"A","Official figure"]
["SCL","Supply Utilization Accounts (2010-)","040","Austria","5610","Import quantity","01233","Eggplants (aubergines)","2022","2022","t",7824.06,"A","Official figure"]
["SCL","Supply Utilization Accounts (2010-)","040","Austria","5910","Export quantity","01233","Eggplants (aubergines)","2022","2022","t",4571.95,"A","Official figure"]
["SCL","Supply Utilization Accounts (2010-)","040","Austria","5016","Loss","01233","Eggplants (aubergines)","2022","2022","t",959.41,"I","Imputed value"]
["SCL","Supply Utilization Accounts (2010-)","040","Austria","5166","Residuals","01233","Eggplants (aubergines)","2022","2022","t",0,"I","Imputed value"]
["SCL","Supply Utilization Accounts (2010-)","040","Austria","5141","Food supply quantity","01233","Eggplants (aubergines)","2022","2022","t",4062.7,"E","Estimated value"]
["SCL","Supply Utilization Accounts (2010-)","056","Belgium","5510","Production","01311","Avocados","2020","2020","t",0,"A","Official figure"]
["SCL","Supply Utilization Accounts (2010-)","056","Belgium","5610","Import quantity","01311","Avocados","2020","2020","t",40078.14,"A","Official figure"]
["SCL","Supply Utilization Accounts (2010-)","056","Belgium","5910","Export quantity","01311","Avocados","2020","2020","t",28301.78,"A","Official figure"]
["SCL","Supply Utilization Accounts (2010-)","056","Belgium","5016","Loss","01311","Avocados","2020","2020","t",2003.91,"I","Imputed value"]
["SCL","Supply Utilization Accounts (2010-)","056","Belgium","5166","Residuals","01311","Avocados","2020","2020","t",0,"I","Imputed value"]
["SCL","Supply Utilization Accounts (2010-)","056","Belgium","5141","Food supply quantity","01311","Avocados","2020","2020","t",9772.4500000000007,"E","Estimated value"]
["SCL","Supply Utilization Accounts (2010-)","056","Belgium","5510","Production","01311","Avocados","2021","2021","t",0,"A","Official figure"]
["SCL","Supply Utilization Accounts (2010-)","056","Belgium","5610","Import quantity","01311","Avocados","2021","2021","t",39276.730000000003,"A","Official figure"]
["SCL","Supply Utilization Accounts (2010-)","056","Belgium","5910","Export quantity","01311","Avocados","2021","2021","t",32662.06,"A","Official figure"]
["SCL","Supply Utilization Accounts (2010-)","056","Belgium","5016","Loss","01311","Avocados","2021","2021","t",1963.84,"I","Imputed value"]
["SCL","Supply Utilization Accounts (2010-)","056","Belgium","5166","Residuals","01311","Avocados","2021","2021","t",0,"I","Imputed value"]
["SCL","Supply Utilization Accounts (2010-)","056","Belgium","5141","Food supply quantity","01311","Avocados","2021","2021","t",4650.84,"E","Estimated value"]
["SCL","Supply Utilization Accounts (2010-)","056","Belgium","5510","Production","01311","Avocados","2022","2022","t",0,"A","Official figure"]
["SCL","Supply Utilization Accounts (2010-)","056","Belgium","5610","Import quantity","01311","Avocados","2022","2022","t",28690.94,"A","Official figure"]
["SCL","Supply Utilization Accounts (2010-)","056","Belgium","5910","Export quantity","01311","Avocados","2022","2022","t",15913.28,"A","Official figure"]
["SCL","Supply Utilization Accounts (2010-)","056","Belgium","5016","Loss","01311","Avocados","2022","2022","t",1434.55,"I","Imputed value"]
["SCL","Supply Utilization Accounts (2010-)","056","Belgium","5166","Residuals","01311","Avocados","2022","2022","t",0,"I","Imputed value"]
["SCL","Supply Utilization Accounts (2010-)","056","Belgium","5141","Food supply quantity","01311","Avocados","2022","2022","t",11343.11,"E","Estimated value"]
["SCL","Supply Utilization Accounts (2010-)","056","Belgium","5510","Production","01312","Bananas","2020","2020","t",0,"A","Official figure"]
["SCL","Supply Utilization Accounts (2010-)","056","Belgium","5610","Import quantity","01312","Bananas","2020","2020","t",1173712.45,"A","Official figure"]
["SCL","Supply Utilization Accounts (2010-)","056","Belgium","5910","Export quantity","01312","Bananas","2020","2020","t",1006652.98,"A","Official figure"]
["SCL","Supply Utilization Accounts (2010-)","056","Belgium","5023","Processed","01312","Bananas","2020","2020","t",0,"E","Estimated value"]
["SCL","Supply Utilization Accounts (2010-)","056","Belgium","5166","Residuals","01312","Bananas","2020","2020","t",0,"I","Imputed value"]
["SCL","Supply Utilization Accounts (2010-)","056","Belgium","5141","Food supply quantity","01312","Bananas","2020","2020","t",167059.47,"E","Estimated value"]
["SCL","Supply Utilization Accounts (2010-)","056","Belgium","5510","Production","01312","Bananas","2021","2021","t",0,"A","Official figure"]
["SCL","Supply Utilization Accounts (2010-)","056","Belgium","5610","Import quantity","01312","Bananas","2021","2021","t",1077355.68,"A","Official figure"]
["SCL","Supply Utilization Accounts (2010-)","056","Belgium","5910","Export quantity","01312","Bananas","2021","2021","t",836990.73,"A","Official figure"]
["SCL","Supply Utilization Accounts (2010-)","056","Belgium","5023","Processed","01312","Bananas","2021","2021","t",0,"E","Estimated value"]
["SCL","Supply Utilization Accounts (2010-)","056","Belgium","5166","Residuals","01312","Bananas","2021","2021","t",0,"I","Imputed value"]
["SCL","Supply Utilization Accounts (2010-)","056","Belgium","5141","Food supply quantity","01312","Bananas","2021","2021","t",240364.94,"E","Estimated value"]
["SCL","Supply Utilization Accounts (2010-)","056","Belgium","5510","Production","01312","Bananas","2022","2022","t",0,"A","Official figure"]
["SCL","Supply Utilization Accounts (2010-)","056","Belgium","5610","Import quantity","01312","Bananas","2022","2022","t",967552.48,"A","Official figure"]
["SCL","Supply Utilization Accounts (2010-)","056","Belgium","5910","Export quantity","01312","Bananas","2022","2022","t",812360.89,"A","Official figure"]
["SCL","Supply Utilization Accounts (2010-)","056","Belgium","5023","Processed","01312","Bananas","2022","2022","t",0,"E","Estimated value"]
["SCL","Supply Utilization Accounts (2010-)","056","Belgium","5166","Residuals","01312","Bananas","2022","2022","t",0,"I","Imputed value"]
["SCL","Supply Utilization Accounts (2010-)","056","Belgium","5141","Food supply quantity","01312","Bananas","2022","2022","t",155191.59,"E","Estimated value"]
["SCL","Supply Utilization Accounts (2010-)","056","Belgium","5510","Production","01231","Chillies and peppers, green (Capsicum spp. and Pimenta spp.)","2020","2020","t",25300,"A","Official figure"]
["SCL","Supply Utilization Accounts (2010-)","056","Belgium","5610","Import quantity","01231","Chillies and peppers, green (Capsicum spp. and Pimenta spp.)","2020","2020","t",54830.5,"A","Official figure"]
["SCL","Supply Utilization Accounts (2010-)","056","Belgium","5910","Export quantity","01231","Chillies and peppers, green (Capsicum spp. and Pimenta spp.)","2020","2020","t",34988.39,"A","Official figure"]
["SCL","Supply Utilization Accounts (2010-)","056","Belgium","5016","Loss","01231","Chillies and peppers, green (Capsicum spp. and Pimenta spp.)","2020","2020","t",2326.31,"I","Imputed value"]
["SCL","Supply Utilization Accounts (2010-)","056","Belgium","5023","Processed","01231","Chillies and peppers, green (Capsicum spp. and Pimenta spp.)","2020","2020","t",4836.68,"E","Estimated value"]
["SCL","Supply Utilization Accounts (2010-)","056","Belgium","5166","Residuals","01231","Chillies and peppers, green (Capsicum spp. and Pimenta spp.)","2020","2020","t",0,"I","Imputed value"]
["SCL","Supply Utilization Accounts (2010-)","056","Belgium","5141","Food supply quantity","01231","Chillies and peppers, green (Capsicum spp. and Pimenta spp.)","2020","2020","t",37979.120000000003,"E","Estimated value"]
["SCL","Supply Utilization Accounts (2010-)","056","Belgium","5510","Production","01231","Chillies and peppers, green (Capsicum spp. and Pimenta spp.)","2021","2021","t",27250,"A","Official figure"]
["SCL","Supply Utilization Accounts (2010-)","056","Belgium","5610","Import quantity","01231","Chillies and peppers, green (Capsicum spp. and Pimenta spp.)","2021","2021","t",55690.9,"A","Official figure"]
["SCL","Supply Utilization Accounts (2010-)","056","Belgium","5910","Export quantity","01231","Chillies and peppers, green (Capsicum spp. and Pimenta spp.)","2021","2021","t",40381.769999999997,"A","Official figure"]
["SCL","Supply Utilization Accounts (2010-)","056","Belgium","5016","Loss","01231","Chillies and peppers, green (Capsicum spp. and Pimenta spp.)","2021","2021","t",2405.96,"I","Imputed value"]
["SCL","Supply Utilization Accounts (2010-)","056","Belgium","5023","Processed","01231","Chillies and peppers, green (Capsicum spp. and Pimenta spp.)","2021","2021","t",4560.84,"E","Estimated value"]
["SCL","Supply Utilization Accounts (2010-)","056","Belgium","5166","Residuals","01231","Chillies and peppers, green (Capsicum spp. and Pimenta spp.)","2021","2021","t",0,"I","Imputed value"]
["SCL","Supply Utilization Accounts (2010-)","056","Belgium","5141","Food supply quantity","01231","Chillies and peppers, green (Capsicum spp. and Pimenta spp.)","2021","2021","t",35592.33,"E","Estimated value"]
["SCL","Supply Utilization Accounts (2010-)","056","Belgium","5510","Production","01231","Chillies and peppers, green (Capsicum spp. and Pimenta spp.)","2022","2022","t",35100,"A","Official figure"]
["SCL","Supply Utilization Accounts (2010-)","056","Belgium","5610","Import quantity","01231","Chillies and peppers, green (Capsicum spp. and Pimenta spp.)","2022","2022","t",57576.31,"A","Official figure"]
["SCL","Supply Utilization Accounts (2010-)","056","Belgium","5910","Export quantity","01231","Chillies and peppers, green (Capsicum spp. and Pimenta spp.)","2022","2022","t",43912.65,"A","Official figure"]
["SCL","Supply Utilization Accounts (2010-)","056","Belgium","5016","Loss","01231","Chillies and peppers, green (Capsicum spp. and Pimenta spp.)","2022","2022","t",2688.37,"I","Imputed value"]
["SCL","Supply Utilization Accounts (2010-)","056","Belgium","5023","Processed","01231","Chillies and peppers, green (Capsicum spp. and Pimenta spp.)","2022","2022","t",5228.3900000000003,"E","Estimated value"]
["SCL","Supply Utilization Accounts (2010-)","056","Belgium","5166","Residuals","01231","Chillies and peppers, green (Capsicum spp. and Pimenta spp.)","2022","2022","t",0,"I","Imputed value"]
["SCL","Supply Utilization Accounts (2010-)","056","Belgium","5141","Food supply quantity","01231","Chillies and peppers, green (Capsicum spp. and Pimenta spp.)","2022","2022","t",40846.89,"E","Estimated value"]
["SCL","Supply Utilization Accounts (2010-)","056","Belgium","5510","Production","01232","Cucumbers and gherkins","2020","2020","t",27600,"A","Official figure"]
["SCL","Supply Utilization Accounts (2010-)","056","Belgium","5610","Import quantity","01232","Cucumbers and gherkins","2020","2020","t",68152.14,"A","Official figure"]
["SCL","Supply Utilization Accounts (2010-)","056","Belgium","5910","Export quantity","01232","Cucumbers and gherkins","2020","2020","t",46940.24,"A","Official figure"]
["SCL","Supply Utilization Accounts (2010-)","056","Belgium","5016","Loss","01232","Cucumbers and gherkins","2020","2020","t",1673.83,"I","Imputed value"]
["SCL","Supply Utilization Accounts (2010-)","056","Belgium","5023","Processed","01232","Cucumbers and gherkins","2020","2020","t",27612.29,"E","Estimated value"]
["SCL","Supply Utilization Accounts (2010-)","056","Belgium","5166","Residuals","01232","Cucumbers and gherkins","2020","2020","t",0,"I","Imputed value"]
["SCL","Supply Utilization Accounts (2010-)","056","Belgium","5141","Food supply quantity","01232","Cucumbers and gherkins","2020","2020","t",19525.78,"E","Estimated value"]
["SCL","Supply Utilization Accounts (2010-)","056","Belgium","5510","Production","01232","Cucumbers and gherkins","2021","2021","t",32040,"A","Official figure"]
["SCL","Supply Utilization Accounts (2010-)","056","Belgium","5610","Import quantity","01232","Cucumbers and gherkins","2021","2021","t",68542.740000000005,"A","Official figure"]
["SCL","Supply Utilization Accounts (2010-)","056","Belgium","5910","Export quantity","01232","Cucumbers and gherkins","2021","2021","t",49345.93,"A","Official figure"]
["SCL","Supply Utilization Accounts (2010-)","056","Belgium","5016","Loss","01232","Cucumbers and gherkins","2021","2021","t",1801.08,"I","Imputed value"]
["SCL","Supply Utilization Accounts (2010-)","056","Belgium","5023","Processed","01232","Cucumbers and gherkins","2021","2021","t",29039.16,"E","Estimated value"]
["SCL","Supply Utilization Accounts (2010-)","056","Belgium","5166","Residuals","01232","Cucumbers and gherkins","2021","2021","t",0,"I","Imputed value"]
["SCL","Supply Utilization Accounts (2010-)","056","Belgium","5141","Food supply quantity","01232","Cucumbers and gherkins","2021","2021","t",20396.560000000001,"E","Estimated value"]
["SCL","Supply Utilization Accounts (2010-)","056","Belgium","5510","Production","01232","Cucumbers and gherkins","2022","2022","t",34920,"A","Official figure"]
["SCL","Supply Utilization Accounts (2010-)","056","Belgium","5610","Import quantity","01232","Cucumbers and gherkins","2022","2022","t",62023.3,"A","Official figure"]
["SCL","Supply Utilization Accounts (2010-)","056","Belgium","5910","Export quantity","01232","Cucumbers and gherkins","2022","2022","t",43461.69,"A","Official figure"]
["SCL","Supply Utilization Accounts (2010-)","056","Belgium","5016","Loss","01232","Cucumbers and gherkins","2022","2022","t",1735.91,"I","Imputed value"]
["SCL","Supply Utilization Accounts (2010-)","056","Belgium","5023","Processed","01232","Cucumbers and gherkins","2022","2022","t",30292.59,"E","Estimated value"]
["SCL","Supply Utilization Accounts (2010-)","056","Belgium","5166","Residuals","01232","Cucumbers and gherkins","2022","2022","t",0,"I","Imputed value"]
["SCL","Supply Utilization Accounts (2010-)","056","Belgium","5141","Food supply quantity","01232","Cucumbers and gherkins","2022","2022","t",21453.11,"E","Estimated value"]
["SCL","Supply Utilization Accounts (2010-)","056","Belgium","5510","Production","01233","Eggplants (aubergines)","2020","2020","t",11400,"A","Official figure"]
["SCL","Supply Utilization Accounts (2010-)","056","Belgium","5610","Import quantity","01233","Eggplants (aubergines)","2020","2020","t",10042.23,"A","Official figure"]
["SCL","Supply Utilization Accounts (2010-)","056","Belgium","5910","Export quantity","01233","Eggplants (aubergines)","2020","2020","t",10401.32,"A","Official figure"]
["SCL","Supply Utilization Accounts (2010-)","056","Belgium","5016","Loss","01233","Eggplants (aubergines)","2020","2020","t",822.18,"I","Imputed value"]
["SCL","Supply Utilization Accounts (2010-)","056","Belgium","5166","Residuals","01233","Eggplants (aubergines)","2020","2020","t",0,"I","Imputed value"]
["SCL","Supply Utilization Accounts (2010-)","056","Belgium","5141","Food supply quantity","01233","Eggplants (aubergines)","2020","2020","t",10218.73,"E","Estimated value"]
["SCL","Supply Utilization Accounts (2010-)","056","Belgium","5510","Production","01233","Eggplants (aubergines)","2021","2021","t",14160,"A","Official figure"]
["SCL","Supply Utilization Accounts (2010-)","056","Belgium","5610","Import quantity","01233","Eggplants (aubergines)","2021","2021","t",10413.049999999999,"A","Official figure"]
["SCL","Supply Utilization Accounts (2010-)","056","Belgium","5910","Export quantity","01233","Eggplants (aubergines)","2021","2021","t",10803.01,"A","Official figure"]
["SCL","Supply Utilization Accounts (2010-)","056","Belgium","5016","Loss","01233","Eggplants (aubergines)","2021","2021","t",962.91,"I","Imputed value"]
["SCL","Supply Utilization Accounts (2010-)","056","Belgium","5166","Residuals","01233","Eggplants (aubergines)","2021","2021","t",0,"I","Imputed value"]
["SCL","Supply Utilization Accounts (2010-)","056","Belgium","5141","Food supply quantity","01233","Eggplants (aubergines)","2021","2021","t",12807.13,"E","Estimated value"]
["SCL","Supply Utilization Accounts (2010-)","056","Belgium","5510","Production","01233","Eggplants (aubergines)","2022","2022","t",13800,"A","Official figure"]
["SCL","Supply Utilization Accounts (2010-)","056","Belgium","5610","Import quantity","01233","Eggplants (aubergines)","2022","2022","t",9427.2900000000009,"A","Official figure"]
["SCL","Supply Utilization Accounts (2010-)","056","Belgium","5910","Export quantity","01233","Eggplants (aubergines)","2022","2022","t",9855.51,"A","Official figure"]
["SCL","Supply Utilization Accounts (2010-)","056","Belgium","5016","Loss","01233","Eggplants (aubergines)","2022","2022","t",910.17,"I","Imputed value"]
["SCL","Supply Utilization Accounts (2010-)","056","Belgium","5166","Residuals","01233","Eggplants (aubergines)","2022","2022","t",0,"I","Imputed value"]
["SCL","Supply Utilization Accounts (2010-)","056","Belgium","5141","Food supply quantity","01233","Eggplants (aubergines)","2022","2022","t",12461.6,"E","Estimated value"]
["SCL","Supply Utilization Accounts (2010-)","100","Bulgaria","5510","Production","01311","Avocados","2020","2020","t",0,"A","Official figure"]
["SCL","Supply Utilization Accounts (2010-)","100","Bulgaria","5610","Import quantity","01311","Avocados","2020","2020","t",2541.1,"A","Official figure"]
["SCL","Supply Utilization Accounts (2010-)","100","Bulgaria","5910","Export quantity","01311","Avocados","2020","2020","t",25.78,"A","Official figure"]
["SCL","Supply Utilization Accounts (2010-)","100","Bulgaria","5166","Residuals","01311","Avocados","2020","2020","t",0,"I","Imputed value"]
["SCL","Supply Utilization Accounts (2010-)","100","Bulgaria","5141","Food supply quantity","01311","Avocados","2020","2020","t",2515.3200000000002,"E","Estimated value"]
["SCL","Supply Utilization Accounts (2010-)","100","Bulgaria","5510","Production","01311","Avocados","2021","2021","t",0,"A","Official figure"]
["SCL","Supply Utilization Accounts (2010-)","100","Bulgaria","5610","Import quantity","01311","Avocados","2021","2021","t",2707.92,"A","Official figure"]
["SCL","Supply Utilization Accounts (2010-)","100","Bulgaria","5910","Export quantity","01311","Avocados","2021","2021","t",26.1,"A","Official figure"]
["SCL","Supply Utilization Accounts (2010-)","100","Bulgaria","5166","Residuals","01311","Avocados","2021","2021","t",0,"I","Imputed value"]
["SCL","Supply Utilization Accounts (2010-)","100","Bulgaria","5141","Food supply quantity","01311","Avocados","2021","2021","t",2681.82,"E","Estimated value"]
["SCL","Supply Utilization Accounts (2010-)","100","Bulgaria","5510","Production","01311","Avocados","2022","2022","t",0,"A","Official figure"]
["SCL","Supply Utilization Accounts (2010-)","100","Bulgaria","5610","Import quantity","01311","Avocados","2022","2022","t",3576.01,"A","Official figure"]
["SCL","Supply Utilization Accounts (2010-)","100","Bulgaria","5910","Export quantity","01311","Avocados","2022","2022","t",50.92,"A","Official figure"]
["SCL","Supply Utilization Accounts (2010-)","100","Bulgaria","5166","Residuals","01311","Avocados","2022","2022","t",0,"I","Imputed value"]
["SCL","Supply Utilization Accounts (2010-)","100","Bulgaria","5141","Food supply quantity","01311","Avocados","2022","2022","t",3525.09,"E","Estimated value"]
["SCL","Supply Utilization Accounts (2010-)","100","Bulgaria","5510","Production","01312","Bananas","2020","2020","t",0,"A","Official figure"]
["SCL","Supply Utilization Accounts (2010-)","100","Bulgaria","5610","Import quantity","01312","Bananas","2020","2020","t",55273.42,"A","Official figure"]
["SCL","Supply Utilization Accounts (2010-)","100","Bulgaria","5910","Export quantity","01312","Bananas","2020","2020","t",421.62,"A","Official figure"]
["SCL","Supply Utilization Accounts (2010-)","100","Bulgaria","5016","Loss","01312","Bananas","2020","2020","t",2763.67,"I","Imputed value"]
["SCL","Supply Utilization Accounts (2010-)","100","Bulgaria","5023","Processed","01312","Bananas","2020","2020","t",0,"E","Estimated value"]
["SCL","Supply Utilization Accounts (2010-)","100","Bulgaria","5166","Residuals","01312","Bananas","2020","2020","t",0,"I","Imputed value"]
["SCL","Supply Utilization Accounts (2010-)","100","Bulgaria","5141","Food supply quantity","01312","Bananas","2020","2020","t",52088.13,"E","Estimated value"]
["SCL","Supply Utilization Accounts (2010-)","100","Bulgaria","5510","Production","01312","Bananas","2021","2021","t",0,"A","Official figure"]
["SCL","Supply Utilization Accounts (2010-)","100","Bulgaria","5610","Import quantity","01312","Bananas","2021","2021","t",53251.86,"A","Official figure"]
["SCL","Supply Utilization Accounts (2010-)","100","Bulgaria","5910","Export quantity","01312","Bananas","2021","2021","t",569.71,"A","Official figure"]
["SCL","Supply Utilization Accounts (2010-)","100","Bulgaria","5016","Loss","01312","Bananas","2021","2021","t",2662.59,"I","Imputed value"]
["SCL","Supply Utilization Accounts (2010-)","100","Bulgaria","5023","Processed","01312","Bananas","2021","2021","t",0,"E","Estimated value"]
["SCL","Supply Utilization Accounts (2010-)","100","Bulgaria","5166","Residuals","01312","Bananas","2021","2021","t",0,"I","Imputed value"]
["SCL","Supply Utilization Accounts (2010-)","100","Bulgaria","5141","Food supply quantity","01312","Bananas","2021","2021","t",50019.56,"E","Estimated value"]
["SCL","Supply Utilization Accounts (2010-)","100","Bulgaria","5510","Production","01312","Bananas","2022","2022","t",0,"A","Official figure"]
["SCL","Supply Utilization Accounts (2010-)","100","Bulgaria","5610","Import quantity","01312","Bananas","2022","2022","t",42658.06,"A","Official figure"]
["SCL","Supply Utilization Accounts (2010-)","100","Bulgaria","5910","Export quantity","01312","Bananas","2022","2022","t",268.3,"A","Official figure"]
["SCL","Supply Utilization Accounts (2010-)","100","Bulgaria","5016","Loss","01312","Bananas","2022","2022","t",2132.9,"I","Imputed value"]
["SCL","Supply Utilization Accounts (2010-)","100","Bulgaria","5023","Processed","01312","Bananas","2022","2022","t",0,"E","Estimated value"]
["SCL","Supply Utilization Accounts (2010-)","100","Bulgaria","5166","Residuals","01312","Bananas","2022","2022","t",0,"I","Imputed value"]
["SCL","Supply Utilization Accounts (2010-)","100","Bulgaria","5141","Food supply quantity","01312","Bananas","2022","2022","t",40256.86,"E","Estimated value"]
["SCL","Supply Utilization Accounts (2010-)","100","Bulgaria","5510","Production","01231","Chillies and peppers, green (Capsicum spp. and Pimenta spp.)","2020","2020","t",50990,"A","Official figure"]
["SCL","Supply Utilization Accounts (2010-)","100","Bulgaria","5610","Import quantity","01231","Chillies and peppers, green (Capsicum spp. and Pimenta spp.)","2020","2020","t",29567.32,"A","Official figure"]
["SCL","Supply Utilization Accounts (2010-)","100","Bulgaria","5910","Export quantity","01231","Chillies and peppers, green (Capsicum spp. and Pimenta spp.)","2020","2020","t",6535.89,"A","Official figure"]
["SCL","Supply Utilization Accounts (2010-)","100","Bulgaria","5016","Loss","01231","Chillies and peppers, green (Capsicum spp. and Pimenta spp.)","2020","2020","t",5510.59,"I","Imputed value"]
["SCL","Supply Utilization Accounts (2010-)","100","Bulgaria","5023","Processed","01231","Chillies and peppers, green (Capsicum spp. and Pimenta spp.)","2020","2020","t",4057.41,"E","Estimated value"]
["SCL","Supply Utilization Accounts (2010-)","100","Bulgaria","5166","Residuals","01231","Chillies and peppers, green (Capsicum spp. and Pimenta spp.)","2020","2020","t",0,"I","Imputed value"]
["SCL","Supply Utilization Accounts (2010-)","100","Bulgaria","5141","Food supply quantity","01231","Chillies and peppers, green (Capsicum spp. and Pimenta spp.)","2020","2020","t",64453.43,"E","Estimated value"]
["SCL","Supply Utilization Accounts (2010-)","100","Bulgaria","5510","Production","01231","Chillies and peppers, green (Capsicum spp. and Pimenta spp.)","2021","2021","t",61580,"A","Official figure"]
["SCL","Supply Utilization Accounts (2010-)","100","Bulgaria","5610","Import quantity","01231","Chillies and peppers, green (Capsicum spp. and Pimenta spp.)","2021","2021","t",35724.15,"A","Official figure"]
["SCL","Supply Utilization Accounts (2010-)","100","Bulgaria","5910","Export quantity","01231","Chillies and peppers, green (Capsicum spp. and Pimenta spp.)","2021","2021","t",8306.02,"A","Official figure"]
["SCL","Supply Utilization Accounts (2010-)","100","Bulgaria","5016","Loss","01231","Chillies and peppers, green (Capsicum spp. and Pimenta spp.)","2021","2021","t",7066.44,"I","Imputed value"]
["SCL","Supply Utilization Accounts (2010-)","100","Bulgaria","5023","Processed","01231","Chillies and peppers, green (Capsicum spp. and Pimenta spp.)","2021","2021","t",4879.6099999999997,"E","Estimated value"]
["SCL","Supply Utilization Accounts (2010-)","100","Bulgaria","5166","Residuals","01231","Chillies and peppers, green (Capsicum spp. and Pimenta spp.)","2021","2021","t",0,"I","Imputed value"]
["SCL","Supply Utilization Accounts (2010-)","100","Bulgaria","5141","Food supply quantity","01231","Chillies and peppers, green (Capsicum spp. and Pimenta spp.)","2021","2021","t",77052.08,"E","Estimated value"]
["SCL","Supply Utilization Accounts (2010-)","100","Bulgaria","5510","Production","01231","Chillies and peppers, green (Capsicum spp. and Pimenta spp.)","2022","2022","t",46790,"A","Official figure"]
["SCL","Supply Utilization Accounts (2010-)","100","Bulgaria","5610","Import quantity","01231","Chillies and peppers, green (Capsicum spp. and Pimenta spp.)","2022","2022","t",28938.5,"A","Official figure"]
["SCL","Supply Utilization Accounts (2010-)","100","Bulgaria","5910","Export quantity","01231","Chillies and peppers, green (Capsicum spp. and Pimenta spp.)","2022","2022","t",4958.21,"A","Official figure"]
["SCL","Supply Utilization Accounts (2010-)","100","Bulgaria","5016","Loss","01231","Chillies and peppers, green (Capsicum spp. and Pimenta spp.)","2022","2022","t",5499.57,"I","Imputed value"]
["SCL","Supply Utilization Accounts (2010-)","100","Bulgaria","5023","Processed","01231","Chillies and peppers, green (Capsicum spp. and Pimenta spp.)","2022","2022","t",3874.86,"E","Estimated value"]
["SCL","Supply Utilization Accounts (2010-)","100","Bulgaria","5166","Residuals","01231","Chillies and peppers, green (Capsicum spp. and Pimenta spp.)","2022","2022","t",0,"I","Imputed value"]
["SCL","Supply Utilization Accounts (2010-)","100","Bulgaria","5141","Food supply quantity","01231","Chillies and peppers, green (Capsicum spp. and Pimenta spp.)","2022","2022","t",61395.86,"E","Estimated value"]
["SCL","Supply Utilization Accounts (2010-)","100","Bulgaria","5510","Production","01232","Cucumbers and gherkins","2020","2020","t",53630,"A","Official figure"]
["SCL","Supply Utilization Accounts (2010-)","100","Bulgaria","5610","Import quantity","01232","Cucumbers and gherkins","2020","2020","t",28941.48,"A","Official figure"]
["SCL","Supply Utilization Accounts (2010-)","100","Bulgaria","5910","Export quantity","01232","Cucumbers and gherkins","2020","2020","t",13661.75,"A","Official figure"]
["SCL","Supply Utilization Accounts (2010-)","100","Bulgaria","5016","Loss","01232","Cucumbers and gherkins","2020","2020","t",5134.49,"I","Imputed value"]
["SCL","Supply Utilization Accounts (2010-)","100","Bulgaria","5023","Processed","01232","Cucumbers and gherkins","2020","2020","t",4236.47,"E","Estimated value"]
["SCL","Supply Utilization Accounts (2010-)","100","Bulgaria","5166","Residuals","01232","Cucumbers and gherkins","2020","2020","t",0,"I","Imputed value"]
["SCL","Supply Utilization Accounts (2010-)","100","Bulgaria","5141","Food supply quantity","01232","Cucumbers and gherkins","2020","2020","t",59538.77,"E","Estimated value"]
["SCL","Supply Utilization Accounts (2010-)","100","Bulgaria","5510","Production","01232","Cucumbers and gherkins","2021","2021","t",53680,"A","Official figure"]
["SCL","Supply Utilization Accounts (2010-)","100","Bulgaria","5610","Import quantity","01232","Cucumbers and gherkins","2021","2021","t",34468.160000000003,"A","Official figure"]
["SCL","Supply Utilization Accounts (2010-)","100","Bulgaria","5910","Export quantity","01232","Cucumbers and gherkins","2021","2021","t",16353.97,"A","Official figure"]
["SCL","Supply Utilization Accounts (2010-)","100","Bulgaria","5016","Loss","01232","Cucumbers and gherkins","2021","2021","t",5460.3,"I","Imputed value"]
["SCL","Supply Utilization Accounts (2010-)","100","Bulgaria","5023","Processed","01232","Cucumbers and gherkins","2021","2021","t",4409.6899999999996,"E","Estimated value"]
["SCL","Supply Utilization Accounts (2010-)","100","Bulgaria","5166","Residuals","01232","Cucumbers and gherkins","2021","2021","t",0,"I","Imputed value"]
["SCL","Supply Utilization Accounts (2010-)","100","Bulgaria","5141","Food supply quantity","01232","Cucumbers and gherkins","2021","2021","t",61924.2,"E","Estimated value"]
["SCL","Supply Utilization Accounts (2010-)","100","Bulgaria","5510","Production","01232","Cucumbers and gherkins","2022","2022","t",52270,"A","Official figure"]
["SCL","Supply Utilization Accounts (2010-)","100","Bulgaria","5610","Import quantity","01232","Cucumbers and gherkins","2022","2022","t",29964.52,"A","Official figure"]
["SCL","Supply Utilization Accounts (2010-)","100","Bulgaria","5910","Export quantity","01232","Cucumbers and gherkins","2022","2022","t",10643.96,"A","Official figure"]
["SCL","Supply Utilization Accounts (2010-)","100","Bulgaria","5016","Loss","01232","Cucumbers and gherkins","2022","2022","t",5093.9799999999996,"I","Imputed value"]
["SCL","Supply Utilization Accounts (2010-)","100","Bulgaria","5023","Processed","01232","Cucumbers and gherkins","2022","2022","t",4390.53,"E","Estimated value"]
["SCL","Supply Utilization Accounts (2010-)","100","Bulgaria","5166","Residuals","01232","Cucumbers and gherkins","2022","2022","t",0,"I","Imputed value"]
["SCL","Supply Utilization Accounts (2010-)","100","Bulgaria","5141","Food supply quantity","01232","Cucumbers and gherkins","2022","2022","t",62106.05,"E","Estimated value"]
["SCL","Supply Utilization Accounts (2010-)","100","Bulgaria","5510","Production","01233","Eggplants (aubergines)","2020","2020","t",9920,"A","Official figure"]
["SCL","Supply Utilization Accounts (2010-)","100","Bulgaria","5610","Import quantity","01233","Eggplants (aubergines)","2020","2020","t",3584.88,"A","Official figure"]
["SCL","Supply Utilization Accounts (2010-)","100","Bulgaria","5910","Export quantity","01233","Eggplants (aubergines)","2020","2020","t",565.04999999999995,"A","Official figure"]
["SCL","Supply Utilization Accounts (2010-)","100","Bulgaria","5016","Loss","01233","Eggplants (aubergines)","2020","2020","t",858.5,"I","Imputed value"]
["SCL","Supply Utilization Accounts (2010-)","100","Bulgaria","5166","Residuals","01233","Eggplants (aubergines)","2020","2020","t",0,"I","Imputed value"]
["SCL","Supply Utilization Accounts (2010-)","100","Bulgaria","5141","Food supply quantity","01233","Eggplants (aubergines)","2020","2020","t",12081.32,"E","Estimated value"]
["SCL","Supply Utilization Accounts (2010-)","100","Bulgaria","5510","Production","01233","Eggplants (aubergines)","2021","2021","t",7800,"A","Official figure"]
["SCL","Supply Utilization Accounts (2010-)","100","Bulgaria","5610","Import quantity","01233","Eggplants (aubergines)","2021","2021","t",3851.97,"A","Official figure"]
["SCL","Supply Utilization Accounts (2010-)","100","Bulgaria","5910","Export quantity","01233","Eggplants (aubergines)","2021","2021","t",705.16,"A","Official figure"]
["SCL","Supply Utilization Accounts (2010-)","100","Bulgaria","5016","Loss","01233","Eggplants (aubergines)","2021","2021","t",742.87,"I","Imputed value"]
["SCL","Supply Utilization Accounts (2010-)","100","Bulgaria","5166","Residuals","01233","Eggplants (aubergines)","2021","2021","t",0,"I","Imputed value"]
["SCL","Supply Utilization Accounts (2010-)","100","Bulgaria","5141","Food supply quantity","01233","Eggplants (aubergines)","2021","2021","t",10203.93,"E","Estimated value"]
["SCL","Supply Utilization Accounts (2010-)","100","Bulgaria","5510","Production","01233","Eggplants (aubergines)","2022","2022","t",9690,"A","Official figure"]
["SCL","Supply Utilization Accounts (2010-)","100","Bulgaria","5610","Import quantity","01233","Eggplants (aubergines)","2022","2022","t",3844.2,"A","Official figure"]
["SCL","Supply Utilization Accounts (2010-)","100","Bulgaria","5910","Export quantity","01233","Eggplants (aubergines)","2022","2022","t",320.51,"A","Official figure"]
["SCL","Supply Utilization Accounts (2010-)","100","Bulgaria","5016","Loss","01233","Eggplants (aubergines)","2022","2022","t",862.87,"I","Imputed value"]
["SCL","Supply Utilization Accounts (2010-)","100","Bulgaria","5166","Residuals","01233","Eggplants (aubergines)","2022","2022","t",0,"I","Imputed value"]
["SCL","Supply Utilization Accounts (2010-)","100","Bulgaria","5141","Food supply quantity","01233","Eggplants (aubergines)","2022","2022","t",12350.82,"E","Estimated value"]
["SCL","Supply Utilization Accounts (2010-)","191","Croatia","5510","Production","01311","Avocados","2020","2020","t",0,"A","Official figure"]
["SCL","Supply Utilization Accounts (2010-)","191","Croatia","5610","Import quantity","01311","Avocados","2020","2020","t",1583.63,"A","Official figure"]
["SCL","Supply Utilization Accounts (2010-)","191","Croatia","5910","Export quantity","01311","Avocados","2020","2020","t",0.33,"A","Official figure"]
["SCL","Supply Utilization Accounts (2010-)","191","Croatia","5166","Residuals","01311","Avocados","2020","2020","t",0,"I","Imputed value"]
["SCL","Supply Utilization Accounts (2010-)","191","Croatia","5141","Food supply quantity","01311","Avocados","2020","2020","t",1583.3,"E","Estimated value"]
["SCL","Supply Utilization Accounts (2010-)","191","Croatia","5510","Production","01311","Avocados","2021","2021","t",0,"A","Official figure"]
["SCL","Supply Utilization Accounts (2010-)","191","Croatia","5610","Import quantity","01311","Avocados","2021","2021","t",2182.14,"A","Official figure"]
["SCL","Supply Utilization Accounts (2010-)","191","Croatia","5910","Export quantity","01311","Avocados","2021","2021","t",18.66,"A","Official figure"]
["SCL","Supply Utilization Accounts (2010-)","191","Croatia","5166","Residuals","01311","Avocados","2021","2021","t",0,"I","Imputed value"]
["SCL","Supply Utilization Accounts (2010-)","191","Croatia","5141","Food supply quantity","01311","Avocados","2021","2021","t",2163.48,"E","Estimated value"]
["SCL","Supply Utilization Accounts (2010-)","191","Croatia","5510","Production","01311","Avocados","2022","2022","t",0,"A","Official figure"]
["SCL","Supply Utilization Accounts (2010-)","191","Croatia","5610","Import quantity","01311","Avocados","2022","2022","t",2662.41,"A","Official figure"]
["SCL","Supply Utilization Accounts (2010-)","191","Croatia","5910","Export quantity","01311","Avocados","2022","2022","t",191.12,"A","Official figure"]
["SCL","Supply Utilization Accounts (2010-)","191","Croatia","5166","Residuals","01311","Avocados","2022","2022","t",0,"I","Imputed value"]
["SCL","Supply Utilization Accounts (2010-)","191","Croatia","5141","Food supply quantity","01311","Avocados","2022","2022","t",2471.3000000000002,"E","Estimated value"]
["SCL","Supply Utilization Accounts (2010-)","191","Croatia","5510","Production","01312","Bananas","2020","2020","t",0,"A","Official figure"]
["SCL","Supply Utilization Accounts (2010-)","191","Croatia","5610","Import quantity","01312","Bananas","2020","2020","t",77736.44,"A","Official figure"]
["SCL","Supply Utilization Accounts (2010-)","191","Croatia","5910","Export quantity","01312","Bananas","2020","2020","t",6239.84,"A","Official figure"]
["SCL","Supply Utilization Accounts (2010-)","191","Croatia","5016","Loss","01312","Bananas","2020","2020","t",3886.82,"I","Imputed value"]
["SCL","Supply Utilization Accounts (2010-)","191","Croatia","5166","Residuals","01312","Bananas","2020","2020","t",0,"I","Imputed value"]
["SCL","Supply Utilization Accounts (2010-)","191","Croatia","5141","Food supply quantity","01312","Bananas","2020","2020","t",67609.78,"E","Estimated value"]
["SCL","Supply Utilization Accounts (2010-)","191","Croatia","5510","Production","01312","Bananas","2021","2021","t",0,"A","Official figure"]
["SCL","Supply Utilization Accounts (2010-)","191","Croatia","5610","Import quantity","01312","Bananas","2021","2021","t",77508.41,"A","Official figure"]
["SCL","Supply Utilization Accounts (2010-)","191","Croatia","5910","Export quantity","01312","Bananas","2021","2021","t",4007.76,"A","Official figure"]
["SCL","Supply Utilization Accounts (2010-)","191","Croatia","5016","Loss","01312","Bananas","2021","2021","t",3875.42,"I","Imputed value"]
["SCL","Supply Utilization Accounts (2010-)","191","Croatia","5166","Residuals","01312","Bananas","2021","2021","t",0,"I","Imputed value"]
["SCL","Supply Utilization Accounts (2010-)","191","Croatia","5141","Food supply quantity","01312","Bananas","2021","2021","t",69625.23,"E","Estimated value"]
["SCL","Supply Utilization Accounts (2010-)","191","Croatia","5510","Production","01312","Bananas","2022","2022","t",0,"A","Official figure"]
["SCL","Supply Utilization Accounts (2010-)","191","Croatia","5610","Import quantity","01312","Bananas","2022","2022","t",87210.08,"A","Official figure"]
["SCL","Supply Utilization Accounts (2010-)","191","Croatia","5910","Export quantity","01312","Bananas","2022","2022","t",11498.3,"A","Official figure"]
["SCL","Supply Utilization Accounts (2010-)","191","Croatia","5016","Loss","01312","Bananas","2022","2022","t",4360.5,"I","Imputed value"]
["SCL","Supply Utilization Accounts (2010-)","191","Croatia","5166","Residuals","01312","Bananas","2022","2022","t",0,"I","Imputed value"]
["SCL","Supply Utilization Accounts (2010-)","191","Croatia","5141","Food supply quantity","01312","Bananas","2022","2022","t",71351.27,"E","Estimated value"]
["SCL","Supply Utilization Accounts (2010-)","191","Croatia","5510","Production","01231","Chillies and peppers, green (Capsicum spp. and Pimenta spp.)","2020","2020","t",13370,"A","Official figure"]
["SCL","Supply Utilization Accounts (2010-)","191","Croatia","5610","Import quantity","01231","Chillies and peppers, green (Capsicum spp. and Pimenta spp.)","2020","2020","t",18979.96,"A","Official figure"]
["SCL","Supply Utilization Accounts (2010-)","191","Croatia","5910","Export quantity","01231","Chillies and peppers, green (Capsicum spp. and Pimenta spp.)","2020","2020","t",1664.7,"A","Official figure"]
["SCL","Supply Utilization Accounts (2010-)","191","Croatia","5016","Loss","01231","Chillies and peppers, green (Capsicum spp. and Pimenta spp.)","2020","2020","t",1575.59,"I","Imputed value"]
["SCL","Supply Utilization Accounts (2010-)","191","Croatia","5166","Residuals","01231","Chillies and peppers, green (Capsicum spp. and Pimenta spp.)","2020","2020","t",0,"I","Imputed value"]
["SCL","Supply Utilization Accounts (2010-)","191","Croatia","5141","Food supply quantity","01231","Chillies and peppers, green (Capsicum spp. and Pimenta spp.)","2020","2020","t",29109.67,"E","Estimated value"]
["SCL","Supply Utilization Accounts (2010-)","191","Croatia","5510","Production","01231","Chillies and peppers, green (Capsicum spp. and Pimenta spp.)","2021","2021","t",13560,"A","Official figure"]
["SCL","Supply Utilization Accounts (2010-)","191","Croatia","5610","Import quantity","01231","Chillies and peppers, green (Capsicum spp. and Pimenta spp.)","2021","2021","t",17435.7,"A","Official figure"]
["SCL","Supply Utilization Accounts (2010-)","191","Croatia","5910","Export quantity","01231","Chillies and peppers, green (Capsicum spp. and Pimenta spp.)","2021","2021","t",2247.41,"A","Official figure"]
["SCL","Supply Utilization Accounts (2010-)","191","Croatia","5016","Loss","01231","Chillies and peppers, green (Capsicum spp. and Pimenta spp.)","2021","2021","t",1501.1,"I","Imputed value"]
["SCL","Supply Utilization Accounts (2010-)","191","Croatia","5166","Residuals","01231","Chillies and peppers, green (Capsicum spp. and Pimenta spp.)","2021","2021","t",0,"I","Imputed value"]
["SCL","Supply Utilization Accounts (2010-)","191","Croatia","5141","Food supply quantity","01231","Chillies and peppers, green (Capsicum spp. and Pimenta spp.)","2021","2021","t",27247.19,"E","Estimated value"]
["SCL","Supply Utilization Accounts (2010-)","191","Croatia","5510","Production","01231","Chillies and peppers, green (Capsicum spp. and Pimenta spp.)","2022","2022","t",7910,"A","Official figure"]
["SCL","Supply Utilization Accounts (2010-)","191","Croatia","5610","Import quantity","01231","Chillies and peppers, green (Capsicum spp. and Pimenta spp.)","2022","2022","t",20461.16,"A","Official figure"]
["SCL","Supply Utilization Accounts (2010-)","191","Croatia","5910","Export quantity","01231","Chillies and peppers, green (Capsicum spp. and Pimenta spp.)","2022","2022","t",1683.07,"A","Official figure"]
["SCL","Supply Utilization Accounts (2010-)","191","Croatia","5016","Loss","01231","Chillies and peppers, green (Capsicum spp. and Pimenta spp.)","2022","2022","t",1373.99,"I","Imputed value"]
["SCL","Supply Utilization Accounts (2010-)","191","Croatia","5166","Residuals","01231","Chillies and peppers, green (Capsicum spp. and Pimenta spp.)","2022","2022","t",0,"I","Imputed value"]
["SCL","Supply Utilization Accounts (2010-)","191","Croatia","5141","Food supply quantity","01231","Chillies and peppers, green (Capsicum spp. and Pimenta spp.)","2022","2022","t",25314.1,"E","Estimated value"]
["SCL","Supply Utilization Accounts (2010-)","191","Croatia","5510","Production","01232","Cucumbers and gherkins","2020","2020","t",7020,"A","Official figure"]
["SCL","Supply Utilization Accounts (2010-)","191","Croatia","5610","Import quantity","01232","Cucumbers and gherkins","2020","2020","t",8197.2999999999993,"A","Official figure"]
["SCL","Supply Utilization Accounts (2010-)","191","Croatia","5910","Export quantity","01232","Cucumbers and gherkins","2020","2020","t",6448.38,"A","Official figure"]
["SCL","Supply Utilization Accounts (2010-)","191","Croatia","5016","Loss","01232","Cucumbers and gherkins","2020","2020","t",726.06,"I","Imputed value"]
["SCL","Supply Utilization Accounts (2010-)","191","Croatia","5023","Processed","01232","Cucumbers and gherkins","2020","2020","t",0,"E","Estimated value"]
["SCL","Supply Utilization Accounts (2010-)","191","Croatia","5166","Residuals","01232","Cucumbers and gherkins","2020","2020","t",0,"I","Imputed value"]
["SCL","Supply Utilization Accounts (2010-)","191","Croatia","5141","Food supply quantity","01232","Cucumbers and gherkins","2020","2020","t",8042.86,"E","Estimated value"]
["SCL","Supply Utilization Accounts (2010-)","191","Croatia","5510","Production","01232","Cucumbers and gherkins","2021","2021","t",8550,"A","Official figure"]
["SCL","Supply Utilization Accounts (2010-)","191","Croatia","5610","Import quantity","01232","Cucumbers and gherkins","2021","2021","t",8966.9599999999991,"A","Official figure"]
["SCL","Supply Utilization Accounts (2010-)","191","Croatia","5910","Export quantity","01232","Cucumbers and gherkins","2021","2021","t",7240.95,"A","Official figure"]
["SCL","Supply Utilization Accounts (2010-)","191","Croatia","5016","Loss","01232","Cucumbers and gherkins","2021","2021","t",826.53,"I","Imputed value"]
["SCL","Supply Utilization Accounts (2010-)","191","Croatia","5023","Processed","01232","Cucumbers and gherkins","2021","2021","t",0,"E","Estimated value"]
["SCL","Supply Utilization Accounts (2010-)","191","Croatia","5166","Residuals","01232","Cucumbers and gherkins","2021","2021","t",0,"I","Imputed value"]
["SCL","Supply Utilization Accounts (2010-)","191","Croatia","5141","Food supply quantity","01232","Cucumbers and gherkins","2021","2021","t",9449.4699999999993,"E","Estimated value"]
["SCL","Supply Utilization Accounts (2010-)","191","Croatia","5510","Production","01232","Cucumbers and gherkins","2022","2022","t",11370,"A","Official figure"]
["SCL","Supply Utilization Accounts (2010-)","191","Croatia","5610","Import quantity","01232","Cucumbers and gherkins","2022","2022","t",10937.25,"A","Official figure"]
["SCL","Supply Utilization Accounts (2010-)","191","Croatia","5910","Export quantity","01232","Cucumbers and gherkins","2022","2022","t",8425.14,"A","Official figure"]
["SCL","Supply Utilization Accounts (2010-)","191","Croatia","5016","Loss","01232","Cucumbers and gherkins","2022","2022","t",1052.56,"I","Imputed value"]
["SCL","Supply Utilization Accounts (2010-)","191","Croatia","5023","Processed","01232","Cucumbers and gherkins","2022","2022","t",0,"E","Estimated value"]
["SCL","Supply Utilization Accounts (2010-)","191","Croatia","5166","Residuals","01232","Cucumbers and gherkins","2022","2022","t",0,"I","Imputed value"]
["SCL","Supply Utilization Accounts (2010-)","191","Croatia","5141","Food supply quantity","01232","Cucumbers and gherkins","2022","2022","t",12829.54,"E","Estimated value"]
["SCL","Supply Utilization Accounts (2010-)","191","Croatia","5610","Import quantity","01233","Eggplants (aubergines)","2020","2020","t",1052.49,"A","Official figure"]
["SCL","Supply Utilization Accounts (2010-)","191","Croatia","5910","Export quantity","01233","Eggplants (aubergines)","2020","2020","t",151.88999999999999,"A","Official figure"]
["SCL","Supply Utilization Accounts (2010-)","191","Croatia","5166","Residuals","01233","Eggplants (aubergines)","2020","2020","t",0,"I","Imputed value"]
["SCL","Supply Utilization Accounts (2010-)","191","Croatia","5141","Food supply quantity","01233","Eggplants (aubergines)","2020","2020","t",900.61,"E","Estimated value"]
["SCL","Supply Utilization Accounts (2010-)","191","Croatia","5610","Import quantity","01233","Eggplants (aubergines)","2021","2021","t",1213.3,"A","Official figure"]
["SCL","Supply Utilization Accounts (2010-)","191","Croatia","5910","Export quantity","01233","Eggplants (aubergines)","2021","2021","t",66.73,"A","Official figure"]
["SCL","Supply Utilization Accounts (2010-)","191","Croatia","5166","Residuals","01233","Eggplants (aubergines)","2021","2021","t",0,"I","Imputed value"]
["SCL","Supply Utilization Accounts (2010-)","191","Croatia","5141","Food supply quantity","01233","Eggplants (aubergines)","2021","2021","t",1146.57,"E","Estimated value"]
["SCL","Supply Utilization Accounts (2010-)","191","Croatia","5510","Production","01233","Eggplants (aubergines)","2022","2022","t",1500,"A","Official figure"]
["SCL","Supply Utilization Accounts (2010-)","191","Croatia","5610","Import quantity","01233","Eggplants (aubergines)","2022","2022","t",1472.81,"A","Official figure"]
["SCL","Supply Utilization Accounts (2010-)","191","Croatia","5910","Export quantity","01233","Eggplants (aubergines)","2022","2022","t",60.88,"A","Official figure"]
["SCL","Supply Utilization Accounts (2010-)","191","Croatia","5166","Residuals","01233","Eggplants (aubergines)","2022","2022","t",0,"I","Imputed value"]
["SCL","Supply Utilization Accounts (2010-)","191","Croatia","5141","Food supply quantity","01233","Eggplants (aubergines)","2022","2022","t",2911.93,"E","Estimated value"]
["SCL","Supply Utilization Accounts (2010-)","196","Cyprus","5510","Production","01311","Avocados","2020","2020","t",940,"A","Official figure"]
["SCL","Supply Utilization Accounts (2010-)","196","Cyprus","5610","Import quantity","01311","Avocados","2020","2020","t",1135.07,"A","Official figure"]
["SCL","Supply Utilization Accounts (2010-)","196","Cyprus","5910","Export quantity","01311","Avocados","2020","2020","t",3.74,"A","Official figure"]
["SCL","Supply Utilization Accounts (2010-)","196","Cyprus","5016","Loss","01311","Avocados","2020","2020","t",155.88,"I","Imputed value"]
["SCL","Supply Utilization Accounts (2010-)","196","Cyprus","5164","Tourist consumption","01311","Avocados","2020","2020","t",0,"E","Estimated value"]
["SCL","Supply Utilization Accounts (2010-)","196","Cyprus","5166","Residuals","01311","Avocados","2020","2020","t",0,"I","Imputed value"]
["SCL","Supply Utilization Accounts (2010-)","196","Cyprus","5141","Food supply quantity","01311","Avocados","2020","2020","t",1915.45,"E","Estimated value"]
["SCL","Supply Utilization Accounts (2010-)","196","Cyprus","5510","Production","01311","Avocados","2021","2021","t",1210,"A","Official figure"]
["SCL","Supply Utilization Accounts (2010-)","196","Cyprus","5610","Import quantity","01311","Avocados","2021","2021","t",1289.25,"A","Official figure"]
["SCL","Supply Utilization Accounts (2010-)","196","Cyprus","5910","Export quantity","01311","Avocados","2021","2021","t",37.14,"A","Official figure"]
["SCL","Supply Utilization Accounts (2010-)","196","Cyprus","5016","Loss","01311","Avocados","2021","2021","t",194.65,"I","Imputed value"]
["SCL","Supply Utilization Accounts (2010-)","196","Cyprus","5164","Tourist consumption","01311","Avocados","2021","2021","t",0,"E","Estimated value"]
["SCL","Supply Utilization Accounts (2010-)","196","Cyprus","5166","Residuals","01311","Avocados","2021","2021","t",0,"I","Imputed value"]
["SCL","Supply Utilization Accounts (2010-)","196","Cyprus","5141","Food supply quantity","01311","Avocados","2021","2021","t",2267.46,"E","Estimated value"]
["SCL","Supply Utilization Accounts (2010-)","196","Cyprus","5510","Production","01311","Avocados","2022","2022","t",1370,"A","Official figure"]
["SCL","Supply Utilization Accounts (2010-)","196","Cyprus","5610","Import quantity","01311","Avocados","2022","2022","t",783.07,"A","Official figure"]
["SCL","Supply Utilization Accounts (2010-)","196","Cyprus","5910","Export quantity","01311","Avocados","2022","2022","t",273.77,"A","Official figure"]
["SCL","Supply Utilization Accounts (2010-)","196","Cyprus","5016","Loss","01311","Avocados","2022","2022","t",167.69,"I","Imputed value"]
["SCL","Supply Utilization Accounts (2010-)","196","Cyprus","5164","Tourist consumption","01311","Avocados","2022","2022","t",63.46,"E","Estimated value"]
["SCL","Supply Utilization Accounts (2010-)","196","Cyprus","5166","Residuals","01311","Avocados","2022","2022","t",0,"I","Imputed value"]
["SCL","Supply Utilization Accounts (2010-)","196","Cyprus","5141","Food supply quantity","01311","Avocados","2022","2022","t",1648.15,"E","Estimated value"]
["SCL","Supply Utilization Accounts (2010-)","196","Cyprus","5510","Production","01312","Bananas","2020","2020","t",5650,"A","Official figure"]
["SCL","Supply Utilization Accounts (2010-)","196","Cyprus","5610","Import quantity","01312","Bananas","2020","2020","t",6173.15,"A","Official figure"]
["SCL","Supply Utilization Accounts (2010-)","196","Cyprus","5910","Export quantity","01312","Bananas","2020","2020","t",9.32,"A","Official figure"]
["SCL","Supply Utilization Accounts (2010-)","196","Cyprus","5016","Loss","01312","Bananas","2020","2020","t",1182.32,"I","Imputed value"]
["SCL","Supply Utilization Accounts (2010-)","196","Cyprus","5164","Tourist consumption","01312","Bananas","2020","2020","t",0,"E","Estimated value"]
["SCL","Supply Utilization Accounts (2010-)","196","Cyprus","5165","Other uses (non-food)","01312","Bananas","2020","2020","t",0,"E","Estimated value"]
["SCL","Supply Utilization Accounts (2010-)","196","Cyprus","5166","Residuals","01312","Bananas","2020","2020","t",32,"I","Imputed value"]
["SCL","Supply Utilization Accounts (2010-)","196","Cyprus","5141","Food supply quantity","01312","Bananas","2020","2020","t",10600,"E","Estimated value"]
["SCL","Supply Utilization Accounts (2010-)","196","Cyprus","5510","Production","01312","Bananas","2021","2021","t",5510,"A","Official figure"]
["SCL","Supply Utilization Accounts (2010-)","196","Cyprus","5610","Import quantity","01312","Bananas","2021","2021","t",6299.54,"A","Official figure"]
["SCL","Supply Utilization Accounts (2010-)","196","Cyprus","5910","Export quantity","01312","Bananas","2021","2021","t",186.68,"A","Official figure"]
["SCL","Supply Utilization Accounts (2010-)","196","Cyprus","5016","Loss","01312","Bananas","2021","2021","t",1180.95,"I","Imputed value"]
["SCL","Supply Utilization Accounts (2010-)","196","Cyprus","5164","Tourist consumption","01312","Bananas","2021","2021","t",0,"E","Estimated value"]
["SCL","Supply Utilization Accounts (2010-)","196","Cyprus","5165","Other uses (non-food)","01312","Bananas","2021","2021","t",0,"E","Estimated value"]
["SCL","Supply Utilization Accounts (2010-)","196","Cyprus","5166","Residuals","01312","Bananas","2021","2021","t",13,"I","Imputed value"]
["SCL","Supply Utilization Accounts (2010-)","196","Cyprus","5141","Food supply quantity","01312","Bananas","2021","2021","t",10428.65,"E","Estimated value"]
["SCL","Supply Utilization Accounts (2010-)","196","Cyprus","5510","Production","01312","Bananas","2022","2022","t",5480,"A","Official figure"]
["SCL","Supply Utilization Accounts (2010-)","196","Cyprus","5610","Import quantity","01312","Bananas","2022","2022","t",6821.74,"A","Official figure"]
["SCL","Supply Utilization Accounts (2010-)","196","Cyprus","5910","Export quantity","01312","Bananas","2022","2022","t",135.13999999999999,"A","Official figure"]
["SCL","Supply Utilization Accounts (2010-)","196","Cyprus","5016","Loss","01312","Bananas","2022","2022","t",1230.17,"I","Imputed value"]
["SCL","Supply Utilization Accounts (2010-)","196","Cyprus","5164","Tourist consumption","01312","Bananas","2022","2022","t",427.07,"E","Estimated value"]
["SCL","Supply Utilization Accounts (2010-)","196","Cyprus","5165","Other uses (non-food)","01312","Bananas","2022","2022","t",0,"E","Estimated value"]
["SCL","Supply Utilization Accounts (2010-)","196","Cyprus","5166","Residuals","01312","Bananas","2022","2022","t",0,"I","Imputed value"]
["SCL","Supply Utilization Accounts (2010-)","196","Cyprus","5141","Food supply quantity","01312","Bananas","2022","2022","t",10509.36,"E","Estimated value"]
["SCL","Supply Utilization Accounts (2010-)","196","Cyprus","5510","Production","01231","Chillies and peppers, green (Capsicum spp. and Pimenta spp.)","2020","2020","t",1030,"A","Official figure"]
["SCL","Supply Utilization Accounts (2010-)","196","Cyprus","5610","Import quantity","01231","Chillies and peppers, green (Capsicum spp. and Pimenta spp.)","2020","2020","t",1649.05,"A","Official figure"]
["SCL","Supply Utilization Accounts (2010-)","196","Cyprus","5016","Loss","01231","Chillies and peppers, green (Capsicum spp. and Pimenta spp.)","2020","2020","t",267.91000000000003,"I","Imputed value"]
["SCL","Supply Utilization Accounts (2010-)","196","Cyprus","5164","Tourist consumption","01231","Chillies and peppers, green (Capsicum spp. and Pimenta spp.)","2020","2020","t",0,"E","Estimated value"]
["SCL","Supply Utilization Accounts (2010-)","196","Cyprus","5166","Residuals","01231","Chillies and peppers, green (Capsicum spp. and Pimenta spp.)","2020","2020","t",0,"I","Imputed value"]
["SCL","Supply Utilization Accounts (2010-)","196","Cyprus","5141","Food supply quantity","01231","Chillies and peppers, green (Capsicum spp. and Pimenta spp.)","2020","2020","t",2411.15,"E","Estimated value"]
["SCL","Supply Utilization Accounts (2010-)","196","Cyprus","5510","Production","01231","Chillies and peppers, green (Capsicum spp. and Pimenta spp.)","2021","2021","t",1030,"A","Official figure"]
["SCL","Supply Utilization Accounts (2010-)","196","Cyprus","5610","Import quantity","01231","Chillies and peppers, green (Capsicum spp. and Pimenta spp.)","2021","2021","t",1877.94,"A","Official figure"]
["SCL","Supply Utilization Accounts (2010-)","196","Cyprus","5016","Loss","01231","Chillies and peppers, green (Capsicum spp. and Pimenta spp.)","2021","2021","t",290.79000000000002,"I","Imputed value"]
["SCL","Supply Utilization Accounts (2010-)","196","Cyprus","5164","Tourist consumption","01231","Chillies and peppers, green (Capsicum spp. and Pimenta spp.)","2021","2021","t",0,"E","Estimated value"]
["SCL","Supply Utilization Accounts (2010-)","196","Cyprus","5166","Residuals","01231","Chillies and peppers, green (Capsicum spp. and Pimenta spp.)","2021","2021","t",0,"I","Imputed value"]
["SCL","Supply Utilization Accounts (2010-)","196","Cyprus","5141","Food supply quantity","01231","Chillies and peppers, green (Capsicum spp. and Pimenta spp.)","2021","2021","t",2617.15,"E","Estimated value"]
["SCL","Supply Utilization Accounts (2010-)","196","Cyprus","5510","Production","01231","Chillies and peppers, green (Capsicum spp. and Pimenta spp.)","2022","2022","t",940,"A","Official figure"]
["SCL","Supply Utilization Accounts (2010-)","196","Cyprus","5610","Import quantity","01231","Chillies and peppers, green (Capsicum spp. and Pimenta spp.)","2022","2022","t",1888.35,"A","Official figure"]
["SCL","Supply Utilization Accounts (2010-)","196","Cyprus","5016","Loss","01231","Chillies and peppers, green (Capsicum spp. and Pimenta spp.)","2022","2022","t",282.83999999999997,"I","Imputed value"]
["SCL","Supply Utilization Accounts (2010-)","196","Cyprus","5164","Tourist consumption","01231","Chillies and peppers, green (Capsicum spp. and Pimenta spp.)","2022","2022","t",141.76,"E","Estimated value"]
["SCL","Supply Utilization Accounts (2010-)","196","Cyprus","5166","Residuals","01231","Chillies and peppers, green (Capsicum spp. and Pimenta spp.)","2022","2022","t",0,"I","Imputed value"]
["SCL","Supply Utilization Accounts (2010-)","196","Cyprus","5141","Food supply quantity","01231","Chillies and peppers, green (Capsicum spp. and Pimenta spp.)","2022","2022","t",2403.7600000000002,"E","Estimated value"]
["SCL","Supply Utilization Accounts (2010-)","196","Cyprus","5510","Production","01232","Cucumbers and gherkins","2020","2020","t",7210,"A","Official figure"]
["SCL","Supply Utilization Accounts (2010-)","196","Cyprus","5610","Import quantity","01232","Cucumbers and gherkins","2020","2020","t",293.5,"A","Official figure"]
["SCL","Supply Utilization Accounts (2010-)","196","Cyprus","5016","Loss","01232","Cucumbers and gherkins","2020","2020","t",615.41999999999996,"I","Imputed value"]
["SCL","Supply Utilization Accounts (2010-)","196","Cyprus","5023","Processed","01232","Cucumbers and gherkins","2020","2020","t",1201,"E","Estimated value"]
["SCL","Supply Utilization Accounts (2010-)","196","Cyprus","5164","Tourist consumption","01232","Cucumbers and gherkins","2020","2020","t",0,"E","Estimated value"]
["SCL","Supply Utilization Accounts (2010-)","196","Cyprus","5166","Residuals","01232","Cucumbers and gherkins","2020","2020","t",0,"I","Imputed value"]
["SCL","Supply Utilization Accounts (2010-)","196","Cyprus","5141","Food supply quantity","01232","Cucumbers and gherkins","2020","2020","t",5687.08,"E","Estimated value"]
["SCL","Supply Utilization Accounts (2010-)","196","Cyprus","5510","Production","01232","Cucumbers and gherkins","2021","2021","t",7860,"A","Official figure"]
["SCL","Supply Utilization Accounts (2010-)","196","Cyprus","5610","Import quantity","01232","Cucumbers and gherkins","2021","2021","t",95.62,"A","Official figure"]
["SCL","Supply Utilization Accounts (2010-)","196","Cyprus","5016","Loss","01232","Cucumbers and gherkins","2021","2021","t",652.87,"I","Imputed value"]
["SCL","Supply Utilization Accounts (2010-)","196","Cyprus","5023","Processed","01232","Cucumbers and gherkins","2021","2021","t",1273.3499999999999,"E","Estimated value"]
["SCL","Supply Utilization Accounts (2010-)","196","Cyprus","5164","Tourist consumption","01232","Cucumbers and gherkins","2021","2021","t",0,"E","Estimated value"]
["SCL","Supply Utilization Accounts (2010-)","196","Cyprus","5166","Residuals","01232","Cucumbers and gherkins","2021","2021","t",0,"I","Imputed value"]
["SCL","Supply Utilization Accounts (2010-)","196","Cyprus","5141","Food supply quantity","01232","Cucumbers and gherkins","2021","2021","t",6029.41,"E","Estimated value"]
["SCL","Supply Utilization Accounts (2010-)","196","Cyprus","5510","Production","01232","Cucumbers and gherkins","2022","2022","t",7650,"A","Official figure"]
["SCL","Supply Utilization Accounts (2010-)","196","Cyprus","5610","Import quantity","01232","Cucumbers and gherkins","2022","2022","t",309.54000000000002,"A","Official figure"]
["SCL","Supply Utilization Accounts (2010-)","196","Cyprus","5016","Loss","01232","Cucumbers and gherkins","2022","2022","t",653.19000000000005,"I","Imputed value"]
["SCL","Supply Utilization Accounts (2010-)","196","Cyprus","5023","Processed","01232","Cucumbers and gherkins","2022","2022","t",1273.98,"E","Estimated value"]
["SCL","Supply Utilization Accounts (2010-)","196","Cyprus","5164","Tourist consumption","01232","Cucumbers and gherkins","2022","2022","t",352.1,"E","Estimated value"]
["SCL","Supply Utilization Accounts (2010-)","196","Cyprus","5166","Residuals","01232","Cucumbers and gherkins","2022","2022","t",0,"I","Imputed value"]
["SCL","Supply Utilization Accounts (2010-)","196","Cyprus","5141","Food supply quantity","01232","Cucumbers and gherkins","2022","2022","t",5680.26,"E","Estimated value"]
["SCL","Supply Utilization Accounts (2010-)","196","Cyprus","5510","Production","01233","Eggplants (aubergines)","2020","2020","t",1350,"A","Official figure"]
["SCL","Supply Utilization Accounts (2010-)","196","Cyprus","5610","Import quantity","01233","Eggplants (aubergines)","2020","2020","t",27.26,"A","Official figure"]
["SCL","Supply Utilization Accounts (2010-)","196","Cyprus","5910","Export quantity","01233","Eggplants (aubergines)","2020","2020","t",1.89,"A","Official figure"]
["SCL","Supply Utilization Accounts (2010-)","196","Cyprus","5016","Loss","01233","Eggplants (aubergines)","2020","2020","t",113.94,"I","Imputed value"]
["SCL","Supply Utilization Accounts (2010-)","196","Cyprus","5164","Tourist consumption","01233","Eggplants (aubergines)","2020","2020","t",0,"E","Estimated value"]
["SCL","Supply Utilization Accounts (2010-)","196","Cyprus","5166","Residuals","01233","Eggplants (aubergines)","2020","2020","t",0,"I","Imputed value"]
["SCL","Supply Utilization Accounts (2010-)","196","Cyprus","5141","Food supply quantity","01233","Eggplants (aubergines)","2020","2020","t",1261.43,"E","Estimated value"]
["SCL","Supply Utilization Accounts (2010-)","196","Cyprus","5510","Production","01233","Eggplants (aubergines)","2021","2021","t",1310,"A","Official figure"]
["SCL","Supply Utilization Accounts (2010-)","196","Cyprus","5610","Import quantity","01233","Eggplants (aubergines)","2021","2021","t",9.66,"A","Official figure"]
["SCL","Supply Utilization Accounts (2010-)","196","Cyprus","5016","Loss","01233","Eggplants (aubergines)","2021","2021","t",109.22,"I","Imputed value"]
["SCL","Supply Utilization Accounts (2010-)","196","Cyprus","5164","Tourist consumption","01233","Eggplants (aubergines)","2021","2021","t",0,"E","Estimated value"]
["SCL","Supply Utilization Accounts (2010-)","196","Cyprus","5166","Residuals","01233","Eggplants (aubergines)","2021","2021","t",0,"I","Imputed value"]
["SCL","Supply Utilization Accounts (2010-)","196","Cyprus","5141","Food supply quantity","01233","Eggplants (aubergines)","2021","2021","t",1210.44,"E","Estimated value"]
["SCL","Supply Utilization Accounts (2010-)","196","Cyprus","5510","Production","01233","Eggplants (aubergines)","2022","2022","t",1300,"A","Official figure"]
["SCL","Supply Utilization Accounts (2010-)","196","Cyprus","5610","Import quantity","01233","Eggplants (aubergines)","2022","2022","t",58.04,"A","Official figure"]
["SCL","Supply Utilization Accounts (2010-)","196","Cyprus","5016","Loss","01233","Eggplants (aubergines)","2022","2022","t",112.4,"I","Imputed value"]
["SCL","Supply Utilization Accounts (2010-)","196","Cyprus","5164","Tourist consumption","01233","Eggplants (aubergines)","2022","2022","t",56.76,"E","Estimated value"]
["SCL","Supply Utilization Accounts (2010-)","196","Cyprus","5166","Residuals","01233","Eggplants (aubergines)","2022","2022","t",0,"I","Imputed value"]
["SCL","Supply Utilization Accounts (2010-)","196","Cyprus","5141","Food supply quantity","01233","Eggplants (aubergines)","2022","2022","t",1188.8800000000001,"E","Estimated value"]
["SCL","Supply Utilization Accounts (2010-)","203","Czechia","5510","Production","01311","Avocados","2020","2020","t",0,"A","Official figure"]
["SCL","Supply Utilization Accounts (2010-)","203","Czechia","5610","Import quantity","01311","Avocados","2020","2020","t",6378.73,"A","Official figure"]
["SCL","Supply Utilization Accounts (2010-)","203","Czechia","5910","Export quantity","01311","Avocados","2020","2020","t",773.03,"A","Official figure"]
["SCL","Supply Utilization Accounts (2010-)","203","Czechia","5166","Residuals","01311","Avocados","2020","2020","t",0,"I","Imputed value"]
["SCL","Supply Utilization Accounts (2010-)","203","Czechia","5141","Food supply quantity","01311","Avocados","2020","2020","t",5605.7,"E","Estimated value"]
["SCL","Supply Utilization Accounts (2010-)","203","Czechia","5510","Production","01311","Avocados","2021","2021","t",0,"A","Official figure"]
["SCL","Supply Utilization Accounts (2010-)","203","Czechia","5610","Import quantity","01311","Avocados","2021","2021","t",6726.52,"A","Official figure"]
["SCL","Supply Utilization Accounts (2010-)","203","Czechia","5910","Export quantity","01311","Avocados","2021","2021","t",989.56,"A","Official figure"]
["SCL","Supply Utilization Accounts (2010-)","203","Czechia","5166","Residuals","01311","Avocados","2021","2021","t",0,"I","Imputed value"]
["SCL","Supply Utilization Accounts (2010-)","203","Czechia","5141","Food supply quantity","01311","Avocados","2021","2021","t",5736.96,"E","Estimated value"]
["SCL","Supply Utilization Accounts (2010-)","203","Czechia","5510","Production","01311","Avocados","2022","2022","t",0,"A","Official figure"]
["SCL","Supply Utilization Accounts (2010-)","203","Czechia","5610","Import quantity","01311","Avocados","2022","2022","t",8667.7000000000007,"A","Official figure"]
["SCL","Supply Utilization Accounts (2010-)","203","Czechia","5910","Export quantity","01311","Avocados","2022","2022","t",943.52,"A","Official figure"]
["SCL","Supply Utilization Accounts (2010-)","203","Czechia","5166","Residuals","01311","Avocados","2022","2022","t",0,"I","Imputed value"]
["SCL","Supply Utilization Accounts (2010-)","203","Czechia","5141","Food supply quantity","01311","Avocados","2022","2022","t",7724.18,"E","Estimated value"]
["SCL","Supply Utilization Accounts (2010-)","203","Czechia","5510","Production","01312","Bananas","2020","2020","t",0,"A","Official figure"]
["SCL","Supply Utilization Accounts (2010-)","203","Czechia","5610","Import quantity","01312","Bananas","2020","2020","t",177497.4,"A","Official figure"]
["SCL","Supply Utilization Accounts (2010-)","203","Czechia","5910","Export quantity","01312","Bananas","2020","2020","t",42914.48,"A","Official figure"]
["SCL","Supply Utilization Accounts (2010-)","203","Czechia","5016","Loss","01312","Bananas","2020","2020","t",11833.16,"I","Imputed value"]
["SCL","Supply Utilization Accounts (2010-)","203","Czechia","5166","Residuals","01312","Bananas","2020","2020","t",0,"I","Imputed value"]
["SCL","Supply Utilization Accounts (2010-)","203","Czechia","5141","Food supply quantity","01312","Bananas","2020","2020","t",122749.75999999999,"E","Estimated value"]
["SCL","Supply Utilization Accounts (2010-)","203","Czechia","5510","Production","01312","Bananas","2021","2021","t",0,"A","Official figure"]
["SCL","Supply Utilization Accounts (2010-)","203","Czechia","5610","Import quantity","01312","Bananas","2021","2021","t",175002.67,"A","Official figure"]
["SCL","Supply Utilization Accounts (2010-)","203","Czechia","5910","Export quantity","01312","Bananas","2021","2021","t",43702.82,"A","Official figure"]
["SCL","Supply Utilization Accounts (2010-)","203","Czechia","5016","Loss","01312","Bananas","2021","2021","t",11666.84,"I","Imputed value"]
["SCL","Supply Utilization Accounts (2010-)","203","Czechia","5166","Residuals","01312","Bananas","2021","2021","t",0,"I","Imputed value"]
["SCL","Supply Utilization Accounts (2010-)","203","Czechia","5141","Food supply quantity","01312","Bananas","2021","2021","t",119633.01,"E","Estimated value"]
["SCL","Supply Utilization Accounts (2010-)","203","Czechia","5510","Production","01312","Bananas","2022","2022","t",0,"A","Official figure"]
["SCL","Supply Utilization Accounts (2010-)","203","Czechia","5610","Import quantity","01312","Bananas","2022","2022","t",170930.55,"A","Official figure"]
["SCL","Supply Utilization Accounts (2010-)","203","Czechia","5910","Export quantity","01312","Bananas","2022","2022","t",42226.81,"A","Official figure"]
["SCL","Supply Utilization Accounts (2010-)","203","Czechia","5016","Loss","01312","Bananas","2022","2022","t",11395.37,"I","Imputed value"]
["SCL","Supply Utilization Accounts (2010-)","203","Czechia","5166","Residuals","01312","Bananas","2022","2022","t",0,"I","Imputed value"]
["SCL","Supply Utilization Accounts (2010-)","203","Czechia","5141","Food supply quantity","01312","Bananas","2022","2022","t",117308.38,"E","Estimated value"]
["SCL","Supply Utilization Accounts (2010-)","203","Czechia","5510","Production","01231","Chillies and peppers, green (Capsicum spp. and Pimenta spp.)","2020","2020","t",12230,"A","Official figure"]
["SCL","Supply Utilization Accounts (2010-)","203","Czechia","5610","Import quantity","01231","Chillies and peppers, green (Capsicum spp. and Pimenta spp.)","2020","2020","t",49671.66,"A","Official figure"]
["SCL","Supply Utilization Accounts (2010-)","203","Czechia","5910","Export quantity","01231","Chillies and peppers, green (Capsicum spp. and Pimenta spp.)","2020","2020","t",7110.1,"A","Official figure"]
["SCL","Supply Utilization Accounts (2010-)","203","Czechia","5016","Loss","01231","Chillies and peppers, green (Capsicum spp. and Pimenta spp.)","2020","2020","t",236.38,"I","Imputed value"]
["SCL","Supply Utilization Accounts (2010-)","203","Czechia","5166","Residuals","01231","Chillies and peppers, green (Capsicum spp. and Pimenta spp.)","2020","2020","t",0,"I","Imputed value"]
["SCL","Supply Utilization Accounts (2010-)","203","Czechia","5141","Food supply quantity","01231","Chillies and peppers, green (Capsicum spp. and Pimenta spp.)","2020","2020","t",54555.18,"E","Estimated value"]
["SCL","Supply Utilization Accounts (2010-)","203","Czechia","5510","Production","01231","Chillies and peppers, green (Capsicum spp. and Pimenta spp.)","2021","2021","t",11400,"A","Official figure"]
["SCL","Supply Utilization Accounts (2010-)","203","Czechia","5610","Import quantity","01231","Chillies and peppers, green (Capsicum spp. and Pimenta spp.)","2021","2021","t",49423.43,"A","Official figure"]
["SCL","Supply Utilization Accounts (2010-)","203","Czechia","5910","Export quantity","01231","Chillies and peppers, green (Capsicum spp. and Pimenta spp.)","2021","2021","t",5490.6,"A","Official figure"]
["SCL","Supply Utilization Accounts (2010-)","203","Czechia","5016","Loss","01231","Chillies and peppers, green (Capsicum spp. and Pimenta spp.)","2021","2021","t",237.72,"E","Estimated value"]
["SCL","Supply Utilization Accounts (2010-)","203","Czechia","5166","Residuals","01231","Chillies and peppers, green (Capsicum spp. and Pimenta spp.)","2021","2021","t",0,"I","Imputed value"]
["SCL","Supply Utilization Accounts (2010-)","203","Czechia","5141","Food supply quantity","01231","Chillies and peppers, green (Capsicum spp. and Pimenta spp.)","2021","2021","t",55095.11,"E","Estimated value"]
["SCL","Supply Utilization Accounts (2010-)","203","Czechia","5510","Production","01231","Chillies and peppers, green (Capsicum spp. and Pimenta spp.)","2022","2022","t",12070,"A","Official figure"]
["SCL","Supply Utilization Accounts (2010-)","203","Czechia","5610","Import quantity","01231","Chillies and peppers, green (Capsicum spp. and Pimenta spp.)","2022","2022","t",48856.75,"A","Official figure"]
["SCL","Supply Utilization Accounts (2010-)","203","Czechia","5910","Export quantity","01231","Chillies and peppers, green (Capsicum spp. and Pimenta spp.)","2022","2022","t",5476.12,"A","Official figure"]
["SCL","Supply Utilization Accounts (2010-)","203","Czechia","5016","Loss","01231","Chillies and peppers, green (Capsicum spp. and Pimenta spp.)","2022","2022","t",238.09,"E","Estimated value"]
["SCL","Supply Utilization Accounts (2010-)","203","Czechia","5166","Residuals","01231","Chillies and peppers, green (Capsicum spp. and Pimenta spp.)","2022","2022","t",0,"I","Imputed value"]
["SCL","Supply Utilization Accounts (2010-)","203","Czechia","5141","Food supply quantity","01231","Chillies and peppers, green (Capsicum spp. and Pimenta spp.)","2022","2022","t",55212.53,"E","Estimated value"]
["SCL","Supply Utilization Accounts (2010-)","203","Czechia","5510","Production","01232","Cucumbers and gherkins","2020","2020","t",11160,"A","Official figure"]
["SCL","Supply Utilization Accounts (2010-)","203","Czechia","5610","Import quantity","01232","Cucumbers and gherkins","2020","2020","t",76596.320000000007,"A","Official figure"]
["SCL","Supply Utilization Accounts (2010-)","203","Czechia","5910","Export quantity","01232","Cucumbers and gherkins","2020","2020","t",9307.9699999999993,"A","Official figure"]
["SCL","Supply Utilization Accounts (2010-)","203","Czechia","5016","Loss","01232","Cucumbers and gherkins","2020","2020","t",449.6,"I","Imputed value"]
["SCL","Supply Utilization Accounts (2010-)","203","Czechia","5166","Residuals","01232","Cucumbers and gherkins","2020","2020","t",0,"I","Imputed value"]
["SCL","Supply Utilization Accounts (2010-)","203","Czechia","5141","Food supply quantity","01232","Cucumbers and gherkins","2020","2020","t",77998.75,"E","Estimated value"]
["SCL","Supply Utilization Accounts (2010-)","203","Czechia","5510","Production","01232","Cucumbers and gherkins","2021","2021","t",15940,"A","Official figure"]
["SCL","Supply Utilization Accounts (2010-)","203","Czechia","5610","Import quantity","01232","Cucumbers and gherkins","2021","2021","t",64957.4,"A","Official figure"]
["SCL","Supply Utilization Accounts (2010-)","203","Czechia","5910","Export quantity","01232","Cucumbers and gherkins","2021","2021","t",14567.69,"A","Official figure"]
["SCL","Supply Utilization Accounts (2010-)","203","Czechia","5016","Loss","01232","Cucumbers and gherkins","2021","2021","t",411.89,"E","Estimated value"]
["SCL","Supply Utilization Accounts (2010-)","203","Czechia","5166","Residuals","01232","Cucumbers and gherkins","2021","2021","t",0,"I","Imputed value"]
["SCL","Supply Utilization Accounts (2010-)","203","Czechia","5141","Food supply quantity","01232","Cucumbers and gherkins","2021","2021","t",65917.820000000007,"E","Estimated value"]
["SCL","Supply Utilization Accounts (2010-)","203","Czechia","5510","Production","01232","Cucumbers and gherkins","2022","2022","t",19560,"A","Official figure"]
["SCL","Supply Utilization Accounts (2010-)","203","Czechia","5610","Import quantity","01232","Cucumbers and gherkins","2022","2022","t",60264.4,"A","Official figure"]
["SCL","Supply Utilization Accounts (2010-)","203","Czechia","5910","Export quantity","01232","Cucumbers and gherkins","2022","2022","t",17207.900000000001,"A","Official figure"]
["SCL","Supply Utilization Accounts (2010-)","203","Czechia","5016","Loss","01232","Cucumbers and gherkins","2022","2022","t",389.72,"E","Estimated value"]
["SCL","Supply Utilization Accounts (2010-)","203","Czechia","5166","Residuals","01232","Cucumbers and gherkins","2022","2022","t",0,"I","Imputed value"]
["SCL","Supply Utilization Accounts (2010-)","203","Czechia","5141","Food supply quantity","01232","Cucumbers and gherkins","2022","2022","t",62226.78,"E","Estimated value"]
["SCL","Supply Utilization Accounts (2010-)","203","Czechia","5610","Import quantity","01233","Eggplants (aubergines)","2020","2020","t",2469.2399999999998,"A","Official figure"]
["SCL","Supply Utilization Accounts (2010-)","203","Czechia","5910","Export quantity","01233","Eggplants (aubergines)","2020","2020","t",143.53,"A","Official figure"]
["SCL","Supply Utilization Accounts (2010-)","203","Czechia","5166","Residuals","01233","Eggplants (aubergines)","2020","2020","t",0,"I","Imputed value"]
["SCL","Supply Utilization Accounts (2010-)","203","Czechia","5141","Food supply quantity","01233","Eggplants (aubergines)","2020","2020","t",2325.7199999999998,"E","Estimated value"]
["SCL","Supply Utilization Accounts (2010-)","203","Czechia","5610","Import quantity","01233","Eggplants (aubergines)","2021","2021","t",2362.77,"A","Official figure"]
["SCL","Supply Utilization Accounts (2010-)","203","Czechia","5910","Export quantity","01233","Eggplants (aubergines)","2021","2021","t",207.71,"A","Official figure"]
["SCL","Supply Utilization Accounts (2010-)","203","Czechia","5166","Residuals","01233","Eggplants (aubergines)","2021","2021","t",0,"I","Imputed value"]
["SCL","Supply Utilization Accounts (2010-)","203","Czechia","5141","Food supply quantity","01233","Eggplants (aubergines)","2021","2021","t",2155.06,"E","Estimated value"]
["SCL","Supply Utilization Accounts (2010-)","203","Czechia","5610","Import quantity","01233","Eggplants (aubergines)","2022","2022","t",2358.4499999999998,"A","Official figure"]
["SCL","Supply Utilization Accounts (2010-)","203","Czechia","5910","Export quantity","01233","Eggplants (aubergines)","2022","2022","t",251.64,"A","Official figure"]
["SCL","Supply Utilization Accounts (2010-)","203","Czechia","5166","Residuals","01233","Eggplants (aubergines)","2022","2022","t",0,"I","Imputed value"]
["SCL","Supply Utilization Accounts (2010-)","203","Czechia","5141","Food supply quantity","01233","Eggplants (aubergines)","2022","2022","t",2106.8000000000002,"E","Estimated value"]
["SCL","Supply Utilization Accounts (2010-)","208","Denmark","5510","Production","01311","Avocados","2020","2020","t",0,"A","Official figure"]
["SCL","Supply Utilization Accounts (2010-)","208","Denmark","5610","Import quantity","01311","Avocados","2020","2020","t",20357.919999999998,"A","Official figure"]
["SCL","Supply Utilization Accounts (2010-)","208","Denmark","5910","Export quantity","01311","Avocados","2020","2020","t",3985.33,"A","Official figure"]
["SCL","Supply Utilization Accounts (2010-)","208","Denmark","5016","Loss","01311","Avocados","2020","2020","t",1017.9,"I","Imputed value"]
["SCL","Supply Utilization Accounts (2010-)","208","Denmark","5166","Residuals","01311","Avocados","2020","2020","t",0,"I","Imputed value"]
["SCL","Supply Utilization Accounts (2010-)","208","Denmark","5141","Food supply quantity","01311","Avocados","2020","2020","t",15354.7,"E","Estimated value"]
["SCL","Supply Utilization Accounts (2010-)","208","Denmark","5510","Production","01311","Avocados","2021","2021","t",0,"A","Official figure"]
["SCL","Supply Utilization Accounts (2010-)","208","Denmark","5610","Import quantity","01311","Avocados","2021","2021","t",21267.54,"A","Official figure"]
["SCL","Supply Utilization Accounts (2010-)","208","Denmark","5910","Export quantity","01311","Avocados","2021","2021","t",3447.07,"A","Official figure"]
["SCL","Supply Utilization Accounts (2010-)","208","Denmark","5016","Loss","01311","Avocados","2021","2021","t",1063.3800000000001,"I","Imputed value"]
["SCL","Supply Utilization Accounts (2010-)","208","Denmark","5166","Residuals","01311","Avocados","2021","2021","t",0,"I","Imputed value"]
["SCL","Supply Utilization Accounts (2010-)","208","Denmark","5141","Food supply quantity","01311","Avocados","2021","2021","t",16757.09,"E","Estimated value"]
["SCL","Supply Utilization Accounts (2010-)","208","Denmark","5510","Production","01311","Avocados","2022","2022","t",0,"A","Official figure"]
["SCL","Supply Utilization Accounts (2010-)","208","Denmark","5610","Import quantity","01311","Avocados","2022","2022","t",18137.88,"A","Official figure"]
["SCL","Supply Utilization Accounts (2010-)","208","Denmark","5910","Export quantity","01311","Avocados","2022","2022","t",3750.86,"A","Official figure"]
["SCL","Supply Utilization Accounts (2010-)","208","Denmark","5016","Loss","01311","Avocados","2022","2022","t",906.89,"I","Imputed value"]
["SCL","Supply Utilization Accounts (2010-)","208","Denmark","5166","Residuals","01311","Avocados","2022","2022","t",0,"I","Imputed value"]
["SCL","Supply Utilization Accounts (2010-)","208","Denmark","5141","Food supply quantity","01311","Avocados","2022","2022","t",13480.12,"E","Estimated value"]
["SCL","Supply Utilization Accounts (2010-)","208","Denmark","5510","Production","01312","Bananas","2020","2020","t",0,"A","Official figure"]
["SCL","Supply Utilization Accounts (2010-)","208","Denmark","5610","Import quantity","01312","Bananas","2020","2020","t",75612.039999999994,"A","Official figure"]
["SCL","Supply Utilization Accounts (2010-)","208","Denmark","5910","Export quantity","01312","Bananas","2020","2020","t",2169.7399999999998,"A","Official figure"]
["SCL","Supply Utilization Accounts (2010-)","208","Denmark","5016","Loss","01312","Bananas","2020","2020","t",3780.6,"I","Imputed value"]
["SCL","Supply Utilization Accounts (2010-)","208","Denmark","5166","Residuals","01312","Bananas","2020","2020","t",0,"I","Imputed value"]
["SCL","Supply Utilization Accounts (2010-)","208","Denmark","5141","Food supply quantity","01312","Bananas","2020","2020","t",69661.7,"E","Estimated value"]
["SCL","Supply Utilization Accounts (2010-)","208","Denmark","5510","Production","01312","Bananas","2021","2021","t",0,"A","Official figure"]
["SCL","Supply Utilization Accounts (2010-)","208","Denmark","5610","Import quantity","01312","Bananas","2021","2021","t",82523.17,"A","Official figure"]
["SCL","Supply Utilization Accounts (2010-)","208","Denmark","5910","Export quantity","01312","Bananas","2021","2021","t",1980.84,"A","Official figure"]
["SCL","Supply Utilization Accounts (2010-)","208","Denmark","5016","Loss","01312","Bananas","2021","2021","t",4126.16,"I","Imputed value"]
["SCL","Supply Utilization Accounts (2010-)","208","Denmark","5166","Residuals","01312","Bananas","2021","2021","t",0,"I","Imputed value"]
["SCL","Supply Utilization Accounts (2010-)","208","Denmark","5141","Food supply quantity","01312","Bananas","2021","2021","t",76416.17,"E","Estimated value"]
["SCL","Supply Utilization Accounts (2010-)","208","Denmark","5510","Production","01312","Bananas","2022","2022","t",0,"A","Official figure"]
["SCL","Supply Utilization Accounts (2010-)","208","Denmark","5610","Import quantity","01312","Bananas","2022","2022","t",81338.3,"A","Official figure"]
["SCL","Supply Utilization Accounts (2010-)","208","Denmark","5910","Export quantity","01312","Bananas","2022","2022","t",3814.77,"A","Official figure"]
["SCL","Supply Utilization Accounts (2010-)","208","Denmark","5016","Loss","01312","Bananas","2022","2022","t",4066.92,"I","Imputed value"]
["SCL","Supply Utilization Accounts (2010-)","208","Denmark","5166","Residuals","01312","Bananas","2022","2022","t",0,"I","Imputed value"]
["SCL","Supply Utilization Accounts (2010-)","208","Denmark","5141","Food supply quantity","01312","Bananas","2022","2022","t",73456.62,"E","Estimated value"]
["SCL","Supply Utilization Accounts (2010-)","208","Denmark","5610","Import quantity","01231","Chillies and peppers, green (Capsicum spp. and Pimenta spp.)","2020","2020","t",23525.599999999999,"A","Official figure"]
["SCL","Supply Utilization Accounts (2010-)","208","Denmark","5910","Export quantity","01231","Chillies and peppers, green (Capsicum spp. and Pimenta spp.)","2020","2020","t",1190.99,"A","Official figure"]
["SCL","Supply Utilization Accounts (2010-)","208","Denmark","5016","Loss","01231","Chillies and peppers, green (Capsicum spp. and Pimenta spp.)","2020","2020","t",705.77,"I","Imputed value"]
["SCL","Supply Utilization Accounts (2010-)","208","Denmark","5166","Residuals","01231","Chillies and peppers, green (Capsicum spp. and Pimenta spp.)","2020","2020","t",0,"I","Imputed value"]
["SCL","Supply Utilization Accounts (2010-)","208","Denmark","5141","Food supply quantity","01231","Chillies and peppers, green (Capsicum spp. and Pimenta spp.)","2020","2020","t",21628.85,"E","Estimated value"]
["SCL","Supply Utilization Accounts (2010-)","208","Denmark","5610","Import quantity","01231","Chillies and peppers, green (Capsicum spp. and Pimenta spp.)","2021","2021","t",28110.07,"A","Official figure"]
["SCL","Supply Utilization Accounts (2010-)","208","Denmark","5910","Export quantity","01231","Chillies and peppers, green (Capsicum spp. and Pimenta spp.)","2021","2021","t",1127.6400000000001,"A","Official figure"]
["SCL","Supply Utilization Accounts (2010-)","208","Denmark","5016","Loss","01231","Chillies and peppers, green (Capsicum spp. and Pimenta spp.)","2021","2021","t",843.3,"I","Imputed value"]
["SCL","Supply Utilization Accounts (2010-)","208","Denmark","5166","Residuals","01231","Chillies and peppers, green (Capsicum spp. and Pimenta spp.)","2021","2021","t",0,"I","Imputed value"]
["SCL","Supply Utilization Accounts (2010-)","208","Denmark","5141","Food supply quantity","01231","Chillies and peppers, green (Capsicum spp. and Pimenta spp.)","2021","2021","t",26139.13,"E","Estimated value"]
["SCL","Supply Utilization Accounts (2010-)","208","Denmark","5610","Import quantity","01231","Chillies and peppers, green (Capsicum spp. and Pimenta spp.)","2022","2022","t",22136.33,"A","Official figure"]
["SCL","Supply Utilization Accounts (2010-)","208","Denmark","5910","Export quantity","01231","Chillies and peppers, green (Capsicum spp. and Pimenta spp.)","2022","2022","t",992.98,"A","Official figure"]
["SCL","Supply Utilization Accounts (2010-)","208","Denmark","5016","Loss","01231","Chillies and peppers, green (Capsicum spp. and Pimenta spp.)","2022","2022","t",664.09,"I","Imputed value"]
["SCL","Supply Utilization Accounts (2010-)","208","Denmark","5166","Residuals","01231","Chillies and peppers, green (Capsicum spp. and Pimenta spp.)","2022","2022","t",0,"I","Imputed value"]
["SCL","Supply Utilization Accounts (2010-)","208","Denmark","5141","Food supply quantity","01231","Chillies and peppers, green (Capsicum spp. and Pimenta spp.)","2022","2022","t",20479.27,"E","Estimated value"]
["SCL","Supply Utilization Accounts (2010-)","208","Denmark","5510","Production","01232","Cucumbers and gherkins","2020","2020","t",16400,"A","Official figure"]
["SCL","Supply Utilization Accounts (2010-)","208","Denmark","5610","Import quantity","01232","Cucumbers and gherkins","2020","2020","t",21685.61,"A","Official figure"]
["SCL","Supply Utilization Accounts (2010-)","208","Denmark","5910","Export quantity","01232","Cucumbers and gherkins","2020","2020","t",314.94,"A","Official figure"]
["SCL","Supply Utilization Accounts (2010-)","208","Denmark","5016","Loss","01232","Cucumbers and gherkins","2020","2020","t",1465.73,"I","Imputed value"]
["SCL","Supply Utilization Accounts (2010-)","208","Denmark","5023","Processed","01232","Cucumbers and gherkins","2020","2020","t",7395.55,"E","Estimated value"]
["SCL","Supply Utilization Accounts (2010-)","208","Denmark","5166","Residuals","01232","Cucumbers and gherkins","2020","2020","t",0,"I","Imputed value"]
["SCL","Supply Utilization Accounts (2010-)","208","Denmark","5141","Food supply quantity","01232","Cucumbers and gherkins","2020","2020","t",28909.39,"E","Estimated value"]
["SCL","Supply Utilization Accounts (2010-)","208","Denmark","5510","Production","01232","Cucumbers and gherkins","2021","2021","t",15650,"A","Official figure"]
["SCL","Supply Utilization Accounts (2010-)","208","Denmark","5610","Import quantity","01232","Cucumbers and gherkins","2021","2021","t",25163.599999999999,"A","Official figure"]
["SCL","Supply Utilization Accounts (2010-)","208","Denmark","5910","Export quantity","01232","Cucumbers and gherkins","2021","2021","t",366.3,"A","Official figure"]
["SCL","Supply Utilization Accounts (2010-)","208","Denmark","5016","Loss","01232","Cucumbers and gherkins","2021","2021","t",1551.75,"I","Imputed value"]
["SCL","Supply Utilization Accounts (2010-)","208","Denmark","5023","Processed","01232","Cucumbers and gherkins","2021","2021","t",7915.4,"E","Estimated value"]
["SCL","Supply Utilization Accounts (2010-)","208","Denmark","5166","Residuals","01232","Cucumbers and gherkins","2021","2021","t",0,"I","Imputed value"]
["SCL","Supply Utilization Accounts (2010-)","208","Denmark","5141","Food supply quantity","01232","Cucumbers and gherkins","2021","2021","t",30980.16,"E","Estimated value"]
["SCL","Supply Utilization Accounts (2010-)","208","Denmark","5510","Production","01232","Cucumbers and gherkins","2022","2022","t",15630,"A","Official figure"]
["SCL","Supply Utilization Accounts (2010-)","208","Denmark","5610","Import quantity","01232","Cucumbers and gherkins","2022","2022","t",25091.89,"A","Official figure"]
["SCL","Supply Utilization Accounts (2010-)","208","Denmark","5910","Export quantity","01232","Cucumbers and gherkins","2022","2022","t",323.58999999999997,"A","Official figure"]
["SCL","Supply Utilization Accounts (2010-)","208","Denmark","5016","Loss","01232","Cucumbers and gherkins","2022","2022","t",1548.26,"I","Imputed value"]
["SCL","Supply Utilization Accounts (2010-)","208","Denmark","5023","Processed","01232","Cucumbers and gherkins","2022","2022","t",7907.09,"E","Estimated value"]
["SCL","Supply Utilization Accounts (2010-)","208","Denmark","5166","Residuals","01232","Cucumbers and gherkins","2022","2022","t",0,"I","Imputed value"]
["SCL","Supply Utilization Accounts (2010-)","208","Denmark","5141","Food supply quantity","01232","Cucumbers and gherkins","2022","2022","t",30942.95,"E","Estimated value"]
["SCL","Supply Utilization Accounts (2010-)","208","Denmark","5610","Import quantity","01233","Eggplants (aubergines)","2020","2020","t",4431.95,"A","Official figure"]
["SCL","Supply Utilization Accounts (2010-)","208","Denmark","5910","Export quantity","01233","Eggplants (aubergines)","2020","2020","t",78.81,"A","Official figure"]
["SCL","Supply Utilization Accounts (2010-)","208","Denmark","5016","Loss","01233","Eggplants (aubergines)","2020","2020","t",132.96,"I","Imputed value"]
["SCL","Supply Utilization Accounts (2010-)","208","Denmark","5166","Residuals","01233","Eggplants (aubergines)","2020","2020","t",0,"I","Imputed value"]
["SCL","Supply Utilization Accounts (2010-)","208","Denmark","5141","Food supply quantity","01233","Eggplants (aubergines)","2020","2020","t",4220.18,"E","Estimated value"]
["SCL","Supply Utilization Accounts (2010-)","208","Denmark","5610","Import quantity","01233","Eggplants (aubergines)","2021","2021","t",4548.1899999999996,"A","Official figure"]
["SCL","Supply Utilization Accounts (2010-)","208","Denmark","5910","Export quantity","01233","Eggplants (aubergines)","2021","2021","t",85.17,"A","Official figure"]
["SCL","Supply Utilization Accounts (2010-)","208","Denmark","5016","Loss","01233","Eggplants (aubergines)","2021","2021","t",136.44999999999999,"I","Imputed value"]
["SCL","Supply Utilization Accounts (2010-)","208","Denmark","5166","Residuals","01233","Eggplants (aubergines)","2021","2021","t",0,"I","Imputed value"]
["SCL","Supply Utilization Accounts (2010-)","208","Denmark","5141","Food supply quantity","01233","Eggplants (aubergines)","2021","2021","t",4326.58,"E","Estimated value"]
["SCL","Supply Utilization Accounts (2010-)","208","Denmark","5610","Import quantity","01233","Eggplants (aubergines)","2022","2022","t",4647.2700000000004,"A","Official figure"]
["SCL","Supply Utilization Accounts (2010-)","208","Denmark","5910","Export quantity","01233","Eggplants (aubergines)","2022","2022","t",40.25,"A","Official figure"]
["SCL","Supply Utilization Accounts (2010-)","208","Denmark","5016","Loss","01233","Eggplants (aubergines)","2022","2022","t",139.41999999999999,"I","Imputed value"]
["SCL","Supply Utilization Accounts (2010-)","208","Denmark","5166","Residuals","01233","Eggplants (aubergines)","2022","2022","t",0,"I","Imputed value"]
["SCL","Supply Utilization Accounts (2010-)","208","Denmark","5141","Food supply quantity","01233","Eggplants (aubergines)","2022","2022","t",4467.6099999999997,"E","Estimated value"]
["SCL","Supply Utilization Accounts (2010-)","233","Estonia","5510","Production","01311","Avocados","2020","2020","t",0,"A","Official figure"]
["SCL","Supply Utilization Accounts (2010-)","233","Estonia","5610","Import quantity","01311","Avocados","2020","2020","t",1680.8,"A","Official figure"]
["SCL","Supply Utilization Accounts (2010-)","233","Estonia","5910","Export quantity","01311","Avocados","2020","2020","t",8.7200000000000006,"A","Official figure"]
["SCL","Supply Utilization Accounts (2010-)","233","Estonia","5166","Residuals","01311","Avocados","2020","2020","t",0,"I","Imputed value"]
["SCL","Supply Utilization Accounts (2010-)","233","Estonia","5141","Food supply quantity","01311","Avocados","2020","2020","t",1672.09,"E","Estimated value"]
["SCL","Supply Utilization Accounts (2010-)","233","Estonia","5510","Production","01311","Avocados","2021","2021","t",0,"A","Official figure"]
["SCL","Supply Utilization Accounts (2010-)","233","Estonia","5610","Import quantity","01311","Avocados","2021","2021","t",1623.47,"A","Official figure"]
["SCL","Supply Utilization Accounts (2010-)","233","Estonia","5910","Export quantity","01311","Avocados","2021","2021","t",7.71,"A","Official figure"]
["SCL","Supply Utilization Accounts (2010-)","233","Estonia","5166","Residuals","01311","Avocados","2021","2021","t",0,"I","Imputed value"]
["SCL","Supply Utilization Accounts (2010-)","233","Estonia","5141","Food supply quantity","01311","Avocados","2021","2021","t",1615.76,"E","Estimated value"]
["SCL","Supply Utilization Accounts (2010-)","233","Estonia","5510","Production","01311","Avocados","2022","2022","t",0,"A","Official figure"]
["SCL","Supply Utilization Accounts (2010-)","233","Estonia","5610","Import quantity","01311","Avocados","2022","2022","t",1860.6,"A","Official figure"]
["SCL","Supply Utilization Accounts (2010-)","233","Estonia","5910","Export quantity","01311","Avocados","2022","2022","t",5.66,"A","Official figure"]
["SCL","Supply Utilization Accounts (2010-)","233","Estonia","5166","Residuals","01311","Avocados","2022","2022","t",0,"I","Imputed value"]
["SCL","Supply Utilization Accounts (2010-)","233","Estonia","5141","Food supply quantity","01311","Avocados","2022","2022","t",1854.95,"E","Estimated value"]
["SCL","Supply Utilization Accounts (2010-)","233","Estonia","5510","Production","01312","Bananas","2020","2020","t",0,"A","Official figure"]
["SCL","Supply Utilization Accounts (2010-)","233","Estonia","5610","Import quantity","01312","Bananas","2020","2020","t",19182.59,"A","Official figure"]
["SCL","Supply Utilization Accounts (2010-)","233","Estonia","5910","Export quantity","01312","Bananas","2020","2020","t",334.62,"A","Official figure"]
["SCL","Supply Utilization Accounts (2010-)","233","Estonia","5166","Residuals","01312","Bananas","2020","2020","t",0,"I","Imputed value"]
["SCL","Supply Utilization Accounts (2010-)","233","Estonia","5141","Food supply quantity","01312","Bananas","2020","2020","t",18847.96,"E","Estimated value"]
["SCL","Supply Utilization Accounts (2010-)","233","Estonia","5510","Production","01312","Bananas","2021","2021","t",0,"A","Official figure"]
["SCL","Supply Utilization Accounts (2010-)","233","Estonia","5610","Import quantity","01312","Bananas","2021","2021","t",19358.080000000002,"A","Official figure"]
["SCL","Supply Utilization Accounts (2010-)","233","Estonia","5910","Export quantity","01312","Bananas","2021","2021","t",60.7,"A","Official figure"]
["SCL","Supply Utilization Accounts (2010-)","233","Estonia","5166","Residuals","01312","Bananas","2021","2021","t",0,"I","Imputed value"]
["SCL","Supply Utilization Accounts (2010-)","233","Estonia","5141","Food supply quantity","01312","Bananas","2021","2021","t",19297.38,"E","Estimated value"]
["SCL","Supply Utilization Accounts (2010-)","233","Estonia","5510","Production","01312","Bananas","2022","2022","t",0,"A","Official figure"]
["SCL","Supply Utilization Accounts (2010-)","233","Estonia","5610","Import quantity","01312","Bananas","2022","2022","t",18546.810000000001,"A","Official figure"]
["SCL","Supply Utilization Accounts (2010-)","233","Estonia","5910","Export quantity","01312","Bananas","2022","2022","t",5.0199999999999996,"A","Official figure"]
["SCL","Supply Utilization Accounts (2010-)","233","Estonia","5166","Residuals","01312","Bananas","2022","2022","t",0,"I","Imputed value"]
["SCL","Supply Utilization Accounts (2010-)","233","Estonia","5141","Food supply quantity","01312","Bananas","2022","2022","t",18541.79,"E","Estimated value"]
["SCL","Supply Utilization Accounts (2010-)","233","Estonia","5510","Production","01231","Chillies and peppers, green (Capsicum spp. and Pimenta spp.)","2020","2020","t",0,"A","Official figure"]
["SCL","Supply Utilization Accounts (2010-)","233","Estonia","5610","Import quantity","01231","Chillies and peppers, green (Capsicum spp. and Pimenta spp.)","2020","2020","t",3895.94,"A","Official figure"]
["SCL","Supply Utilization Accounts (2010-)","233","Estonia","5910","Export quantity","01231","Chillies and peppers, green (Capsicum spp. and Pimenta spp.)","2020","2020","t",23.31,"A","Official figure"]
["SCL","Supply Utilization Accounts (2010-)","233","Estonia","5166","Residuals","01231","Chillies and peppers, green (Capsicum spp. and Pimenta spp.)","2020","2020","t",0,"I","Imputed value"]
["SCL","Supply Utilization Accounts (2010-)","233","Estonia","5141","Food supply quantity","01231","Chillies and peppers, green (Capsicum spp. and Pimenta spp.)","2020","2020","t",3872.63,"E","Estimated value"]
["SCL","Supply Utilization Accounts (2010-)","233","Estonia","5510","Production","01231","Chillies and peppers, green (Capsicum spp. and Pimenta spp.)","2021","2021","t",0,"A","Official figure"]
["SCL","Supply Utilization Accounts (2010-)","233","Estonia","5610","Import quantity","01231","Chillies and peppers, green (Capsicum spp. and Pimenta spp.)","2021","2021","t",3876.25,"A","Official figure"]
["SCL","Supply Utilization Accounts (2010-)","233","Estonia","5910","Export quantity","01231","Chillies and peppers, green (Capsicum spp. and Pimenta spp.)","2021","2021","t",34.83,"A","Official figure"]
["SCL","Supply Utilization Accounts (2010-)","233","Estonia","5166","Residuals","01231","Chillies and peppers, green (Capsicum spp. and Pimenta spp.)","2021","2021","t",0,"I","Imputed value"]
["SCL","Supply Utilization Accounts (2010-)","233","Estonia","5141","Food supply quantity","01231","Chillies and peppers, green (Capsicum spp. and Pimenta spp.)","2021","2021","t",3841.42,"E","Estimated value"]
["SCL","Supply Utilization Accounts (2010-)","233","Estonia","5510","Production","01231","Chillies and peppers, green (Capsicum spp. and Pimenta spp.)","2022","2022","t",0,"A","Official figure"]
["SCL","Supply Utilization Accounts (2010-)","233","Estonia","5610","Import quantity","01231","Chillies and peppers, green (Capsicum spp. and Pimenta spp.)","2022","2022","t",3990.17,"A","Official figure"]
["SCL","Supply Utilization Accounts (2010-)","233","Estonia","5910","Export quantity","01231","Chillies and peppers, green (Capsicum spp. and Pimenta spp.)","2022","2022","t",26.08,"A","Official figure"]
["SCL","Supply Utilization Accounts (2010-)","233","Estonia","5166","Residuals","01231","Chillies and peppers, green (Capsicum spp. and Pimenta spp.)","2022","2022","t",0,"I","Imputed value"]
["SCL","Supply Utilization Accounts (2010-)","233","Estonia","5141","Food supply quantity","01231","Chillies and peppers, green (Capsicum spp. and Pimenta spp.)","2022","2022","t",3964.09,"E","Estimated value"]
["SCL","Supply Utilization Accounts (2010-)","233","Estonia","5510","Production","01232","Cucumbers and gherkins","2020","2020","t",5290,"A","Official figure"]
["SCL","Supply Utilization Accounts (2010-)","233","Estonia","5610","Import quantity","01232","Cucumbers and gherkins","2020","2020","t",7079.39,"A","Official figure"]
["SCL","Supply Utilization Accounts (2010-)","233","Estonia","5910","Export quantity","01232","Cucumbers and gherkins","2020","2020","t",902.09,"A","Official figure"]
["SCL","Supply Utilization Accounts (2010-)","233","Estonia","5016","Loss","01232","Cucumbers and gherkins","2020","2020","t",633.71,"I","Imputed value"]
["SCL","Supply Utilization Accounts (2010-)","233","Estonia","5166","Residuals","01232","Cucumbers and gherkins","2020","2020","t",0,"I","Imputed value"]
["SCL","Supply Utilization Accounts (2010-)","233","Estonia","5141","Food supply quantity","01232","Cucumbers and gherkins","2020","2020","t",10833.59,"E","Estimated value"]
["SCL","Supply Utilization Accounts (2010-)","233","Estonia","5510","Production","01232","Cucumbers and gherkins","2021","2021","t",7930,"A","Official figure"]
["SCL","Supply Utilization Accounts (2010-)","233","Estonia","5610","Import quantity","01232","Cucumbers and gherkins","2021","2021","t",7195.69,"A","Official figure"]
["SCL","Supply Utilization Accounts (2010-)","233","Estonia","5910","Export quantity","01232","Cucumbers and gherkins","2021","2021","t",1002.52,"A","Official figure"]
["SCL","Supply Utilization Accounts (2010-)","233","Estonia","5016","Loss","01232","Cucumbers and gherkins","2021","2021","t",760.02,"I","Imputed value"]
["SCL","Supply Utilization Accounts (2010-)","233","Estonia","5166","Residuals","01232","Cucumbers and gherkins","2021","2021","t",0,"I","Imputed value"]
["SCL","Supply Utilization Accounts (2010-)","233","Estonia","5141","Food supply quantity","01232","Cucumbers and gherkins","2021","2021","t",13363.15,"E","Estimated value"]
["SCL","Supply Utilization Accounts (2010-)","233","Estonia","5510","Production","01232","Cucumbers and gherkins","2022","2022","t",5780,"A","Official figure"]
["SCL","Supply Utilization Accounts (2010-)","233","Estonia","5610","Import quantity","01232","Cucumbers and gherkins","2022","2022","t",6726.99,"A","Official figure"]
["SCL","Supply Utilization Accounts (2010-)","233","Estonia","5910","Export quantity","01232","Cucumbers and gherkins","2022","2022","t",895.16,"A","Official figure"]
["SCL","Supply Utilization Accounts (2010-)","233","Estonia","5016","Loss","01232","Cucumbers and gherkins","2022","2022","t",628.44000000000005,"I","Imputed value"]
["SCL","Supply Utilization Accounts (2010-)","233","Estonia","5166","Residuals","01232","Cucumbers and gherkins","2022","2022","t",0,"I","Imputed value"]
["SCL","Supply Utilization Accounts (2010-)","233","Estonia","5141","Food supply quantity","01232","Cucumbers and gherkins","2022","2022","t",10983.39,"E","Estimated value"]
["SCL","Supply Utilization Accounts (2010-)","233","Estonia","5510","Production","01233","Eggplants (aubergines)","2020","2020","t",0,"A","Official figure"]
["SCL","Supply Utilization Accounts (2010-)","233","Estonia","5610","Import quantity","01233","Eggplants (aubergines)","2020","2020","t",488.65,"A","Official figure"]
["SCL","Supply Utilization Accounts (2010-)","233","Estonia","5910","Export quantity","01233","Eggplants (aubergines)","2020","2020","t",15.53,"A","Official figure"]
["SCL","Supply Utilization Accounts (2010-)","233","Estonia","5166","Residuals","01233","Eggplants (aubergines)","2020","2020","t",0,"I","Imputed value"]
["SCL","Supply Utilization Accounts (2010-)","233","Estonia","5141","Food supply quantity","01233","Eggplants (aubergines)","2020","2020","t",473.12,"E","Estimated value"]
["SCL","Supply Utilization Accounts (2010-)","233","Estonia","5510","Production","01233","Eggplants (aubergines)","2021","2021","t",0,"A","Official figure"]
["SCL","Supply Utilization Accounts (2010-)","233","Estonia","5610","Import quantity","01233","Eggplants (aubergines)","2021","2021","t",475.76,"A","Official figure"]
["SCL","Supply Utilization Accounts (2010-)","233","Estonia","5910","Export quantity","01233","Eggplants (aubergines)","2021","2021","t",12.66,"A","Official figure"]
["SCL","Supply Utilization Accounts (2010-)","233","Estonia","5166","Residuals","01233","Eggplants (aubergines)","2021","2021","t",0,"I","Imputed value"]
["SCL","Supply Utilization Accounts (2010-)","233","Estonia","5141","Food supply quantity","01233","Eggplants (aubergines)","2021","2021","t",463.11,"E","Estimated value"]
["SCL","Supply Utilization Accounts (2010-)","233","Estonia","5510","Production","01233","Eggplants (aubergines)","2022","2022","t",0,"A","Official figure"]
["SCL","Supply Utilization Accounts (2010-)","233","Estonia","5610","Import quantity","01233","Eggplants (aubergines)","2022","2022","t",472.06,"A","Official figure"]
["SCL","Supply Utilization Accounts (2010-)","233","Estonia","5910","Export quantity","01233","Eggplants (aubergines)","2022","2022","t",10.46,"A","Official figure"]
["SCL","Supply Utilization Accounts (2010-)","233","Estonia","5166","Residuals","01233","Eggplants (aubergines)","2022","2022","t",0,"I","Imputed value"]
["SCL","Supply Utilization Accounts (2010-)","233","Estonia","5141","Food supply quantity","01233","Eggplants (aubergines)","2022","2022","t",461.61,"E","Estimated value"]
["SCL","Supply Utilization Accounts (2010-)","246","Finland","5510","Production","01311","Avocados","2020","2020","t",0,"A","Official figure"]
["SCL","Supply Utilization Accounts (2010-)","246","Finland","5610","Import quantity","01311","Avocados","2020","2020","t",8666.42,"A","Official figure"]
["SCL","Supply Utilization Accounts (2010-)","246","Finland","5910","Export quantity","01311","Avocados","2020","2020","t",87.54,"A","Official figure"]
["SCL","Supply Utilization Accounts (2010-)","246","Finland","5016","Loss","01311","Avocados","2020","2020","t",433.32,"I","Imputed value"]
["SCL","Supply Utilization Accounts (2010-)","246","Finland","5166","Residuals","01311","Avocados","2020","2020","t",0,"I","Imputed value"]
["SCL","Supply Utilization Accounts (2010-)","246","Finland","5141","Food supply quantity","01311","Avocados","2020","2020","t",8145.55,"E","Estimated value"]
["SCL","Supply Utilization Accounts (2010-)","246","Finland","5510","Production","01311","Avocados","2021","2021","t",0,"A","Official figure"]
["SCL","Supply Utilization Accounts (2010-)","246","Finland","5610","Import quantity","01311","Avocados","2021","2021","t",7638.32,"A","Official figure"]
["SCL","Supply Utilization Accounts (2010-)","246","Finland","5910","Export quantity","01311","Avocados","2021","2021","t",70.44,"A","Official figure"]
["SCL","Supply Utilization Accounts (2010-)","246","Finland","5016","Loss","01311","Avocados","2021","2021","t",381.92,"I","Imputed value"]
["SCL","Supply Utilization Accounts (2010-)","246","Finland","5166","Residuals","01311","Avocados","2021","2021","t",0,"I","Imputed value"]
["SCL","Supply Utilization Accounts (2010-)","246","Finland","5141","Food supply quantity","01311","Avocados","2021","2021","t",7185.97,"E","Estimated value"]
["SCL","Supply Utilization Accounts (2010-)","246","Finland","5510","Production","01311","Avocados","2022","2022","t",0,"A","Official figure"]
["SCL","Supply Utilization Accounts (2010-)","246","Finland","5610","Import quantity","01311","Avocados","2022","2022","t",6556.75,"A","Official figure"]
["SCL","Supply Utilization Accounts (2010-)","246","Finland","5910","Export quantity","01311","Avocados","2022","2022","t",83.45,"A","Official figure"]
["SCL","Supply Utilization Accounts (2010-)","246","Finland","5016","Loss","01311","Avocados","2022","2022","t",327.84,"I","Imputed value"]
["SCL","Supply Utilization Accounts (2010-)","246","Finland","5166","Residuals","01311","Avocados","2022","2022","t",0,"I","Imputed value"]
["SCL","Supply Utilization Accounts (2010-)","246","Finland","5141","Food supply quantity","01311","Avocados","2022","2022","t",6145.47,"E","Estimated value"]
["SCL","Supply Utilization Accounts (2010-)","246","Finland","5510","Production","01312","Bananas","2020","2020","t",0,"A","Official figure"]
["SCL","Supply Utilization Accounts (2010-)","246","Finland","5610","Import quantity","01312","Bananas","2020","2020","t",110032.46,"A","Official figure"]
["SCL","Supply Utilization Accounts (2010-)","246","Finland","5910","Export quantity","01312","Bananas","2020","2020","t",4515.57,"A","Official figure"]
["SCL","Supply Utilization Accounts (2010-)","246","Finland","5016","Loss","01312","Bananas","2020","2020","t",5501.62,"I","Imputed value"]
["SCL","Supply Utilization Accounts (2010-)","246","Finland","5023","Processed","01312","Bananas","2020","2020","t",1057.99,"E","Estimated value"]
["SCL","Supply Utilization Accounts (2010-)","246","Finland","5166","Residuals","01312","Bananas","2020","2020","t",0,"I","Imputed value"]
["SCL","Supply Utilization Accounts (2010-)","246","Finland","5141","Food supply quantity","01312","Bananas","2020","2020","t",98957.28,"E","Estimated value"]
["SCL","Supply Utilization Accounts (2010-)","246","Finland","5510","Production","01312","Bananas","2021","2021","t",0,"A","Official figure"]
["SCL","Supply Utilization Accounts (2010-)","246","Finland","5610","Import quantity","01312","Bananas","2021","2021","t",108984.94,"A","Official figure"]
["SCL","Supply Utilization Accounts (2010-)","246","Finland","5910","Export quantity","01312","Bananas","2021","2021","t",5438.76,"A","Official figure"]
["SCL","Supply Utilization Accounts (2010-)","246","Finland","5016","Loss","01312","Bananas","2021","2021","t",5449.25,"I","Imputed value"]
["SCL","Supply Utilization Accounts (2010-)","246","Finland","5023","Processed","01312","Bananas","2021","2021","t",1038.22,"E","Estimated value"]
["SCL","Supply Utilization Accounts (2010-)","246","Finland","5166","Residuals","01312","Bananas","2021","2021","t",0,"I","Imputed value"]
["SCL","Supply Utilization Accounts (2010-)","246","Finland","5141","Food supply quantity","01312","Bananas","2021","2021","t",97058.71,"E","Estimated value"]
["SCL","Supply Utilization Accounts (2010-)","246","Finland","5510","Production","01312","Bananas","2022","2022","t",0,"A","Official figure"]
["SCL","Supply Utilization Accounts (2010-)","246","Finland","5610","Import quantity","01312","Bananas","2022","2022","t",100707.57,"A","Official figure"]
["SCL","Supply Utilization Accounts (2010-)","246","Finland","5910","Export quantity","01312","Bananas","2022","2022","t",4932.68,"A","Official figure"]
["SCL","Supply Utilization Accounts (2010-)","246","Finland","5016","Loss","01312","Bananas","2022","2022","t",5035.38,"I","Imputed value"]
["SCL","Supply Utilization Accounts (2010-)","246","Finland","5023","Processed","01312","Bananas","2022","2022","t",960.3,"E","Estimated value"]
["SCL","Supply Utilization Accounts (2010-)","246","Finland","5166","Residuals","01312","Bananas","2022","2022","t",0,"I","Imputed value"]
["SCL","Supply Utilization Accounts (2010-)","246","Finland","5141","Food supply quantity","01312","Bananas","2022","2022","t",89779.22,"E","Estimated value"]
["SCL","Supply Utilization Accounts (2010-)","246","Finland","5510","Production","01231","Chillies and peppers, green (Capsicum spp. and Pimenta spp.)","2020","2020","t",1190,"A","Official figure"]
["SCL","Supply Utilization Accounts (2010-)","246","Finland","5610","Import quantity","01231","Chillies and peppers, green (Capsicum spp. and Pimenta spp.)","2020","2020","t",16677.78,"A","Official figure"]
["SCL","Supply Utilization Accounts (2010-)","246","Finland","5910","Export quantity","01231","Chillies and peppers, green (Capsicum spp. and Pimenta spp.)","2020","2020","t",52.42,"A","Official figure"]
["SCL","Supply Utilization Accounts (2010-)","246","Finland","5016","Loss","01231","Chillies and peppers, green (Capsicum spp. and Pimenta spp.)","2020","2020","t",1786.78,"I","Imputed value"]
["SCL","Supply Utilization Accounts (2010-)","246","Finland","5166","Residuals","01231","Chillies and peppers, green (Capsicum spp. and Pimenta spp.)","2020","2020","t",0,"I","Imputed value"]
["SCL","Supply Utilization Accounts (2010-)","246","Finland","5141","Food supply quantity","01231","Chillies and peppers, green (Capsicum spp. and Pimenta spp.)","2020","2020","t",16028.58,"E","Estimated value"]
["SCL","Supply Utilization Accounts (2010-)","246","Finland","5510","Production","01231","Chillies and peppers, green (Capsicum spp. and Pimenta spp.)","2021","2021","t",1140,"A","Official figure"]
["SCL","Supply Utilization Accounts (2010-)","246","Finland","5610","Import quantity","01231","Chillies and peppers, green (Capsicum spp. and Pimenta spp.)","2021","2021","t",16433.29,"A","Official figure"]
["SCL","Supply Utilization Accounts (2010-)","246","Finland","5910","Export quantity","01231","Chillies and peppers, green (Capsicum spp. and Pimenta spp.)","2021","2021","t",37.200000000000003,"A","Official figure"]
["SCL","Supply Utilization Accounts (2010-)","246","Finland","5016","Loss","01231","Chillies and peppers, green (Capsicum spp. and Pimenta spp.)","2021","2021","t",1757.33,"I","Imputed value"]
["SCL","Supply Utilization Accounts (2010-)","246","Finland","5166","Residuals","01231","Chillies and peppers, green (Capsicum spp. and Pimenta spp.)","2021","2021","t",0,"I","Imputed value"]
["SCL","Supply Utilization Accounts (2010-)","246","Finland","5141","Food supply quantity","01231","Chillies and peppers, green (Capsicum spp. and Pimenta spp.)","2021","2021","t",15778.77,"E","Estimated value"]
["SCL","Supply Utilization Accounts (2010-)","246","Finland","5510","Production","01231","Chillies and peppers, green (Capsicum spp. and Pimenta spp.)","2022","2022","t",1340,"A","Official figure"]
["SCL","Supply Utilization Accounts (2010-)","246","Finland","5610","Import quantity","01231","Chillies and peppers, green (Capsicum spp. and Pimenta spp.)","2022","2022","t",15233.89,"A","Official figure"]
["SCL","Supply Utilization Accounts (2010-)","246","Finland","5910","Export quantity","01231","Chillies and peppers, green (Capsicum spp. and Pimenta spp.)","2022","2022","t",26.88,"A","Official figure"]
["SCL","Supply Utilization Accounts (2010-)","246","Finland","5016","Loss","01231","Chillies and peppers, green (Capsicum spp. and Pimenta spp.)","2022","2022","t",1657.39,"I","Imputed value"]
["SCL","Supply Utilization Accounts (2010-)","246","Finland","5166","Residuals","01231","Chillies and peppers, green (Capsicum spp. and Pimenta spp.)","2022","2022","t",0,"I","Imputed value"]
["SCL","Supply Utilization Accounts (2010-)","246","Finland","5141","Food supply quantity","01231","Chillies and peppers, green (Capsicum spp. and Pimenta spp.)","2022","2022","t",14889.62,"E","Estimated value"]
["SCL","Supply Utilization Accounts (2010-)","246","Finland","5510","Production","01232","Cucumbers and gherkins","2020","2020","t",59910,"A","Official figure"]
["SCL","Supply Utilization Accounts (2010-)","246","Finland","5610","Import quantity","01232","Cucumbers and gherkins","2020","2020","t",3651.12,"A","Official figure"]
["SCL","Supply Utilization Accounts (2010-)","246","Finland","5910","Export quantity","01232","Cucumbers and gherkins","2020","2020","t",419.17,"A","Official figure"]
["SCL","Supply Utilization Accounts (2010-)","246","Finland","5016","Loss","01232","Cucumbers and gherkins","2020","2020","t",4436.8100000000004,"I","Imputed value"]
["SCL","Supply Utilization Accounts (2010-)","246","Finland","5166","Residuals","01232","Cucumbers and gherkins","2020","2020","t",0,"I","Imputed value"]
["SCL","Supply Utilization Accounts (2010-)","246","Finland","5141","Food supply quantity","01232","Cucumbers and gherkins","2020","2020","t",58705.14,"E","Estimated value"]
["SCL","Supply Utilization Accounts (2010-)","246","Finland","5510","Production","01232","Cucumbers and gherkins","2021","2021","t",60030,"A","Official figure"]
["SCL","Supply Utilization Accounts (2010-)","246","Finland","5610","Import quantity","01232","Cucumbers and gherkins","2021","2021","t",4113.79,"A","Official figure"]
["SCL","Supply Utilization Accounts (2010-)","246","Finland","5910","Export quantity","01232","Cucumbers and gherkins","2021","2021","t",945.86,"A","Official figure"]
["SCL","Supply Utilization Accounts (2010-)","246","Finland","5016","Loss","01232","Cucumbers and gherkins","2021","2021","t",4502.84,"I","Imputed value"]
["SCL","Supply Utilization Accounts (2010-)","246","Finland","5166","Residuals","01232","Cucumbers and gherkins","2021","2021","t",0,"I","Imputed value"]
["SCL","Supply Utilization Accounts (2010-)","246","Finland","5141","Food supply quantity","01232","Cucumbers and gherkins","2021","2021","t",58695.1,"E","Estimated value"]
["SCL","Supply Utilization Accounts (2010-)","246","Finland","5510","Production","01232","Cucumbers and gherkins","2022","2022","t",56960,"A","Official figure"]
["SCL","Supply Utilization Accounts (2010-)","246","Finland","5610","Import quantity","01232","Cucumbers and gherkins","2022","2022","t",6074.22,"A","Official figure"]
["SCL","Supply Utilization Accounts (2010-)","246","Finland","5910","Export quantity","01232","Cucumbers and gherkins","2022","2022","t",4235.7,"A","Official figure"]
["SCL","Supply Utilization Accounts (2010-)","246","Finland","5016","Loss","01232","Cucumbers and gherkins","2022","2022","t",4424.95,"I","Imputed value"]
["SCL","Supply Utilization Accounts (2010-)","246","Finland","5166","Residuals","01232","Cucumbers and gherkins","2022","2022","t",0,"I","Imputed value"]
["SCL","Supply Utilization Accounts (2010-)","246","Finland","5141","Food supply quantity","01232","Cucumbers and gherkins","2022","2022","t",54373.57,"E","Estimated value"]
["SCL","Supply Utilization Accounts (2010-)","246","Finland","5610","Import quantity","01233","Eggplants (aubergines)","2020","2020","t",1397.53,"A","Official figure"]
["SCL","Supply Utilization Accounts (2010-)","246","Finland","5910","Export quantity","01233","Eggplants (aubergines)","2020","2020","t",0.47,"A","Official figure"]
["SCL","Supply Utilization Accounts (2010-)","246","Finland","5166","Residuals","01233","Eggplants (aubergines)","2020","2020","t",0,"I","Imputed value"]
["SCL","Supply Utilization Accounts (2010-)","246","Finland","5141","Food supply quantity","01233","Eggplants (aubergines)","2020","2020","t",1397.06,"E","Estimated value"]
["SCL","Supply Utilization Accounts (2010-)","246","Finland","5510","Production","01233","Eggplants (aubergines)","2021","2021","t",0,"A","Official figure"]
["SCL","Supply Utilization Accounts (2010-)","246","Finland","5610","Import quantity","01233","Eggplants (aubergines)","2021","2021","t",1488.39,"A","Official figure"]
["SCL","Supply Utilization Accounts (2010-)","246","Finland","5910","Export quantity","01233","Eggplants (aubergines)","2021","2021","t",0.81,"A","Official figure"]
["SCL","Supply Utilization Accounts (2010-)","246","Finland","5166","Residuals","01233","Eggplants (aubergines)","2021","2021","t",0,"I","Imputed value"]
["SCL","Supply Utilization Accounts (2010-)","246","Finland","5141","Food supply quantity","01233","Eggplants (aubergines)","2021","2021","t",1487.58,"E","Estimated value"]
["SCL","Supply Utilization Accounts (2010-)","246","Finland","5510","Production","01233","Eggplants (aubergines)","2022","2022","t",0,"A","Official figure"]
["SCL","Supply Utilization Accounts (2010-)","246","Finland","5610","Import quantity","01233","Eggplants (aubergines)","2022","2022","t",1576.34,"A","Official figure"]
["SCL","Supply Utilization Accounts (2010-)","246","Finland","5910","Export quantity","01233","Eggplants (aubergines)","2022","2022","t",2.65,"A","Official figure"]
["SCL","Supply Utilization Accounts (2010-)","246","Finland","5166","Residuals","01233","Eggplants (aubergines)","2022","2022","t",0,"I","Imputed value"]
["SCL","Supply Utilization Accounts (2010-)","246","Finland","5141","Food supply quantity","01233","Eggplants (aubergines)","2022","2022","t",1573.68,"E","Estimated value"]
["SCL","Supply Utilization Accounts (2010-)","250","France","5510","Production","01311","Avocados","2020","2020","t",2040,"A","Official figure"]
["SCL","Supply Utilization Accounts (2010-)","250","France","5610","Import quantity","01311","Avocados","2020","2020","t",170541.78,"A","Official figure"]
["SCL","Supply Utilization Accounts (2010-)","250","France","5910","Export quantity","01311","Avocados","2020","2020","t",28653.03,"A","Official figure"]
["SCL","Supply Utilization Accounts (2010-)","250","France","5016","Loss","01311","Avocados","2020","2020","t",25887.27,"I","Imputed value"]
["SCL","Supply Utilization Accounts (2010-)","250","France","5166","Residuals","01311","Avocados","2020","2020","t",0,"I","Imputed value"]
["SCL","Supply Utilization Accounts (2010-)","250","France","5141","Food supply quantity","01311","Avocados","2020","2020","t",118041.48,"E","Estimated value"]
["SCL","Supply Utilization Accounts (2010-)","250","France","5510","Production","01311","Avocados","2021","2021","t",1100,"A","Official figure"]
["SCL","Supply Utilization Accounts (2010-)","250","France","5610","Import quantity","01311","Avocados","2021","2021","t",181291.51999999999,"A","Official figure"]
["SCL","Supply Utilization Accounts (2010-)","250","France","5910","Export quantity","01311","Avocados","2021","2021","t",32326.1,"A","Official figure"]
["SCL","Supply Utilization Accounts (2010-)","250","France","5016","Loss","01311","Avocados","2021","2021","t",27358.73,"I","Imputed value"]
["SCL","Supply Utilization Accounts (2010-)","250","France","5166","Residuals","01311","Avocados","2021","2021","t",0,"I","Imputed value"]
["SCL","Supply Utilization Accounts (2010-)","250","France","5141","Food supply quantity","01311","Avocados","2021","2021","t",122706.69,"E","Estimated value"]
["SCL","Supply Utilization Accounts (2010-)","250","France","5510","Production","01311","Avocados","2022","2022","t",1080,"A","Official figure"]
["SCL","Supply Utilization Accounts (2010-)","250","France","5610","Import quantity","01311","Avocados","2022","2022","t",200736.56,"A","Official figure"]
["SCL","Supply Utilization Accounts (2010-)","250","France","5910","Export quantity","01311","Avocados","2022","2022","t",39807.46,"A","Official figure"]
["SCL","Supply Utilization Accounts (2010-)","250","France","5016","Loss","01311","Avocados","2022","2022","t",30272.48,"I","Imputed value"]
["SCL","Supply Utilization Accounts (2010-)","250","France","5166","Residuals","01311","Avocados","2022","2022","t",0,"I","Imputed value"]
["SCL","Supply Utilization Accounts (2010-)","250","France","5141","Food supply quantity","01311","Avocados","2022","2022","t",131736.60999999999,"E","Estimated value"]
["SCL","Supply Utilization Accounts (2010-)","250","France","5510","Production","01312","Bananas","2020","2020","t",201440,"A","Official figure"]
["SCL","Supply Utilization Accounts (2010-)","250","France","5610","Import quantity","01312","Bananas","2020","2020","t",695437.21,"A","Official figure"]
["SCL","Supply Utilization Accounts (2010-)","250","France","5910","Export quantity","01312","Bananas","2020","2020","t",175011.59,"A","Official figure"]
["SCL","Supply Utilization Accounts (2010-)","250","France","5016","Loss","01312","Bananas","2020","2020","t",44843.86,"I","Imputed value"]
["SCL","Supply Utilization Accounts (2010-)","250","France","5023","Processed","01312","Bananas","2020","2020","t",0,"E","Estimated value"]
["SCL","Supply Utilization Accounts (2010-)","250","France","5166","Residuals","01312","Bananas","2020","2020","t",0,"I","Imputed value"]
["SCL","Supply Utilization Accounts (2010-)","250","France","5141","Food supply quantity","01312","Bananas","2020","2020","t",677021.75,"E","Estimated value"]
["SCL","Supply Utilization Accounts (2010-)","250","France","5510","Production","01312","Bananas","2021","2021","t",228900,"A","Official figure"]
["SCL","Supply Utilization Accounts (2010-)","250","France","5610","Import quantity","01312","Bananas","2021","2021","t",746675.97,"A","Official figure"]
["SCL","Supply Utilization Accounts (2010-)","250","France","5910","Export quantity","01312","Bananas","2021","2021","t",220342.19,"A","Official figure"]
["SCL","Supply Utilization Accounts (2010-)","250","France","5016","Loss","01312","Bananas","2021","2021","t",48778.8,"I","Imputed value"]
["SCL","Supply Utilization Accounts (2010-)","250","France","5023","Processed","01312","Bananas","2021","2021","t",0,"E","Estimated value"]
["SCL","Supply Utilization Accounts (2010-)","250","France","5166","Residuals","01312","Bananas","2021","2021","t",0,"I","Imputed value"]
["SCL","Supply Utilization Accounts (2010-)","250","France","5141","Food supply quantity","01312","Bananas","2021","2021","t",706454.98,"E","Estimated value"]
["SCL","Supply Utilization Accounts (2010-)","250","France","5510","Production","01312","Bananas","2022","2022","t",225530,"A","Official figure"]
["SCL","Supply Utilization Accounts (2010-)","250","France","5610","Import quantity","01312","Bananas","2022","2022","t",760352.11,"A","Official figure"]
["SCL","Supply Utilization Accounts (2010-)","250","France","5910","Export quantity","01312","Bananas","2022","2022","t",233931.31,"A","Official figure"]
["SCL","Supply Utilization Accounts (2010-)","250","France","5016","Loss","01312","Bananas","2022","2022","t",49294.11,"I","Imputed value"]
["SCL","Supply Utilization Accounts (2010-)","250","France","5023","Processed","01312","Bananas","2022","2022","t",0,"E","Estimated value"]
["SCL","Supply Utilization Accounts (2010-)","250","France","5166","Residuals","01312","Bananas","2022","2022","t",0,"I","Imputed value"]
["SCL","Supply Utilization Accounts (2010-)","250","France","5141","Food supply quantity","01312","Bananas","2022","2022","t",702656.69,"E","Estimated value"]
["SCL","Supply Utilization Accounts (2010-)","250","France","5510","Production","01231","Chillies and peppers, green (Capsicum spp. and Pimenta spp.)","2020","2020","t",30600,"A","Official figure"]
["SCL","Supply Utilization Accounts (2010-)","250","France","5610","Import quantity","01231","Chillies and peppers, green (Capsicum spp. and Pimenta spp.)","2020","2020","t",180152.88,"A","Official figure"]
["SCL","Supply Utilization Accounts (2010-)","250","France","5910","Export quantity","01231","Chillies and peppers, green (Capsicum spp. and Pimenta spp.)","2020","2020","t",47569.14,"A","Official figure"]
["SCL","Supply Utilization Accounts (2010-)","250","France","5016","Loss","01231","Chillies and peppers, green (Capsicum spp. and Pimenta spp.)","2020","2020","t",31612.93,"I","Imputed value"]
["SCL","Supply Utilization Accounts (2010-)","250","France","5166","Residuals","01231","Chillies and peppers, green (Capsicum spp. and Pimenta spp.)","2020","2020","t",0,"I","Imputed value"]
["SCL","Supply Utilization Accounts (2010-)","250","France","5141","Food supply quantity","01231","Chillies and peppers, green (Capsicum spp. and Pimenta spp.)","2020","2020","t",131570.81,"E","Estimated value"]
["SCL","Supply Utilization Accounts (2010-)","250","France","5510","Production","01231","Chillies and peppers, green (Capsicum spp. and Pimenta spp.)","2021","2021","t",30680,"A","Official figure"]
["SCL","Supply Utilization Accounts (2010-)","250","France","5610","Import quantity","01231","Chillies and peppers, green (Capsicum spp. and Pimenta spp.)","2021","2021","t",185518.1,"A","Official figure"]
["SCL","Supply Utilization Accounts (2010-)","250","France","5910","Export quantity","01231","Chillies and peppers, green (Capsicum spp. and Pimenta spp.)","2021","2021","t",51938.18,"A","Official figure"]
["SCL","Supply Utilization Accounts (2010-)","250","France","5016","Loss","01231","Chillies and peppers, green (Capsicum spp. and Pimenta spp.)","2021","2021","t",32429.71,"I","Imputed value"]
["SCL","Supply Utilization Accounts (2010-)","250","France","5166","Residuals","01231","Chillies and peppers, green (Capsicum spp. and Pimenta spp.)","2021","2021","t",0,"I","Imputed value"]
["SCL","Supply Utilization Accounts (2010-)","250","France","5141","Food supply quantity","01231","Chillies and peppers, green (Capsicum spp. and Pimenta spp.)","2021","2021","t",131830.20000000001,"E","Estimated value"]
["SCL","Supply Utilization Accounts (2010-)","250","France","5510","Production","01231","Chillies and peppers, green (Capsicum spp. and Pimenta spp.)","2022","2022","t",26440,"A","Official figure"]
["SCL","Supply Utilization Accounts (2010-)","250","France","5610","Import quantity","01231","Chillies and peppers, green (Capsicum spp. and Pimenta spp.)","2022","2022","t",188491.61,"A","Official figure"]
["SCL","Supply Utilization Accounts (2010-)","250","France","5910","Export quantity","01231","Chillies and peppers, green (Capsicum spp. and Pimenta spp.)","2022","2022","t",51723.42,"A","Official figure"]
["SCL","Supply Utilization Accounts (2010-)","250","France","5016","Loss","01231","Chillies and peppers, green (Capsicum spp. and Pimenta spp.)","2022","2022","t",32239.74,"I","Imputed value"]
["SCL","Supply Utilization Accounts (2010-)","250","France","5166","Residuals","01231","Chillies and peppers, green (Capsicum spp. and Pimenta spp.)","2022","2022","t",0,"I","Imputed value"]
["SCL","Supply Utilization Accounts (2010-)","250","France","5141","Food supply quantity","01231","Chillies and peppers, green (Capsicum spp. and Pimenta spp.)","2022","2022","t",130968.45,"E","Estimated value"]
["SCL","Supply Utilization Accounts (2010-)","250","France","5510","Production","01232","Cucumbers and gherkins","2020","2020","t",143270,"A","Official figure"]
["SCL","Supply Utilization Accounts (2010-)","250","France","5610","Import quantity","01232","Cucumbers and gherkins","2020","2020","t",71654.83,"A","Official figure"]
["SCL","Supply Utilization Accounts (2010-)","250","France","5910","Export quantity","01232","Cucumbers and gherkins","2020","2020","t",11472.05,"A","Official figure"]
["SCL","Supply Utilization Accounts (2010-)","250","France","5016","Loss","01232","Cucumbers and gherkins","2020","2020","t",32238.720000000001,"I","Imputed value"]
["SCL","Supply Utilization Accounts (2010-)","250","France","5166","Residuals","01232","Cucumbers and gherkins","2020","2020","t",0,"I","Imputed value"]
["SCL","Supply Utilization Accounts (2010-)","250","France","5141","Food supply quantity","01232","Cucumbers and gherkins","2020","2020","t",171214.06,"E","Estimated value"]
["SCL","Supply Utilization Accounts (2010-)","250","France","5510","Production","01232","Cucumbers and gherkins","2021","2021","t",200150,"A","Official figure"]
["SCL","Supply Utilization Accounts (2010-)","250","France","5610","Import quantity","01232","Cucumbers and gherkins","2021","2021","t",65644.789999999994,"A","Official figure"]
["SCL","Supply Utilization Accounts (2010-)","250","France","5910","Export quantity","01232","Cucumbers and gherkins","2021","2021","t",11246.63,"A","Official figure"]
["SCL","Supply Utilization Accounts (2010-)","250","France","5016","Loss","01232","Cucumbers and gherkins","2021","2021","t",39869.22,"I","Imputed value"]
["SCL","Supply Utilization Accounts (2010-)","250","France","5166","Residuals","01232","Cucumbers and gherkins","2021","2021","t",0,"I","Imputed value"]
["SCL","Supply Utilization Accounts (2010-)","250","France","5141","Food supply quantity","01232","Cucumbers and gherkins","2021","2021","t",214678.94,"E","Estimated value"]
["SCL","Supply Utilization Accounts (2010-)","250","France","5510","Production","01232","Cucumbers and gherkins","2022","2022","t",175180,"A","Official figure"]
["SCL","Supply Utilization Accounts (2010-)","250","France","5610","Import quantity","01232","Cucumbers and gherkins","2022","2022","t",73589.070000000007,"A","Official figure"]
["SCL","Supply Utilization Accounts (2010-)","250","France","5910","Export quantity","01232","Cucumbers and gherkins","2022","2022","t",13065.9,"A","Official figure"]
["SCL","Supply Utilization Accounts (2010-)","250","France","5016","Loss","01232","Cucumbers and gherkins","2022","2022","t",37315.360000000001,"I","Imputed value"]
["SCL","Supply Utilization Accounts (2010-)","250","France","5166","Residuals","01232","Cucumbers and gherkins","2022","2022","t",0,"I","Imputed value"]
["SCL","Supply Utilization Accounts (2010-)","250","France","5141","Food supply quantity","01232","Cucumbers and gherkins","2022","2022","t",198387.81,"E","Estimated value"]
["SCL","Supply Utilization Accounts (2010-)","250","France","5510","Production","01233","Eggplants (aubergines)","2020","2020","t",28830,"A","Official figure"]
["SCL","Supply Utilization Accounts (2010-)","250","France","5610","Import quantity","01233","Eggplants (aubergines)","2020","2020","t",55213.03,"A","Official figure"]
["SCL","Supply Utilization Accounts (2010-)","250","France","5910","Export quantity","01233","Eggplants (aubergines)","2020","2020","t",5268.73,"A","Official figure"]
["SCL","Supply Utilization Accounts (2010-)","250","France","5016","Loss","01233","Eggplants (aubergines)","2020","2020","t",12606.45,"I","Imputed value"]
["SCL","Supply Utilization Accounts (2010-)","250","France","5166","Residuals","01233","Eggplants (aubergines)","2020","2020","t",0,"I","Imputed value"]
["SCL","Supply Utilization Accounts (2010-)","250","France","5141","Food supply quantity","01233","Eggplants (aubergines)","2020","2020","t",66167.850000000006,"E","Estimated value"]
["SCL","Supply Utilization Accounts (2010-)","250","France","5510","Production","01233","Eggplants (aubergines)","2021","2021","t",44260,"A","Official figure"]
["SCL","Supply Utilization Accounts (2010-)","250","France","5610","Import quantity","01233","Eggplants (aubergines)","2021","2021","t",52546.52,"A","Official figure"]
["SCL","Supply Utilization Accounts (2010-)","250","France","5910","Export quantity","01233","Eggplants (aubergines)","2021","2021","t",6253.38,"A","Official figure"]
["SCL","Supply Utilization Accounts (2010-)","250","France","5016","Loss","01233","Eggplants (aubergines)","2021","2021","t",14520.98,"I","Imputed value"]
["SCL","Supply Utilization Accounts (2010-)","250","France","5166","Residuals","01233","Eggplants (aubergines)","2021","2021","t",0,"I","Imputed value"]
["SCL","Supply Utilization Accounts (2010-)","250","France","5141","Food supply quantity","01233","Eggplants (aubergines)","2021","2021","t",76032.160000000003,"E","Estimated value"]
["SCL","Supply Utilization Accounts (2010-)","250","France","5510","Production","01233","Eggplants (aubergines)","2022","2022","t",42480,"A","Official figure"]
["SCL","Supply Utilization Accounts (2010-)","250","France","5610","Import quantity","01233","Eggplants (aubergines)","2022","2022","t",50213.3,"A","Official figure"]
["SCL","Supply Utilization Accounts (2010-)","250","France","5910","Export quantity","01233","Eggplants (aubergines)","2022","2022","t",7349.72,"A","Official figure"]
["SCL","Supply Utilization Accounts (2010-)","250","France","5016","Loss","01233","Eggplants (aubergines)","2022","2022","t",13903.99,"I","Imputed value"]
["SCL","Supply Utilization Accounts (2010-)","250","France","5166","Residuals","01233","Eggplants (aubergines)","2022","2022","t",0,"I","Imputed value"]
["SCL","Supply Utilization Accounts (2010-)","250","France","5141","Food supply quantity","01233","Eggplants (aubergines)","2022","2022","t",71439.58,"E","Estimated value"]
["SCL","Supply Utilization Accounts (2010-)","276","Germany","5510","Production","01311","Avocados","2020","2020","t",0,"A","Official figure"]
["SCL","Supply Utilization Accounts (2010-)","276","Germany","5610","Import quantity","01311","Avocados","2020","2020","t",122340.28,"A","Official figure"]
["SCL","Supply Utilization Accounts (2010-)","276","Germany","5910","Export quantity","01311","Avocados","2020","2020","t",14244.14,"A","Official figure"]
["SCL","Supply Utilization Accounts (2010-)","276","Germany","5016","Loss","01311","Avocados","2020","2020","t",12234.03,"I","Imputed value"]
["SCL","Supply Utilization Accounts (2010-)","276","Germany","5166","Residuals","01311","Avocados","2020","2020","t",0,"I","Imputed value"]
["SCL","Supply Utilization Accounts (2010-)","276","Germany","5141","Food supply quantity","01311","Avocados","2020","2020","t",95862.11,"E","Estimated value"]
["SCL","Supply Utilization Accounts (2010-)","276","Germany","5510","Production","01311","Avocados","2021","2021","t",0,"A","Official figure"]
["SCL","Supply Utilization Accounts (2010-)","276","Germany","5610","Import quantity","01311","Avocados","2021","2021","t",121647.35,"A","Official figure"]
["SCL","Supply Utilization Accounts (2010-)","276","Germany","5910","Export quantity","01311","Avocados","2021","2021","t",16096.47,"A","Official figure"]
["SCL","Supply Utilization Accounts (2010-)","276","Germany","5016","Loss","01311","Avocados","2021","2021","t",12164.73,"I","Imputed value"]
["SCL","Supply Utilization Accounts (2010-)","276","Germany","5166","Residuals","01311","Avocados","2021","2021","t",0,"I","Imputed value"]
["SCL","Supply Utilization Accounts (2010-)","276","Germany","5141","Food supply quantity","01311","Avocados","2021","2021","t",93386.15,"E","Estimated value"]
["SCL","Supply Utilization Accounts (2010-)","276","Germany","5510","Production","01311","Avocados","2022","2022","t",0,"A","Official figure"]
["SCL","Supply Utilization Accounts (2010-)","276","Germany","5610","Import quantity","01311","Avocados","2022","2022","t",127357.49,"A","Official figure"]
["SCL","Supply Utilization Accounts (2010-)","276","Germany","5910","Export quantity","01311","Avocados","2022","2022","t",15908.58,"A","Official figure"]
["SCL","Supply Utilization Accounts (2010-)","276","Germany","5016","Loss","01311","Avocados","2022","2022","t",12735.75,"I","Imputed value"]
["SCL","Supply Utilization Accounts (2010-)","276","Germany","5166","Residuals","01311","Avocados","2022","2022","t",0,"I","Imputed value"]
["SCL","Supply Utilization Accounts (2010-)","276","Germany","5141","Food supply quantity","01311","Avocados","2022","2022","t",98713.16,"E","Estimated value"]
["SCL","Supply Utilization Accounts (2010-)","276","Germany","5510","Production","01312","Bananas","2020","2020","t",0,"A","Official figure"]
["SCL","Supply Utilization Accounts (2010-)","276","Germany","5610","Import quantity","01312","Bananas","2020","2020","t",1323419.17,"A","Official figure"]
["SCL","Supply Utilization Accounts (2010-)","276","Germany","5910","Export quantity","01312","Bananas","2020","2020","t",301382.53000000003,"A","Official figure"]
["SCL","Supply Utilization Accounts (2010-)","276","Germany","5016","Loss","01312","Bananas","2020","2020","t",49600.7,"I","Imputed value"]
["SCL","Supply Utilization Accounts (2010-)","276","Germany","5166","Residuals","01312","Bananas","2020","2020","t",0,"I","Imputed value"]
["SCL","Supply Utilization Accounts (2010-)","276","Germany","5141","Food supply quantity","01312","Bananas","2020","2020","t",972435.95,"E","Estimated value"]
["SCL","Supply Utilization Accounts (2010-)","276","Germany","5510","Production","01312","Bananas","2021","2021","t",0,"A","Official figure"]
["SCL","Supply Utilization Accounts (2010-)","276","Germany","5610","Import quantity","01312","Bananas","2021","2021","t",1414087.79,"A","Official figure"]
["SCL","Supply Utilization Accounts (2010-)","276","Germany","5910","Export quantity","01312","Bananas","2021","2021","t",340234.19,"A","Official figure"]
["SCL","Supply Utilization Accounts (2010-)","276","Germany","5016","Loss","01312","Bananas","2021","2021","t",52998.879999999997,"I","Imputed value"]
["SCL","Supply Utilization Accounts (2010-)","276","Germany","5166","Residuals","01312","Bananas","2021","2021","t",0,"I","Imputed value"]
["SCL","Supply Utilization Accounts (2010-)","276","Germany","5141","Food supply quantity","01312","Bananas","2021","2021","t",1020854.72,"E","Estimated value"]
["SCL","Supply Utilization Accounts (2010-)","276","Germany","5510","Production","01312","Bananas","2022","2022","t",0,"A","Official figure"]
["SCL","Supply Utilization Accounts (2010-)","276","Germany","5610","Import quantity","01312","Bananas","2022","2022","t",1283209.05,"A","Official figure"]
["SCL","Supply Utilization Accounts (2010-)","276","Germany","5910","Export quantity","01312","Bananas","2022","2022","t",309422.68,"A","Official figure"]
["SCL","Supply Utilization Accounts (2010-)","276","Germany","5016","Loss","01312","Bananas","2022","2022","t",48093.65,"I","Imputed value"]
["SCL","Supply Utilization Accounts (2010-)","276","Germany","5166","Residuals","01312","Bananas","2022","2022","t",0,"I","Imputed value"]
["SCL","Supply Utilization Accounts (2010-)","276","Germany","5141","Food supply quantity","01312","Bananas","2022","2022","t",925692.71,"E","Estimated value"]
["SCL","Supply Utilization Accounts (2010-)","276","Germany","5510","Production","01231","Chillies and peppers, green (Capsicum spp. and Pimenta spp.)","2020","2020","t",15960,"A","Official figure"]
["SCL","Supply Utilization Accounts (2010-)","276","Germany","5610","Import quantity","01231","Chillies and peppers, green (Capsicum spp. and Pimenta spp.)","2020","2020","t",429396.39,"A","Official figure"]
["SCL","Supply Utilization Accounts (2010-)","276","Germany","5910","Export quantity","01231","Chillies and peppers, green (Capsicum spp. and Pimenta spp.)","2020","2020","t",16699.14,"A","Official figure"]
["SCL","Supply Utilization Accounts (2010-)","276","Germany","5016","Loss","01231","Chillies and peppers, green (Capsicum spp. and Pimenta spp.)","2020","2020","t",44535.64,"I","Imputed value"]
["SCL","Supply Utilization Accounts (2010-)","276","Germany","5166","Residuals","01231","Chillies and peppers, green (Capsicum spp. and Pimenta spp.)","2020","2020","t",0,"I","Imputed value"]
["SCL","Supply Utilization Accounts (2010-)","276","Germany","5141","Food supply quantity","01231","Chillies and peppers, green (Capsicum spp. and Pimenta spp.)","2020","2020","t",384121.61,"E","Estimated value"]
["SCL","Supply Utilization Accounts (2010-)","276","Germany","5510","Production","01231","Chillies and peppers, green (Capsicum spp. and Pimenta spp.)","2021","2021","t",17780,"A","Official figure"]
["SCL","Supply Utilization Accounts (2010-)","276","Germany","5610","Import quantity","01231","Chillies and peppers, green (Capsicum spp. and Pimenta spp.)","2021","2021","t",431123.01,"A","Official figure"]
["SCL","Supply Utilization Accounts (2010-)","276","Germany","5910","Export quantity","01231","Chillies and peppers, green (Capsicum spp. and Pimenta spp.)","2021","2021","t",18676.22,"A","Official figure"]
["SCL","Supply Utilization Accounts (2010-)","276","Germany","5016","Loss","01231","Chillies and peppers, green (Capsicum spp. and Pimenta spp.)","2021","2021","t",44890.3,"I","Imputed value"]
["SCL","Supply Utilization Accounts (2010-)","276","Germany","5166","Residuals","01231","Chillies and peppers, green (Capsicum spp. and Pimenta spp.)","2021","2021","t",0,"I","Imputed value"]
["SCL","Supply Utilization Accounts (2010-)","276","Germany","5141","Food supply quantity","01231","Chillies and peppers, green (Capsicum spp. and Pimenta spp.)","2021","2021","t",385336.49,"E","Estimated value"]
["SCL","Supply Utilization Accounts (2010-)","276","Germany","5510","Production","01231","Chillies and peppers, green (Capsicum spp. and Pimenta spp.)","2022","2022","t",16950,"A","Official figure"]
["SCL","Supply Utilization Accounts (2010-)","276","Germany","5610","Import quantity","01231","Chillies and peppers, green (Capsicum spp. and Pimenta spp.)","2022","2022","t",403706.11,"A","Official figure"]
["SCL","Supply Utilization Accounts (2010-)","276","Germany","5910","Export quantity","01231","Chillies and peppers, green (Capsicum spp. and Pimenta spp.)","2022","2022","t",16038.39,"A","Official figure"]
["SCL","Supply Utilization Accounts (2010-)","276","Germany","5016","Loss","01231","Chillies and peppers, green (Capsicum spp. and Pimenta spp.)","2022","2022","t",42065.61,"I","Imputed value"]
["SCL","Supply Utilization Accounts (2010-)","276","Germany","5166","Residuals","01231","Chillies and peppers, green (Capsicum spp. and Pimenta spp.)","2022","2022","t",0,"I","Imputed value"]
["SCL","Supply Utilization Accounts (2010-)","276","Germany","5141","Food supply quantity","01231","Chillies and peppers, green (Capsicum spp. and Pimenta spp.)","2022","2022","t",362552.11,"E","Estimated value"]
["SCL","Supply Utilization Accounts (2010-)","276","Germany","5510","Production","01232","Cucumbers and gherkins","2020","2020","t",216970,"A","Official figure"]
["SCL","Supply Utilization Accounts (2010-)","276","Germany","5610","Import quantity","01232","Cucumbers and gherkins","2020","2020","t",596985.59999999998,"A","Official figure"]
["SCL","Supply Utilization Accounts (2010-)","276","Germany","5910","Export quantity","01232","Cucumbers and gherkins","2020","2020","t",31541.67,"A","Official figure"]
["SCL","Supply Utilization Accounts (2010-)","276","Germany","5016","Loss","01232","Cucumbers and gherkins","2020","2020","t",97674.67,"I","Imputed value"]
["SCL","Supply Utilization Accounts (2010-)","276","Germany","5166","Residuals","01232","Cucumbers and gherkins","2020","2020","t",0,"I","Imputed value"]
["SCL","Supply Utilization Accounts (2010-)","276","Germany","5141","Food supply quantity","01232","Cucumbers and gherkins","2020","2020","t",684739.26,"E","Estimated value"]
["SCL","Supply Utilization Accounts (2010-)","276","Germany","5510","Production","01232","Cucumbers and gherkins","2021","2021","t",242800,"A","Official figure"]
["SCL","Supply Utilization Accounts (2010-)","276","Germany","5610","Import quantity","01232","Cucumbers and gherkins","2021","2021","t",604019.98,"A","Official figure"]
["SCL","Supply Utilization Accounts (2010-)","276","Germany","5910","Export quantity","01232","Cucumbers and gherkins","2021","2021","t",34558,"A","Official figure"]
["SCL","Supply Utilization Accounts (2010-)","276","Germany","5016","Loss","01232","Cucumbers and gherkins","2021","2021","t",101618.4,"I","Imputed value"]
["SCL","Supply Utilization Accounts (2010-)","276","Germany","5166","Residuals","01232","Cucumbers and gherkins","2021","2021","t",0,"I","Imputed value"]
["SCL","Supply Utilization Accounts (2010-)","276","Germany","5141","Food supply quantity","01232","Cucumbers and gherkins","2021","2021","t",710643.59,"E","Estimated value"]
["SCL","Supply Utilization Accounts (2010-)","276","Germany","5510","Production","01232","Cucumbers and gherkins","2022","2022","t",233710,"A","Official figure"]
["SCL","Supply Utilization Accounts (2010-)","276","Germany","5610","Import quantity","01232","Cucumbers and gherkins","2022","2022","t",540405.93999999994,"A","Official figure"]
["SCL","Supply Utilization Accounts (2010-)","276","Germany","5910","Export quantity","01232","Cucumbers and gherkins","2022","2022","t",37589.61,"A","Official figure"]
["SCL","Supply Utilization Accounts (2010-)","276","Germany","5016","Loss","01232","Cucumbers and gherkins","2022","2022","t",92893.91,"I","Imputed value"]
["SCL","Supply Utilization Accounts (2010-)","276","Germany","5166","Residuals","01232","Cucumbers and gherkins","2022","2022","t",0,"I","Imputed value"]
["SCL","Supply Utilization Accounts (2010-)","276","Germany","5141","Food supply quantity","01232","Cucumbers and gherkins","2022","2022","t",643632.41,"E","Estimated value"]
["SCL","Supply Utilization Accounts (2010-)","276","Germany","5610","Import quantity","01233","Eggplants (aubergines)","2020","2020","t",61075.02,"A","Official figure"]
["SCL","Supply Utilization Accounts (2010-)","276","Germany","5910","Export quantity","01233","Eggplants (aubergines)","2020","2020","t",1397.8,"A","Official figure"]
["SCL","Supply Utilization Accounts (2010-)","276","Germany","5016","Loss","01233","Eggplants (aubergines)","2020","2020","t",6107.5,"I","Imputed value"]
["SCL","Supply Utilization Accounts (2010-)","276","Germany","5166","Residuals","01233","Eggplants (aubergines)","2020","2020","t",0,"I","Imputed value"]
["SCL","Supply Utilization Accounts (2010-)","276","Germany","5141","Food supply quantity","01233","Eggplants (aubergines)","2020","2020","t",53569.72,"E","Estimated value"]
["SCL","Supply Utilization Accounts (2010-)","276","Germany","5610","Import quantity","01233","Eggplants (aubergines)","2021","2021","t",57495.13,"A","Official figure"]
["SCL","Supply Utilization Accounts (2010-)","276","Germany","5910","Export quantity","01233","Eggplants (aubergines)","2021","2021","t",1533.79,"A","Official figure"]
["SCL","Supply Utilization Accounts (2010-)","276","Germany","5016","Loss","01233","Eggplants (aubergines)","2021","2021","t",5749.51,"I","Imputed value"]
["SCL","Supply Utilization Accounts (2010-)","276","Germany","5166","Residuals","01233","Eggplants (aubergines)","2021","2021","t",0,"I","Imputed value"]
["SCL","Supply Utilization Accounts (2010-)","276","Germany","5141","Food supply quantity","01233","Eggplants (aubergines)","2021","2021","t",50211.83,"E","Estimated value"]
["SCL","Supply Utilization Accounts (2010-)","276","Germany","5610","Import quantity","01233","Eggplants (aubergines)","2022","2022","t",53382.63,"A","Official figure"]
["SCL","Supply Utilization Accounts (2010-)","276","Germany","5910","Export quantity","01233","Eggplants (aubergines)","2022","2022","t",1238.78,"A","Official figure"]
["SCL","Supply Utilization Accounts (2010-)","276","Germany","5016","Loss","01233","Eggplants (aubergines)","2022","2022","t",5338.26,"I","Imputed value"]
["SCL","Supply Utilization Accounts (2010-)","276","Germany","5166","Residuals","01233","Eggplants (aubergines)","2022","2022","t",0,"I","Imputed value"]
["SCL","Supply Utilization Accounts (2010-)","276","Germany","5141","Food supply quantity","01233","Eggplants (aubergines)","2022","2022","t",46805.59,"E","Estimated value"]
["SCL","Supply Utilization Accounts (2010-)","300","Greece","5510","Production","01311","Avocados","2020","2020","t",9570,"A","Official figure"]
["SCL","Supply Utilization Accounts (2010-)","300","Greece","5610","Import quantity","01311","Avocados","2020","2020","t",4480.32,"A","Official figure"]
["SCL","Supply Utilization Accounts (2010-)","300","Greece","5910","Export quantity","01311","Avocados","2020","2020","t",1273.83,"A","Official figure"]
["SCL","Supply Utilization Accounts (2010-)","300","Greece","5016","Loss","01311","Avocados","2020","2020","t",622.23,"I","Imputed value"]
["SCL","Supply Utilization Accounts (2010-)","300","Greece","5166","Residuals","01311","Avocados","2020","2020","t",0,"I","Imputed value"]
["SCL","Supply Utilization Accounts (2010-)","300","Greece","5141","Food supply quantity","01311","Avocados","2020","2020","t",12154.26,"E","Estimated value"]
["SCL","Supply Utilization Accounts (2010-)","300","Greece","5510","Production","01311","Avocados","2021","2021","t",12760,"A","Official figure"]
["SCL","Supply Utilization Accounts (2010-)","300","Greece","5610","Import quantity","01311","Avocados","2021","2021","t",5790.46,"A","Official figure"]
["SCL","Supply Utilization Accounts (2010-)","300","Greece","5910","Export quantity","01311","Avocados","2021","2021","t",1406.73,"A","Official figure"]
["SCL","Supply Utilization Accounts (2010-)","300","Greece","5016","Loss","01311","Avocados","2021","2021","t",794.71,"I","Imputed value"]
["SCL","Supply Utilization Accounts (2010-)","300","Greece","5166","Residuals","01311","Avocados","2021","2021","t",0,"I","Imputed value"]
["SCL","Supply Utilization Accounts (2010-)","300","Greece","5141","Food supply quantity","01311","Avocados","2021","2021","t",16349.03,"E","Estimated value"]
["SCL","Supply Utilization Accounts (2010-)","300","Greece","5510","Production","01311","Avocados","2022","2022","t",13890,"A","Official figure"]
["SCL","Supply Utilization Accounts (2010-)","300","Greece","5610","Import quantity","01311","Avocados","2022","2022","t",7522.99,"A","Official figure"]
["SCL","Supply Utilization Accounts (2010-)","300","Greece","5910","Export quantity","01311","Avocados","2022","2022","t",1250.9000000000001,"A","Official figure"]
["SCL","Supply Utilization Accounts (2010-)","300","Greece","5016","Loss","01311","Avocados","2022","2022","t",917.34,"I","Imputed value"]
["SCL","Supply Utilization Accounts (2010-)","300","Greece","5166","Residuals","01311","Avocados","2022","2022","t",0,"I","Imputed value"]
["SCL","Supply Utilization Accounts (2010-)","300","Greece","5141","Food supply quantity","01311","Avocados","2022","2022","t",19244.740000000002,"E","Estimated value"]
["SCL","Supply Utilization Accounts (2010-)","300","Greece","5510","Production","01312","Bananas","2020","2020","t",4790,"A","Official figure"]
["SCL","Supply Utilization Accounts (2010-)","300","Greece","5610","Import quantity","01312","Bananas","2020","2020","t",204415.07,"A","Official figure"]
["SCL","Supply Utilization Accounts (2010-)","300","Greece","5910","Export quantity","01312","Bananas","2020","2020","t",49092.7,"A","Official figure"]
["SCL","Supply Utilization Accounts (2010-)","300","Greece","5016","Loss","01312","Bananas","2020","2020","t",324.26,"I","Imputed value"]
["SCL","Supply Utilization Accounts (2010-)","300","Greece","5165","Other uses (non-food)","01312","Bananas","2020","2020","t",0,"E","Estimated value"]
["SCL","Supply Utilization Accounts (2010-)","300","Greece","5166","Residuals","01312","Bananas","2020","2020","t",0,"I","Imputed value"]
["SCL","Supply Utilization Accounts (2010-)","300","Greece","5141","Food supply quantity","01312","Bananas","2020","2020","t",159788.10999999999,"E","Estimated value"]
["SCL","Supply Utilization Accounts (2010-)","300","Greece","5510","Production","01312","Bananas","2021","2021","t",5170,"A","Official figure"]
["SCL","Supply Utilization Accounts (2010-)","300","Greece","5610","Import quantity","01312","Bananas","2021","2021","t",207755.39,"A","Official figure"]
["SCL","Supply Utilization Accounts (2010-)","300","Greece","5910","Export quantity","01312","Bananas","2021","2021","t",48983.87,"A","Official figure"]
["SCL","Supply Utilization Accounts (2010-)","300","Greece","5016","Loss","01312","Bananas","2021","2021","t",279.22000000000003,"E","Estimated value"]
["SCL","Supply Utilization Accounts (2010-)","300","Greece","5165","Other uses (non-food)","01312","Bananas","2021","2021","t",0,"E","Estimated value"]
["SCL","Supply Utilization Accounts (2010-)","300","Greece","5166","Residuals","01312","Bananas","2021","2021","t",0,"I","Imputed value"]
["SCL","Supply Utilization Accounts (2010-)","300","Greece","5141","Food supply quantity","01312","Bananas","2021","2021","t",163662.29999999999,"E","Estimated value"]
["SCL","Supply Utilization Accounts (2010-)","300","Greece","5510","Production","01312","Bananas","2022","2022","t",4700,"A","Official figure"]
["SCL","Supply Utilization Accounts (2010-)","300","Greece","5610","Import quantity","01312","Bananas","2022","2022","t",203141.91,"A","Official figure"]
["SCL","Supply Utilization Accounts (2010-)","300","Greece","5910","Export quantity","01312","Bananas","2022","2022","t",53860.94,"A","Official figure"]
["SCL","Supply Utilization Accounts (2010-)","300","Greece","5016","Loss","01312","Bananas","2022","2022","t",289.95999999999998,"E","Estimated value"]
["SCL","Supply Utilization Accounts (2010-)","300","Greece","5165","Other uses (non-food)","01312","Bananas","2022","2022","t",0,"E","Estimated value"]
["SCL","Supply Utilization Accounts (2010-)","300","Greece","5166","Residuals","01312","Bananas","2022","2022","t",0,"I","Imputed value"]
["SCL","Supply Utilization Accounts (2010-)","300","Greece","5141","Food supply quantity","01312","Bananas","2022","2022","t",153691.01,"E","Estimated value"]
["SCL","Supply Utilization Accounts (2010-)","300","Greece","5510","Production","01231","Chillies and peppers, green (Capsicum spp. and Pimenta spp.)","2020","2020","t",164290,"A","Official figure"]
["SCL","Supply Utilization Accounts (2010-)","300","Greece","5610","Import quantity","01231","Chillies and peppers, green (Capsicum spp. and Pimenta spp.)","2020","2020","t",7315.12,"A","Official figure"]
["SCL","Supply Utilization Accounts (2010-)","300","Greece","5910","Export quantity","01231","Chillies and peppers, green (Capsicum spp. and Pimenta spp.)","2020","2020","t",18887.11,"A","Official figure"]
["SCL","Supply Utilization Accounts (2010-)","300","Greece","5016","Loss","01231","Chillies and peppers, green (Capsicum spp. and Pimenta spp.)","2020","2020","t",16079.56,"I","Imputed value"]
["SCL","Supply Utilization Accounts (2010-)","300","Greece","5165","Other uses (non-food)","01231","Chillies and peppers, green (Capsicum spp. and Pimenta spp.)","2020","2020","t",1562.79,"E","Estimated value"]
["SCL","Supply Utilization Accounts (2010-)","300","Greece","5166","Residuals","01231","Chillies and peppers, green (Capsicum spp. and Pimenta spp.)","2020","2020","t",0,"I","Imputed value"]
["SCL","Supply Utilization Accounts (2010-)","300","Greece","5141","Food supply quantity","01231","Chillies and peppers, green (Capsicum spp. and Pimenta spp.)","2020","2020","t",135075.66,"E","Estimated value"]
["SCL","Supply Utilization Accounts (2010-)","300","Greece","5510","Production","01231","Chillies and peppers, green (Capsicum spp. and Pimenta spp.)","2021","2021","t",138280,"A","Official figure"]
["SCL","Supply Utilization Accounts (2010-)","300","Greece","5610","Import quantity","01231","Chillies and peppers, green (Capsicum spp. and Pimenta spp.)","2021","2021","t",6003.9,"A","Official figure"]
["SCL","Supply Utilization Accounts (2010-)","300","Greece","5910","Export quantity","01231","Chillies and peppers, green (Capsicum spp. and Pimenta spp.)","2021","2021","t",19159.86,"A","Official figure"]
["SCL","Supply Utilization Accounts (2010-)","300","Greece","5016","Loss","01231","Chillies and peppers, green (Capsicum spp. and Pimenta spp.)","2021","2021","t",13569.83,"I","Imputed value"]
["SCL","Supply Utilization Accounts (2010-)","300","Greece","5165","Other uses (non-food)","01231","Chillies and peppers, green (Capsicum spp. and Pimenta spp.)","2021","2021","t",1280.42,"E","Estimated value"]
["SCL","Supply Utilization Accounts (2010-)","300","Greece","5166","Residuals","01231","Chillies and peppers, green (Capsicum spp. and Pimenta spp.)","2021","2021","t",0,"I","Imputed value"]
["SCL","Supply Utilization Accounts (2010-)","300","Greece","5141","Food supply quantity","01231","Chillies and peppers, green (Capsicum spp. and Pimenta spp.)","2021","2021","t",110273.79,"E","Estimated value"]
["SCL","Supply Utilization Accounts (2010-)","300","Greece","5510","Production","01231","Chillies and peppers, green (Capsicum spp. and Pimenta spp.)","2022","2022","t",135810,"A","Official figure"]
["SCL","Supply Utilization Accounts (2010-)","300","Greece","5610","Import quantity","01231","Chillies and peppers, green (Capsicum spp. and Pimenta spp.)","2022","2022","t",6844.75,"A","Official figure"]
["SCL","Supply Utilization Accounts (2010-)","300","Greece","5910","Export quantity","01231","Chillies and peppers, green (Capsicum spp. and Pimenta spp.)","2022","2022","t",16478.84,"A","Official figure"]
["SCL","Supply Utilization Accounts (2010-)","300","Greece","5016","Loss","01231","Chillies and peppers, green (Capsicum spp. and Pimenta spp.)","2022","2022","t",13416.61,"I","Imputed value"]
["SCL","Supply Utilization Accounts (2010-)","300","Greece","5165","Other uses (non-food)","01231","Chillies and peppers, green (Capsicum spp. and Pimenta spp.)","2022","2022","t",1292.5999999999999,"E","Estimated value"]
["SCL","Supply Utilization Accounts (2010-)","300","Greece","5166","Residuals","01231","Chillies and peppers, green (Capsicum spp. and Pimenta spp.)","2022","2022","t",0,"I","Imputed value"]
["SCL","Supply Utilization Accounts (2010-)","300","Greece","5141","Food supply quantity","01231","Chillies and peppers, green (Capsicum spp. and Pimenta spp.)","2022","2022","t",111466.7,"E","Estimated value"]
["SCL","Supply Utilization Accounts (2010-)","300","Greece","5510","Production","01232","Cucumbers and gherkins","2020","2020","t",158510,"A","Official figure"]
["SCL","Supply Utilization Accounts (2010-)","300","Greece","5610","Import quantity","01232","Cucumbers and gherkins","2020","2020","t",513.69000000000005,"A","Official figure"]
["SCL","Supply Utilization Accounts (2010-)","300","Greece","5910","Export quantity","01232","Cucumbers and gherkins","2020","2020","t",38942.58,"A","Official figure"]
["SCL","Supply Utilization Accounts (2010-)","300","Greece","5520","Feed","01232","Cucumbers and gherkins","2020","2020","t",8150.25,"E","Estimated value"]
["SCL","Supply Utilization Accounts (2010-)","300","Greece","5016","Loss","01232","Cucumbers and gherkins","2020","2020","t",15671.1,"I","Imputed value"]
["SCL","Supply Utilization Accounts (2010-)","300","Greece","5023","Processed","01232","Cucumbers and gherkins","2020","2020","t",8293.84,"E","Estimated value"]
["SCL","Supply Utilization Accounts (2010-)","300","Greece","5165","Other uses (non-food)","01232","Cucumbers and gherkins","2020","2020","t",0,"E","Estimated value"]
["SCL","Supply Utilization Accounts (2010-)","300","Greece","5166","Residuals","01232","Cucumbers and gherkins","2020","2020","t",0,"I","Imputed value"]
["SCL","Supply Utilization Accounts (2010-)","300","Greece","5141","Food supply quantity","01232","Cucumbers and gherkins","2020","2020","t",87965.93,"E","Estimated value"]
["SCL","Supply Utilization Accounts (2010-)","300","Greece","5510","Production","01232","Cucumbers and gherkins","2021","2021","t",155800,"A","Official figure"]
["SCL","Supply Utilization Accounts (2010-)","300","Greece","5610","Import quantity","01232","Cucumbers and gherkins","2021","2021","t",1196.42,"A","Official figure"]
["SCL","Supply Utilization Accounts (2010-)","300","Greece","5910","Export quantity","01232","Cucumbers and gherkins","2021","2021","t",50763.86,"A","Official figure"]
["SCL","Supply Utilization Accounts (2010-)","300","Greece","5520","Feed","01232","Cucumbers and gherkins","2021","2021","t",5848.29,"E","Estimated value"]
["SCL","Supply Utilization Accounts (2010-)","300","Greece","5016","Loss","01232","Cucumbers and gherkins","2021","2021","t",15571.32,"I","Imputed value"]
["SCL","Supply Utilization Accounts (2010-)","300","Greece","5023","Processed","01232","Cucumbers and gherkins","2021","2021","t",7530.41,"E","Estimated value"]
["SCL","Supply Utilization Accounts (2010-)","300","Greece","5166","Residuals","01232","Cucumbers and gherkins","2021","2021","t",0,"I","Imputed value"]
["SCL","Supply Utilization Accounts (2010-)","300","Greece","5141","Food supply quantity","01232","Cucumbers and gherkins","2021","2021","t",77282.55,"E","Estimated value"]
["SCL","Supply Utilization Accounts (2010-)","300","Greece","5510","Production","01232","Cucumbers and gherkins","2022","2022","t",142490,"A","Official figure"]
["SCL","Supply Utilization Accounts (2010-)","300","Greece","5610","Import quantity","01232","Cucumbers and gherkins","2022","2022","t",778.78,"A","Official figure"]
["SCL","Supply Utilization Accounts (2010-)","300","Greece","5910","Export quantity","01232","Cucumbers and gherkins","2022","2022","t",51458.03,"A","Official figure"]
["SCL","Supply Utilization Accounts (2010-)","300","Greece","5520","Feed","01232","Cucumbers and gherkins","2022","2022","t",4609.21,"E","Estimated value"]
["SCL","Supply Utilization Accounts (2010-)","300","Greece","5016","Loss","01232","Cucumbers and gherkins","2022","2022","t",14209.77,"I","Imputed value"]
["SCL","Supply Utilization Accounts (2010-)","300","Greece","5023","Processed","01232","Cucumbers and gherkins","2022","2022","t",6356.43,"E","Estimated value"]
["SCL","Supply Utilization Accounts (2010-)","300","Greece","5166","Residuals","01232","Cucumbers and gherkins","2022","2022","t",0,"I","Imputed value"]
["SCL","Supply Utilization Accounts (2010-)","300","Greece","5141","Food supply quantity","01232","Cucumbers and gherkins","2022","2022","t",66635.34,"E","Estimated value"]
["SCL","Supply Utilization Accounts (2010-)","300","Greece","5510","Production","01233","Eggplants (aubergines)","2020","2020","t",60980,"A","Official figure"]
["SCL","Supply Utilization Accounts (2010-)","300","Greece","5610","Import quantity","01233","Eggplants (aubergines)","2020","2020","t",1360.29,"A","Official figure"]
["SCL","Supply Utilization Accounts (2010-)","300","Greece","5910","Export quantity","01233","Eggplants (aubergines)","2020","2020","t",1874.18,"A","Official figure"]
["SCL","Supply Utilization Accounts (2010-)","300","Greece","5016","Loss","01233","Eggplants (aubergines)","2020","2020","t",5381.38,"I","Imputed value"]
["SCL","Supply Utilization Accounts (2010-)","300","Greece","5165","Other uses (non-food)","01233","Eggplants (aubergines)","2020","2020","t",0,"E","Estimated value"]
["SCL","Supply Utilization Accounts (2010-)","300","Greece","5166","Residuals","01233","Eggplants (aubergines)","2020","2020","t",0,"I","Imputed value"]
["SCL","Supply Utilization Accounts (2010-)","300","Greece","5141","Food supply quantity","01233","Eggplants (aubergines)","2020","2020","t",55084.72,"E","Estimated value"]
["SCL","Supply Utilization Accounts (2010-)","300","Greece","5510","Production","01233","Eggplants (aubergines)","2021","2021","t",60030,"A","Official figure"]
["SCL","Supply Utilization Accounts (2010-)","300","Greece","5610","Import quantity","01233","Eggplants (aubergines)","2021","2021","t",1761.09,"A","Official figure"]
["SCL","Supply Utilization Accounts (2010-)","300","Greece","5910","Export quantity","01233","Eggplants (aubergines)","2021","2021","t",2249.92,"A","Official figure"]
["SCL","Supply Utilization Accounts (2010-)","300","Greece","5016","Loss","01233","Eggplants (aubergines)","2021","2021","t",5084.59,"I","Imputed value"]
["SCL","Supply Utilization Accounts (2010-)","300","Greece","5165","Other uses (non-food)","01233","Eggplants (aubergines)","2021","2021","t",0,"E","Estimated value"]
["SCL","Supply Utilization Accounts (2010-)","300","Greece","5166","Residuals","01233","Eggplants (aubergines)","2021","2021","t",0,"I","Imputed value"]
["SCL","Supply Utilization Accounts (2010-)","300","Greece","5141","Food supply quantity","01233","Eggplants (aubergines)","2021","2021","t",54456.57,"E","Estimated value"]
["SCL","Supply Utilization Accounts (2010-)","300","Greece","5510","Production","01233","Eggplants (aubergines)","2022","2022","t",44500,"A","Official figure"]
["SCL","Supply Utilization Accounts (2010-)","300","Greece","5610","Import quantity","01233","Eggplants (aubergines)","2022","2022","t",2017.03,"A","Official figure"]
["SCL","Supply Utilization Accounts (2010-)","300","Greece","5910","Export quantity","01233","Eggplants (aubergines)","2022","2022","t",2102.21,"A","Official figure"]
["SCL","Supply Utilization Accounts (2010-)","300","Greece","5016","Loss","01233","Eggplants (aubergines)","2022","2022","t",3827.74,"I","Imputed value"]
["SCL","Supply Utilization Accounts (2010-)","300","Greece","5165","Other uses (non-food)","01233","Eggplants (aubergines)","2022","2022","t",0,"E","Estimated value"]
["SCL","Supply Utilization Accounts (2010-)","300","Greece","5166","Residuals","01233","Eggplants (aubergines)","2022","2022","t",0,"I","Imputed value"]
["SCL","Supply Utilization Accounts (2010-)","300","Greece","5141","Food supply quantity","01233","Eggplants (aubergines)","2022","2022","t",40587.08,"E","Estimated value"]
["SCL","Supply Utilization Accounts (2010-)","348","Hungary","5510","Production","01311","Avocados","2020","2020","t",0,"A","Official figure"]
["SCL","Supply Utilization Accounts (2010-)","348","Hungary","5610","Import quantity","01311","Avocados","2020","2020","t",5242.95,"A","Official figure"]
["SCL","Supply Utilization Accounts (2010-)","348","Hungary","5910","Export quantity","01311","Avocados","2020","2020","t",2105.2800000000002,"A","Official figure"]
["SCL","Supply Utilization Accounts (2010-)","348","Hungary","5166","Residuals","01311","Avocados","2020","2020","t",0,"I","Imputed value"]
["SCL","Supply Utilization Accounts (2010-)","348","Hungary","5141","Food supply quantity","01311","Avocados","2020","2020","t",3137.67,"E","Estimated value"]
["SCL","Supply Utilization Accounts (2010-)","348","Hungary","5510","Production","01311","Avocados","2021","2021","t",0,"A","Official figure"]
["SCL","Supply Utilization Accounts (2010-)","348","Hungary","5610","Import quantity","01311","Avocados","2021","2021","t",7262.63,"A","Official figure"]
["SCL","Supply Utilization Accounts (2010-)","348","Hungary","5910","Export quantity","01311","Avocados","2021","2021","t",3200.49,"A","Official figure"]
["SCL","Supply Utilization Accounts (2010-)","348","Hungary","5166","Residuals","01311","Avocados","2021","2021","t",0,"I","Imputed value"]
["SCL","Supply Utilization Accounts (2010-)","348","Hungary","5141","Food supply quantity","01311","Avocados","2021","2021","t",4062.14,"E","Estimated value"]
["SCL","Supply Utilization Accounts (2010-)","348","Hungary","5510","Production","01311","Avocados","2022","2022","t",0,"A","Official figure"]
["SCL","Supply Utilization Accounts (2010-)","348","Hungary","5610","Import quantity","01311","Avocados","2022","2022","t",7874.87,"A","Official figure"]
["SCL","Supply Utilization Accounts (2010-)","348","Hungary","5910","Export quantity","01311","Avocados","2022","2022","t",2934.32,"A","Official figure"]
["SCL","Supply Utilization Accounts (2010-)","348","Hungary","5166","Residuals","01311","Avocados","2022","2022","t",0,"I","Imputed value"]
["SCL","Supply Utilization Accounts (2010-)","348","Hungary","5141","Food supply quantity","01311","Avocados","2022","2022","t",4940.55,"E","Estimated value"]
["SCL","Supply Utilization Accounts (2010-)","348","Hungary","5510","Production","01312","Bananas","2020","2020","t",0,"A","Official figure"]
["SCL","Supply Utilization Accounts (2010-)","348","Hungary","5610","Import quantity","01312","Bananas","2020","2020","t",53766.39,"A","Official figure"]
["SCL","Supply Utilization Accounts (2010-)","348","Hungary","5910","Export quantity","01312","Bananas","2020","2020","t",302.07,"A","Official figure"]
["SCL","Supply Utilization Accounts (2010-)","348","Hungary","5016","Loss","01312","Bananas","2020","2020","t",2688.32,"I","Imputed value"]
["SCL","Supply Utilization Accounts (2010-)","348","Hungary","5166","Residuals","01312","Bananas","2020","2020","t",0,"I","Imputed value"]
["SCL","Supply Utilization Accounts (2010-)","348","Hungary","5141","Food supply quantity","01312","Bananas","2020","2020","t",50776,"E","Estimated value"]
["SCL","Supply Utilization Accounts (2010-)","348","Hungary","5510","Production","01312","Bananas","2021","2021","t",0,"A","Official figure"]
["SCL","Supply Utilization Accounts (2010-)","348","Hungary","5610","Import quantity","01312","Bananas","2021","2021","t",50447.91,"A","Official figure"]
["SCL","Supply Utilization Accounts (2010-)","348","Hungary","5910","Export quantity","01312","Bananas","2021","2021","t",9788.49,"A","Official figure"]
["SCL","Supply Utilization Accounts (2010-)","348","Hungary","5016","Loss","01312","Bananas","2021","2021","t",2522.4,"I","Imputed value"]
["SCL","Supply Utilization Accounts (2010-)","348","Hungary","5166","Residuals","01312","Bananas","2021","2021","t",0,"I","Imputed value"]
["SCL","Supply Utilization Accounts (2010-)","348","Hungary","5141","Food supply quantity","01312","Bananas","2021","2021","t",38137.019999999997,"E","Estimated value"]
["SCL","Supply Utilization Accounts (2010-)","348","Hungary","5510","Production","01312","Bananas","2022","2022","t",0,"A","Official figure"]
["SCL","Supply Utilization Accounts (2010-)","348","Hungary","5610","Import quantity","01312","Bananas","2022","2022","t",49568.36,"A","Official figure"]
["SCL","Supply Utilization Accounts (2010-)","348","Hungary","5910","Export quantity","01312","Bananas","2022","2022","t",17394.150000000001,"A","Official figure"]
["SCL","Supply Utilization Accounts (2010-)","348","Hungary","5016","Loss","01312","Bananas","2022","2022","t",2478.42,"I","Imputed value"]
["SCL","Supply Utilization Accounts (2010-)","348","Hungary","5166","Residuals","01312","Bananas","2022","2022","t",0,"I","Imputed value"]
["SCL","Supply Utilization Accounts (2010-)","348","Hungary","5141","Food supply quantity","01312","Bananas","2022","2022","t",29695.79,"E","Estimated value"]
["SCL","Supply Utilization Accounts (2010-)","348","Hungary","5510","Production","01231","Chillies and peppers, green (Capsicum spp. and Pimenta spp.)","2020","2020","t",87120,"A","Official figure"]
["SCL","Supply Utilization Accounts (2010-)","348","Hungary","5610","Import quantity","01231","Chillies and peppers, green (Capsicum spp. and Pimenta spp.)","2020","2020","t",15483.68,"A","Official figure"]
["SCL","Supply Utilization Accounts (2010-)","348","Hungary","5910","Export quantity","01231","Chillies and peppers, green (Capsicum spp. and Pimenta spp.)","2020","2020","t",19522.93,"A","Official figure"]
["SCL","Supply Utilization Accounts (2010-)","348","Hungary","5016","Loss","01231","Chillies and peppers, green (Capsicum spp. and Pimenta spp.)","2020","2020","t",3806.1,"I","Imputed value"]
["SCL","Supply Utilization Accounts (2010-)","348","Hungary","5023","Processed","01231","Chillies and peppers, green (Capsicum spp. and Pimenta spp.)","2020","2020","t",32088.400000000001,"E","Estimated value"]
["SCL","Supply Utilization Accounts (2010-)","348","Hungary","5166","Residuals","01231","Chillies and peppers, green (Capsicum spp. and Pimenta spp.)","2020","2020","t",0,"I","Imputed value"]
["SCL","Supply Utilization Accounts (2010-)","348","Hungary","5141","Food supply quantity","01231","Chillies and peppers, green (Capsicum spp. and Pimenta spp.)","2020","2020","t",47186.25,"E","Estimated value"]
["SCL","Supply Utilization Accounts (2010-)","348","Hungary","5510","Production","01231","Chillies and peppers, green (Capsicum spp. and Pimenta spp.)","2021","2021","t",92790,"A","Official figure"]
["SCL","Supply Utilization Accounts (2010-)","348","Hungary","5610","Import quantity","01231","Chillies and peppers, green (Capsicum spp. and Pimenta spp.)","2021","2021","t",16141.14,"A","Official figure"]
["SCL","Supply Utilization Accounts (2010-)","348","Hungary","5910","Export quantity","01231","Chillies and peppers, green (Capsicum spp. and Pimenta spp.)","2021","2021","t",24047.89,"A","Official figure"]
["SCL","Supply Utilization Accounts (2010-)","348","Hungary","5016","Loss","01231","Chillies and peppers, green (Capsicum spp. and Pimenta spp.)","2021","2021","t",4037.12,"I","Imputed value"]
["SCL","Supply Utilization Accounts (2010-)","348","Hungary","5023","Processed","01231","Chillies and peppers, green (Capsicum spp. and Pimenta spp.)","2021","2021","t",32737.45,"E","Estimated value"]
["SCL","Supply Utilization Accounts (2010-)","348","Hungary","5166","Residuals","01231","Chillies and peppers, green (Capsicum spp. and Pimenta spp.)","2021","2021","t",0,"I","Imputed value"]
["SCL","Supply Utilization Accounts (2010-)","348","Hungary","5141","Food supply quantity","01231","Chillies and peppers, green (Capsicum spp. and Pimenta spp.)","2021","2021","t",48108.68,"E","Estimated value"]
["SCL","Supply Utilization Accounts (2010-)","348","Hungary","5510","Production","01231","Chillies and peppers, green (Capsicum spp. and Pimenta spp.)","2022","2022","t",84990,"A","Official figure"]
["SCL","Supply Utilization Accounts (2010-)","348","Hungary","5610","Import quantity","01231","Chillies and peppers, green (Capsicum spp. and Pimenta spp.)","2022","2022","t",12162.43,"A","Official figure"]
["SCL","Supply Utilization Accounts (2010-)","348","Hungary","5910","Export quantity","01231","Chillies and peppers, green (Capsicum spp. and Pimenta spp.)","2022","2022","t",20048.27,"A","Official figure"]
["SCL","Supply Utilization Accounts (2010-)","348","Hungary","5016","Loss","01231","Chillies and peppers, green (Capsicum spp. and Pimenta spp.)","2022","2022","t",3600.59,"I","Imputed value"]
["SCL","Supply Utilization Accounts (2010-)","348","Hungary","5023","Processed","01231","Chillies and peppers, green (Capsicum spp. and Pimenta spp.)","2022","2022","t",29749.98,"E","Estimated value"]
["SCL","Supply Utilization Accounts (2010-)","348","Hungary","5166","Residuals","01231","Chillies and peppers, green (Capsicum spp. and Pimenta spp.)","2022","2022","t",0,"I","Imputed value"]
["SCL","Supply Utilization Accounts (2010-)","348","Hungary","5141","Food supply quantity","01231","Chillies and peppers, green (Capsicum spp. and Pimenta spp.)","2022","2022","t",43753.59,"E","Estimated value"]
["SCL","Supply Utilization Accounts (2010-)","348","Hungary","5510","Production","01232","Cucumbers and gherkins","2020","2020","t",24620,"A","Official figure"]
["SCL","Supply Utilization Accounts (2010-)","348","Hungary","5610","Import quantity","01232","Cucumbers and gherkins","2020","2020","t",29521.47,"A","Official figure"]
["SCL","Supply Utilization Accounts (2010-)","348","Hungary","5910","Export quantity","01232","Cucumbers and gherkins","2020","2020","t",12951.79,"A","Official figure"]
["SCL","Supply Utilization Accounts (2010-)","348","Hungary","5016","Loss","01232","Cucumbers and gherkins","2020","2020","t",1412.13,"I","Imputed value"]
["SCL","Supply Utilization Accounts (2010-)","348","Hungary","5023","Processed","01232","Cucumbers and gherkins","2020","2020","t",11720.56,"E","Estimated value"]
["SCL","Supply Utilization Accounts (2010-)","348","Hungary","5166","Residuals","01232","Cucumbers and gherkins","2020","2020","t",0,"I","Imputed value"]
["SCL","Supply Utilization Accounts (2010-)","348","Hungary","5141","Food supply quantity","01232","Cucumbers and gherkins","2020","2020","t",28056.99,"E","Estimated value"]
["SCL","Supply Utilization Accounts (2010-)","348","Hungary","5510","Production","01232","Cucumbers and gherkins","2021","2021","t",26050,"A","Official figure"]
["SCL","Supply Utilization Accounts (2010-)","348","Hungary","5610","Import quantity","01232","Cucumbers and gherkins","2021","2021","t",33734.29,"A","Official figure"]
["SCL","Supply Utilization Accounts (2010-)","348","Hungary","5910","Export quantity","01232","Cucumbers and gherkins","2021","2021","t",16170.39,"A","Official figure"]
["SCL","Supply Utilization Accounts (2010-)","348","Hungary","5016","Loss","01232","Cucumbers and gherkins","2021","2021","t",1554.17,"I","Imputed value"]
["SCL","Supply Utilization Accounts (2010-)","348","Hungary","5023","Processed","01232","Cucumbers and gherkins","2021","2021","t",12449.99,"E","Estimated value"]
["SCL","Supply Utilization Accounts (2010-)","348","Hungary","5166","Residuals","01232","Cucumbers and gherkins","2021","2021","t",0,"I","Imputed value"]
["SCL","Supply Utilization Accounts (2010-)","348","Hungary","5141","Food supply quantity","01232","Cucumbers and gherkins","2021","2021","t",29609.73,"E","Estimated value"]
["SCL","Supply Utilization Accounts (2010-)","348","Hungary","5510","Production","01232","Cucumbers and gherkins","2022","2022","t",22940,"A","Official figure"]
["SCL","Supply Utilization Accounts (2010-)","348","Hungary","5610","Import quantity","01232","Cucumbers and gherkins","2022","2022","t",24343.56,"A","Official figure"]
["SCL","Supply Utilization Accounts (2010-)","348","Hungary","5910","Export quantity","01232","Cucumbers and gherkins","2022","2022","t",10473.16,"A","Official figure"]
["SCL","Supply Utilization Accounts (2010-)","348","Hungary","5016","Loss","01232","Cucumbers and gherkins","2022","2022","t",1229.2,"I","Imputed value"]
["SCL","Supply Utilization Accounts (2010-)","348","Hungary","5023","Processed","01232","Cucumbers and gherkins","2022","2022","t",10502.3,"E","Estimated value"]
["SCL","Supply Utilization Accounts (2010-)","348","Hungary","5166","Residuals","01232","Cucumbers and gherkins","2022","2022","t",0,"I","Imputed value"]
["SCL","Supply Utilization Accounts (2010-)","348","Hungary","5141","Food supply quantity","01232","Cucumbers and gherkins","2022","2022","t",25078.9,"E","Estimated value"]
["SCL","Supply Utilization Accounts (2010-)","348","Hungary","5510","Production","01233","Eggplants (aubergines)","2020","2020","t",830,"A","Official figure"]
["SCL","Supply Utilization Accounts (2010-)","348","Hungary","5610","Import quantity","01233","Eggplants (aubergines)","2020","2020","t",1650.79,"A","Official figure"]
["SCL","Supply Utilization Accounts (2010-)","348","Hungary","5910","Export quantity","01233","Eggplants (aubergines)","2020","2020","t",30.16,"A","Official figure"]
["SCL","Supply Utilization Accounts (2010-)","348","Hungary","5016","Loss","01233","Eggplants (aubergines)","2020","2020","t",42.47,"I","Imputed value"]
["SCL","Supply Utilization Accounts (2010-)","348","Hungary","5166","Residuals","01233","Eggplants (aubergines)","2020","2020","t",0,"I","Imputed value"]
["SCL","Supply Utilization Accounts (2010-)","348","Hungary","5141","Food supply quantity","01233","Eggplants (aubergines)","2020","2020","t",2408.16,"E","Estimated value"]
["SCL","Supply Utilization Accounts (2010-)","348","Hungary","5510","Production","01233","Eggplants (aubergines)","2021","2021","t",1060,"A","Official figure"]
["SCL","Supply Utilization Accounts (2010-)","348","Hungary","5610","Import quantity","01233","Eggplants (aubergines)","2021","2021","t",1679.32,"A","Official figure"]
["SCL","Supply Utilization Accounts (2010-)","348","Hungary","5910","Export quantity","01233","Eggplants (aubergines)","2021","2021","t",42.98,"A","Official figure"]
["SCL","Supply Utilization Accounts (2010-)","348","Hungary","5016","Loss","01233","Eggplants (aubergines)","2021","2021","t",46.88,"I","Imputed value"]
["SCL","Supply Utilization Accounts (2010-)","348","Hungary","5166","Residuals","01233","Eggplants (aubergines)","2021","2021","t",0,"I","Imputed value"]
["SCL","Supply Utilization Accounts (2010-)","348","Hungary","5141","Food supply quantity","01233","Eggplants (aubergines)","2021","2021","t",2649.45,"E","Estimated value"]
["SCL","Supply Utilization Accounts (2010-)","348","Hungary","5510","Production","01233","Eggplants (aubergines)","2022","2022","t",740,"A","Official figure"]
["SCL","Supply Utilization Accounts (2010-)","348","Hungary","5610","Import quantity","01233","Eggplants (aubergines)","2022","2022","t",1416.02,"A","Official figure"]
["SCL","Supply Utilization Accounts (2010-)","348","Hungary","5910","Export quantity","01233","Eggplants (aubergines)","2022","2022","t",15.29,"A","Official figure"]
["SCL","Supply Utilization Accounts (2010-)","348","Hungary","5016","Loss","01233","Eggplants (aubergines)","2022","2022","t",36.9,"I","Imputed value"]
["SCL","Supply Utilization Accounts (2010-)","348","Hungary","5166","Residuals","01233","Eggplants (aubergines)","2022","2022","t",0,"I","Imputed value"]
["SCL","Supply Utilization Accounts (2010-)","348","Hungary","5141","Food supply quantity","01233","Eggplants (aubergines)","2022","2022","t",2103.84,"E","Estimated value"]
["SCL","Supply Utilization Accounts (2010-)","352","Iceland","5610","Import quantity","01311","Avocados","2020","2020","t",1046.58,"I","Imputed value"]
["SCL","Supply Utilization Accounts (2010-)","352","Iceland","5910","Export quantity","01311","Avocados","2020","2020","t",0.03,"A","Official figure"]
["SCL","Supply Utilization Accounts (2010-)","352","Iceland","5016","Loss","01311","Avocados","2020","2020","t",20.98,"I","Imputed value"]
["SCL","Supply Utilization Accounts (2010-)","352","Iceland","5164","Tourist consumption","01311","Avocados","2020","2020","t",0,"M","Missing value (data cannot exist, not applicable)"]
["SCL","Supply Utilization Accounts (2010-)","352","Iceland","5166","Residuals","01311","Avocados","2020","2020","t",0,"I","Imputed value"]
["SCL","Supply Utilization Accounts (2010-)","352","Iceland","5141","Food supply quantity","01311","Avocados","2020","2020","t",1025.58,"E","Estimated value"]
["SCL","Supply Utilization Accounts (2010-)","352","Iceland","5610","Import quantity","01311","Avocados","2021","2021","t",1030.6600000000001,"I","Imputed value"]
["SCL","Supply Utilization Accounts (2010-)","352","Iceland","5910","Export quantity","01311","Avocados","2021","2021","t",0.46,"A","Official figure"]
["SCL","Supply Utilization Accounts (2010-)","352","Iceland","5016","Loss","01311","Avocados","2021","2021","t",20.63,"I","Imputed value"]
["SCL","Supply Utilization Accounts (2010-)","352","Iceland","5166","Residuals","01311","Avocados","2021","2021","t",0,"I","Imputed value"]
["SCL","Supply Utilization Accounts (2010-)","352","Iceland","5141","Food supply quantity","01311","Avocados","2021","2021","t",1009.57,"E","Estimated value"]
["SCL","Supply Utilization Accounts (2010-)","352","Iceland","5610","Import quantity","01311","Avocados","2022","2022","t",975.99,"A","Official figure"]
["SCL","Supply Utilization Accounts (2010-)","352","Iceland","5910","Export quantity","01311","Avocados","2022","2022","t",1.5,"A","Official figure"]
["SCL","Supply Utilization Accounts (2010-)","352","Iceland","5016","Loss","01311","Avocados","2022","2022","t",19.53,"I","Imputed value"]
["SCL","Supply Utilization Accounts (2010-)","352","Iceland","5166","Residuals","01311","Avocados","2022","2022","t",0,"I","Imputed value"]
["SCL","Supply Utilization Accounts (2010-)","352","Iceland","5141","Food supply quantity","01311","Avocados","2022","2022","t",954.95,"E","Estimated value"]
["SCL","Supply Utilization Accounts (2010-)","352","Iceland","5610","Import quantity","01312","Bananas","2020","2020","t",3245.66,"I","Imputed value"]
["SCL","Supply Utilization Accounts (2010-)","352","Iceland","5910","Export quantity","01312","Bananas","2020","2020","t",127.66,"I","Imputed value"]
["SCL","Supply Utilization Accounts (2010-)","352","Iceland","5016","Loss","01312","Bananas","2020","2020","t",64.23,"I","Imputed value"]
["SCL","Supply Utilization Accounts (2010-)","352","Iceland","5164","Tourist consumption","01312","Bananas","2020","2020","t",0,"M","Missing value (data cannot exist, not applicable)"]
["SCL","Supply Utilization Accounts (2010-)","352","Iceland","5166","Residuals","01312","Bananas","2020","2020","t",0,"I","Imputed value"]
["SCL","Supply Utilization Accounts (2010-)","352","Iceland","5141","Food supply quantity","01312","Bananas","2020","2020","t",3053.77,"E","Estimated value"]
["SCL","Supply Utilization Accounts (2010-)","352","Iceland","5610","Import quantity","01312","Bananas","2021","2021","t",6427.67,"I","Imputed value"]
["SCL","Supply Utilization Accounts (2010-)","352","Iceland","5910","Export quantity","01312","Bananas","2021","2021","t",265.07,"I","Imputed value"]
["SCL","Supply Utilization Accounts (2010-)","352","Iceland","5016","Loss","01312","Bananas","2021","2021","t",128.1,"I","Imputed value"]
["SCL","Supply Utilization Accounts (2010-)","352","Iceland","5166","Residuals","01312","Bananas","2021","2021","t",0,"I","Imputed value"]
["SCL","Supply Utilization Accounts (2010-)","352","Iceland","5141","Food supply quantity","01312","Bananas","2021","2021","t",6034.5,"E","Estimated value"]
["SCL","Supply Utilization Accounts (2010-)","352","Iceland","5610","Import quantity","01312","Bananas","2022","2022","t",5313.22,"A","Official figure"]
["SCL","Supply Utilization Accounts (2010-)","352","Iceland","5910","Export quantity","01312","Bananas","2022","2022","t",471.26,"A","Official figure"]
["SCL","Supply Utilization Accounts (2010-)","352","Iceland","5016","Loss","01312","Bananas","2022","2022","t",105.89,"I","Imputed value"]
["SCL","Supply Utilization Accounts (2010-)","352","Iceland","5166","Residuals","01312","Bananas","2022","2022","t",0,"I","Imputed value"]
["SCL","Supply Utilization Accounts (2010-)","352","Iceland","5141","Food supply quantity","01312","Bananas","2022","2022","t",4736.0600000000004,"E","Estimated value"]
["SCL","Supply Utilization Accounts (2010-)","352","Iceland","5610","Import quantity","01231","Chillies and peppers, green (Capsicum spp. and Pimenta spp.)","2020","2020","t",1516.46,"I","Imputed value"]
["SCL","Supply Utilization Accounts (2010-)","352","Iceland","5910","Export quantity","01231","Chillies and peppers, green (Capsicum spp. and Pimenta spp.)","2020","2020","t",0.63,"A","Official figure"]
["SCL","Supply Utilization Accounts (2010-)","352","Iceland","5164","Tourist consumption","01231","Chillies and peppers, green (Capsicum spp. and Pimenta spp.)","2020","2020","t",0,"M","Missing value (data cannot exist, not applicable)"]
["SCL","Supply Utilization Accounts (2010-)","352","Iceland","5166","Residuals","01231","Chillies and peppers, green (Capsicum spp. and Pimenta spp.)","2020","2020","t",0,"I","Imputed value"]
["SCL","Supply Utilization Accounts (2010-)","352","Iceland","5141","Food supply quantity","01231","Chillies and peppers, green (Capsicum spp. and Pimenta spp.)","2020","2020","t",1515.82,"E","Estimated value"]
["SCL","Supply Utilization Accounts (2010-)","352","Iceland","5610","Import quantity","01231","Chillies and peppers, green (Capsicum spp. and Pimenta spp.)","2021","2021","t",1743.22,"I","Imputed value"]
["SCL","Supply Utilization Accounts (2010-)","352","Iceland","5910","Export quantity","01231","Chillies and peppers, green (Capsicum spp. and Pimenta spp.)","2021","2021","t",0.64,"A","Official figure"]
["SCL","Supply Utilization Accounts (2010-)","352","Iceland","5166","Residuals","01231","Chillies and peppers, green (Capsicum spp. and Pimenta spp.)","2021","2021","t",0,"I","Imputed value"]
["SCL","Supply Utilization Accounts (2010-)","352","Iceland","5141","Food supply quantity","01231","Chillies and peppers, green (Capsicum spp. and Pimenta spp.)","2021","2021","t",1742.59,"E","Estimated value"]
["SCL","Supply Utilization Accounts (2010-)","352","Iceland","5610","Import quantity","01231","Chillies and peppers, green (Capsicum spp. and Pimenta spp.)","2022","2022","t",1586.17,"A","Official figure"]
["SCL","Supply Utilization Accounts (2010-)","352","Iceland","5910","Export quantity","01231","Chillies and peppers, green (Capsicum spp. and Pimenta spp.)","2022","2022","t",0.65,"A","Official figure"]
["SCL","Supply Utilization Accounts (2010-)","352","Iceland","5166","Residuals","01231","Chillies and peppers, green (Capsicum spp. and Pimenta spp.)","2022","2022","t",0,"I","Imputed value"]
["SCL","Supply Utilization Accounts (2010-)","352","Iceland","5141","Food supply quantity","01231","Chillies and peppers, green (Capsicum spp. and Pimenta spp.)","2022","2022","t",1585.52,"E","Estimated value"]
["SCL","Supply Utilization Accounts (2010-)","352","Iceland","5510","Production","01232","Cucumbers and gherkins","2020","2020","t",1808,"A","Official figure"]
["SCL","Supply Utilization Accounts (2010-)","352","Iceland","5610","Import quantity","01232","Cucumbers and gherkins","2020","2020","t",108.4,"I","Imputed value"]
["SCL","Supply Utilization Accounts (2010-)","352","Iceland","5910","Export quantity","01232","Cucumbers and gherkins","2020","2020","t",74.59,"I","Imputed value"]
["SCL","Supply Utilization Accounts (2010-)","352","Iceland","5016","Loss","01232","Cucumbers and gherkins","2020","2020","t",157.66,"I","Imputed value"]
["SCL","Supply Utilization Accounts (2010-)","352","Iceland","5164","Tourist consumption","01232","Cucumbers and gherkins","2020","2020","t",0,"M","Missing value (data cannot exist, not applicable)"]
["SCL","Supply Utilization Accounts (2010-)","352","Iceland","5166","Residuals","01232","Cucumbers and gherkins","2020","2020","t",0,"I","Imputed value"]
["SCL","Supply Utilization Accounts (2010-)","352","Iceland","5141","Food supply quantity","01232","Cucumbers and gherkins","2020","2020","t",1684.15,"E","Estimated value"]
["SCL","Supply Utilization Accounts (2010-)","352","Iceland","5510","Production","01232","Cucumbers and gherkins","2021","2021","t",2067,"A","Official figure"]
["SCL","Supply Utilization Accounts (2010-)","352","Iceland","5610","Import quantity","01232","Cucumbers and gherkins","2021","2021","t",38.49,"I","Imputed value"]
["SCL","Supply Utilization Accounts (2010-)","352","Iceland","5910","Export quantity","01232","Cucumbers and gherkins","2021","2021","t",156.96,"I","Imputed value"]
["SCL","Supply Utilization Accounts (2010-)","352","Iceland","5016","Loss","01232","Cucumbers and gherkins","2021","2021","t",173.45,"I","Imputed value"]
["SCL","Supply Utilization Accounts (2010-)","352","Iceland","5166","Residuals","01232","Cucumbers and gherkins","2021","2021","t",0,"I","Imputed value"]
["SCL","Supply Utilization Accounts (2010-)","352","Iceland","5141","Food supply quantity","01232","Cucumbers and gherkins","2021","2021","t",1775.07,"E","Estimated value"]
["SCL","Supply Utilization Accounts (2010-)","352","Iceland","5510","Production","01232","Cucumbers and gherkins","2022","2022","t",2086,"A","Official figure"]
["SCL","Supply Utilization Accounts (2010-)","352","Iceland","5610","Import quantity","01232","Cucumbers and gherkins","2022","2022","t",76.400000000000006,"A","Official figure"]
["SCL","Supply Utilization Accounts (2010-)","352","Iceland","5910","Export quantity","01232","Cucumbers and gherkins","2022","2022","t",207.77,"A","Official figure"]
["SCL","Supply Utilization Accounts (2010-)","352","Iceland","5016","Loss","01232","Cucumbers and gherkins","2022","2022","t",178.14,"I","Imputed value"]
["SCL","Supply Utilization Accounts (2010-)","352","Iceland","5166","Residuals","01232","Cucumbers and gherkins","2022","2022","t",0,"I","Imputed value"]
["SCL","Supply Utilization Accounts (2010-)","352","Iceland","5141","Food supply quantity","01232","Cucumbers and gherkins","2022","2022","t",1776.49,"E","Estimated value"]
["SCL","Supply Utilization Accounts (2010-)","352","Iceland","5610","Import quantity","01233","Eggplants (aubergines)","2020","2020","t",100.73,"I","Imputed value"]
["SCL","Supply Utilization Accounts (2010-)","352","Iceland","5910","Export quantity","01233","Eggplants (aubergines)","2020","2020","t",0,"A","Official figure"]
["SCL","Supply Utilization Accounts (2010-)","352","Iceland","5164","Tourist consumption","01233","Eggplants (aubergines)","2020","2020","t",0,"M","Missing value (data cannot exist, not applicable)"]
["SCL","Supply Utilization Accounts (2010-)","352","Iceland","5166","Residuals","01233","Eggplants (aubergines)","2020","2020","t",0,"I","Imputed value"]
["SCL","Supply Utilization Accounts (2010-)","352","Iceland","5141","Food supply quantity","01233","Eggplants (aubergines)","2020","2020","t",100.73,"E","Estimated value"]
["SCL","Supply Utilization Accounts (2010-)","352","Iceland","5610","Import quantity","01233","Eggplants (aubergines)","2021","2021","t",117.32,"I","Imputed value"]
["SCL","Supply Utilization Accounts (2010-)","352","Iceland","5910","Export quantity","01233","Eggplants (aubergines)","2021","2021","t",0,"A","Official figure"]
["SCL","Supply Utilization Accounts (2010-)","352","Iceland","5166","Residuals","01233","Eggplants (aubergines)","2021","2021","t",0,"I","Imputed value"]
["SCL","Supply Utilization Accounts (2010-)","352","Iceland","5141","Food supply quantity","01233","Eggplants (aubergines)","2021","2021","t",117.32,"E","Estimated value"]
["SCL","Supply Utilization Accounts (2010-)","352","Iceland","5610","Import quantity","01233","Eggplants (aubergines)","2022","2022","t",123.02,"A","Official figure"]
["SCL","Supply Utilization Accounts (2010-)","352","Iceland","5910","Export quantity","01233","Eggplants (aubergines)","2022","2022","t",0.67,"A","Official figure"]
["SCL","Supply Utilization Accounts (2010-)","352","Iceland","5166","Residuals","01233","Eggplants (aubergines)","2022","2022","t",0,"I","Imputed value"]
["SCL","Supply Utilization Accounts (2010-)","352","Iceland","5141","Food supply quantity","01233","Eggplants (aubergines)","2022","2022","t",122.35,"E","Estimated value"]
["SCL","Supply Utilization Accounts (2010-)","372","Ireland","5510","Production","01311","Avocados","2020","2020","t",0,"A","Official figure"]
["SCL","Supply Utilization Accounts (2010-)","372","Ireland","5610","Import quantity","01311","Avocados","2020","2020","t",5027.41,"A","Official figure"]
["SCL","Supply Utilization Accounts (2010-)","372","Ireland","5910","Export quantity","01311","Avocados","2020","2020","t",121.78,"A","Official figure"]
["SCL","Supply Utilization Accounts (2010-)","372","Ireland","5016","Loss","01311","Avocados","2020","2020","t",251.37,"I","Imputed value"]
["SCL","Supply Utilization Accounts (2010-)","372","Ireland","5166","Residuals","01311","Avocados","2020","2020","t",0,"I","Imputed value"]
["SCL","Supply Utilization Accounts (2010-)","372","Ireland","5141","Food supply quantity","01311","Avocados","2020","2020","t",4654.26,"E","Estimated value"]
["SCL","Supply Utilization Accounts (2010-)","372","Ireland","5510","Production","01311","Avocados","2021","2021","t",0,"A","Official figure"]
["SCL","Supply Utilization Accounts (2010-)","372","Ireland","5610","Import quantity","01311","Avocados","2021","2021","t",6278.01,"A","Official figure"]
["SCL","Supply Utilization Accounts (2010-)","372","Ireland","5910","Export quantity","01311","Avocados","2021","2021","t",197.91,"A","Official figure"]
["SCL","Supply Utilization Accounts (2010-)","372","Ireland","5016","Loss","01311","Avocados","2021","2021","t",313.89999999999998,"I","Imputed value"]
["SCL","Supply Utilization Accounts (2010-)","372","Ireland","5166","Residuals","01311","Avocados","2021","2021","t",0,"I","Imputed value"]
["SCL","Supply Utilization Accounts (2010-)","372","Ireland","5141","Food supply quantity","01311","Avocados","2021","2021","t",5766.2,"E","Estimated value"]
["SCL","Supply Utilization Accounts (2010-)","372","Ireland","5510","Production","01311","Avocados","2022","2022","t",0,"A","Official figure"]
["SCL","Supply Utilization Accounts (2010-)","372","Ireland","5610","Import quantity","01311","Avocados","2022","2022","t",8414.4500000000007,"A","Official figure"]
["SCL","Supply Utilization Accounts (2010-)","372","Ireland","5910","Export quantity","01311","Avocados","2022","2022","t",143.97,"A","Official figure"]
["SCL","Supply Utilization Accounts (2010-)","372","Ireland","5016","Loss","01311","Avocados","2022","2022","t",420.72,"I","Imputed value"]
["SCL","Supply Utilization Accounts (2010-)","372","Ireland","5166","Residuals","01311","Avocados","2022","2022","t",0,"I","Imputed value"]
["SCL","Supply Utilization Accounts (2010-)","372","Ireland","5141","Food supply quantity","01311","Avocados","2022","2022","t",7849.76,"E","Estimated value"]
["SCL","Supply Utilization Accounts (2010-)","372","Ireland","5510","Production","01312","Bananas","2020","2020","t",0,"A","Official figure"]
["SCL","Supply Utilization Accounts (2010-)","372","Ireland","5610","Import quantity","01312","Bananas","2020","2020","t",92500.7,"A","Official figure"]
["SCL","Supply Utilization Accounts (2010-)","372","Ireland","5910","Export quantity","01312","Bananas","2020","2020","t",3970.52,"A","Official figure"]
["SCL","Supply Utilization Accounts (2010-)","372","Ireland","5016","Loss","01312","Bananas","2020","2020","t",4625.04,"I","Imputed value"]
["SCL","Supply Utilization Accounts (2010-)","372","Ireland","5023","Processed","01312","Bananas","2020","2020","t",24792.28,"E","Estimated value"]
["SCL","Supply Utilization Accounts (2010-)","372","Ireland","5166","Residuals","01312","Bananas","2020","2020","t",0,"I","Imputed value"]
["SCL","Supply Utilization Accounts (2010-)","372","Ireland","5141","Food supply quantity","01312","Bananas","2020","2020","t",59112.87,"E","Estimated value"]
["SCL","Supply Utilization Accounts (2010-)","372","Ireland","5510","Production","01312","Bananas","2021","2021","t",0,"A","Official figure"]
["SCL","Supply Utilization Accounts (2010-)","372","Ireland","5610","Import quantity","01312","Bananas","2021","2021","t",92170.52,"A","Official figure"]
["SCL","Supply Utilization Accounts (2010-)","372","Ireland","5910","Export quantity","01312","Bananas","2021","2021","t",4047.29,"A","Official figure"]
["SCL","Supply Utilization Accounts (2010-)","372","Ireland","5016","Loss","01312","Bananas","2021","2021","t",4608.53,"I","Imputed value"]
["SCL","Supply Utilization Accounts (2010-)","372","Ireland","5023","Processed","01312","Bananas","2021","2021","t",24454.18,"E","Estimated value"]
["SCL","Supply Utilization Accounts (2010-)","372","Ireland","5166","Residuals","01312","Bananas","2021","2021","t",0,"I","Imputed value"]
["SCL","Supply Utilization Accounts (2010-)","372","Ireland","5141","Food supply quantity","01312","Bananas","2021","2021","t",59060.52,"E","Estimated value"]
["SCL","Supply Utilization Accounts (2010-)","372","Ireland","5510","Production","01312","Bananas","2022","2022","t",0,"A","Official figure"]
["SCL","Supply Utilization Accounts (2010-)","372","Ireland","5610","Import quantity","01312","Bananas","2022","2022","t",91189.36,"A","Official figure"]
["SCL","Supply Utilization Accounts (2010-)","372","Ireland","5910","Export quantity","01312","Bananas","2022","2022","t",3998.49,"A","Official figure"]
["SCL","Supply Utilization Accounts (2010-)","372","Ireland","5016","Loss","01312","Bananas","2022","2022","t",4559.47,"I","Imputed value"]
["SCL","Supply Utilization Accounts (2010-)","372","Ireland","5023","Processed","01312","Bananas","2022","2022","t",24242.97,"E","Estimated value"]
["SCL","Supply Utilization Accounts (2010-)","372","Ireland","5166","Residuals","01312","Bananas","2022","2022","t",0,"I","Imputed value"]
["SCL","Supply Utilization Accounts (2010-)","372","Ireland","5141","Food supply quantity","01312","Bananas","2022","2022","t",58388.44,"E","Estimated value"]
["SCL","Supply Utilization Accounts (2010-)","372","Ireland","5610","Import quantity","01231","Chillies and peppers, green (Capsicum spp. and Pimenta spp.)","2020","2020","t",19583.2,"A","Official figure"]
["SCL","Supply Utilization Accounts (2010-)","372","Ireland","5910","Export quantity","01231","Chillies and peppers, green (Capsicum spp. and Pimenta spp.)","2020","2020","t",270.37,"A","Official figure"]
["SCL","Supply Utilization Accounts (2010-)","372","Ireland","5016","Loss","01231","Chillies and peppers, green (Capsicum spp. and Pimenta spp.)","2020","2020","t",1958.32,"I","Imputed value"]
["SCL","Supply Utilization Accounts (2010-)","372","Ireland","5166","Residuals","01231","Chillies and peppers, green (Capsicum spp. and Pimenta spp.)","2020","2020","t",0,"I","Imputed value"]
["SCL","Supply Utilization Accounts (2010-)","372","Ireland","5141","Food supply quantity","01231","Chillies and peppers, green (Capsicum spp. and Pimenta spp.)","2020","2020","t",17354.5,"E","Estimated value"]
["SCL","Supply Utilization Accounts (2010-)","372","Ireland","5610","Import quantity","01231","Chillies and peppers, green (Capsicum spp. and Pimenta spp.)","2021","2021","t",19610.57,"A","Official figure"]
["SCL","Supply Utilization Accounts (2010-)","372","Ireland","5910","Export quantity","01231","Chillies and peppers, green (Capsicum spp. and Pimenta spp.)","2021","2021","t",549.85,"A","Official figure"]
["SCL","Supply Utilization Accounts (2010-)","372","Ireland","5016","Loss","01231","Chillies and peppers, green (Capsicum spp. and Pimenta spp.)","2021","2021","t",1961.06,"I","Imputed value"]
["SCL","Supply Utilization Accounts (2010-)","372","Ireland","5166","Residuals","01231","Chillies and peppers, green (Capsicum spp. and Pimenta spp.)","2021","2021","t",0,"I","Imputed value"]
["SCL","Supply Utilization Accounts (2010-)","372","Ireland","5141","Food supply quantity","01231","Chillies and peppers, green (Capsicum spp. and Pimenta spp.)","2021","2021","t",17099.66,"E","Estimated value"]
["SCL","Supply Utilization Accounts (2010-)","372","Ireland","5610","Import quantity","01231","Chillies and peppers, green (Capsicum spp. and Pimenta spp.)","2022","2022","t",22947.78,"A","Official figure"]
["SCL","Supply Utilization Accounts (2010-)","372","Ireland","5910","Export quantity","01231","Chillies and peppers, green (Capsicum spp. and Pimenta spp.)","2022","2022","t",381.3,"A","Official figure"]
["SCL","Supply Utilization Accounts (2010-)","372","Ireland","5016","Loss","01231","Chillies and peppers, green (Capsicum spp. and Pimenta spp.)","2022","2022","t",2294.7800000000002,"I","Imputed value"]
["SCL","Supply Utilization Accounts (2010-)","372","Ireland","5166","Residuals","01231","Chillies and peppers, green (Capsicum spp. and Pimenta spp.)","2022","2022","t",0,"I","Imputed value"]
["SCL","Supply Utilization Accounts (2010-)","372","Ireland","5141","Food supply quantity","01231","Chillies and peppers, green (Capsicum spp. and Pimenta spp.)","2022","2022","t",20271.7,"E","Estimated value"]
["SCL","Supply Utilization Accounts (2010-)","372","Ireland","5510","Production","01232","Cucumbers and gherkins","2020","2020","t",1850,"A","Official figure"]
["SCL","Supply Utilization Accounts (2010-)","372","Ireland","5610","Import quantity","01232","Cucumbers and gherkins","2020","2020","t",7151.53,"A","Official figure"]
["SCL","Supply Utilization Accounts (2010-)","372","Ireland","5910","Export quantity","01232","Cucumbers and gherkins","2020","2020","t",130.16,"A","Official figure"]
["SCL","Supply Utilization Accounts (2010-)","372","Ireland","5016","Loss","01232","Cucumbers and gherkins","2020","2020","t",898.52,"I","Imputed value"]
["SCL","Supply Utilization Accounts (2010-)","372","Ireland","5166","Residuals","01232","Cucumbers and gherkins","2020","2020","t",0,"I","Imputed value"]
["SCL","Supply Utilization Accounts (2010-)","372","Ireland","5141","Food supply quantity","01232","Cucumbers and gherkins","2020","2020","t",7972.85,"E","Estimated value"]
["SCL","Supply Utilization Accounts (2010-)","372","Ireland","5510","Production","01232","Cucumbers and gherkins","2021","2021","t",1760,"A","Official figure"]
["SCL","Supply Utilization Accounts (2010-)","372","Ireland","5610","Import quantity","01232","Cucumbers and gherkins","2021","2021","t",6841.78,"A","Official figure"]
["SCL","Supply Utilization Accounts (2010-)","372","Ireland","5910","Export quantity","01232","Cucumbers and gherkins","2021","2021","t",260.83,"A","Official figure"]
["SCL","Supply Utilization Accounts (2010-)","372","Ireland","5016","Loss","01232","Cucumbers and gherkins","2021","2021","t",858.29,"I","Imputed value"]
["SCL","Supply Utilization Accounts (2010-)","372","Ireland","5166","Residuals","01232","Cucumbers and gherkins","2021","2021","t",0,"I","Imputed value"]
["SCL","Supply Utilization Accounts (2010-)","372","Ireland","5141","Food supply quantity","01232","Cucumbers and gherkins","2021","2021","t",7482.66,"E","Estimated value"]
["SCL","Supply Utilization Accounts (2010-)","372","Ireland","5510","Production","01232","Cucumbers and gherkins","2022","2022","t",1790,"A","Official figure"]
["SCL","Supply Utilization Accounts (2010-)","372","Ireland","5610","Import quantity","01232","Cucumbers and gherkins","2022","2022","t",7511.89,"A","Official figure"]
["SCL","Supply Utilization Accounts (2010-)","372","Ireland","5910","Export quantity","01232","Cucumbers and gherkins","2022","2022","t",243.17,"A","Official figure"]
["SCL","Supply Utilization Accounts (2010-)","372","Ireland","5016","Loss","01232","Cucumbers and gherkins","2022","2022","t",928.14,"I","Imputed value"]
["SCL","Supply Utilization Accounts (2010-)","372","Ireland","5166","Residuals","01232","Cucumbers and gherkins","2022","2022","t",0,"I","Imputed value"]
["SCL","Supply Utilization Accounts (2010-)","372","Ireland","5141","Food supply quantity","01232","Cucumbers and gherkins","2022","2022","t",8130.58,"E","Estimated value"]
["SCL","Supply Utilization Accounts (2010-)","372","Ireland","5610","Import quantity","01233","Eggplants (aubergines)","2020","2020","t",1118.2,"A","Official figure"]
["SCL","Supply Utilization Accounts (2010-)","372","Ireland","5910","Export quantity","01233","Eggplants (aubergines)","2020","2020","t",7.31,"A","Official figure"]
["SCL","Supply Utilization Accounts (2010-)","372","Ireland","5166","Residuals","01233","Eggplants (aubergines)","2020","2020","t",0,"I","Imputed value"]
["SCL","Supply Utilization Accounts (2010-)","372","Ireland","5141","Food supply quantity","01233","Eggplants (aubergines)","2020","2020","t",1110.8900000000001,"E","Estimated value"]
["SCL","Supply Utilization Accounts (2010-)","372","Ireland","5510","Production","01233","Eggplants (aubergines)","2021","2021","t",0,"A","Official figure"]
["SCL","Supply Utilization Accounts (2010-)","372","Ireland","5610","Import quantity","01233","Eggplants (aubergines)","2021","2021","t",1446.02,"A","Official figure"]
["SCL","Supply Utilization Accounts (2010-)","372","Ireland","5910","Export quantity","01233","Eggplants (aubergines)","2021","2021","t",3.25,"A","Official figure"]
["SCL","Supply Utilization Accounts (2010-)","372","Ireland","5166","Residuals","01233","Eggplants (aubergines)","2021","2021","t",0,"I","Imputed value"]
["SCL","Supply Utilization Accounts (2010-)","372","Ireland","5141","Food supply quantity","01233","Eggplants (aubergines)","2021","2021","t",1442.77,"E","Estimated value"]
["SCL","Supply Utilization Accounts (2010-)","372","Ireland","5610","Import quantity","01233","Eggplants (aubergines)","2022","2022","t",1465.22,"A","Official figure"]
["SCL","Supply Utilization Accounts (2010-)","372","Ireland","5910","Export quantity","01233","Eggplants (aubergines)","2022","2022","t",1.64,"A","Official figure"]
["SCL","Supply Utilization Accounts (2010-)","372","Ireland","5166","Residuals","01233","Eggplants (aubergines)","2022","2022","t",0,"I","Imputed value"]
["SCL","Supply Utilization Accounts (2010-)","372","Ireland","5141","Food supply quantity","01233","Eggplants (aubergines)","2022","2022","t",1463.58,"E","Estimated value"]
["SCL","Supply Utilization Accounts (2010-)","380","Italy","5510","Production","01311","Avocados","2020","2020","t",0,"A","Official figure"]
["SCL","Supply Utilization Accounts (2010-)","380","Italy","5610","Import quantity","01311","Avocados","2020","2020","t",28616.63,"A","Official figure"]
["SCL","Supply Utilization Accounts (2010-)","380","Italy","5910","Export quantity","01311","Avocados","2020","2020","t",1776.54,"A","Official figure"]
["SCL","Supply Utilization Accounts (2010-)","380","Italy","5166","Residuals","01311","Avocados","2020","2020","t",0,"I","Imputed value"]
["SCL","Supply Utilization Accounts (2010-)","380","Italy","5141","Food supply quantity","01311","Avocados","2020","2020","t",26840.09,"E","Estimated value"]
["SCL","Supply Utilization Accounts (2010-)","380","Italy","5510","Production","01311","Avocados","2021","2021","t",0,"A","Official figure"]
["SCL","Supply Utilization Accounts (2010-)","380","Italy","5610","Import quantity","01311","Avocados","2021","2021","t",41654.53,"A","Official figure"]
["SCL","Supply Utilization Accounts (2010-)","380","Italy","5910","Export quantity","01311","Avocados","2021","2021","t",1944.11,"A","Official figure"]
["SCL","Supply Utilization Accounts (2010-)","380","Italy","5166","Residuals","01311","Avocados","2021","2021","t",0,"I","Imputed value"]
["SCL","Supply Utilization Accounts (2010-)","380","Italy","5141","Food supply quantity","01311","Avocados","2021","2021","t",39710.42,"E","Estimated value"]
["SCL","Supply Utilization Accounts (2010-)","380","Italy","5510","Production","01311","Avocados","2022","2022","t",0,"A","Official figure"]
["SCL","Supply Utilization Accounts (2010-)","380","Italy","5610","Import quantity","01311","Avocados","2022","2022","t",46977.34,"A","Official figure"]
["SCL","Supply Utilization Accounts (2010-)","380","Italy","5910","Export quantity","01311","Avocados","2022","2022","t",2243.0100000000002,"A","Official figure"]
["SCL","Supply Utilization Accounts (2010-)","380","Italy","5166","Residuals","01311","Avocados","2022","2022","t",0,"I","Imputed value"]
["SCL","Supply Utilization Accounts (2010-)","380","Italy","5141","Food supply quantity","01311","Avocados","2022","2022","t",44734.33,"E","Estimated value"]
["SCL","Supply Utilization Accounts (2010-)","380","Italy","5510","Production","01312","Bananas","2020","2020","t",0,"A","Official figure"]
["SCL","Supply Utilization Accounts (2010-)","380","Italy","5610","Import quantity","01312","Bananas","2020","2020","t",781844.06,"A","Official figure"]
["SCL","Supply Utilization Accounts (2010-)","380","Italy","5910","Export quantity","01312","Bananas","2020","2020","t",78053.429999999993,"A","Official figure"]
["SCL","Supply Utilization Accounts (2010-)","380","Italy","5016","Loss","01312","Bananas","2020","2020","t",28.42,"I","Imputed value"]
["SCL","Supply Utilization Accounts (2010-)","380","Italy","5023","Processed","01312","Bananas","2020","2020","t",0,"E","Estimated value"]
["SCL","Supply Utilization Accounts (2010-)","380","Italy","5166","Residuals","01312","Bananas","2020","2020","t",0,"I","Imputed value"]
["SCL","Supply Utilization Accounts (2010-)","380","Italy","5141","Food supply quantity","01312","Bananas","2020","2020","t",703762.21,"E","Estimated value"]
["SCL","Supply Utilization Accounts (2010-)","380","Italy","5510","Production","01312","Bananas","2021","2021","t",0,"A","Official figure"]
["SCL","Supply Utilization Accounts (2010-)","380","Italy","5610","Import quantity","01312","Bananas","2021","2021","t",776712.08,"A","Official figure"]
["SCL","Supply Utilization Accounts (2010-)","380","Italy","5910","Export quantity","01312","Bananas","2021","2021","t",103643.95,"A","Official figure"]
["SCL","Supply Utilization Accounts (2010-)","380","Italy","5016","Loss","01312","Bananas","2021","2021","t",26.78,"E","Estimated value"]
["SCL","Supply Utilization Accounts (2010-)","380","Italy","5023","Processed","01312","Bananas","2021","2021","t",0,"E","Estimated value"]
["SCL","Supply Utilization Accounts (2010-)","380","Italy","5166","Residuals","01312","Bananas","2021","2021","t",0,"I","Imputed value"]
["SCL","Supply Utilization Accounts (2010-)","380","Italy","5141","Food supply quantity","01312","Bananas","2021","2021","t",673041.35,"E","Estimated value"]
["SCL","Supply Utilization Accounts (2010-)","380","Italy","5510","Production","01312","Bananas","2022","2022","t",0,"A","Official figure"]
["SCL","Supply Utilization Accounts (2010-)","380","Italy","5610","Import quantity","01312","Bananas","2022","2022","t",758600.97,"A","Official figure"]
["SCL","Supply Utilization Accounts (2010-)","380","Italy","5910","Export quantity","01312","Bananas","2022","2022","t",91893,"A","Official figure"]
["SCL","Supply Utilization Accounts (2010-)","380","Italy","5016","Loss","01312","Bananas","2022","2022","t",26.71,"E","Estimated value"]
["SCL","Supply Utilization Accounts (2010-)","380","Italy","5023","Processed","01312","Bananas","2022","2022","t",0,"E","Estimated value"]
["SCL","Supply Utilization Accounts (2010-)","380","Italy","5166","Residuals","01312","Bananas","2022","2022","t",0,"I","Imputed value"]
["SCL","Supply Utilization Accounts (2010-)","380","Italy","5141","Food supply quantity","01312","Bananas","2022","2022","t",666681.27,"E","Estimated value"]
["SCL","Supply Utilization Accounts (2010-)","380","Italy","5510","Production","01231","Chillies and peppers, green (Capsicum spp. and Pimenta spp.)","2020","2020","t",247620,"A","Official figure"]
["SCL","Supply Utilization Accounts (2010-)","380","Italy","5610","Import quantity","01231","Chillies and peppers, green (Capsicum spp. and Pimenta spp.)","2020","2020","t",84775.78,"A","Official figure"]
["SCL","Supply Utilization Accounts (2010-)","380","Italy","5910","Export quantity","01231","Chillies and peppers, green (Capsicum spp. and Pimenta spp.)","2020","2020","t",13734.51,"A","Official figure"]
["SCL","Supply Utilization Accounts (2010-)","380","Italy","5016","Loss","01231","Chillies and peppers, green (Capsicum spp. and Pimenta spp.)","2020","2020","t",40898.89,"I","Imputed value"]
["SCL","Supply Utilization Accounts (2010-)","380","Italy","5166","Residuals","01231","Chillies and peppers, green (Capsicum spp. and Pimenta spp.)","2020","2020","t",0,"I","Imputed value"]
["SCL","Supply Utilization Accounts (2010-)","380","Italy","5141","Food supply quantity","01231","Chillies and peppers, green (Capsicum spp. and Pimenta spp.)","2020","2020","t",277762.38,"E","Estimated value"]
["SCL","Supply Utilization Accounts (2010-)","380","Italy","5510","Production","01231","Chillies and peppers, green (Capsicum spp. and Pimenta spp.)","2021","2021","t",244050,"A","Official figure"]
["SCL","Supply Utilization Accounts (2010-)","380","Italy","5610","Import quantity","01231","Chillies and peppers, green (Capsicum spp. and Pimenta spp.)","2021","2021","t",84306.76,"A","Official figure"]
["SCL","Supply Utilization Accounts (2010-)","380","Italy","5910","Export quantity","01231","Chillies and peppers, green (Capsicum spp. and Pimenta spp.)","2021","2021","t",14191.64,"A","Official figure"]
["SCL","Supply Utilization Accounts (2010-)","380","Italy","5016","Loss","01231","Chillies and peppers, green (Capsicum spp. and Pimenta spp.)","2021","2021","t",39386.6,"I","Imputed value"]
["SCL","Supply Utilization Accounts (2010-)","380","Italy","5166","Residuals","01231","Chillies and peppers, green (Capsicum spp. and Pimenta spp.)","2021","2021","t",0,"I","Imputed value"]
["SCL","Supply Utilization Accounts (2010-)","380","Italy","5141","Food supply quantity","01231","Chillies and peppers, green (Capsicum spp. and Pimenta spp.)","2021","2021","t",274778.52,"E","Estimated value"]
["SCL","Supply Utilization Accounts (2010-)","380","Italy","5510","Production","01231","Chillies and peppers, green (Capsicum spp. and Pimenta spp.)","2022","2022","t",232680,"A","Official figure"]
["SCL","Supply Utilization Accounts (2010-)","380","Italy","5610","Import quantity","01231","Chillies and peppers, green (Capsicum spp. and Pimenta spp.)","2022","2022","t",91136.1,"A","Official figure"]
["SCL","Supply Utilization Accounts (2010-)","380","Italy","5910","Export quantity","01231","Chillies and peppers, green (Capsicum spp. and Pimenta spp.)","2022","2022","t",13072.1,"A","Official figure"]
["SCL","Supply Utilization Accounts (2010-)","380","Italy","5016","Loss","01231","Chillies and peppers, green (Capsicum spp. and Pimenta spp.)","2022","2022","t",38841.94,"I","Imputed value"]
["SCL","Supply Utilization Accounts (2010-)","380","Italy","5166","Residuals","01231","Chillies and peppers, green (Capsicum spp. and Pimenta spp.)","2022","2022","t",0,"I","Imputed value"]
["SCL","Supply Utilization Accounts (2010-)","380","Italy","5141","Food supply quantity","01231","Chillies and peppers, green (Capsicum spp. and Pimenta spp.)","2022","2022","t",271902.06,"E","Estimated value"]
["SCL","Supply Utilization Accounts (2010-)","380","Italy","5510","Production","01232","Cucumbers and gherkins","2020","2020","t",60690,"A","Official figure"]
["SCL","Supply Utilization Accounts (2010-)","380","Italy","5610","Import quantity","01232","Cucumbers and gherkins","2020","2020","t",15826.3,"A","Official figure"]
["SCL","Supply Utilization Accounts (2010-)","380","Italy","5910","Export quantity","01232","Cucumbers and gherkins","2020","2020","t",8018.13,"A","Official figure"]
["SCL","Supply Utilization Accounts (2010-)","380","Italy","5016","Loss","01232","Cucumbers and gherkins","2020","2020","t",9956.85,"I","Imputed value"]
["SCL","Supply Utilization Accounts (2010-)","380","Italy","5166","Residuals","01232","Cucumbers and gherkins","2020","2020","t",0,"I","Imputed value"]
["SCL","Supply Utilization Accounts (2010-)","380","Italy","5141","Food supply quantity","01232","Cucumbers and gherkins","2020","2020","t",58541.32,"E","Estimated value"]
["SCL","Supply Utilization Accounts (2010-)","380","Italy","5510","Production","01232","Cucumbers and gherkins","2021","2021","t",62950,"A","Official figure"]
["SCL","Supply Utilization Accounts (2010-)","380","Italy","5610","Import quantity","01232","Cucumbers and gherkins","2021","2021","t",15250.42,"A","Official figure"]
["SCL","Supply Utilization Accounts (2010-)","380","Italy","5910","Export quantity","01232","Cucumbers and gherkins","2021","2021","t",6510.24,"A","Official figure"]
["SCL","Supply Utilization Accounts (2010-)","380","Italy","5016","Loss","01232","Cucumbers and gherkins","2021","2021","t",10180.43,"I","Imputed value"]
["SCL","Supply Utilization Accounts (2010-)","380","Italy","5166","Residuals","01232","Cucumbers and gherkins","2021","2021","t",0,"I","Imputed value"]
["SCL","Supply Utilization Accounts (2010-)","380","Italy","5141","Food supply quantity","01232","Cucumbers and gherkins","2021","2021","t",61509.75,"E","Estimated value"]
["SCL","Supply Utilization Accounts (2010-)","380","Italy","5510","Production","01232","Cucumbers and gherkins","2022","2022","t",61830,"A","Official figure"]
["SCL","Supply Utilization Accounts (2010-)","380","Italy","5610","Import quantity","01232","Cucumbers and gherkins","2022","2022","t",19697.97,"A","Official figure"]
["SCL","Supply Utilization Accounts (2010-)","380","Italy","5910","Export quantity","01232","Cucumbers and gherkins","2022","2022","t",6120.31,"A","Official figure"]
["SCL","Supply Utilization Accounts (2010-)","380","Italy","5016","Loss","01232","Cucumbers and gherkins","2022","2022","t",10613.62,"I","Imputed value"]
["SCL","Supply Utilization Accounts (2010-)","380","Italy","5166","Residuals","01232","Cucumbers and gherkins","2022","2022","t",0,"I","Imputed value"]
["SCL","Supply Utilization Accounts (2010-)","380","Italy","5141","Food supply quantity","01232","Cucumbers and gherkins","2022","2022","t",64794.04,"E","Estimated value"]
["SCL","Supply Utilization Accounts (2010-)","380","Italy","5510","Production","01233","Eggplants (aubergines)","2020","2020","t",304690,"A","Official figure"]
["SCL","Supply Utilization Accounts (2010-)","380","Italy","5610","Import quantity","01233","Eggplants (aubergines)","2020","2020","t",25663.040000000001,"A","Official figure"]
["SCL","Supply Utilization Accounts (2010-)","380","Italy","5910","Export quantity","01233","Eggplants (aubergines)","2020","2020","t",4901.16,"A","Official figure"]
["SCL","Supply Utilization Accounts (2010-)","380","Italy","5016","Loss","01233","Eggplants (aubergines)","2020","2020","t",43374.69,"I","Imputed value"]
["SCL","Supply Utilization Accounts (2010-)","380","Italy","5166","Residuals","01233","Eggplants (aubergines)","2020","2020","t",0,"I","Imputed value"]
["SCL","Supply Utilization Accounts (2010-)","380","Italy","5141","Food supply quantity","01233","Eggplants (aubergines)","2020","2020","t",282077.18,"E","Estimated value"]
["SCL","Supply Utilization Accounts (2010-)","380","Italy","5510","Production","01233","Eggplants (aubergines)","2021","2021","t",306440,"A","Official figure"]
["SCL","Supply Utilization Accounts (2010-)","380","Italy","5610","Import quantity","01233","Eggplants (aubergines)","2021","2021","t",24970.92,"A","Official figure"]
["SCL","Supply Utilization Accounts (2010-)","380","Italy","5910","Export quantity","01233","Eggplants (aubergines)","2021","2021","t",4896.97,"A","Official figure"]
["SCL","Supply Utilization Accounts (2010-)","380","Italy","5016","Loss","01233","Eggplants (aubergines)","2021","2021","t",43704.78,"I","Imputed value"]
["SCL","Supply Utilization Accounts (2010-)","380","Italy","5166","Residuals","01233","Eggplants (aubergines)","2021","2021","t",0,"I","Imputed value"]
["SCL","Supply Utilization Accounts (2010-)","380","Italy","5141","Food supply quantity","01233","Eggplants (aubergines)","2021","2021","t",282809.17,"E","Estimated value"]
["SCL","Supply Utilization Accounts (2010-)","380","Italy","5510","Production","01233","Eggplants (aubergines)","2022","2022","t",307430,"A","Official figure"]
["SCL","Supply Utilization Accounts (2010-)","380","Italy","5610","Import quantity","01233","Eggplants (aubergines)","2022","2022","t",26622.27,"A","Official figure"]
["SCL","Supply Utilization Accounts (2010-)","380","Italy","5910","Export quantity","01233","Eggplants (aubergines)","2022","2022","t",5338.6,"A","Official figure"]
["SCL","Supply Utilization Accounts (2010-)","380","Italy","5016","Loss","01233","Eggplants (aubergines)","2022","2022","t",44053.11,"I","Imputed value"]
["SCL","Supply Utilization Accounts (2010-)","380","Italy","5166","Residuals","01233","Eggplants (aubergines)","2022","2022","t",0,"I","Imputed value"]
["SCL","Supply Utilization Accounts (2010-)","380","Italy","5141","Food supply quantity","01233","Eggplants (aubergines)","2022","2022","t",284660.56,"E","Estimated value"]
["SCL","Supply Utilization Accounts (2010-)","428","Latvia","5510","Production","01311","Avocados","2020","2020","t",0,"A","Official figure"]
["SCL","Supply Utilization Accounts (2010-)","428","Latvia","5610","Import quantity","01311","Avocados","2020","2020","t",4066.38,"A","Official figure"]
["SCL","Supply Utilization Accounts (2010-)","428","Latvia","5910","Export quantity","01311","Avocados","2020","2020","t",1317.96,"A","Official figure"]
["SCL","Supply Utilization Accounts (2010-)","428","Latvia","5166","Residuals","01311","Avocados","2020","2020","t",0,"I","Imputed value"]
["SCL","Supply Utilization Accounts (2010-)","428","Latvia","5141","Food supply quantity","01311","Avocados","2020","2020","t",2748.42,"E","Estimated value"]
["SCL","Supply Utilization Accounts (2010-)","428","Latvia","5510","Production","01311","Avocados","2021","2021","t",0,"A","Official figure"]
["SCL","Supply Utilization Accounts (2010-)","428","Latvia","5610","Import quantity","01311","Avocados","2021","2021","t",3859.04,"A","Official figure"]
["SCL","Supply Utilization Accounts (2010-)","428","Latvia","5910","Export quantity","01311","Avocados","2021","2021","t",1068.07,"A","Official figure"]
["SCL","Supply Utilization Accounts (2010-)","428","Latvia","5166","Residuals","01311","Avocados","2021","2021","t",0,"I","Imputed value"]
["SCL","Supply Utilization Accounts (2010-)","428","Latvia","5141","Food supply quantity","01311","Avocados","2021","2021","t",2790.97,"E","Estimated value"]
["SCL","Supply Utilization Accounts (2010-)","428","Latvia","5510","Production","01311","Avocados","2022","2022","t",0,"A","Official figure"]
["SCL","Supply Utilization Accounts (2010-)","428","Latvia","5610","Import quantity","01311","Avocados","2022","2022","t",4082.15,"A","Official figure"]
["SCL","Supply Utilization Accounts (2010-)","428","Latvia","5910","Export quantity","01311","Avocados","2022","2022","t",1063.3399999999999,"A","Official figure"]
["SCL","Supply Utilization Accounts (2010-)","428","Latvia","5166","Residuals","01311","Avocados","2022","2022","t",0,"I","Imputed value"]
["SCL","Supply Utilization Accounts (2010-)","428","Latvia","5141","Food supply quantity","01311","Avocados","2022","2022","t",3018.81,"E","Estimated value"]
["SCL","Supply Utilization Accounts (2010-)","428","Latvia","5510","Production","01312","Bananas","2020","2020","t",0,"A","Official figure"]
["SCL","Supply Utilization Accounts (2010-)","428","Latvia","5610","Import quantity","01312","Bananas","2020","2020","t",41505.46,"A","Official figure"]
["SCL","Supply Utilization Accounts (2010-)","428","Latvia","5910","Export quantity","01312","Bananas","2020","2020","t",17828.509999999998,"A","Official figure"]
["SCL","Supply Utilization Accounts (2010-)","428","Latvia","5166","Residuals","01312","Bananas","2020","2020","t",0,"I","Imputed value"]
["SCL","Supply Utilization Accounts (2010-)","428","Latvia","5141","Food supply quantity","01312","Bananas","2020","2020","t",23676.94,"E","Estimated value"]
["SCL","Supply Utilization Accounts (2010-)","428","Latvia","5510","Production","01312","Bananas","2021","2021","t",0,"A","Official figure"]
["SCL","Supply Utilization Accounts (2010-)","428","Latvia","5610","Import quantity","01312","Bananas","2021","2021","t",46986.04,"A","Official figure"]
["SCL","Supply Utilization Accounts (2010-)","428","Latvia","5910","Export quantity","01312","Bananas","2021","2021","t",22633.65,"A","Official figure"]
["SCL","Supply Utilization Accounts (2010-)","428","Latvia","5166","Residuals","01312","Bananas","2021","2021","t",0,"I","Imputed value"]
["SCL","Supply Utilization Accounts (2010-)","428","Latvia","5141","Food supply quantity","01312","Bananas","2021","2021","t",24352.39,"E","Estimated value"]
["SCL","Supply Utilization Accounts (2010-)","428","Latvia","5510","Production","01312","Bananas","2022","2022","t",0,"A","Official figure"]
["SCL","Supply Utilization Accounts (2010-)","428","Latvia","5610","Import quantity","01312","Bananas","2022","2022","t",42773.89,"A","Official figure"]
["SCL","Supply Utilization Accounts (2010-)","428","Latvia","5910","Export quantity","01312","Bananas","2022","2022","t",22087.93,"A","Official figure"]
["SCL","Supply Utilization Accounts (2010-)","428","Latvia","5166","Residuals","01312","Bananas","2022","2022","t",0,"I","Imputed value"]
["SCL","Supply Utilization Accounts (2010-)","428","Latvia","5141","Food supply quantity","01312","Bananas","2022","2022","t",20685.96,"E","Estimated value"]
["SCL","Supply Utilization Accounts (2010-)","428","Latvia","5610","Import quantity","01231","Chillies and peppers, green (Capsicum spp. and Pimenta spp.)","2020","2020","t",6731.18,"A","Official figure"]
["SCL","Supply Utilization Accounts (2010-)","428","Latvia","5910","Export quantity","01231","Chillies and peppers, green (Capsicum spp. and Pimenta spp.)","2020","2020","t",1428.24,"A","Official figure"]
["SCL","Supply Utilization Accounts (2010-)","428","Latvia","5166","Residuals","01231","Chillies and peppers, green (Capsicum spp. and Pimenta spp.)","2020","2020","t",0,"I","Imputed value"]
["SCL","Supply Utilization Accounts (2010-)","428","Latvia","5141","Food supply quantity","01231","Chillies and peppers, green (Capsicum spp. and Pimenta spp.)","2020","2020","t",5302.94,"E","Estimated value"]
["SCL","Supply Utilization Accounts (2010-)","428","Latvia","5610","Import quantity","01231","Chillies and peppers, green (Capsicum spp. and Pimenta spp.)","2021","2021","t",6910.91,"A","Official figure"]
["SCL","Supply Utilization Accounts (2010-)","428","Latvia","5910","Export quantity","01231","Chillies and peppers, green (Capsicum spp. and Pimenta spp.)","2021","2021","t",1630.12,"A","Official figure"]
["SCL","Supply Utilization Accounts (2010-)","428","Latvia","5166","Residuals","01231","Chillies and peppers, green (Capsicum spp. and Pimenta spp.)","2021","2021","t",0,"I","Imputed value"]
["SCL","Supply Utilization Accounts (2010-)","428","Latvia","5141","Food supply quantity","01231","Chillies and peppers, green (Capsicum spp. and Pimenta spp.)","2021","2021","t",5280.79,"E","Estimated value"]
["SCL","Supply Utilization Accounts (2010-)","428","Latvia","5610","Import quantity","01231","Chillies and peppers, green (Capsicum spp. and Pimenta spp.)","2022","2022","t",6707.62,"A","Official figure"]
["SCL","Supply Utilization Accounts (2010-)","428","Latvia","5910","Export quantity","01231","Chillies and peppers, green (Capsicum spp. and Pimenta spp.)","2022","2022","t",1658.39,"A","Official figure"]
["SCL","Supply Utilization Accounts (2010-)","428","Latvia","5166","Residuals","01231","Chillies and peppers, green (Capsicum spp. and Pimenta spp.)","2022","2022","t",0,"I","Imputed value"]
["SCL","Supply Utilization Accounts (2010-)","428","Latvia","5141","Food supply quantity","01231","Chillies and peppers, green (Capsicum spp. and Pimenta spp.)","2022","2022","t",5049.2299999999996,"E","Estimated value"]
["SCL","Supply Utilization Accounts (2010-)","428","Latvia","5510","Production","01232","Cucumbers and gherkins","2020","2020","t",7900,"A","Official figure"]
["SCL","Supply Utilization Accounts (2010-)","428","Latvia","5610","Import quantity","01232","Cucumbers and gherkins","2020","2020","t",7630.6,"A","Official figure"]
["SCL","Supply Utilization Accounts (2010-)","428","Latvia","5910","Export quantity","01232","Cucumbers and gherkins","2020","2020","t",1933.06,"A","Official figure"]
["SCL","Supply Utilization Accounts (2010-)","428","Latvia","5016","Loss","01232","Cucumbers and gherkins","2020","2020","t",756.85,"I","Imputed value"]
["SCL","Supply Utilization Accounts (2010-)","428","Latvia","5166","Residuals","01232","Cucumbers and gherkins","2020","2020","t",0,"I","Imputed value"]
["SCL","Supply Utilization Accounts (2010-)","428","Latvia","5141","Food supply quantity","01232","Cucumbers and gherkins","2020","2020","t",12840.7,"E","Estimated value"]
["SCL","Supply Utilization Accounts (2010-)","428","Latvia","5510","Production","01232","Cucumbers and gherkins","2021","2021","t",7600,"A","Official figure"]
["SCL","Supply Utilization Accounts (2010-)","428","Latvia","5610","Import quantity","01232","Cucumbers and gherkins","2021","2021","t",8604.14,"A","Official figure"]
["SCL","Supply Utilization Accounts (2010-)","428","Latvia","5910","Export quantity","01232","Cucumbers and gherkins","2021","2021","t",2148.84,"A","Official figure"]
["SCL","Supply Utilization Accounts (2010-)","428","Latvia","5016","Loss","01232","Cucumbers and gherkins","2021","2021","t",788.32,"I","Imputed value"]
["SCL","Supply Utilization Accounts (2010-)","428","Latvia","5166","Residuals","01232","Cucumbers and gherkins","2021","2021","t",0,"I","Imputed value"]
["SCL","Supply Utilization Accounts (2010-)","428","Latvia","5141","Food supply quantity","01232","Cucumbers and gherkins","2021","2021","t",13266.98,"E","Estimated value"]
["SCL","Supply Utilization Accounts (2010-)","428","Latvia","5510","Production","01232","Cucumbers and gherkins","2022","2022","t",8140,"A","Official figure"]
["SCL","Supply Utilization Accounts (2010-)","428","Latvia","5610","Import quantity","01232","Cucumbers and gherkins","2022","2022","t",8349.07,"A","Official figure"]
["SCL","Supply Utilization Accounts (2010-)","428","Latvia","5910","Export quantity","01232","Cucumbers and gherkins","2022","2022","t",2631.57,"A","Official figure"]
["SCL","Supply Utilization Accounts (2010-)","428","Latvia","5016","Loss","01232","Cucumbers and gherkins","2022","2022","t",802.19,"I","Imputed value"]
["SCL","Supply Utilization Accounts (2010-)","428","Latvia","5166","Residuals","01232","Cucumbers and gherkins","2022","2022","t",0,"I","Imputed value"]
["SCL","Supply Utilization Accounts (2010-)","428","Latvia","5141","Food supply quantity","01232","Cucumbers and gherkins","2022","2022","t",13055.32,"E","Estimated value"]
["SCL","Supply Utilization Accounts (2010-)","428","Latvia","5610","Import quantity","01233","Eggplants (aubergines)","2020","2020","t",1001.47,"A","Official figure"]
["SCL","Supply Utilization Accounts (2010-)","428","Latvia","5910","Export quantity","01233","Eggplants (aubergines)","2020","2020","t",156.15,"A","Official figure"]
["SCL","Supply Utilization Accounts (2010-)","428","Latvia","5166","Residuals","01233","Eggplants (aubergines)","2020","2020","t",0,"I","Imputed value"]
["SCL","Supply Utilization Accounts (2010-)","428","Latvia","5141","Food supply quantity","01233","Eggplants (aubergines)","2020","2020","t",845.32,"E","Estimated value"]
["SCL","Supply Utilization Accounts (2010-)","428","Latvia","5610","Import quantity","01233","Eggplants (aubergines)","2021","2021","t",994.53,"A","Official figure"]
["SCL","Supply Utilization Accounts (2010-)","428","Latvia","5910","Export quantity","01233","Eggplants (aubergines)","2021","2021","t",142.41999999999999,"A","Official figure"]
["SCL","Supply Utilization Accounts (2010-)","428","Latvia","5166","Residuals","01233","Eggplants (aubergines)","2021","2021","t",0,"I","Imputed value"]
["SCL","Supply Utilization Accounts (2010-)","428","Latvia","5141","Food supply quantity","01233","Eggplants (aubergines)","2021","2021","t",852.12,"E","Estimated value"]
["SCL","Supply Utilization Accounts (2010-)","428","Latvia","5610","Import quantity","01233","Eggplants (aubergines)","2022","2022","t",930.32,"A","Official figure"]
["SCL","Supply Utilization Accounts (2010-)","428","Latvia","5910","Export quantity","01233","Eggplants (aubergines)","2022","2022","t",164.02,"A","Official figure"]
["SCL","Supply Utilization Accounts (2010-)","428","Latvia","5166","Residuals","01233","Eggplants (aubergines)","2022","2022","t",0,"I","Imputed value"]
["SCL","Supply Utilization Accounts (2010-)","428","Latvia","5141","Food supply quantity","01233","Eggplants (aubergines)","2022","2022","t",766.3,"E","Estimated value"]
["SCL","Supply Utilization Accounts (2010-)","440","Lithuania","5510","Production","01311","Avocados","2020","2020","t",0,"A","Official figure"]
["SCL","Supply Utilization Accounts (2010-)","440","Lithuania","5610","Import quantity","01311","Avocados","2020","2020","t",6076.39,"A","Official figure"]
["SCL","Supply Utilization Accounts (2010-)","440","Lithuania","5910","Export quantity","01311","Avocados","2020","2020","t",1873.33,"A","Official figure"]
["SCL","Supply Utilization Accounts (2010-)","440","Lithuania","5166","Residuals","01311","Avocados","2020","2020","t",0,"I","Imputed value"]
["SCL","Supply Utilization Accounts (2010-)","440","Lithuania","5141","Food supply quantity","01311","Avocados","2020","2020","t",4203.0600000000004,"E","Estimated value"]
["SCL","Supply Utilization Accounts (2010-)","440","Lithuania","5510","Production","01311","Avocados","2021","2021","t",0,"A","Official figure"]
["SCL","Supply Utilization Accounts (2010-)","440","Lithuania","5610","Import quantity","01311","Avocados","2021","2021","t",6247.68,"A","Official figure"]
["SCL","Supply Utilization Accounts (2010-)","440","Lithuania","5910","Export quantity","01311","Avocados","2021","2021","t",1886.95,"A","Official figure"]
["SCL","Supply Utilization Accounts (2010-)","440","Lithuania","5166","Residuals","01311","Avocados","2021","2021","t",0,"I","Imputed value"]
["SCL","Supply Utilization Accounts (2010-)","440","Lithuania","5141","Food supply quantity","01311","Avocados","2021","2021","t",4360.74,"E","Estimated value"]
["SCL","Supply Utilization Accounts (2010-)","440","Lithuania","5510","Production","01311","Avocados","2022","2022","t",0,"A","Official figure"]
["SCL","Supply Utilization Accounts (2010-)","440","Lithuania","5610","Import quantity","01311","Avocados","2022","2022","t",7313.92,"A","Official figure"]
["SCL","Supply Utilization Accounts (2010-)","440","Lithuania","5910","Export quantity","01311","Avocados","2022","2022","t",2813.32,"A","Official figure"]
["SCL","Supply Utilization Accounts (2010-)","440","Lithuania","5166","Residuals","01311","Avocados","2022","2022","t",0,"I","Imputed value"]
["SCL","Supply Utilization Accounts (2010-)","440","Lithuania","5141","Food supply quantity","01311","Avocados","2022","2022","t",4500.59,"E","Estimated value"]
["SCL","Supply Utilization Accounts (2010-)","440","Lithuania","5510","Production","01312","Bananas","2020","2020","t",0,"A","Official figure"]
["SCL","Supply Utilization Accounts (2010-)","440","Lithuania","5610","Import quantity","01312","Bananas","2020","2020","t",51317.91,"A","Official figure"]
["SCL","Supply Utilization Accounts (2010-)","440","Lithuania","5910","Export quantity","01312","Bananas","2020","2020","t",12629.67,"A","Official figure"]
["SCL","Supply Utilization Accounts (2010-)","440","Lithuania","5023","Processed","01312","Bananas","2020","2020","t",6917.69,"E","Estimated value"]
["SCL","Supply Utilization Accounts (2010-)","440","Lithuania","5166","Residuals","01312","Bananas","2020","2020","t",0,"I","Imputed value"]
["SCL","Supply Utilization Accounts (2010-)","440","Lithuania","5141","Food supply quantity","01312","Bananas","2020","2020","t",31770.54,"E","Estimated value"]
["SCL","Supply Utilization Accounts (2010-)","440","Lithuania","5510","Production","01312","Bananas","2021","2021","t",0,"A","Official figure"]
["SCL","Supply Utilization Accounts (2010-)","440","Lithuania","5610","Import quantity","01312","Bananas","2021","2021","t",49271.9,"A","Official figure"]
["SCL","Supply Utilization Accounts (2010-)","440","Lithuania","5910","Export quantity","01312","Bananas","2021","2021","t",8056.21,"A","Official figure"]
["SCL","Supply Utilization Accounts (2010-)","440","Lithuania","5023","Processed","01312","Bananas","2021","2021","t",8203.36,"E","Estimated value"]
["SCL","Supply Utilization Accounts (2010-)","440","Lithuania","5166","Residuals","01312","Bananas","2021","2021","t",0,"I","Imputed value"]
["SCL","Supply Utilization Accounts (2010-)","440","Lithuania","5141","Food supply quantity","01312","Bananas","2021","2021","t",33012.33,"E","Estimated value"]
["SCL","Supply Utilization Accounts (2010-)","440","Lithuania","5510","Production","01312","Bananas","2022","2022","t",0,"A","Official figure"]
["SCL","Supply Utilization Accounts (2010-)","440","Lithuania","5610","Import quantity","01312","Bananas","2022","2022","t",41177.43,"A","Official figure"]
["SCL","Supply Utilization Accounts (2010-)","440","Lithuania","5910","Export quantity","01312","Bananas","2022","2022","t",6552.25,"A","Official figure"]
["SCL","Supply Utilization Accounts (2010-)","440","Lithuania","5023","Processed","01312","Bananas","2022","2022","t",8291.67,"E","Estimated value"]
["SCL","Supply Utilization Accounts (2010-)","440","Lithuania","5166","Residuals","01312","Bananas","2022","2022","t",0,"I","Imputed value"]
["SCL","Supply Utilization Accounts (2010-)","440","Lithuania","5141","Food supply quantity","01312","Bananas","2022","2022","t",26333.51,"E","Estimated value"]
["SCL","Supply Utilization Accounts (2010-)","440","Lithuania","5610","Import quantity","01231","Chillies and peppers, green (Capsicum spp. and Pimenta spp.)","2020","2020","t",10212.09,"A","Official figure"]
["SCL","Supply Utilization Accounts (2010-)","440","Lithuania","5910","Export quantity","01231","Chillies and peppers, green (Capsicum spp. and Pimenta spp.)","2020","2020","t",4146.84,"A","Official figure"]
["SCL","Supply Utilization Accounts (2010-)","440","Lithuania","5166","Residuals","01231","Chillies and peppers, green (Capsicum spp. and Pimenta spp.)","2020","2020","t",0,"I","Imputed value"]
["SCL","Supply Utilization Accounts (2010-)","440","Lithuania","5141","Food supply quantity","01231","Chillies and peppers, green (Capsicum spp. and Pimenta spp.)","2020","2020","t",6065.25,"E","Estimated value"]
["SCL","Supply Utilization Accounts (2010-)","440","Lithuania","5610","Import quantity","01231","Chillies and peppers, green (Capsicum spp. and Pimenta spp.)","2021","2021","t",8674.4599999999991,"A","Official figure"]
["SCL","Supply Utilization Accounts (2010-)","440","Lithuania","5910","Export quantity","01231","Chillies and peppers, green (Capsicum spp. and Pimenta spp.)","2021","2021","t",2469.61,"A","Official figure"]
["SCL","Supply Utilization Accounts (2010-)","440","Lithuania","5166","Residuals","01231","Chillies and peppers, green (Capsicum spp. and Pimenta spp.)","2021","2021","t",0,"I","Imputed value"]
["SCL","Supply Utilization Accounts (2010-)","440","Lithuania","5141","Food supply quantity","01231","Chillies and peppers, green (Capsicum spp. and Pimenta spp.)","2021","2021","t",6204.85,"E","Estimated value"]
["SCL","Supply Utilization Accounts (2010-)","440","Lithuania","5610","Import quantity","01231","Chillies and peppers, green (Capsicum spp. and Pimenta spp.)","2022","2022","t",7286.07,"A","Official figure"]
["SCL","Supply Utilization Accounts (2010-)","440","Lithuania","5910","Export quantity","01231","Chillies and peppers, green (Capsicum spp. and Pimenta spp.)","2022","2022","t",1221.8599999999999,"A","Official figure"]
["SCL","Supply Utilization Accounts (2010-)","440","Lithuania","5166","Residuals","01231","Chillies and peppers, green (Capsicum spp. and Pimenta spp.)","2022","2022","t",0,"I","Imputed value"]
["SCL","Supply Utilization Accounts (2010-)","440","Lithuania","5141","Food supply quantity","01231","Chillies and peppers, green (Capsicum spp. and Pimenta spp.)","2022","2022","t",6064.21,"E","Estimated value"]
["SCL","Supply Utilization Accounts (2010-)","440","Lithuania","5510","Production","01232","Cucumbers and gherkins","2020","2020","t",19560,"A","Official figure"]
["SCL","Supply Utilization Accounts (2010-)","440","Lithuania","5610","Import quantity","01232","Cucumbers and gherkins","2020","2020","t",10615.05,"A","Official figure"]
["SCL","Supply Utilization Accounts (2010-)","440","Lithuania","5910","Export quantity","01232","Cucumbers and gherkins","2020","2020","t",2096.67,"A","Official figure"]
["SCL","Supply Utilization Accounts (2010-)","440","Lithuania","5016","Loss","01232","Cucumbers and gherkins","2020","2020","t",572.62,"I","Imputed value"]
["SCL","Supply Utilization Accounts (2010-)","440","Lithuania","5023","Processed","01232","Cucumbers and gherkins","2020","2020","t",2248.83,"E","Estimated value"]
["SCL","Supply Utilization Accounts (2010-)","440","Lithuania","5166","Residuals","01232","Cucumbers and gherkins","2020","2020","t",0,"I","Imputed value"]
["SCL","Supply Utilization Accounts (2010-)","440","Lithuania","5141","Food supply quantity","01232","Cucumbers and gherkins","2020","2020","t",25256.93,"E","Estimated value"]
["SCL","Supply Utilization Accounts (2010-)","440","Lithuania","5510","Production","01232","Cucumbers and gherkins","2021","2021","t",22980,"A","Official figure"]
["SCL","Supply Utilization Accounts (2010-)","440","Lithuania","5610","Import quantity","01232","Cucumbers and gherkins","2021","2021","t",11899.05,"A","Official figure"]
["SCL","Supply Utilization Accounts (2010-)","440","Lithuania","5910","Export quantity","01232","Cucumbers and gherkins","2021","2021","t",1414.16,"A","Official figure"]
["SCL","Supply Utilization Accounts (2010-)","440","Lithuania","5016","Loss","01232","Cucumbers and gherkins","2021","2021","t",661.88,"I","Imputed value"]
["SCL","Supply Utilization Accounts (2010-)","440","Lithuania","5023","Processed","01232","Cucumbers and gherkins","2021","2021","t",2681.93,"E","Estimated value"]
["SCL","Supply Utilization Accounts (2010-)","440","Lithuania","5166","Residuals","01232","Cucumbers and gherkins","2021","2021","t",0,"I","Imputed value"]
["SCL","Supply Utilization Accounts (2010-)","440","Lithuania","5141","Food supply quantity","01232","Cucumbers and gherkins","2021","2021","t",30121.07,"E","Estimated value"]
["SCL","Supply Utilization Accounts (2010-)","440","Lithuania","5510","Production","01232","Cucumbers and gherkins","2022","2022","t",23250,"A","Official figure"]
["SCL","Supply Utilization Accounts (2010-)","440","Lithuania","5610","Import quantity","01232","Cucumbers and gherkins","2022","2022","t",11235.83,"A","Official figure"]
["SCL","Supply Utilization Accounts (2010-)","440","Lithuania","5910","Export quantity","01232","Cucumbers and gherkins","2022","2022","t",1950.32,"A","Official figure"]
["SCL","Supply Utilization Accounts (2010-)","440","Lithuania","5016","Loss","01232","Cucumbers and gherkins","2022","2022","t",654.41999999999996,"I","Imputed value"]
["SCL","Supply Utilization Accounts (2010-)","440","Lithuania","5023","Processed","01232","Cucumbers and gherkins","2022","2022","t",2606.7600000000002,"E","Estimated value"]
["SCL","Supply Utilization Accounts (2010-)","440","Lithuania","5166","Residuals","01232","Cucumbers and gherkins","2022","2022","t",0,"I","Imputed value"]
["SCL","Supply Utilization Accounts (2010-)","440","Lithuania","5141","Food supply quantity","01232","Cucumbers and gherkins","2022","2022","t",29274.34,"E","Estimated value"]
["SCL","Supply Utilization Accounts (2010-)","440","Lithuania","5510","Production","01233","Eggplants (aubergines)","2020","2020","t",0,"A","Official figure"]
["SCL","Supply Utilization Accounts (2010-)","440","Lithuania","5610","Import quantity","01233","Eggplants (aubergines)","2020","2020","t",2483.96,"A","Official figure"]
["SCL","Supply Utilization Accounts (2010-)","440","Lithuania","5910","Export quantity","01233","Eggplants (aubergines)","2020","2020","t",1335.77,"A","Official figure"]
["SCL","Supply Utilization Accounts (2010-)","440","Lithuania","5016","Loss","01233","Eggplants (aubergines)","2020","2020","t",75.59,"I","Imputed value"]
["SCL","Supply Utilization Accounts (2010-)","440","Lithuania","5166","Residuals","01233","Eggplants (aubergines)","2020","2020","t",0,"I","Imputed value"]
["SCL","Supply Utilization Accounts (2010-)","440","Lithuania","5141","Food supply quantity","01233","Eggplants (aubergines)","2020","2020","t",1072.5999999999999,"E","Estimated value"]
["SCL","Supply Utilization Accounts (2010-)","440","Lithuania","5510","Production","01233","Eggplants (aubergines)","2021","2021","t",0,"A","Official figure"]
["SCL","Supply Utilization Accounts (2010-)","440","Lithuania","5610","Import quantity","01233","Eggplants (aubergines)","2021","2021","t",1389.53,"A","Official figure"]
["SCL","Supply Utilization Accounts (2010-)","440","Lithuania","5910","Export quantity","01233","Eggplants (aubergines)","2021","2021","t",523.19000000000005,"A","Official figure"]
["SCL","Supply Utilization Accounts (2010-)","440","Lithuania","5016","Loss","01233","Eggplants (aubergines)","2021","2021","t",43.51,"I","Imputed value"]
["SCL","Supply Utilization Accounts (2010-)","440","Lithuania","5166","Residuals","01233","Eggplants (aubergines)","2021","2021","t",0,"I","Imputed value"]
["SCL","Supply Utilization Accounts (2010-)","440","Lithuania","5141","Food supply quantity","01233","Eggplants (aubergines)","2021","2021","t",822.84,"E","Estimated value"]
["SCL","Supply Utilization Accounts (2010-)","440","Lithuania","5610","Import quantity","01233","Eggplants (aubergines)","2022","2022","t",1236.0899999999999,"A","Official figure"]
["SCL","Supply Utilization Accounts (2010-)","440","Lithuania","5910","Export quantity","01233","Eggplants (aubergines)","2022","2022","t",264.51,"A","Official figure"]
["SCL","Supply Utilization Accounts (2010-)","440","Lithuania","5016","Loss","01233","Eggplants (aubergines)","2022","2022","t",38.71,"I","Imputed value"]
["SCL","Supply Utilization Accounts (2010-)","440","Lithuania","5166","Residuals","01233","Eggplants (aubergines)","2022","2022","t",0,"I","Imputed value"]
["SCL","Supply Utilization Accounts (2010-)","440","Lithuania","5141","Food supply quantity","01233","Eggplants (aubergines)","2022","2022","t",932.88,"E","Estimated value"]
["SCL","Supply Utilization Accounts (2010-)","442","Luxembourg","5510","Production","01311","Avocados","2020","2020","t",0,"A","Official figure"]
["SCL","Supply Utilization Accounts (2010-)","442","Luxembourg","5610","Import quantity","01311","Avocados","2020","2020","t",1483.63,"A","Official figure"]
["SCL","Supply Utilization Accounts (2010-)","442","Luxembourg","5910","Export quantity","01311","Avocados","2020","2020","t",390.95,"A","Official figure"]
["SCL","Supply Utilization Accounts (2010-)","442","Luxembourg","5016","Loss","01311","Avocados","2020","2020","t",74.180000000000007,"I","Imputed value"]
["SCL","Supply Utilization Accounts (2010-)","442","Luxembourg","5166","Residuals","01311","Avocados","2020","2020","t",0,"I","Imputed value"]
["SCL","Supply Utilization Accounts (2010-)","442","Luxembourg","5141","Food supply quantity","01311","Avocados","2020","2020","t",1018.49,"E","Estimated value"]
["SCL","Supply Utilization Accounts (2010-)","442","Luxembourg","5510","Production","01311","Avocados","2021","2021","t",0,"A","Official figure"]
["SCL","Supply Utilization Accounts (2010-)","442","Luxembourg","5610","Import quantity","01311","Avocados","2021","2021","t",1449.05,"A","Official figure"]
["SCL","Supply Utilization Accounts (2010-)","442","Luxembourg","5910","Export quantity","01311","Avocados","2021","2021","t",239.99,"A","Official figure"]
["SCL","Supply Utilization Accounts (2010-)","442","Luxembourg","5016","Loss","01311","Avocados","2021","2021","t",72.45,"I","Imputed value"]
["SCL","Supply Utilization Accounts (2010-)","442","Luxembourg","5166","Residuals","01311","Avocados","2021","2021","t",0,"I","Imputed value"]
["SCL","Supply Utilization Accounts (2010-)","442","Luxembourg","5141","Food supply quantity","01311","Avocados","2021","2021","t",1136.5999999999999,"E","Estimated value"]
["SCL","Supply Utilization Accounts (2010-)","442","Luxembourg","5510","Production","01311","Avocados","2022","2022","t",0,"A","Official figure"]
["SCL","Supply Utilization Accounts (2010-)","442","Luxembourg","5610","Import quantity","01311","Avocados","2022","2022","t",1211.3800000000001,"A","Official figure"]
["SCL","Supply Utilization Accounts (2010-)","442","Luxembourg","5910","Export quantity","01311","Avocados","2022","2022","t",62.83,"A","Official figure"]
["SCL","Supply Utilization Accounts (2010-)","442","Luxembourg","5016","Loss","01311","Avocados","2022","2022","t",60.57,"I","Imputed value"]
["SCL","Supply Utilization Accounts (2010-)","442","Luxembourg","5166","Residuals","01311","Avocados","2022","2022","t",0,"I","Imputed value"]
["SCL","Supply Utilization Accounts (2010-)","442","Luxembourg","5141","Food supply quantity","01311","Avocados","2022","2022","t",1087.98,"E","Estimated value"]
["SCL","Supply Utilization Accounts (2010-)","442","Luxembourg","5510","Production","01312","Bananas","2020","2020","t",0,"A","Official figure"]
["SCL","Supply Utilization Accounts (2010-)","442","Luxembourg","5610","Import quantity","01312","Bananas","2020","2020","t",6851.06,"A","Official figure"]
["SCL","Supply Utilization Accounts (2010-)","442","Luxembourg","5910","Export quantity","01312","Bananas","2020","2020","t",382.49,"A","Official figure"]
["SCL","Supply Utilization Accounts (2010-)","442","Luxembourg","5016","Loss","01312","Bananas","2020","2020","t",342.55,"I","Imputed value"]
["SCL","Supply Utilization Accounts (2010-)","442","Luxembourg","5166","Residuals","01312","Bananas","2020","2020","t",0,"I","Imputed value"]
["SCL","Supply Utilization Accounts (2010-)","442","Luxembourg","5141","Food supply quantity","01312","Bananas","2020","2020","t",6126.02,"E","Estimated value"]
["SCL","Supply Utilization Accounts (2010-)","442","Luxembourg","5510","Production","01312","Bananas","2021","2021","t",0,"A","Official figure"]
["SCL","Supply Utilization Accounts (2010-)","442","Luxembourg","5610","Import quantity","01312","Bananas","2021","2021","t",6659.2,"A","Official figure"]
["SCL","Supply Utilization Accounts (2010-)","442","Luxembourg","5910","Export quantity","01312","Bananas","2021","2021","t",316.93,"A","Official figure"]
["SCL","Supply Utilization Accounts (2010-)","442","Luxembourg","5016","Loss","01312","Bananas","2021","2021","t",332.96,"I","Imputed value"]
["SCL","Supply Utilization Accounts (2010-)","442","Luxembourg","5166","Residuals","01312","Bananas","2021","2021","t",0,"I","Imputed value"]
["SCL","Supply Utilization Accounts (2010-)","442","Luxembourg","5141","Food supply quantity","01312","Bananas","2021","2021","t",6009.31,"E","Estimated value"]
["SCL","Supply Utilization Accounts (2010-)","442","Luxembourg","5510","Production","01312","Bananas","2022","2022","t",0,"A","Official figure"]
["SCL","Supply Utilization Accounts (2010-)","442","Luxembourg","5610","Import quantity","01312","Bananas","2022","2022","t",6599.39,"A","Official figure"]
["SCL","Supply Utilization Accounts (2010-)","442","Luxembourg","5910","Export quantity","01312","Bananas","2022","2022","t",317.02999999999997,"A","Official figure"]
["SCL","Supply Utilization Accounts (2010-)","442","Luxembourg","5016","Loss","01312","Bananas","2022","2022","t",329.97,"I","Imputed value"]
["SCL","Supply Utilization Accounts (2010-)","442","Luxembourg","5166","Residuals","01312","Bananas","2022","2022","t",0,"I","Imputed value"]
["SCL","Supply Utilization Accounts (2010-)","442","Luxembourg","5141","Food supply quantity","01312","Bananas","2022","2022","t",5952.39,"E","Estimated value"]
["SCL","Supply Utilization Accounts (2010-)","442","Luxembourg","5610","Import quantity","01231","Chillies and peppers, green (Capsicum spp. and Pimenta spp.)","2020","2020","t",2019.48,"A","Official figure"]
["SCL","Supply Utilization Accounts (2010-)","442","Luxembourg","5910","Export quantity","01231","Chillies and peppers, green (Capsicum spp. and Pimenta spp.)","2020","2020","t",174.47,"A","Official figure"]
["SCL","Supply Utilization Accounts (2010-)","442","Luxembourg","5016","Loss","01231","Chillies and peppers, green (Capsicum spp. and Pimenta spp.)","2020","2020","t",80.78,"I","Imputed value"]
["SCL","Supply Utilization Accounts (2010-)","442","Luxembourg","5166","Residuals","01231","Chillies and peppers, green (Capsicum spp. and Pimenta spp.)","2020","2020","t",0,"I","Imputed value"]
["SCL","Supply Utilization Accounts (2010-)","442","Luxembourg","5141","Food supply quantity","01231","Chillies and peppers, green (Capsicum spp. and Pimenta spp.)","2020","2020","t",1764.23,"E","Estimated value"]
["SCL","Supply Utilization Accounts (2010-)","442","Luxembourg","5610","Import quantity","01231","Chillies and peppers, green (Capsicum spp. and Pimenta spp.)","2021","2021","t",1948.86,"A","Official figure"]
["SCL","Supply Utilization Accounts (2010-)","442","Luxembourg","5910","Export quantity","01231","Chillies and peppers, green (Capsicum spp. and Pimenta spp.)","2021","2021","t",207.23,"A","Official figure"]
["SCL","Supply Utilization Accounts (2010-)","442","Luxembourg","5016","Loss","01231","Chillies and peppers, green (Capsicum spp. and Pimenta spp.)","2021","2021","t",77.95,"I","Imputed value"]
["SCL","Supply Utilization Accounts (2010-)","442","Luxembourg","5166","Residuals","01231","Chillies and peppers, green (Capsicum spp. and Pimenta spp.)","2021","2021","t",0,"I","Imputed value"]
["SCL","Supply Utilization Accounts (2010-)","442","Luxembourg","5141","Food supply quantity","01231","Chillies and peppers, green (Capsicum spp. and Pimenta spp.)","2021","2021","t",1663.68,"E","Estimated value"]
["SCL","Supply Utilization Accounts (2010-)","442","Luxembourg","5610","Import quantity","01231","Chillies and peppers, green (Capsicum spp. and Pimenta spp.)","2022","2022","t",2078.4699999999998,"A","Official figure"]
["SCL","Supply Utilization Accounts (2010-)","442","Luxembourg","5910","Export quantity","01231","Chillies and peppers, green (Capsicum spp. and Pimenta spp.)","2022","2022","t",222.36,"A","Official figure"]
["SCL","Supply Utilization Accounts (2010-)","442","Luxembourg","5016","Loss","01231","Chillies and peppers, green (Capsicum spp. and Pimenta spp.)","2022","2022","t",83.14,"I","Imputed value"]
["SCL","Supply Utilization Accounts (2010-)","442","Luxembourg","5166","Residuals","01231","Chillies and peppers, green (Capsicum spp. and Pimenta spp.)","2022","2022","t",0,"I","Imputed value"]
["SCL","Supply Utilization Accounts (2010-)","442","Luxembourg","5141","Food supply quantity","01231","Chillies and peppers, green (Capsicum spp. and Pimenta spp.)","2022","2022","t",1772.97,"E","Estimated value"]
["SCL","Supply Utilization Accounts (2010-)","442","Luxembourg","5510","Production","01232","Cucumbers and gherkins","2020","2020","t",10,"A","Official figure"]
["SCL","Supply Utilization Accounts (2010-)","442","Luxembourg","5610","Import quantity","01232","Cucumbers and gherkins","2020","2020","t",2740.07,"A","Official figure"]
["SCL","Supply Utilization Accounts (2010-)","442","Luxembourg","5910","Export quantity","01232","Cucumbers and gherkins","2020","2020","t",237.56,"A","Official figure"]
["SCL","Supply Utilization Accounts (2010-)","442","Luxembourg","5016","Loss","01232","Cucumbers and gherkins","2020","2020","t",4.1900000000000004,"I","Imputed value"]
["SCL","Supply Utilization Accounts (2010-)","442","Luxembourg","5166","Residuals","01232","Cucumbers and gherkins","2020","2020","t",0,"I","Imputed value"]
["SCL","Supply Utilization Accounts (2010-)","442","Luxembourg","5141","Food supply quantity","01232","Cucumbers and gherkins","2020","2020","t",2508.3200000000002,"E","Estimated value"]
["SCL","Supply Utilization Accounts (2010-)","442","Luxembourg","5510","Production","01232","Cucumbers and gherkins","2021","2021","t",10,"A","Official figure"]
["SCL","Supply Utilization Accounts (2010-)","442","Luxembourg","5610","Import quantity","01232","Cucumbers and gherkins","2021","2021","t",2566.0300000000002,"A","Official figure"]
["SCL","Supply Utilization Accounts (2010-)","442","Luxembourg","5910","Export quantity","01232","Cucumbers and gherkins","2021","2021","t",249.2,"A","Official figure"]
["SCL","Supply Utilization Accounts (2010-)","442","Luxembourg","5016","Loss","01232","Cucumbers and gherkins","2021","2021","t",2.5299999999999998,"E","Estimated value"]
["SCL","Supply Utilization Accounts (2010-)","442","Luxembourg","5166","Residuals","01232","Cucumbers and gherkins","2021","2021","t",0,"I","Imputed value"]
["SCL","Supply Utilization Accounts (2010-)","442","Luxembourg","5141","Food supply quantity","01232","Cucumbers and gherkins","2021","2021","t",2324.3000000000002,"E","Estimated value"]
["SCL","Supply Utilization Accounts (2010-)","442","Luxembourg","5510","Production","01232","Cucumbers and gherkins","2022","2022","t",30,"A","Official figure"]
["SCL","Supply Utilization Accounts (2010-)","442","Luxembourg","5610","Import quantity","01232","Cucumbers and gherkins","2022","2022","t",2797.54,"A","Official figure"]
["SCL","Supply Utilization Accounts (2010-)","442","Luxembourg","5910","Export quantity","01232","Cucumbers and gherkins","2022","2022","t",274.05,"A","Official figure"]
["SCL","Supply Utilization Accounts (2010-)","442","Luxembourg","5016","Loss","01232","Cucumbers and gherkins","2022","2022","t",3.31,"E","Estimated value"]
["SCL","Supply Utilization Accounts (2010-)","442","Luxembourg","5166","Residuals","01232","Cucumbers and gherkins","2022","2022","t",0,"I","Imputed value"]
["SCL","Supply Utilization Accounts (2010-)","442","Luxembourg","5141","Food supply quantity","01232","Cucumbers and gherkins","2022","2022","t",2550.1799999999998,"E","Estimated value"]
["SCL","Supply Utilization Accounts (2010-)","442","Luxembourg","5610","Import quantity","01233","Eggplants (aubergines)","2020","2020","t",752.57,"A","Official figure"]
["SCL","Supply Utilization Accounts (2010-)","442","Luxembourg","5910","Export quantity","01233","Eggplants (aubergines)","2020","2020","t",99.58,"A","Official figure"]
["SCL","Supply Utilization Accounts (2010-)","442","Luxembourg","5016","Loss","01233","Eggplants (aubergines)","2020","2020","t",15.05,"I","Imputed value"]
["SCL","Supply Utilization Accounts (2010-)","442","Luxembourg","5166","Residuals","01233","Eggplants (aubergines)","2020","2020","t",0,"I","Imputed value"]
["SCL","Supply Utilization Accounts (2010-)","442","Luxembourg","5141","Food supply quantity","01233","Eggplants (aubergines)","2020","2020","t",637.94000000000005,"E","Estimated value"]
["SCL","Supply Utilization Accounts (2010-)","442","Luxembourg","5610","Import quantity","01233","Eggplants (aubergines)","2021","2021","t",690.64,"A","Official figure"]
["SCL","Supply Utilization Accounts (2010-)","442","Luxembourg","5910","Export quantity","01233","Eggplants (aubergines)","2021","2021","t",69.260000000000005,"A","Official figure"]
["SCL","Supply Utilization Accounts (2010-)","442","Luxembourg","5016","Loss","01233","Eggplants (aubergines)","2021","2021","t",13.81,"I","Imputed value"]
["SCL","Supply Utilization Accounts (2010-)","442","Luxembourg","5166","Residuals","01233","Eggplants (aubergines)","2021","2021","t",0,"I","Imputed value"]
["SCL","Supply Utilization Accounts (2010-)","442","Luxembourg","5141","Food supply quantity","01233","Eggplants (aubergines)","2021","2021","t",607.57000000000005,"E","Estimated value"]
["SCL","Supply Utilization Accounts (2010-)","442","Luxembourg","5610","Import quantity","01233","Eggplants (aubergines)","2022","2022","t",704.23,"A","Official figure"]
["SCL","Supply Utilization Accounts (2010-)","442","Luxembourg","5910","Export quantity","01233","Eggplants (aubergines)","2022","2022","t",70.31,"A","Official figure"]
["SCL","Supply Utilization Accounts (2010-)","442","Luxembourg","5016","Loss","01233","Eggplants (aubergines)","2022","2022","t",14.08,"I","Imputed value"]
["SCL","Supply Utilization Accounts (2010-)","442","Luxembourg","5166","Residuals","01233","Eggplants (aubergines)","2022","2022","t",0,"I","Imputed value"]
["SCL","Supply Utilization Accounts (2010-)","442","Luxembourg","5141","Food supply quantity","01233","Eggplants (aubergines)","2022","2022","t",619.84,"E","Estimated value"]
["SCL","Supply Utilization Accounts (2010-)","470","Malta","5510","Production","01311","Avocados","2020","2020","t",0,"A","Official figure"]
["SCL","Supply Utilization Accounts (2010-)","470","Malta","5610","Import quantity","01311","Avocados","2020","2020","t",471.5,"A","Official figure"]
["SCL","Supply Utilization Accounts (2010-)","470","Malta","5164","Tourist consumption","01311","Avocados","2020","2020","t",0,"E","Estimated value"]
["SCL","Supply Utilization Accounts (2010-)","470","Malta","5166","Residuals","01311","Avocados","2020","2020","t",0,"I","Imputed value"]
["SCL","Supply Utilization Accounts (2010-)","470","Malta","5141","Food supply quantity","01311","Avocados","2020","2020","t",471.5,"E","Estimated value"]
["SCL","Supply Utilization Accounts (2010-)","470","Malta","5510","Production","01311","Avocados","2021","2021","t",0,"A","Official figure"]
["SCL","Supply Utilization Accounts (2010-)","470","Malta","5610","Import quantity","01311","Avocados","2021","2021","t",678.22,"A","Official figure"]
["SCL","Supply Utilization Accounts (2010-)","470","Malta","5910","Export quantity","01311","Avocados","2021","2021","t",0.63,"A","Official figure"]
["SCL","Supply Utilization Accounts (2010-)","470","Malta","5164","Tourist consumption","01311","Avocados","2021","2021","t",0,"E","Estimated value"]
["SCL","Supply Utilization Accounts (2010-)","470","Malta","5166","Residuals","01311","Avocados","2021","2021","t",0,"I","Imputed value"]
["SCL","Supply Utilization Accounts (2010-)","470","Malta","5141","Food supply quantity","01311","Avocados","2021","2021","t",677.59,"E","Estimated value"]
["SCL","Supply Utilization Accounts (2010-)","470","Malta","5510","Production","01311","Avocados","2022","2022","t",0,"A","Official figure"]
["SCL","Supply Utilization Accounts (2010-)","470","Malta","5610","Import quantity","01311","Avocados","2022","2022","t",660.89,"A","Official figure"]
["SCL","Supply Utilization Accounts (2010-)","470","Malta","5910","Export quantity","01311","Avocados","2022","2022","t",0.11,"A","Official figure"]
["SCL","Supply Utilization Accounts (2010-)","470","Malta","5164","Tourist consumption","01311","Avocados","2022","2022","t",31.13,"E","Estimated value"]
["SCL","Supply Utilization Accounts (2010-)","470","Malta","5166","Residuals","01311","Avocados","2022","2022","t",0,"I","Imputed value"]
["SCL","Supply Utilization Accounts (2010-)","470","Malta","5141","Food supply quantity","01311","Avocados","2022","2022","t",629.66,"E","Estimated value"]
["SCL","Supply Utilization Accounts (2010-)","470","Malta","5510","Production","01312","Bananas","2020","2020","t",0,"A","Official figure"]
["SCL","Supply Utilization Accounts (2010-)","470","Malta","5610","Import quantity","01312","Bananas","2020","2020","t",8680.94,"A","Official figure"]
["SCL","Supply Utilization Accounts (2010-)","470","Malta","5016","Loss","01312","Bananas","2020","2020","t",434.05,"I","Imputed value"]
["SCL","Supply Utilization Accounts (2010-)","470","Malta","5164","Tourist consumption","01312","Bananas","2020","2020","t",0,"E","Estimated value"]
["SCL","Supply Utilization Accounts (2010-)","470","Malta","5165","Other uses (non-food)","01312","Bananas","2020","2020","t",0,"E","Estimated value"]
["SCL","Supply Utilization Accounts (2010-)","470","Malta","5166","Residuals","01312","Bananas","2020","2020","t",1,"I","Imputed value"]
["SCL","Supply Utilization Accounts (2010-)","470","Malta","5141","Food supply quantity","01312","Bananas","2020","2020","t",8246,"E","Estimated value"]
["SCL","Supply Utilization Accounts (2010-)","470","Malta","5510","Production","01312","Bananas","2021","2021","t",0,"A","Official figure"]
["SCL","Supply Utilization Accounts (2010-)","470","Malta","5610","Import quantity","01312","Bananas","2021","2021","t",9118.61,"A","Official figure"]
["SCL","Supply Utilization Accounts (2010-)","470","Malta","5910","Export quantity","01312","Bananas","2021","2021","t",0.04,"A","Official figure"]
["SCL","Supply Utilization Accounts (2010-)","470","Malta","5016","Loss","01312","Bananas","2021","2021","t",455.93,"I","Imputed value"]
["SCL","Supply Utilization Accounts (2010-)","470","Malta","5164","Tourist consumption","01312","Bananas","2021","2021","t",0,"E","Estimated value"]
["SCL","Supply Utilization Accounts (2010-)","470","Malta","5165","Other uses (non-food)","01312","Bananas","2021","2021","t",0,"E","Estimated value"]
["SCL","Supply Utilization Accounts (2010-)","470","Malta","5166","Residuals","01312","Bananas","2021","2021","t",1,"I","Imputed value"]
["SCL","Supply Utilization Accounts (2010-)","470","Malta","5141","Food supply quantity","01312","Bananas","2021","2021","t",8661.7099999999991,"E","Estimated value"]
["SCL","Supply Utilization Accounts (2010-)","470","Malta","5510","Production","01312","Bananas","2022","2022","t",0,"A","Official figure"]
["SCL","Supply Utilization Accounts (2010-)","470","Malta","5610","Import quantity","01312","Bananas","2022","2022","t",9761.86,"A","Official figure"]
["SCL","Supply Utilization Accounts (2010-)","470","Malta","5016","Loss","01312","Bananas","2022","2022","t",488.09,"I","Imputed value"]
["SCL","Supply Utilization Accounts (2010-)","470","Malta","5164","Tourist consumption","01312","Bananas","2022","2022","t",195.24,"E","Estimated value"]
["SCL","Supply Utilization Accounts (2010-)","470","Malta","5166","Residuals","01312","Bananas","2022","2022","t",0,"I","Imputed value"]
["SCL","Supply Utilization Accounts (2010-)","470","Malta","5141","Food supply quantity","01312","Bananas","2022","2022","t",9078.5300000000007,"E","Estimated value"]
["SCL","Supply Utilization Accounts (2010-)","470","Malta","5610","Import quantity","01231","Chillies and peppers, green (Capsicum spp. and Pimenta spp.)","2020","2020","t",642.47,"A","Official figure"]
["SCL","Supply Utilization Accounts (2010-)","470","Malta","5164","Tourist consumption","01231","Chillies and peppers, green (Capsicum spp. and Pimenta spp.)","2020","2020","t",0,"E","Estimated value"]
["SCL","Supply Utilization Accounts (2010-)","470","Malta","5166","Residuals","01231","Chillies and peppers, green (Capsicum spp. and Pimenta spp.)","2020","2020","t",0,"I","Imputed value"]
["SCL","Supply Utilization Accounts (2010-)","470","Malta","5141","Food supply quantity","01231","Chillies and peppers, green (Capsicum spp. and Pimenta spp.)","2020","2020","t",642.47,"E","Estimated value"]
["SCL","Supply Utilization Accounts (2010-)","470","Malta","5610","Import quantity","01231","Chillies and peppers, green (Capsicum spp. and Pimenta spp.)","2021","2021","t",924.43,"A","Official figure"]
["SCL","Supply Utilization Accounts (2010-)","470","Malta","5910","Export quantity","01231","Chillies and peppers, green (Capsicum spp. and Pimenta spp.)","2021","2021","t",0.37,"A","Official figure"]
["SCL","Supply Utilization Accounts (2010-)","470","Malta","5164","Tourist consumption","01231","Chillies and peppers, green (Capsicum spp. and Pimenta spp.)","2021","2021","t",0,"E","Estimated value"]
["SCL","Supply Utilization Accounts (2010-)","470","Malta","5166","Residuals","01231","Chillies and peppers, green (Capsicum spp. and Pimenta spp.)","2021","2021","t",0,"I","Imputed value"]
["SCL","Supply Utilization Accounts (2010-)","470","Malta","5141","Food supply quantity","01231","Chillies and peppers, green (Capsicum spp. and Pimenta spp.)","2021","2021","t",924.06,"E","Estimated value"]
["SCL","Supply Utilization Accounts (2010-)","470","Malta","5610","Import quantity","01231","Chillies and peppers, green (Capsicum spp. and Pimenta spp.)","2022","2022","t",915.45,"A","Official figure"]
["SCL","Supply Utilization Accounts (2010-)","470","Malta","5910","Export quantity","01231","Chillies and peppers, green (Capsicum spp. and Pimenta spp.)","2022","2022","t",0.16,"A","Official figure"]
["SCL","Supply Utilization Accounts (2010-)","470","Malta","5164","Tourist consumption","01231","Chillies and peppers, green (Capsicum spp. and Pimenta spp.)","2022","2022","t",67.81,"E","Estimated value"]
["SCL","Supply Utilization Accounts (2010-)","470","Malta","5166","Residuals","01231","Chillies and peppers, green (Capsicum spp. and Pimenta spp.)","2022","2022","t",0,"I","Imputed value"]
["SCL","Supply Utilization Accounts (2010-)","470","Malta","5141","Food supply quantity","01231","Chillies and peppers, green (Capsicum spp. and Pimenta spp.)","2022","2022","t",847.48,"E","Estimated value"]
["SCL","Supply Utilization Accounts (2010-)","470","Malta","5510","Production","01232","Cucumbers and gherkins","2020","2020","t",740,"A","Official figure"]
["SCL","Supply Utilization Accounts (2010-)","470","Malta","5610","Import quantity","01232","Cucumbers and gherkins","2020","2020","t",366.35,"A","Official figure"]
["SCL","Supply Utilization Accounts (2010-)","470","Malta","5016","Loss","01232","Cucumbers and gherkins","2020","2020","t",68.819999999999993,"I","Imputed value"]
["SCL","Supply Utilization Accounts (2010-)","470","Malta","5164","Tourist consumption","01232","Cucumbers and gherkins","2020","2020","t",0,"E","Estimated value"]
["SCL","Supply Utilization Accounts (2010-)","470","Malta","5166","Residuals","01232","Cucumbers and gherkins","2020","2020","t",0,"I","Imputed value"]
["SCL","Supply Utilization Accounts (2010-)","470","Malta","5141","Food supply quantity","01232","Cucumbers and gherkins","2020","2020","t",1037.53,"E","Estimated value"]
["SCL","Supply Utilization Accounts (2010-)","470","Malta","5510","Production","01232","Cucumbers and gherkins","2021","2021","t",690,"A","Official figure"]
["SCL","Supply Utilization Accounts (2010-)","470","Malta","5610","Import quantity","01232","Cucumbers and gherkins","2021","2021","t",435.79,"A","Official figure"]
["SCL","Supply Utilization Accounts (2010-)","470","Malta","5910","Export quantity","01232","Cucumbers and gherkins","2021","2021","t",0.37,"A","Official figure"]
["SCL","Supply Utilization Accounts (2010-)","470","Malta","5016","Loss","01232","Cucumbers and gherkins","2021","2021","t",69.02,"I","Imputed value"]
["SCL","Supply Utilization Accounts (2010-)","470","Malta","5164","Tourist consumption","01232","Cucumbers and gherkins","2021","2021","t",0,"E","Estimated value"]
["SCL","Supply Utilization Accounts (2010-)","470","Malta","5166","Residuals","01232","Cucumbers and gherkins","2021","2021","t",0,"I","Imputed value"]
["SCL","Supply Utilization Accounts (2010-)","470","Malta","5141","Food supply quantity","01232","Cucumbers and gherkins","2021","2021","t",1056.4100000000001,"E","Estimated value"]
["SCL","Supply Utilization Accounts (2010-)","470","Malta","5510","Production","01232","Cucumbers and gherkins","2022","2022","t",820,"A","Official figure"]
["SCL","Supply Utilization Accounts (2010-)","470","Malta","5610","Import quantity","01232","Cucumbers and gherkins","2022","2022","t",597.36,"A","Official figure"]
["SCL","Supply Utilization Accounts (2010-)","470","Malta","5910","Export quantity","01232","Cucumbers and gherkins","2022","2022","t",0.47,"A","Official figure"]
["SCL","Supply Utilization Accounts (2010-)","470","Malta","5016","Loss","01232","Cucumbers and gherkins","2022","2022","t",86.89,"I","Imputed value"]
["SCL","Supply Utilization Accounts (2010-)","470","Malta","5164","Tourist consumption","01232","Cucumbers and gherkins","2022","2022","t",104.77,"E","Estimated value"]
["SCL","Supply Utilization Accounts (2010-)","470","Malta","5166","Residuals","01232","Cucumbers and gherkins","2022","2022","t",0,"I","Imputed value"]
["SCL","Supply Utilization Accounts (2010-)","470","Malta","5141","Food supply quantity","01232","Cucumbers and gherkins","2022","2022","t",1225.23,"E","Estimated value"]
["SCL","Supply Utilization Accounts (2010-)","470","Malta","5510","Production","01233","Eggplants (aubergines)","2020","2020","t",850,"A","Official figure"]
["SCL","Supply Utilization Accounts (2010-)","470","Malta","5610","Import quantity","01233","Eggplants (aubergines)","2020","2020","t",151.86000000000001,"A","Official figure"]
["SCL","Supply Utilization Accounts (2010-)","470","Malta","5016","Loss","01233","Eggplants (aubergines)","2020","2020","t",71.489999999999995,"I","Imputed value"]
["SCL","Supply Utilization Accounts (2010-)","470","Malta","5164","Tourist consumption","01233","Eggplants (aubergines)","2020","2020","t",0,"E","Estimated value"]
["SCL","Supply Utilization Accounts (2010-)","470","Malta","5166","Residuals","01233","Eggplants (aubergines)","2020","2020","t",0,"I","Imputed value"]
["SCL","Supply Utilization Accounts (2010-)","470","Malta","5141","Food supply quantity","01233","Eggplants (aubergines)","2020","2020","t",930.37,"E","Estimated value"]
["SCL","Supply Utilization Accounts (2010-)","470","Malta","5510","Production","01233","Eggplants (aubergines)","2021","2021","t",730,"A","Official figure"]
["SCL","Supply Utilization Accounts (2010-)","470","Malta","5610","Import quantity","01233","Eggplants (aubergines)","2021","2021","t",164.41,"A","Official figure"]
["SCL","Supply Utilization Accounts (2010-)","470","Malta","5910","Export quantity","01233","Eggplants (aubergines)","2021","2021","t",7.0000000000000007E-2,"A","Official figure"]
["SCL","Supply Utilization Accounts (2010-)","470","Malta","5016","Loss","01233","Eggplants (aubergines)","2021","2021","t",63.63,"I","Imputed value"]
["SCL","Supply Utilization Accounts (2010-)","470","Malta","5164","Tourist consumption","01233","Eggplants (aubergines)","2021","2021","t",0,"E","Estimated value"]
["SCL","Supply Utilization Accounts (2010-)","470","Malta","5166","Residuals","01233","Eggplants (aubergines)","2021","2021","t",0,"I","Imputed value"]
["SCL","Supply Utilization Accounts (2010-)","470","Malta","5141","Food supply quantity","01233","Eggplants (aubergines)","2021","2021","t",830.71,"E","Estimated value"]
["SCL","Supply Utilization Accounts (2010-)","470","Malta","5510","Production","01233","Eggplants (aubergines)","2022","2022","t",820,"A","Official figure"]
["SCL","Supply Utilization Accounts (2010-)","470","Malta","5610","Import quantity","01233","Eggplants (aubergines)","2022","2022","t",175.41,"A","Official figure"]
["SCL","Supply Utilization Accounts (2010-)","470","Malta","5910","Export quantity","01233","Eggplants (aubergines)","2022","2022","t",7.0000000000000007E-2,"A","Official figure"]
["SCL","Supply Utilization Accounts (2010-)","470","Malta","5016","Loss","01233","Eggplants (aubergines)","2022","2022","t",70.819999999999993,"I","Imputed value"]
["SCL","Supply Utilization Accounts (2010-)","470","Malta","5164","Tourist consumption","01233","Eggplants (aubergines)","2022","2022","t",15.05,"E","Estimated value"]
["SCL","Supply Utilization Accounts (2010-)","470","Malta","5166","Residuals","01233","Eggplants (aubergines)","2022","2022","t",0,"I","Imputed value"]
["SCL","Supply Utilization Accounts (2010-)","470","Malta","5141","Food supply quantity","01233","Eggplants (aubergines)","2022","2022","t",909.47,"E","Estimated value"]
["SCL","Supply Utilization Accounts (2010-)","528","Netherlands","5510","Production","01311","Avocados","2020","2020","t",0,"A","Official figure"]
["SCL","Supply Utilization Accounts (2010-)","528","Netherlands","5610","Import quantity","01311","Avocados","2020","2020","t",414175.25,"A","Official figure"]
["SCL","Supply Utilization Accounts (2010-)","528","Netherlands","5910","Export quantity","01311","Avocados","2020","2020","t",375685.26,"A","Official figure"]
["SCL","Supply Utilization Accounts (2010-)","528","Netherlands","5016","Loss","01311","Avocados","2020","2020","t",8283.51,"I","Imputed value"]
["SCL","Supply Utilization Accounts (2010-)","528","Netherlands","5166","Residuals","01311","Avocados","2020","2020","t",0,"I","Imputed value"]
["SCL","Supply Utilization Accounts (2010-)","528","Netherlands","5141","Food supply quantity","01311","Avocados","2020","2020","t",30206.49,"E","Estimated value"]
["SCL","Supply Utilization Accounts (2010-)","528","Netherlands","5510","Production","01311","Avocados","2021","2021","t",0,"A","Official figure"]
["SCL","Supply Utilization Accounts (2010-)","528","Netherlands","5610","Import quantity","01311","Avocados","2021","2021","t",457172.45,"A","Official figure"]
["SCL","Supply Utilization Accounts (2010-)","528","Netherlands","5910","Export quantity","01311","Avocados","2021","2021","t",414654.4,"A","Official figure"]
["SCL","Supply Utilization Accounts (2010-)","528","Netherlands","5016","Loss","01311","Avocados","2021","2021","t",9143.4500000000007,"I","Imputed value"]
["SCL","Supply Utilization Accounts (2010-)","528","Netherlands","5166","Residuals","01311","Avocados","2021","2021","t",0,"I","Imputed value"]
["SCL","Supply Utilization Accounts (2010-)","528","Netherlands","5141","Food supply quantity","01311","Avocados","2021","2021","t",33374.6,"E","Estimated value"]
["SCL","Supply Utilization Accounts (2010-)","528","Netherlands","5510","Production","01311","Avocados","2022","2022","t",0,"A","Official figure"]
["SCL","Supply Utilization Accounts (2010-)","528","Netherlands","5610","Import quantity","01311","Avocados","2022","2022","t",462400.15,"A","Official figure"]
["SCL","Supply Utilization Accounts (2010-)","528","Netherlands","5910","Export quantity","01311","Avocados","2022","2022","t",417770.15,"A","Official figure"]
["SCL","Supply Utilization Accounts (2010-)","528","Netherlands","5016","Loss","01311","Avocados","2022","2022","t",9248,"I","Imputed value"]
["SCL","Supply Utilization Accounts (2010-)","528","Netherlands","5166","Residuals","01311","Avocados","2022","2022","t",0,"I","Imputed value"]
["SCL","Supply Utilization Accounts (2010-)","528","Netherlands","5141","Food supply quantity","01311","Avocados","2022","2022","t",35382,"E","Estimated value"]
["SCL","Supply Utilization Accounts (2010-)","528","Netherlands","5510","Production","01312","Bananas","2020","2020","t",0,"A","Official figure"]
["SCL","Supply Utilization Accounts (2010-)","528","Netherlands","5610","Import quantity","01312","Bananas","2020","2020","t",1274827.21,"A","Official figure"]
["SCL","Supply Utilization Accounts (2010-)","528","Netherlands","5910","Export quantity","01312","Bananas","2020","2020","t",879350.34,"A","Official figure"]
["SCL","Supply Utilization Accounts (2010-)","528","Netherlands","5016","Loss","01312","Bananas","2020","2020","t",12748.27,"I","Imputed value"]
["SCL","Supply Utilization Accounts (2010-)","528","Netherlands","5023","Processed","01312","Bananas","2020","2020","t",38684.47,"E","Estimated value"]
["SCL","Supply Utilization Accounts (2010-)","528","Netherlands","5166","Residuals","01312","Bananas","2020","2020","t",0,"I","Imputed value"]
["SCL","Supply Utilization Accounts (2010-)","528","Netherlands","5141","Food supply quantity","01312","Bananas","2020","2020","t",344044.13,"E","Estimated value"]
["SCL","Supply Utilization Accounts (2010-)","528","Netherlands","5510","Production","01312","Bananas","2021","2021","t",0,"A","Official figure"]
["SCL","Supply Utilization Accounts (2010-)","528","Netherlands","5610","Import quantity","01312","Bananas","2021","2021","t",1435125.51,"A","Official figure"]
["SCL","Supply Utilization Accounts (2010-)","528","Netherlands","5910","Export quantity","01312","Bananas","2021","2021","t",906328.76,"A","Official figure"]
["SCL","Supply Utilization Accounts (2010-)","528","Netherlands","5016","Loss","01312","Bananas","2021","2021","t",14351.26,"I","Imputed value"]
["SCL","Supply Utilization Accounts (2010-)","528","Netherlands","5023","Processed","01312","Bananas","2021","2021","t",52009.78,"E","Estimated value"]
["SCL","Supply Utilization Accounts (2010-)","528","Netherlands","5166","Residuals","01312","Bananas","2021","2021","t",0,"I","Imputed value"]
["SCL","Supply Utilization Accounts (2010-)","528","Netherlands","5141","Food supply quantity","01312","Bananas","2021","2021","t",462435.72,"E","Estimated value"]
["SCL","Supply Utilization Accounts (2010-)","528","Netherlands","5510","Production","01312","Bananas","2022","2022","t",0,"A","Official figure"]
["SCL","Supply Utilization Accounts (2010-)","528","Netherlands","5610","Import quantity","01312","Bananas","2022","2022","t",1431195.65,"A","Official figure"]
["SCL","Supply Utilization Accounts (2010-)","528","Netherlands","5910","Export quantity","01312","Bananas","2022","2022","t",1005910.19,"A","Official figure"]
["SCL","Supply Utilization Accounts (2010-)","528","Netherlands","5016","Loss","01312","Bananas","2022","2022","t",14311.96,"I","Imputed value"]
["SCL","Supply Utilization Accounts (2010-)","528","Netherlands","5023","Processed","01312","Bananas","2022","2022","t",41842.730000000003,"E","Estimated value"]
["SCL","Supply Utilization Accounts (2010-)","528","Netherlands","5166","Residuals","01312","Bananas","2022","2022","t",0,"I","Imputed value"]
["SCL","Supply Utilization Accounts (2010-)","528","Netherlands","5141","Food supply quantity","01312","Bananas","2022","2022","t",369130.77,"E","Estimated value"]
["SCL","Supply Utilization Accounts (2010-)","528","Netherlands","5510","Production","01231","Chillies and peppers, green (Capsicum spp. and Pimenta spp.)","2020","2020","t",430000,"A","Official figure"]
["SCL","Supply Utilization Accounts (2010-)","528","Netherlands","5610","Import quantity","01231","Chillies and peppers, green (Capsicum spp. and Pimenta spp.)","2020","2020","t",125960.46,"A","Official figure"]
["SCL","Supply Utilization Accounts (2010-)","528","Netherlands","5910","Export quantity","01231","Chillies and peppers, green (Capsicum spp. and Pimenta spp.)","2020","2020","t",467461.47,"A","Official figure"]
["SCL","Supply Utilization Accounts (2010-)","528","Netherlands","5016","Loss","01231","Chillies and peppers, green (Capsicum spp. and Pimenta spp.)","2020","2020","t",14825.61,"I","Imputed value"]
["SCL","Supply Utilization Accounts (2010-)","528","Netherlands","5166","Residuals","01231","Chillies and peppers, green (Capsicum spp. and Pimenta spp.)","2020","2020","t",0,"I","Imputed value"]
["SCL","Supply Utilization Accounts (2010-)","528","Netherlands","5141","Food supply quantity","01231","Chillies and peppers, green (Capsicum spp. and Pimenta spp.)","2020","2020","t",73673.38,"E","Estimated value"]
["SCL","Supply Utilization Accounts (2010-)","528","Netherlands","5510","Production","01231","Chillies and peppers, green (Capsicum spp. and Pimenta spp.)","2021","2021","t",440000,"A","Official figure"]
["SCL","Supply Utilization Accounts (2010-)","528","Netherlands","5610","Import quantity","01231","Chillies and peppers, green (Capsicum spp. and Pimenta spp.)","2021","2021","t",124273.13,"A","Official figure"]
["SCL","Supply Utilization Accounts (2010-)","528","Netherlands","5910","Export quantity","01231","Chillies and peppers, green (Capsicum spp. and Pimenta spp.)","2021","2021","t",450891.77,"A","Official figure"]
["SCL","Supply Utilization Accounts (2010-)","528","Netherlands","5016","Loss","01231","Chillies and peppers, green (Capsicum spp. and Pimenta spp.)","2021","2021","t",15047.28,"I","Imputed value"]
["SCL","Supply Utilization Accounts (2010-)","528","Netherlands","5166","Residuals","01231","Chillies and peppers, green (Capsicum spp. and Pimenta spp.)","2021","2021","t",0,"I","Imputed value"]
["SCL","Supply Utilization Accounts (2010-)","528","Netherlands","5141","Food supply quantity","01231","Chillies and peppers, green (Capsicum spp. and Pimenta spp.)","2021","2021","t",98334.080000000002,"E","Estimated value"]
["SCL","Supply Utilization Accounts (2010-)","528","Netherlands","5510","Production","01231","Chillies and peppers, green (Capsicum spp. and Pimenta spp.)","2022","2022","t",435000,"A","Official figure"]
["SCL","Supply Utilization Accounts (2010-)","528","Netherlands","5610","Import quantity","01231","Chillies and peppers, green (Capsicum spp. and Pimenta spp.)","2022","2022","t",104385.85,"A","Official figure"]
["SCL","Supply Utilization Accounts (2010-)","528","Netherlands","5910","Export quantity","01231","Chillies and peppers, green (Capsicum spp. and Pimenta spp.)","2022","2022","t",430559.78,"A","Official figure"]
["SCL","Supply Utilization Accounts (2010-)","528","Netherlands","5016","Loss","01231","Chillies and peppers, green (Capsicum spp. and Pimenta spp.)","2022","2022","t",14383.62,"I","Imputed value"]
["SCL","Supply Utilization Accounts (2010-)","528","Netherlands","5166","Residuals","01231","Chillies and peppers, green (Capsicum spp. and Pimenta spp.)","2022","2022","t",0,"I","Imputed value"]
["SCL","Supply Utilization Accounts (2010-)","528","Netherlands","5141","Food supply quantity","01231","Chillies and peppers, green (Capsicum spp. and Pimenta spp.)","2022","2022","t",94442.45,"E","Estimated value"]
["SCL","Supply Utilization Accounts (2010-)","528","Netherlands","5510","Production","01232","Cucumbers and gherkins","2020","2020","t",430170,"A","Official figure"]
["SCL","Supply Utilization Accounts (2010-)","528","Netherlands","5610","Import quantity","01232","Cucumbers and gherkins","2020","2020","t",107491.97,"A","Official figure"]
["SCL","Supply Utilization Accounts (2010-)","528","Netherlands","5910","Export quantity","01232","Cucumbers and gherkins","2020","2020","t",470421.8,"A","Official figure"]
["SCL","Supply Utilization Accounts (2010-)","528","Netherlands","5016","Loss","01232","Cucumbers and gherkins","2020","2020","t",20005.98,"I","Imputed value"]
["SCL","Supply Utilization Accounts (2010-)","528","Netherlands","5023","Processed","01232","Cucumbers and gherkins","2020","2020","t",41580.53,"E","Estimated value"]
["SCL","Supply Utilization Accounts (2010-)","528","Netherlands","5166","Residuals","01232","Cucumbers and gherkins","2020","2020","t",0,"I","Imputed value"]
["SCL","Supply Utilization Accounts (2010-)","528","Netherlands","5141","Food supply quantity","01232","Cucumbers and gherkins","2020","2020","t",5653.65,"E","Estimated value"]
["SCL","Supply Utilization Accounts (2010-)","528","Netherlands","5510","Production","01232","Cucumbers and gherkins","2021","2021","t",440440,"A","Official figure"]
["SCL","Supply Utilization Accounts (2010-)","528","Netherlands","5610","Import quantity","01232","Cucumbers and gherkins","2021","2021","t",97023.67,"A","Official figure"]
["SCL","Supply Utilization Accounts (2010-)","528","Netherlands","5910","Export quantity","01232","Cucumbers and gherkins","2021","2021","t",485313.81,"A","Official figure"]
["SCL","Supply Utilization Accounts (2010-)","528","Netherlands","5016","Loss","01232","Cucumbers and gherkins","2021","2021","t",19568.080000000002,"I","Imputed value"]
["SCL","Supply Utilization Accounts (2010-)","528","Netherlands","5023","Processed","01232","Cucumbers and gherkins","2021","2021","t",30000,"E","Estimated value"]
["SCL","Supply Utilization Accounts (2010-)","528","Netherlands","5166","Residuals","01232","Cucumbers and gherkins","2021","2021","t",0,"I","Imputed value"]
["SCL","Supply Utilization Accounts (2010-)","528","Netherlands","5141","Food supply quantity","01232","Cucumbers and gherkins","2021","2021","t",2581.77,"E","Estimated value"]
["SCL","Supply Utilization Accounts (2010-)","528","Netherlands","5510","Production","01232","Cucumbers and gherkins","2022","2022","t",400130,"A","Official figure"]
["SCL","Supply Utilization Accounts (2010-)","528","Netherlands","5610","Import quantity","01232","Cucumbers and gherkins","2022","2022","t",106606.14,"A","Official figure"]
["SCL","Supply Utilization Accounts (2010-)","528","Netherlands","5910","Export quantity","01232","Cucumbers and gherkins","2022","2022","t",434864.11,"A","Official figure"]
["SCL","Supply Utilization Accounts (2010-)","528","Netherlands","5016","Loss","01232","Cucumbers and gherkins","2022","2022","t",18449.349999999999,"I","Imputed value"]
["SCL","Supply Utilization Accounts (2010-)","528","Netherlands","5023","Processed","01232","Cucumbers and gherkins","2022","2022","t",53411.81,"E","Estimated value"]
["SCL","Supply Utilization Accounts (2010-)","528","Netherlands","5166","Residuals","01232","Cucumbers and gherkins","2022","2022","t",0,"I","Imputed value"]
["SCL","Supply Utilization Accounts (2010-)","528","Netherlands","5141","Food supply quantity","01232","Cucumbers and gherkins","2022","2022","t",10.86,"E","Estimated value"]
["SCL","Supply Utilization Accounts (2010-)","528","Netherlands","5510","Production","01233","Eggplants (aubergines)","2020","2020","t",65000,"A","Official figure"]
["SCL","Supply Utilization Accounts (2010-)","528","Netherlands","5610","Import quantity","01233","Eggplants (aubergines)","2020","2020","t",19268.46,"A","Official figure"]
["SCL","Supply Utilization Accounts (2010-)","528","Netherlands","5910","Export quantity","01233","Eggplants (aubergines)","2020","2020","t",63433.02,"A","Official figure"]
["SCL","Supply Utilization Accounts (2010-)","528","Netherlands","5016","Loss","01233","Eggplants (aubergines)","2020","2020","t",5557.09,"I","Imputed value"]
["SCL","Supply Utilization Accounts (2010-)","528","Netherlands","5166","Residuals","01233","Eggplants (aubergines)","2020","2020","t",0,"I","Imputed value"]
["SCL","Supply Utilization Accounts (2010-)","528","Netherlands","5141","Food supply quantity","01233","Eggplants (aubergines)","2020","2020","t",15278.35,"E","Estimated value"]
["SCL","Supply Utilization Accounts (2010-)","528","Netherlands","5510","Production","01233","Eggplants (aubergines)","2021","2021","t",63000,"A","Official figure"]
["SCL","Supply Utilization Accounts (2010-)","528","Netherlands","5610","Import quantity","01233","Eggplants (aubergines)","2021","2021","t",18372.68,"A","Official figure"]
["SCL","Supply Utilization Accounts (2010-)","528","Netherlands","5910","Export quantity","01233","Eggplants (aubergines)","2021","2021","t",64361.8,"A","Official figure"]
["SCL","Supply Utilization Accounts (2010-)","528","Netherlands","5016","Loss","01233","Eggplants (aubergines)","2021","2021","t",5352.92,"I","Imputed value"]
["SCL","Supply Utilization Accounts (2010-)","528","Netherlands","5166","Residuals","01233","Eggplants (aubergines)","2021","2021","t",0,"I","Imputed value"]
["SCL","Supply Utilization Accounts (2010-)","528","Netherlands","5141","Food supply quantity","01233","Eggplants (aubergines)","2021","2021","t",11657.96,"E","Estimated value"]
["SCL","Supply Utilization Accounts (2010-)","528","Netherlands","5510","Production","01233","Eggplants (aubergines)","2022","2022","t",66000,"A","Official figure"]
["SCL","Supply Utilization Accounts (2010-)","528","Netherlands","5610","Import quantity","01233","Eggplants (aubergines)","2022","2022","t",16392.990000000002,"A","Official figure"]
["SCL","Supply Utilization Accounts (2010-)","528","Netherlands","5910","Export quantity","01233","Eggplants (aubergines)","2022","2022","t",61134.54,"A","Official figure"]
["SCL","Supply Utilization Accounts (2010-)","528","Netherlands","5016","Loss","01233","Eggplants (aubergines)","2022","2022","t",5420.04,"I","Imputed value"]
["SCL","Supply Utilization Accounts (2010-)","528","Netherlands","5166","Residuals","01233","Eggplants (aubergines)","2022","2022","t",0,"I","Imputed value"]
["SCL","Supply Utilization Accounts (2010-)","528","Netherlands","5141","Food supply quantity","01233","Eggplants (aubergines)","2022","2022","t",15838.42,"E","Estimated value"]
["SCL","Supply Utilization Accounts (2010-)","578","Norway","5610","Import quantity","01311","Avocados","2020","2020","t",14832.77,"A","Official figure"]
["SCL","Supply Utilization Accounts (2010-)","578","Norway","5016","Loss","01311","Avocados","2020","2020","t",741.64,"I","Imputed value"]
["SCL","Supply Utilization Accounts (2010-)","578","Norway","5166","Residuals","01311","Avocados","2020","2020","t",0,"I","Imputed value"]
["SCL","Supply Utilization Accounts (2010-)","578","Norway","5141","Food supply quantity","01311","Avocados","2020","2020","t",14091.13,"E","Estimated value"]
["SCL","Supply Utilization Accounts (2010-)","578","Norway","5610","Import quantity","01311","Avocados","2021","2021","t",15493.75,"A","Official figure"]
["SCL","Supply Utilization Accounts (2010-)","578","Norway","5016","Loss","01311","Avocados","2021","2021","t",774.69,"I","Imputed value"]
["SCL","Supply Utilization Accounts (2010-)","578","Norway","5166","Residuals","01311","Avocados","2021","2021","t",0,"I","Imputed value"]
["SCL","Supply Utilization Accounts (2010-)","578","Norway","5141","Food supply quantity","01311","Avocados","2021","2021","t",14719.06,"E","Estimated value"]
["SCL","Supply Utilization Accounts (2010-)","578","Norway","5610","Import quantity","01311","Avocados","2022","2022","t",14880.75,"A","Official figure"]
["SCL","Supply Utilization Accounts (2010-)","578","Norway","5016","Loss","01311","Avocados","2022","2022","t",744.04,"I","Imputed value"]
["SCL","Supply Utilization Accounts (2010-)","578","Norway","5166","Residuals","01311","Avocados","2022","2022","t",0,"I","Imputed value"]
["SCL","Supply Utilization Accounts (2010-)","578","Norway","5141","Food supply quantity","01311","Avocados","2022","2022","t",14136.71,"E","Estimated value"]
["SCL","Supply Utilization Accounts (2010-)","578","Norway","5610","Import quantity","01312","Bananas","2020","2020","t",82396.179999999993,"A","Official figure"]
["SCL","Supply Utilization Accounts (2010-)","578","Norway","5016","Loss","01312","Bananas","2020","2020","t",4119.8100000000004,"I","Imputed value"]
["SCL","Supply Utilization Accounts (2010-)","578","Norway","5166","Residuals","01312","Bananas","2020","2020","t",0,"I","Imputed value"]
["SCL","Supply Utilization Accounts (2010-)","578","Norway","5141","Food supply quantity","01312","Bananas","2020","2020","t",78276.38,"E","Estimated value"]
["SCL","Supply Utilization Accounts (2010-)","578","Norway","5610","Import quantity","01312","Bananas","2021","2021","t",79590.47,"A","Official figure"]
["SCL","Supply Utilization Accounts (2010-)","578","Norway","5016","Loss","01312","Bananas","2021","2021","t",3979.52,"I","Imputed value"]
["SCL","Supply Utilization Accounts (2010-)","578","Norway","5166","Residuals","01312","Bananas","2021","2021","t",0,"I","Imputed value"]
["SCL","Supply Utilization Accounts (2010-)","578","Norway","5141","Food supply quantity","01312","Bananas","2021","2021","t",75610.95,"E","Estimated value"]
["SCL","Supply Utilization Accounts (2010-)","578","Norway","5610","Import quantity","01312","Bananas","2022","2022","t",79926.44,"A","Official figure"]
["SCL","Supply Utilization Accounts (2010-)","578","Norway","5016","Loss","01312","Bananas","2022","2022","t",3996.32,"I","Imputed value"]
["SCL","Supply Utilization Accounts (2010-)","578","Norway","5166","Residuals","01312","Bananas","2022","2022","t",0,"I","Imputed value"]
["SCL","Supply Utilization Accounts (2010-)","578","Norway","5141","Food supply quantity","01312","Bananas","2022","2022","t",75930.12,"E","Estimated value"]
["SCL","Supply Utilization Accounts (2010-)","578","Norway","5610","Import quantity","01231","Chillies and peppers, green (Capsicum spp. and Pimenta spp.)","2020","2020","t",20445.16,"A","Official figure"]
["SCL","Supply Utilization Accounts (2010-)","578","Norway","5910","Export quantity","01231","Chillies and peppers, green (Capsicum spp. and Pimenta spp.)","2020","2020","t",0.05,"A","Official figure"]
["SCL","Supply Utilization Accounts (2010-)","578","Norway","5016","Loss","01231","Chillies and peppers, green (Capsicum spp. and Pimenta spp.)","2020","2020","t",2044.52,"I","Imputed value"]
["SCL","Supply Utilization Accounts (2010-)","578","Norway","5166","Residuals","01231","Chillies and peppers, green (Capsicum spp. and Pimenta spp.)","2020","2020","t",0,"I","Imputed value"]
["SCL","Supply Utilization Accounts (2010-)","578","Norway","5141","Food supply quantity","01231","Chillies and peppers, green (Capsicum spp. and Pimenta spp.)","2020","2020","t",18400.599999999999,"E","Estimated value"]
["SCL","Supply Utilization Accounts (2010-)","578","Norway","5610","Import quantity","01231","Chillies and peppers, green (Capsicum spp. and Pimenta spp.)","2021","2021","t",20988.57,"A","Official figure"]
["SCL","Supply Utilization Accounts (2010-)","578","Norway","5910","Export quantity","01231","Chillies and peppers, green (Capsicum spp. and Pimenta spp.)","2021","2021","t",0.14000000000000001,"A","Official figure"]
["SCL","Supply Utilization Accounts (2010-)","578","Norway","5016","Loss","01231","Chillies and peppers, green (Capsicum spp. and Pimenta spp.)","2021","2021","t",2098.86,"I","Imputed value"]
["SCL","Supply Utilization Accounts (2010-)","578","Norway","5166","Residuals","01231","Chillies and peppers, green (Capsicum spp. and Pimenta spp.)","2021","2021","t",0,"I","Imputed value"]
["SCL","Supply Utilization Accounts (2010-)","578","Norway","5141","Food supply quantity","01231","Chillies and peppers, green (Capsicum spp. and Pimenta spp.)","2021","2021","t",18889.57,"E","Estimated value"]
["SCL","Supply Utilization Accounts (2010-)","578","Norway","5610","Import quantity","01231","Chillies and peppers, green (Capsicum spp. and Pimenta spp.)","2022","2022","t",21001.93,"A","Official figure"]
["SCL","Supply Utilization Accounts (2010-)","578","Norway","5910","Export quantity","01231","Chillies and peppers, green (Capsicum spp. and Pimenta spp.)","2022","2022","t",0.05,"A","Official figure"]
["SCL","Supply Utilization Accounts (2010-)","578","Norway","5016","Loss","01231","Chillies and peppers, green (Capsicum spp. and Pimenta spp.)","2022","2022","t",2100.19,"I","Imputed value"]
["SCL","Supply Utilization Accounts (2010-)","578","Norway","5166","Residuals","01231","Chillies and peppers, green (Capsicum spp. and Pimenta spp.)","2022","2022","t",0,"I","Imputed value"]
["SCL","Supply Utilization Accounts (2010-)","578","Norway","5141","Food supply quantity","01231","Chillies and peppers, green (Capsicum spp. and Pimenta spp.)","2022","2022","t",18901.7,"E","Estimated value"]
["SCL","Supply Utilization Accounts (2010-)","578","Norway","5510","Production","01232","Cucumbers and gherkins","2020","2020","t",21188,"A","Official figure"]
["SCL","Supply Utilization Accounts (2010-)","578","Norway","5610","Import quantity","01232","Cucumbers and gherkins","2020","2020","t",8080.49,"A","Official figure"]
["SCL","Supply Utilization Accounts (2010-)","578","Norway","5910","Export quantity","01232","Cucumbers and gherkins","2020","2020","t",2.78,"A","Official figure"]
["SCL","Supply Utilization Accounts (2010-)","578","Norway","5016","Loss","01232","Cucumbers and gherkins","2020","2020","t",1617.08,"I","Imputed value"]
["SCL","Supply Utilization Accounts (2010-)","578","Norway","5166","Residuals","01232","Cucumbers and gherkins","2020","2020","t",0,"I","Imputed value"]
["SCL","Supply Utilization Accounts (2010-)","578","Norway","5141","Food supply quantity","01232","Cucumbers and gherkins","2020","2020","t",27648.63,"E","Estimated value"]
["SCL","Supply Utilization Accounts (2010-)","578","Norway","5510","Production","01232","Cucumbers and gherkins","2021","2021","t",21650,"A","Official figure"]
["SCL","Supply Utilization Accounts (2010-)","578","Norway","5610","Import quantity","01232","Cucumbers and gherkins","2021","2021","t",8567.08,"A","Official figure"]
["SCL","Supply Utilization Accounts (2010-)","578","Norway","5910","Export quantity","01232","Cucumbers and gherkins","2021","2021","t",0.19,"A","Official figure"]
["SCL","Supply Utilization Accounts (2010-)","578","Norway","5016","Loss","01232","Cucumbers and gherkins","2021","2021","t",1664.57,"I","Imputed value"]
["SCL","Supply Utilization Accounts (2010-)","578","Norway","5166","Residuals","01232","Cucumbers and gherkins","2021","2021","t",0,"I","Imputed value"]
["SCL","Supply Utilization Accounts (2010-)","578","Norway","5141","Food supply quantity","01232","Cucumbers and gherkins","2021","2021","t",28552.32,"E","Estimated value"]
["SCL","Supply Utilization Accounts (2010-)","578","Norway","5510","Production","01232","Cucumbers and gherkins","2022","2022","t",21709,"A","Official figure"]
["SCL","Supply Utilization Accounts (2010-)","578","Norway","5610","Import quantity","01232","Cucumbers and gherkins","2022","2022","t",6465.07,"A","Official figure"]
["SCL","Supply Utilization Accounts (2010-)","578","Norway","5910","Export quantity","01232","Cucumbers and gherkins","2022","2022","t",0.05,"A","Official figure"]
["SCL","Supply Utilization Accounts (2010-)","578","Norway","5016","Loss","01232","Cucumbers and gherkins","2022","2022","t",1552.03,"I","Imputed value"]
["SCL","Supply Utilization Accounts (2010-)","578","Norway","5166","Residuals","01232","Cucumbers and gherkins","2022","2022","t",0,"I","Imputed value"]
["SCL","Supply Utilization Accounts (2010-)","578","Norway","5141","Food supply quantity","01232","Cucumbers and gherkins","2022","2022","t",26622,"E","Estimated value"]
["SCL","Supply Utilization Accounts (2010-)","578","Norway","5610","Import quantity","01233","Eggplants (aubergines)","2020","2020","t",1971.58,"A","Official figure"]
["SCL","Supply Utilization Accounts (2010-)","578","Norway","5016","Loss","01233","Eggplants (aubergines)","2020","2020","t",197.16,"I","Imputed value"]
["SCL","Supply Utilization Accounts (2010-)","578","Norway","5166","Residuals","01233","Eggplants (aubergines)","2020","2020","t",0,"I","Imputed value"]
["SCL","Supply Utilization Accounts (2010-)","578","Norway","5141","Food supply quantity","01233","Eggplants (aubergines)","2020","2020","t",1774.42,"E","Estimated value"]
["SCL","Supply Utilization Accounts (2010-)","578","Norway","5610","Import quantity","01233","Eggplants (aubergines)","2021","2021","t",2061.04,"A","Official figure"]
["SCL","Supply Utilization Accounts (2010-)","578","Norway","5016","Loss","01233","Eggplants (aubergines)","2021","2021","t",206.1,"I","Imputed value"]
["SCL","Supply Utilization Accounts (2010-)","578","Norway","5166","Residuals","01233","Eggplants (aubergines)","2021","2021","t",0,"I","Imputed value"]
["SCL","Supply Utilization Accounts (2010-)","578","Norway","5141","Food supply quantity","01233","Eggplants (aubergines)","2021","2021","t",1854.94,"E","Estimated value"]
["SCL","Supply Utilization Accounts (2010-)","578","Norway","5610","Import quantity","01233","Eggplants (aubergines)","2022","2022","t",2003.37,"A","Official figure"]
["SCL","Supply Utilization Accounts (2010-)","578","Norway","5016","Loss","01233","Eggplants (aubergines)","2022","2022","t",200.34,"I","Imputed value"]
["SCL","Supply Utilization Accounts (2010-)","578","Norway","5166","Residuals","01233","Eggplants (aubergines)","2022","2022","t",0,"I","Imputed value"]
["SCL","Supply Utilization Accounts (2010-)","578","Norway","5141","Food supply quantity","01233","Eggplants (aubergines)","2022","2022","t",1803.03,"E","Estimated value"]
["SCL","Supply Utilization Accounts (2010-)","616","Poland","5510","Production","01311","Avocados","2020","2020","t",0,"A","Official figure"]
["SCL","Supply Utilization Accounts (2010-)","616","Poland","5610","Import quantity","01311","Avocados","2020","2020","t",25055.15,"A","Official figure"]
["SCL","Supply Utilization Accounts (2010-)","616","Poland","5910","Export quantity","01311","Avocados","2020","2020","t",6228.8,"A","Official figure"]
["SCL","Supply Utilization Accounts (2010-)","616","Poland","5016","Loss","01311","Avocados","2020","2020","t",751.65,"I","Imputed value"]
["SCL","Supply Utilization Accounts (2010-)","616","Poland","5166","Residuals","01311","Avocados","2020","2020","t",0,"I","Imputed value"]
["SCL","Supply Utilization Accounts (2010-)","616","Poland","5141","Food supply quantity","01311","Avocados","2020","2020","t",18074.7,"E","Estimated value"]
["SCL","Supply Utilization Accounts (2010-)","616","Poland","5510","Production","01311","Avocados","2021","2021","t",0,"A","Official figure"]
["SCL","Supply Utilization Accounts (2010-)","616","Poland","5610","Import quantity","01311","Avocados","2021","2021","t",28658.04,"A","Official figure"]
["SCL","Supply Utilization Accounts (2010-)","616","Poland","5910","Export quantity","01311","Avocados","2021","2021","t",7869,"A","Official figure"]
["SCL","Supply Utilization Accounts (2010-)","616","Poland","5016","Loss","01311","Avocados","2021","2021","t",859.74,"I","Imputed value"]
["SCL","Supply Utilization Accounts (2010-)","616","Poland","5166","Residuals","01311","Avocados","2021","2021","t",0,"I","Imputed value"]
["SCL","Supply Utilization Accounts (2010-)","616","Poland","5141","Food supply quantity","01311","Avocados","2021","2021","t",19929.3,"E","Estimated value"]
["SCL","Supply Utilization Accounts (2010-)","616","Poland","5510","Production","01311","Avocados","2022","2022","t",0,"A","Official figure"]
["SCL","Supply Utilization Accounts (2010-)","616","Poland","5610","Import quantity","01311","Avocados","2022","2022","t",32862.36,"A","Official figure"]
["SCL","Supply Utilization Accounts (2010-)","616","Poland","5910","Export quantity","01311","Avocados","2022","2022","t",6703.1,"A","Official figure"]
["SCL","Supply Utilization Accounts (2010-)","616","Poland","5016","Loss","01311","Avocados","2022","2022","t",985.87,"I","Imputed value"]
["SCL","Supply Utilization Accounts (2010-)","616","Poland","5166","Residuals","01311","Avocados","2022","2022","t",0,"I","Imputed value"]
["SCL","Supply Utilization Accounts (2010-)","616","Poland","5141","Food supply quantity","01311","Avocados","2022","2022","t",25173.4,"E","Estimated value"]
["SCL","Supply Utilization Accounts (2010-)","616","Poland","5510","Production","01312","Bananas","2020","2020","t",0,"A","Official figure"]
["SCL","Supply Utilization Accounts (2010-)","616","Poland","5610","Import quantity","01312","Bananas","2020","2020","t",558853.18999999994,"A","Official figure"]
["SCL","Supply Utilization Accounts (2010-)","616","Poland","5910","Export quantity","01312","Bananas","2020","2020","t",84509.23,"A","Official figure"]
["SCL","Supply Utilization Accounts (2010-)","616","Poland","5016","Loss","01312","Bananas","2020","2020","t",55885.32,"I","Imputed value"]
["SCL","Supply Utilization Accounts (2010-)","616","Poland","5023","Processed","01312","Bananas","2020","2020","t",278313.33,"E","Estimated value"]
["SCL","Supply Utilization Accounts (2010-)","616","Poland","5166","Residuals","01312","Bananas","2020","2020","t",0,"I","Imputed value"]
["SCL","Supply Utilization Accounts (2010-)","616","Poland","5141","Food supply quantity","01312","Bananas","2020","2020","t",140145.31,"E","Estimated value"]
["SCL","Supply Utilization Accounts (2010-)","616","Poland","5510","Production","01312","Bananas","2021","2021","t",0,"A","Official figure"]
["SCL","Supply Utilization Accounts (2010-)","616","Poland","5610","Import quantity","01312","Bananas","2021","2021","t",514215.46,"A","Official figure"]
["SCL","Supply Utilization Accounts (2010-)","616","Poland","5910","Export quantity","01312","Bananas","2021","2021","t",69013.7,"A","Official figure"]
["SCL","Supply Utilization Accounts (2010-)","616","Poland","5016","Loss","01312","Bananas","2021","2021","t",51421.55,"I","Imputed value"]
["SCL","Supply Utilization Accounts (2010-)","616","Poland","5023","Processed","01312","Bananas","2021","2021","t",261429.83,"E","Estimated value"]
["SCL","Supply Utilization Accounts (2010-)","616","Poland","5166","Residuals","01312","Bananas","2021","2021","t",0,"I","Imputed value"]
["SCL","Supply Utilization Accounts (2010-)","616","Poland","5141","Food supply quantity","01312","Bananas","2021","2021","t",132350.38,"E","Estimated value"]
["SCL","Supply Utilization Accounts (2010-)","616","Poland","5510","Production","01312","Bananas","2022","2022","t",0,"A","Official figure"]
["SCL","Supply Utilization Accounts (2010-)","616","Poland","5610","Import quantity","01312","Bananas","2022","2022","t",469185.2,"A","Official figure"]
["SCL","Supply Utilization Accounts (2010-)","616","Poland","5910","Export quantity","01312","Bananas","2022","2022","t",56864.17,"A","Official figure"]
["SCL","Supply Utilization Accounts (2010-)","616","Poland","5016","Loss","01312","Bananas","2022","2022","t",46918.52,"I","Imputed value"]
["SCL","Supply Utilization Accounts (2010-)","616","Poland","5023","Processed","01312","Bananas","2022","2022","t",242016.4,"E","Estimated value"]
["SCL","Supply Utilization Accounts (2010-)","616","Poland","5166","Residuals","01312","Bananas","2022","2022","t",0,"I","Imputed value"]
["SCL","Supply Utilization Accounts (2010-)","616","Poland","5141","Food supply quantity","01312","Bananas","2022","2022","t",123386.11,"E","Estimated value"]
["SCL","Supply Utilization Accounts (2010-)","616","Poland","5510","Production","01231","Chillies and peppers, green (Capsicum spp. and Pimenta spp.)","2020","2020","t",161400,"A","Official figure"]
["SCL","Supply Utilization Accounts (2010-)","616","Poland","5610","Import quantity","01231","Chillies and peppers, green (Capsicum spp. and Pimenta spp.)","2020","2020","t",77285.61,"A","Official figure"]
["SCL","Supply Utilization Accounts (2010-)","616","Poland","5910","Export quantity","01231","Chillies and peppers, green (Capsicum spp. and Pimenta spp.)","2020","2020","t",27322.81,"A","Official figure"]
["SCL","Supply Utilization Accounts (2010-)","616","Poland","5016","Loss","01231","Chillies and peppers, green (Capsicum spp. and Pimenta spp.)","2020","2020","t",23608.560000000001,"I","Imputed value"]
["SCL","Supply Utilization Accounts (2010-)","616","Poland","5166","Residuals","01231","Chillies and peppers, green (Capsicum spp. and Pimenta spp.)","2020","2020","t",0,"I","Imputed value"]
["SCL","Supply Utilization Accounts (2010-)","616","Poland","5141","Food supply quantity","01231","Chillies and peppers, green (Capsicum spp. and Pimenta spp.)","2020","2020","t",187754.23,"E","Estimated value"]
["SCL","Supply Utilization Accounts (2010-)","616","Poland","5510","Production","01231","Chillies and peppers, green (Capsicum spp. and Pimenta spp.)","2021","2021","t",376300,"A","Official figure"]
["SCL","Supply Utilization Accounts (2010-)","616","Poland","5610","Import quantity","01231","Chillies and peppers, green (Capsicum spp. and Pimenta spp.)","2021","2021","t",69407.210000000006,"A","Official figure"]
["SCL","Supply Utilization Accounts (2010-)","616","Poland","5910","Export quantity","01231","Chillies and peppers, green (Capsicum spp. and Pimenta spp.)","2021","2021","t",21954.83,"A","Official figure"]
["SCL","Supply Utilization Accounts (2010-)","616","Poland","5016","Loss","01231","Chillies and peppers, green (Capsicum spp. and Pimenta spp.)","2021","2021","t",44408.89,"I","Imputed value"]
["SCL","Supply Utilization Accounts (2010-)","616","Poland","5023","Processed","01231","Chillies and peppers, green (Capsicum spp. and Pimenta spp.)","2021","2021","t",260998.23,"E","Estimated value"]
["SCL","Supply Utilization Accounts (2010-)","616","Poland","5166","Residuals","01231","Chillies and peppers, green (Capsicum spp. and Pimenta spp.)","2021","2021","t",0,"I","Imputed value"]
["SCL","Supply Utilization Accounts (2010-)","616","Poland","5141","Food supply quantity","01231","Chillies and peppers, green (Capsicum spp. and Pimenta spp.)","2021","2021","t",118345.26,"E","Estimated value"]
["SCL","Supply Utilization Accounts (2010-)","616","Poland","5510","Production","01231","Chillies and peppers, green (Capsicum spp. and Pimenta spp.)","2022","2022","t",376000,"A","Official figure"]
["SCL","Supply Utilization Accounts (2010-)","616","Poland","5610","Import quantity","01231","Chillies and peppers, green (Capsicum spp. and Pimenta spp.)","2022","2022","t",71203.86,"A","Official figure"]
["SCL","Supply Utilization Accounts (2010-)","616","Poland","5910","Export quantity","01231","Chillies and peppers, green (Capsicum spp. and Pimenta spp.)","2022","2022","t",26373.91,"A","Official figure"]
["SCL","Supply Utilization Accounts (2010-)","616","Poland","5016","Loss","01231","Chillies and peppers, green (Capsicum spp. and Pimenta spp.)","2022","2022","t",44558.01,"I","Imputed value"]
["SCL","Supply Utilization Accounts (2010-)","616","Poland","5023","Processed","01231","Chillies and peppers, green (Capsicum spp. and Pimenta spp.)","2022","2022","t",260793.64,"E","Estimated value"]
["SCL","Supply Utilization Accounts (2010-)","616","Poland","5166","Residuals","01231","Chillies and peppers, green (Capsicum spp. and Pimenta spp.)","2022","2022","t",0,"I","Imputed value"]
["SCL","Supply Utilization Accounts (2010-)","616","Poland","5141","Food supply quantity","01231","Chillies and peppers, green (Capsicum spp. and Pimenta spp.)","2022","2022","t",115478.31,"E","Estimated value"]
["SCL","Supply Utilization Accounts (2010-)","616","Poland","5510","Production","01232","Cucumbers and gherkins","2020","2020","t",526500,"A","Official figure"]
["SCL","Supply Utilization Accounts (2010-)","616","Poland","5610","Import quantity","01232","Cucumbers and gherkins","2020","2020","t",66322.09,"A","Official figure"]
["SCL","Supply Utilization Accounts (2010-)","616","Poland","5910","Export quantity","01232","Cucumbers and gherkins","2020","2020","t",17369.14,"A","Official figure"]
["SCL","Supply Utilization Accounts (2010-)","616","Poland","5016","Loss","01232","Cucumbers and gherkins","2020","2020","t",69377.820000000007,"I","Imputed value"]
["SCL","Supply Utilization Accounts (2010-)","616","Poland","5023","Processed","01232","Cucumbers and gherkins","2020","2020","t",2885.72,"E","Estimated value"]
["SCL","Supply Utilization Accounts (2010-)","616","Poland","5166","Residuals","01232","Cucumbers and gherkins","2020","2020","t",0,"I","Imputed value"]
["SCL","Supply Utilization Accounts (2010-)","616","Poland","5141","Food supply quantity","01232","Cucumbers and gherkins","2020","2020","t",503189.41,"E","Estimated value"]
["SCL","Supply Utilization Accounts (2010-)","616","Poland","5510","Production","01232","Cucumbers and gherkins","2021","2021","t",473000,"A","Official figure"]
["SCL","Supply Utilization Accounts (2010-)","616","Poland","5610","Import quantity","01232","Cucumbers and gherkins","2021","2021","t",71685.37,"A","Official figure"]
["SCL","Supply Utilization Accounts (2010-)","616","Poland","5910","Export quantity","01232","Cucumbers and gherkins","2021","2021","t",19888.599999999999,"A","Official figure"]
["SCL","Supply Utilization Accounts (2010-)","616","Poland","5016","Loss","01232","Cucumbers and gherkins","2021","2021","t",70685.94,"I","Imputed value"]
["SCL","Supply Utilization Accounts (2010-)","616","Poland","5023","Processed","01232","Cucumbers and gherkins","2021","2021","t",1708.73,"E","Estimated value"]
["SCL","Supply Utilization Accounts (2010-)","616","Poland","5166","Residuals","01232","Cucumbers and gherkins","2021","2021","t",0,"I","Imputed value"]
["SCL","Supply Utilization Accounts (2010-)","616","Poland","5141","Food supply quantity","01232","Cucumbers and gherkins","2021","2021","t",452402.09,"E","Estimated value"]
["SCL","Supply Utilization Accounts (2010-)","616","Poland","5510","Production","01232","Cucumbers and gherkins","2022","2022","t",472200,"A","Official figure"]
["SCL","Supply Utilization Accounts (2010-)","616","Poland","5610","Import quantity","01232","Cucumbers and gherkins","2022","2022","t",79435.289999999994,"A","Official figure"]
["SCL","Supply Utilization Accounts (2010-)","616","Poland","5910","Export quantity","01232","Cucumbers and gherkins","2022","2022","t",19553.96,"A","Official figure"]
["SCL","Supply Utilization Accounts (2010-)","616","Poland","5016","Loss","01232","Cucumbers and gherkins","2022","2022","t",71587.86,"I","Imputed value"]
["SCL","Supply Utilization Accounts (2010-)","616","Poland","5023","Processed","01232","Cucumbers and gherkins","2022","2022","t",1528.57,"E","Estimated value"]
["SCL","Supply Utilization Accounts (2010-)","616","Poland","5166","Residuals","01232","Cucumbers and gherkins","2022","2022","t",0,"I","Imputed value"]
["SCL","Supply Utilization Accounts (2010-)","616","Poland","5141","Food supply quantity","01232","Cucumbers and gherkins","2022","2022","t",458964.9,"E","Estimated value"]
["SCL","Supply Utilization Accounts (2010-)","616","Poland","5510","Production","01233","Eggplants (aubergines)","2020","2020","t",500,"A","Official figure"]
["SCL","Supply Utilization Accounts (2010-)","616","Poland","5610","Import quantity","01233","Eggplants (aubergines)","2020","2020","t",4378.22,"A","Official figure"]
["SCL","Supply Utilization Accounts (2010-)","616","Poland","5910","Export quantity","01233","Eggplants (aubergines)","2020","2020","t",3857.72,"A","Official figure"]
["SCL","Supply Utilization Accounts (2010-)","616","Poland","5016","Loss","01233","Eggplants (aubergines)","2020","2020","t",373.91,"I","Imputed value"]
["SCL","Supply Utilization Accounts (2010-)","616","Poland","5166","Residuals","01233","Eggplants (aubergines)","2020","2020","t",0,"I","Imputed value"]
["SCL","Supply Utilization Accounts (2010-)","616","Poland","5141","Food supply quantity","01233","Eggplants (aubergines)","2020","2020","t",646.6,"E","Estimated value"]
["SCL","Supply Utilization Accounts (2010-)","616","Poland","5510","Production","01233","Eggplants (aubergines)","2021","2021","t",2400,"A","Official figure"]
["SCL","Supply Utilization Accounts (2010-)","616","Poland","5610","Import quantity","01233","Eggplants (aubergines)","2021","2021","t",4569.2700000000004,"A","Official figure"]
["SCL","Supply Utilization Accounts (2010-)","616","Poland","5910","Export quantity","01233","Eggplants (aubergines)","2021","2021","t",2443.37,"A","Official figure"]
["SCL","Supply Utilization Accounts (2010-)","616","Poland","5016","Loss","01233","Eggplants (aubergines)","2021","2021","t",410.37,"I","Imputed value"]
["SCL","Supply Utilization Accounts (2010-)","616","Poland","5166","Residuals","01233","Eggplants (aubergines)","2021","2021","t",0,"I","Imputed value"]
["SCL","Supply Utilization Accounts (2010-)","616","Poland","5141","Food supply quantity","01233","Eggplants (aubergines)","2021","2021","t",4115.53,"E","Estimated value"]
["SCL","Supply Utilization Accounts (2010-)","616","Poland","5510","Production","01233","Eggplants (aubergines)","2022","2022","t",900,"A","Official figure"]
["SCL","Supply Utilization Accounts (2010-)","616","Poland","5610","Import quantity","01233","Eggplants (aubergines)","2022","2022","t",5228.3999999999996,"A","Official figure"]
["SCL","Supply Utilization Accounts (2010-)","616","Poland","5910","Export quantity","01233","Eggplants (aubergines)","2022","2022","t",2143.44,"A","Official figure"]
["SCL","Supply Utilization Accounts (2010-)","616","Poland","5016","Loss","01233","Eggplants (aubergines)","2022","2022","t",360.86,"I","Imputed value"]
["SCL","Supply Utilization Accounts (2010-)","616","Poland","5166","Residuals","01233","Eggplants (aubergines)","2022","2022","t",0,"I","Imputed value"]
["SCL","Supply Utilization Accounts (2010-)","616","Poland","5141","Food supply quantity","01233","Eggplants (aubergines)","2022","2022","t",3624.11,"E","Estimated value"]
["SCL","Supply Utilization Accounts (2010-)","620","Portugal","5510","Production","01311","Avocados","2020","2020","t",16560,"A","Official figure"]
["SCL","Supply Utilization Accounts (2010-)","620","Portugal","5610","Import quantity","01311","Avocados","2020","2020","t",11090.59,"A","Official figure"]
["SCL","Supply Utilization Accounts (2010-)","620","Portugal","5910","Export quantity","01311","Avocados","2020","2020","t",4579.4799999999996,"A","Official figure"]
["SCL","Supply Utilization Accounts (2010-)","620","Portugal","5166","Residuals","01311","Avocados","2020","2020","t",0,"I","Imputed value"]
["SCL","Supply Utilization Accounts (2010-)","620","Portugal","5141","Food supply quantity","01311","Avocados","2020","2020","t",23071.1,"E","Estimated value"]
["SCL","Supply Utilization Accounts (2010-)","620","Portugal","5510","Production","01311","Avocados","2021","2021","t",20170,"A","Official figure"]
["SCL","Supply Utilization Accounts (2010-)","620","Portugal","5610","Import quantity","01311","Avocados","2021","2021","t",9785.82,"A","Official figure"]
["SCL","Supply Utilization Accounts (2010-)","620","Portugal","5910","Export quantity","01311","Avocados","2021","2021","t",7722.3,"A","Official figure"]
["SCL","Supply Utilization Accounts (2010-)","620","Portugal","5166","Residuals","01311","Avocados","2021","2021","t",0,"I","Imputed value"]
["SCL","Supply Utilization Accounts (2010-)","620","Portugal","5141","Food supply quantity","01311","Avocados","2021","2021","t",22233.51,"E","Estimated value"]
["SCL","Supply Utilization Accounts (2010-)","620","Portugal","5510","Production","01311","Avocados","2022","2022","t",25790,"A","Official figure"]
["SCL","Supply Utilization Accounts (2010-)","620","Portugal","5610","Import quantity","01311","Avocados","2022","2022","t",8998.6,"A","Official figure"]
["SCL","Supply Utilization Accounts (2010-)","620","Portugal","5910","Export quantity","01311","Avocados","2022","2022","t",9760.5400000000009,"A","Official figure"]
["SCL","Supply Utilization Accounts (2010-)","620","Portugal","5166","Residuals","01311","Avocados","2022","2022","t",0,"I","Imputed value"]
["SCL","Supply Utilization Accounts (2010-)","620","Portugal","5141","Food supply quantity","01311","Avocados","2022","2022","t",25028.06,"E","Estimated value"]
["SCL","Supply Utilization Accounts (2010-)","620","Portugal","5510","Production","01312","Bananas","2020","2020","t",26300,"A","Official figure"]
["SCL","Supply Utilization Accounts (2010-)","620","Portugal","5610","Import quantity","01312","Bananas","2020","2020","t",236459.15,"A","Official figure"]
["SCL","Supply Utilization Accounts (2010-)","620","Portugal","5910","Export quantity","01312","Bananas","2020","2020","t",27297.99,"A","Official figure"]
["SCL","Supply Utilization Accounts (2010-)","620","Portugal","5016","Loss","01312","Bananas","2020","2020","t",26275.919999999998,"I","Imputed value"]
["SCL","Supply Utilization Accounts (2010-)","620","Portugal","5023","Processed","01312","Bananas","2020","2020","t",5047.08,"E","Estimated value"]
["SCL","Supply Utilization Accounts (2010-)","620","Portugal","5166","Residuals","01312","Bananas","2020","2020","t",0,"I","Imputed value"]
["SCL","Supply Utilization Accounts (2010-)","620","Portugal","5141","Food supply quantity","01312","Bananas","2020","2020","t",204138.17,"E","Estimated value"]
["SCL","Supply Utilization Accounts (2010-)","620","Portugal","5510","Production","01312","Bananas","2021","2021","t",24990,"A","Official figure"]
["SCL","Supply Utilization Accounts (2010-)","620","Portugal","5610","Import quantity","01312","Bananas","2021","2021","t",219369.51,"A","Official figure"]
["SCL","Supply Utilization Accounts (2010-)","620","Portugal","5910","Export quantity","01312","Bananas","2021","2021","t",30133.1,"A","Official figure"]
["SCL","Supply Utilization Accounts (2010-)","620","Portugal","5016","Loss","01312","Bananas","2021","2021","t",24435.95,"I","Imputed value"]
["SCL","Supply Utilization Accounts (2010-)","620","Portugal","5023","Processed","01312","Bananas","2021","2021","t",4586.7700000000004,"E","Estimated value"]
["SCL","Supply Utilization Accounts (2010-)","620","Portugal","5166","Residuals","01312","Bananas","2021","2021","t",0,"I","Imputed value"]
["SCL","Supply Utilization Accounts (2010-)","620","Portugal","5141","Food supply quantity","01312","Bananas","2021","2021","t",185203.68,"E","Estimated value"]
["SCL","Supply Utilization Accounts (2010-)","620","Portugal","5510","Production","01312","Bananas","2022","2022","t",28460,"A","Official figure"]
["SCL","Supply Utilization Accounts (2010-)","620","Portugal","5610","Import quantity","01312","Bananas","2022","2022","t",218229.77,"A","Official figure"]
["SCL","Supply Utilization Accounts (2010-)","620","Portugal","5910","Export quantity","01312","Bananas","2022","2022","t",37054.5,"A","Official figure"]
["SCL","Supply Utilization Accounts (2010-)","620","Portugal","5016","Loss","01312","Bananas","2022","2022","t",24668.98,"I","Imputed value"]
["SCL","Supply Utilization Accounts (2010-)","620","Portugal","5023","Processed","01312","Bananas","2022","2022","t",4488.83,"E","Estimated value"]
["SCL","Supply Utilization Accounts (2010-)","620","Portugal","5166","Residuals","01312","Bananas","2022","2022","t",0,"I","Imputed value"]
["SCL","Supply Utilization Accounts (2010-)","620","Portugal","5141","Food supply quantity","01312","Bananas","2022","2022","t",180477.47,"E","Estimated value"]
["SCL","Supply Utilization Accounts (2010-)","620","Portugal","5510","Production","01231","Chillies and peppers, green (Capsicum spp. and Pimenta spp.)","2020","2020","t",54500,"A","Official figure"]
["SCL","Supply Utilization Accounts (2010-)","620","Portugal","5610","Import quantity","01231","Chillies and peppers, green (Capsicum spp. and Pimenta spp.)","2020","2020","t",19041.759999999998,"A","Official figure"]
["SCL","Supply Utilization Accounts (2010-)","620","Portugal","5910","Export quantity","01231","Chillies and peppers, green (Capsicum spp. and Pimenta spp.)","2020","2020","t",1243.68,"A","Official figure"]
["SCL","Supply Utilization Accounts (2010-)","620","Portugal","5016","Loss","01231","Chillies and peppers, green (Capsicum spp. and Pimenta spp.)","2020","2020","t",248.49,"I","Imputed value"]
["SCL","Supply Utilization Accounts (2010-)","620","Portugal","5023","Processed","01231","Chillies and peppers, green (Capsicum spp. and Pimenta spp.)","2020","2020","t",16493.12,"E","Estimated value"]
["SCL","Supply Utilization Accounts (2010-)","620","Portugal","5166","Residuals","01231","Chillies and peppers, green (Capsicum spp. and Pimenta spp.)","2020","2020","t",0,"I","Imputed value"]
["SCL","Supply Utilization Accounts (2010-)","620","Portugal","5141","Food supply quantity","01231","Chillies and peppers, green (Capsicum spp. and Pimenta spp.)","2020","2020","t",55556.46,"E","Estimated value"]
["SCL","Supply Utilization Accounts (2010-)","620","Portugal","5510","Production","01231","Chillies and peppers, green (Capsicum spp. and Pimenta spp.)","2021","2021","t",54190,"A","Official figure"]
["SCL","Supply Utilization Accounts (2010-)","620","Portugal","5610","Import quantity","01231","Chillies and peppers, green (Capsicum spp. and Pimenta spp.)","2021","2021","t",22828.16,"A","Official figure"]
["SCL","Supply Utilization Accounts (2010-)","620","Portugal","5910","Export quantity","01231","Chillies and peppers, green (Capsicum spp. and Pimenta spp.)","2021","2021","t",1727.28,"A","Official figure"]
["SCL","Supply Utilization Accounts (2010-)","620","Portugal","5016","Loss","01231","Chillies and peppers, green (Capsicum spp. and Pimenta spp.)","2021","2021","t",198.76,"E","Estimated value"]
["SCL","Supply Utilization Accounts (2010-)","620","Portugal","5023","Processed","01231","Chillies and peppers, green (Capsicum spp. and Pimenta spp.)","2021","2021","t",17175.86,"E","Estimated value"]
["SCL","Supply Utilization Accounts (2010-)","620","Portugal","5166","Residuals","01231","Chillies and peppers, green (Capsicum spp. and Pimenta spp.)","2021","2021","t",0,"I","Imputed value"]
["SCL","Supply Utilization Accounts (2010-)","620","Portugal","5141","Food supply quantity","01231","Chillies and peppers, green (Capsicum spp. and Pimenta spp.)","2021","2021","t",57916.26,"E","Estimated value"]
["SCL","Supply Utilization Accounts (2010-)","620","Portugal","5510","Production","01231","Chillies and peppers, green (Capsicum spp. and Pimenta spp.)","2022","2022","t",41280,"A","Official figure"]
["SCL","Supply Utilization Accounts (2010-)","620","Portugal","5610","Import quantity","01231","Chillies and peppers, green (Capsicum spp. and Pimenta spp.)","2022","2022","t",25266.23,"A","Official figure"]
["SCL","Supply Utilization Accounts (2010-)","620","Portugal","5910","Export quantity","01231","Chillies and peppers, green (Capsicum spp. and Pimenta spp.)","2022","2022","t",3203.17,"A","Official figure"]
["SCL","Supply Utilization Accounts (2010-)","620","Portugal","5016","Loss","01231","Chillies and peppers, green (Capsicum spp. and Pimenta spp.)","2022","2022","t",174.06,"E","Estimated value"]
["SCL","Supply Utilization Accounts (2010-)","620","Portugal","5023","Processed","01231","Chillies and peppers, green (Capsicum spp. and Pimenta spp.)","2022","2022","t",14450.24,"E","Estimated value"]
["SCL","Supply Utilization Accounts (2010-)","620","Portugal","5166","Residuals","01231","Chillies and peppers, green (Capsicum spp. and Pimenta spp.)","2022","2022","t",0,"I","Imputed value"]
["SCL","Supply Utilization Accounts (2010-)","620","Portugal","5141","Food supply quantity","01231","Chillies and peppers, green (Capsicum spp. and Pimenta spp.)","2022","2022","t",48718.75,"E","Estimated value"]
["SCL","Supply Utilization Accounts (2010-)","620","Portugal","5510","Production","01232","Cucumbers and gherkins","2020","2020","t",13880,"A","Official figure"]
["SCL","Supply Utilization Accounts (2010-)","620","Portugal","5610","Import quantity","01232","Cucumbers and gherkins","2020","2020","t",4766.6899999999996,"A","Official figure"]
["SCL","Supply Utilization Accounts (2010-)","620","Portugal","5910","Export quantity","01232","Cucumbers and gherkins","2020","2020","t",866.36,"A","Official figure"]
["SCL","Supply Utilization Accounts (2010-)","620","Portugal","5016","Loss","01232","Cucumbers and gherkins","2020","2020","t",1106.95,"I","Imputed value"]
["SCL","Supply Utilization Accounts (2010-)","620","Portugal","5166","Residuals","01232","Cucumbers and gherkins","2020","2020","t",0,"I","Imputed value"]
["SCL","Supply Utilization Accounts (2010-)","620","Portugal","5141","Food supply quantity","01232","Cucumbers and gherkins","2020","2020","t",16673.38,"E","Estimated value"]
["SCL","Supply Utilization Accounts (2010-)","620","Portugal","5510","Production","01232","Cucumbers and gherkins","2021","2021","t",14070,"A","Official figure"]
["SCL","Supply Utilization Accounts (2010-)","620","Portugal","5610","Import quantity","01232","Cucumbers and gherkins","2021","2021","t",5460.22,"A","Official figure"]
["SCL","Supply Utilization Accounts (2010-)","620","Portugal","5910","Export quantity","01232","Cucumbers and gherkins","2021","2021","t",474.49,"A","Official figure"]
["SCL","Supply Utilization Accounts (2010-)","620","Portugal","5016","Loss","01232","Cucumbers and gherkins","2021","2021","t",1147.6400000000001,"I","Imputed value"]
["SCL","Supply Utilization Accounts (2010-)","620","Portugal","5166","Residuals","01232","Cucumbers and gherkins","2021","2021","t",0,"I","Imputed value"]
["SCL","Supply Utilization Accounts (2010-)","620","Portugal","5141","Food supply quantity","01232","Cucumbers and gherkins","2021","2021","t",17908.09,"E","Estimated value"]
["SCL","Supply Utilization Accounts (2010-)","620","Portugal","5510","Production","01232","Cucumbers and gherkins","2022","2022","t",12470,"A","Official figure"]
["SCL","Supply Utilization Accounts (2010-)","620","Portugal","5610","Import quantity","01232","Cucumbers and gherkins","2022","2022","t",7378.42,"A","Official figure"]
["SCL","Supply Utilization Accounts (2010-)","620","Portugal","5910","Export quantity","01232","Cucumbers and gherkins","2022","2022","t",1288.27,"A","Official figure"]
["SCL","Supply Utilization Accounts (2010-)","620","Portugal","5016","Loss","01232","Cucumbers and gherkins","2022","2022","t",1166.33,"I","Imputed value"]
["SCL","Supply Utilization Accounts (2010-)","620","Portugal","5166","Residuals","01232","Cucumbers and gherkins","2022","2022","t",0,"I","Imputed value"]
["SCL","Supply Utilization Accounts (2010-)","620","Portugal","5141","Food supply quantity","01232","Cucumbers and gherkins","2022","2022","t",17393.82,"E","Estimated value"]
["SCL","Supply Utilization Accounts (2010-)","620","Portugal","5510","Production","01233","Eggplants (aubergines)","2020","2020","t",6500,"A","Official figure"]
["SCL","Supply Utilization Accounts (2010-)","620","Portugal","5610","Import quantity","01233","Eggplants (aubergines)","2020","2020","t",3114.86,"A","Official figure"]
["SCL","Supply Utilization Accounts (2010-)","620","Portugal","5910","Export quantity","01233","Eggplants (aubergines)","2020","2020","t",20.99,"A","Official figure"]
["SCL","Supply Utilization Accounts (2010-)","620","Portugal","5016","Loss","01233","Eggplants (aubergines)","2020","2020","t",504.46,"I","Imputed value"]
["SCL","Supply Utilization Accounts (2010-)","620","Portugal","5166","Residuals","01233","Eggplants (aubergines)","2020","2020","t",0,"I","Imputed value"]
["SCL","Supply Utilization Accounts (2010-)","620","Portugal","5141","Food supply quantity","01233","Eggplants (aubergines)","2020","2020","t",9089.41,"E","Estimated value"]
["SCL","Supply Utilization Accounts (2010-)","620","Portugal","5510","Production","01233","Eggplants (aubergines)","2021","2021","t",10160,"A","Official figure"]
["SCL","Supply Utilization Accounts (2010-)","620","Portugal","5610","Import quantity","01233","Eggplants (aubergines)","2021","2021","t",3486.36,"A","Official figure"]
["SCL","Supply Utilization Accounts (2010-)","620","Portugal","5910","Export quantity","01233","Eggplants (aubergines)","2021","2021","t",30.89,"A","Official figure"]
["SCL","Supply Utilization Accounts (2010-)","620","Portugal","5016","Loss","01233","Eggplants (aubergines)","2021","2021","t",704.28,"I","Imputed value"]
["SCL","Supply Utilization Accounts (2010-)","620","Portugal","5166","Residuals","01233","Eggplants (aubergines)","2021","2021","t",0,"I","Imputed value"]
["SCL","Supply Utilization Accounts (2010-)","620","Portugal","5141","Food supply quantity","01233","Eggplants (aubergines)","2021","2021","t",12911.19,"E","Estimated value"]
["SCL","Supply Utilization Accounts (2010-)","620","Portugal","5510","Production","01233","Eggplants (aubergines)","2022","2022","t",5390,"A","Official figure"]
["SCL","Supply Utilization Accounts (2010-)","620","Portugal","5610","Import quantity","01233","Eggplants (aubergines)","2022","2022","t",3885.7,"A","Official figure"]
["SCL","Supply Utilization Accounts (2010-)","620","Portugal","5910","Export quantity","01233","Eggplants (aubergines)","2022","2022","t",87.13,"A","Official figure"]
["SCL","Supply Utilization Accounts (2010-)","620","Portugal","5016","Loss","01233","Eggplants (aubergines)","2022","2022","t",478.72,"I","Imputed value"]
["SCL","Supply Utilization Accounts (2010-)","620","Portugal","5166","Residuals","01233","Eggplants (aubergines)","2022","2022","t",0,"I","Imputed value"]
["SCL","Supply Utilization Accounts (2010-)","620","Portugal","5141","Food supply quantity","01233","Eggplants (aubergines)","2022","2022","t",8709.86,"E","Estimated value"]
["SCL","Supply Utilization Accounts (2010-)","642","Romania","5510","Production","01311","Avocados","2020","2020","t",0,"A","Official figure"]
["SCL","Supply Utilization Accounts (2010-)","642","Romania","5610","Import quantity","01311","Avocados","2020","2020","t",9438.18,"A","Official figure"]
["SCL","Supply Utilization Accounts (2010-)","642","Romania","5910","Export quantity","01311","Avocados","2020","2020","t",2.31,"A","Official figure"]
["SCL","Supply Utilization Accounts (2010-)","642","Romania","5166","Residuals","01311","Avocados","2020","2020","t",0,"I","Imputed value"]
["SCL","Supply Utilization Accounts (2010-)","642","Romania","5141","Food supply quantity","01311","Avocados","2020","2020","t",9435.8700000000008,"E","Estimated value"]
["SCL","Supply Utilization Accounts (2010-)","642","Romania","5510","Production","01311","Avocados","2021","2021","t",0,"A","Official figure"]
["SCL","Supply Utilization Accounts (2010-)","642","Romania","5610","Import quantity","01311","Avocados","2021","2021","t",11053.43,"A","Official figure"]
["SCL","Supply Utilization Accounts (2010-)","642","Romania","5910","Export quantity","01311","Avocados","2021","2021","t",0.02,"A","Official figure"]
["SCL","Supply Utilization Accounts (2010-)","642","Romania","5166","Residuals","01311","Avocados","2021","2021","t",0,"I","Imputed value"]
["SCL","Supply Utilization Accounts (2010-)","642","Romania","5141","Food supply quantity","01311","Avocados","2021","2021","t",11053.41,"E","Estimated value"]
["SCL","Supply Utilization Accounts (2010-)","642","Romania","5510","Production","01311","Avocados","2022","2022","t",0,"A","Official figure"]
["SCL","Supply Utilization Accounts (2010-)","642","Romania","5610","Import quantity","01311","Avocados","2022","2022","t",13053.05,"A","Official figure"]
["SCL","Supply Utilization Accounts (2010-)","642","Romania","5166","Residuals","01311","Avocados","2022","2022","t",0,"I","Imputed value"]
["SCL","Supply Utilization Accounts (2010-)","642","Romania","5141","Food supply quantity","01311","Avocados","2022","2022","t",13053.05,"E","Estimated value"]
["SCL","Supply Utilization Accounts (2010-)","642","Romania","5510","Production","01312","Bananas","2020","2020","t",0,"A","Official figure"]
["SCL","Supply Utilization Accounts (2010-)","642","Romania","5610","Import quantity","01312","Bananas","2020","2020","t",179918.41,"A","Official figure"]
["SCL","Supply Utilization Accounts (2010-)","642","Romania","5910","Export quantity","01312","Bananas","2020","2020","t",9908.9699999999993,"A","Official figure"]
["SCL","Supply Utilization Accounts (2010-)","642","Romania","5016","Loss","01312","Bananas","2020","2020","t",8995.92,"I","Imputed value"]
["SCL","Supply Utilization Accounts (2010-)","642","Romania","5166","Residuals","01312","Bananas","2020","2020","t",0,"I","Imputed value"]
["SCL","Supply Utilization Accounts (2010-)","642","Romania","5141","Food supply quantity","01312","Bananas","2020","2020","t",161013.51999999999,"E","Estimated value"]
["SCL","Supply Utilization Accounts (2010-)","642","Romania","5510","Production","01312","Bananas","2021","2021","t",0,"A","Official figure"]
["SCL","Supply Utilization Accounts (2010-)","642","Romania","5610","Import quantity","01312","Bananas","2021","2021","t",195665.3,"A","Official figure"]
["SCL","Supply Utilization Accounts (2010-)","642","Romania","5910","Export quantity","01312","Bananas","2021","2021","t",20201.13,"A","Official figure"]
["SCL","Supply Utilization Accounts (2010-)","642","Romania","5016","Loss","01312","Bananas","2021","2021","t",9783.26,"I","Imputed value"]
["SCL","Supply Utilization Accounts (2010-)","642","Romania","5166","Residuals","01312","Bananas","2021","2021","t",0,"I","Imputed value"]
["SCL","Supply Utilization Accounts (2010-)","642","Romania","5141","Food supply quantity","01312","Bananas","2021","2021","t",165680.9,"E","Estimated value"]
["SCL","Supply Utilization Accounts (2010-)","642","Romania","5510","Production","01312","Bananas","2022","2022","t",0,"A","Official figure"]
["SCL","Supply Utilization Accounts (2010-)","642","Romania","5610","Import quantity","01312","Bananas","2022","2022","t",169455.72,"A","Official figure"]
["SCL","Supply Utilization Accounts (2010-)","642","Romania","5910","Export quantity","01312","Bananas","2022","2022","t",15013.24,"A","Official figure"]
["SCL","Supply Utilization Accounts (2010-)","642","Romania","5016","Loss","01312","Bananas","2022","2022","t",8472.7900000000009,"I","Imputed value"]
["SCL","Supply Utilization Accounts (2010-)","642","Romania","5166","Residuals","01312","Bananas","2022","2022","t",0,"I","Imputed value"]
["SCL","Supply Utilization Accounts (2010-)","642","Romania","5141","Food supply quantity","01312","Bananas","2022","2022","t",145969.69,"E","Estimated value"]
["SCL","Supply Utilization Accounts (2010-)","642","Romania","5510","Production","01231","Chillies and peppers, green (Capsicum spp. and Pimenta spp.)","2020","2020","t",140820,"A","Official figure"]
["SCL","Supply Utilization Accounts (2010-)","642","Romania","5610","Import quantity","01231","Chillies and peppers, green (Capsicum spp. and Pimenta spp.)","2020","2020","t",40784.1,"A","Official figure"]
["SCL","Supply Utilization Accounts (2010-)","642","Romania","5910","Export quantity","01231","Chillies and peppers, green (Capsicum spp. and Pimenta spp.)","2020","2020","t",252.07,"A","Official figure"]
["SCL","Supply Utilization Accounts (2010-)","642","Romania","5016","Loss","01231","Chillies and peppers, green (Capsicum spp. and Pimenta spp.)","2020","2020","t",9405.7800000000007,"I","Imputed value"]
["SCL","Supply Utilization Accounts (2010-)","642","Romania","5166","Residuals","01231","Chillies and peppers, green (Capsicum spp. and Pimenta spp.)","2020","2020","t",0,"I","Imputed value"]
["SCL","Supply Utilization Accounts (2010-)","642","Romania","5141","Food supply quantity","01231","Chillies and peppers, green (Capsicum spp. and Pimenta spp.)","2020","2020","t",171946.25,"E","Estimated value"]
["SCL","Supply Utilization Accounts (2010-)","642","Romania","5510","Production","01231","Chillies and peppers, green (Capsicum spp. and Pimenta spp.)","2021","2021","t",154790,"A","Official figure"]
["SCL","Supply Utilization Accounts (2010-)","642","Romania","5610","Import quantity","01231","Chillies and peppers, green (Capsicum spp. and Pimenta spp.)","2021","2021","t",44491.53,"A","Official figure"]
["SCL","Supply Utilization Accounts (2010-)","642","Romania","5910","Export quantity","01231","Chillies and peppers, green (Capsicum spp. and Pimenta spp.)","2021","2021","t",496.13,"A","Official figure"]
["SCL","Supply Utilization Accounts (2010-)","642","Romania","5016","Loss","01231","Chillies and peppers, green (Capsicum spp. and Pimenta spp.)","2021","2021","t",11265,"I","Imputed value"]
["SCL","Supply Utilization Accounts (2010-)","642","Romania","5166","Residuals","01231","Chillies and peppers, green (Capsicum spp. and Pimenta spp.)","2021","2021","t",0,"I","Imputed value"]
["SCL","Supply Utilization Accounts (2010-)","642","Romania","5141","Food supply quantity","01231","Chillies and peppers, green (Capsicum spp. and Pimenta spp.)","2021","2021","t",187520.41,"E","Estimated value"]
["SCL","Supply Utilization Accounts (2010-)","642","Romania","5510","Production","01231","Chillies and peppers, green (Capsicum spp. and Pimenta spp.)","2022","2022","t",105210,"A","Official figure"]
["SCL","Supply Utilization Accounts (2010-)","642","Romania","5610","Import quantity","01231","Chillies and peppers, green (Capsicum spp. and Pimenta spp.)","2022","2022","t",46114.45,"A","Official figure"]
["SCL","Supply Utilization Accounts (2010-)","642","Romania","5910","Export quantity","01231","Chillies and peppers, green (Capsicum spp. and Pimenta spp.)","2022","2022","t",928.09,"A","Official figure"]
["SCL","Supply Utilization Accounts (2010-)","642","Romania","5016","Loss","01231","Chillies and peppers, green (Capsicum spp. and Pimenta spp.)","2022","2022","t",8554.08,"I","Imputed value"]
["SCL","Supply Utilization Accounts (2010-)","642","Romania","5166","Residuals","01231","Chillies and peppers, green (Capsicum spp. and Pimenta spp.)","2022","2022","t",0,"I","Imputed value"]
["SCL","Supply Utilization Accounts (2010-)","642","Romania","5141","Food supply quantity","01231","Chillies and peppers, green (Capsicum spp. and Pimenta spp.)","2022","2022","t",141842.28,"E","Estimated value"]
["SCL","Supply Utilization Accounts (2010-)","642","Romania","5510","Production","01232","Cucumbers and gherkins","2020","2020","t",165070,"A","Official figure"]
["SCL","Supply Utilization Accounts (2010-)","642","Romania","5610","Import quantity","01232","Cucumbers and gherkins","2020","2020","t",20984.2,"A","Official figure"]
["SCL","Supply Utilization Accounts (2010-)","642","Romania","5910","Export quantity","01232","Cucumbers and gherkins","2020","2020","t",22217.27,"A","Official figure"]
["SCL","Supply Utilization Accounts (2010-)","642","Romania","5016","Loss","01232","Cucumbers and gherkins","2020","2020","t",12293.95,"I","Imputed value"]
["SCL","Supply Utilization Accounts (2010-)","642","Romania","5166","Residuals","01232","Cucumbers and gherkins","2020","2020","t",0,"I","Imputed value"]
["SCL","Supply Utilization Accounts (2010-)","642","Romania","5141","Food supply quantity","01232","Cucumbers and gherkins","2020","2020","t",151542.98000000001,"E","Estimated value"]
["SCL","Supply Utilization Accounts (2010-)","642","Romania","5510","Production","01232","Cucumbers and gherkins","2021","2021","t",149990,"A","Official figure"]
["SCL","Supply Utilization Accounts (2010-)","642","Romania","5610","Import quantity","01232","Cucumbers and gherkins","2021","2021","t",24014.86,"A","Official figure"]
["SCL","Supply Utilization Accounts (2010-)","642","Romania","5910","Export quantity","01232","Cucumbers and gherkins","2021","2021","t",29419.58,"A","Official figure"]
["SCL","Supply Utilization Accounts (2010-)","642","Romania","5016","Loss","01232","Cucumbers and gherkins","2021","2021","t",14113.82,"I","Imputed value"]
["SCL","Supply Utilization Accounts (2010-)","642","Romania","5166","Residuals","01232","Cucumbers and gherkins","2021","2021","t",0,"I","Imputed value"]
["SCL","Supply Utilization Accounts (2010-)","642","Romania","5141","Food supply quantity","01232","Cucumbers and gherkins","2021","2021","t",130471.47,"E","Estimated value"]
["SCL","Supply Utilization Accounts (2010-)","642","Romania","5510","Production","01232","Cucumbers and gherkins","2022","2022","t",77830,"A","Official figure"]
["SCL","Supply Utilization Accounts (2010-)","642","Romania","5610","Import quantity","01232","Cucumbers and gherkins","2022","2022","t",25984.86,"A","Official figure"]
["SCL","Supply Utilization Accounts (2010-)","642","Romania","5910","Export quantity","01232","Cucumbers and gherkins","2022","2022","t",39676.720000000001,"A","Official figure"]
["SCL","Supply Utilization Accounts (2010-)","642","Romania","5016","Loss","01232","Cucumbers and gherkins","2022","2022","t",8420.59,"I","Imputed value"]
["SCL","Supply Utilization Accounts (2010-)","642","Romania","5166","Residuals","01232","Cucumbers and gherkins","2022","2022","t",0,"I","Imputed value"]
["SCL","Supply Utilization Accounts (2010-)","642","Romania","5141","Food supply quantity","01232","Cucumbers and gherkins","2022","2022","t",55717.54,"E","Estimated value"]
["SCL","Supply Utilization Accounts (2010-)","642","Romania","5510","Production","01233","Eggplants (aubergines)","2020","2020","t",88420,"A","Official figure"]
["SCL","Supply Utilization Accounts (2010-)","642","Romania","5610","Import quantity","01233","Eggplants (aubergines)","2020","2020","t",5575.78,"A","Official figure"]
["SCL","Supply Utilization Accounts (2010-)","642","Romania","5910","Export quantity","01233","Eggplants (aubergines)","2020","2020","t",151.12,"A","Official figure"]
["SCL","Supply Utilization Accounts (2010-)","642","Romania","5016","Loss","01233","Eggplants (aubergines)","2020","2020","t",5119.43,"I","Imputed value"]
["SCL","Supply Utilization Accounts (2010-)","642","Romania","5166","Residuals","01233","Eggplants (aubergines)","2020","2020","t",0,"I","Imputed value"]
["SCL","Supply Utilization Accounts (2010-)","642","Romania","5141","Food supply quantity","01233","Eggplants (aubergines)","2020","2020","t",88725.22,"E","Estimated value"]
["SCL","Supply Utilization Accounts (2010-)","642","Romania","5510","Production","01233","Eggplants (aubergines)","2021","2021","t",95860,"A","Official figure"]
["SCL","Supply Utilization Accounts (2010-)","642","Romania","5610","Import quantity","01233","Eggplants (aubergines)","2021","2021","t",5063.16,"A","Official figure"]
["SCL","Supply Utilization Accounts (2010-)","642","Romania","5910","Export quantity","01233","Eggplants (aubergines)","2021","2021","t",370.62,"A","Official figure"]
["SCL","Supply Utilization Accounts (2010-)","642","Romania","5016","Loss","01233","Eggplants (aubergines)","2021","2021","t",6158.07,"I","Imputed value"]
["SCL","Supply Utilization Accounts (2010-)","642","Romania","5166","Residuals","01233","Eggplants (aubergines)","2021","2021","t",0,"I","Imputed value"]
["SCL","Supply Utilization Accounts (2010-)","642","Romania","5141","Food supply quantity","01233","Eggplants (aubergines)","2021","2021","t",94394.48,"E","Estimated value"]
["SCL","Supply Utilization Accounts (2010-)","642","Romania","5510","Production","01233","Eggplants (aubergines)","2022","2022","t",64560,"A","Official figure"]
["SCL","Supply Utilization Accounts (2010-)","642","Romania","5610","Import quantity","01233","Eggplants (aubergines)","2022","2022","t",4784.3100000000004,"A","Official figure"]
["SCL","Supply Utilization Accounts (2010-)","642","Romania","5910","Export quantity","01233","Eggplants (aubergines)","2022","2022","t",494.81,"A","Official figure"]
["SCL","Supply Utilization Accounts (2010-)","642","Romania","5016","Loss","01233","Eggplants (aubergines)","2022","2022","t",4231.21,"I","Imputed value"]
["SCL","Supply Utilization Accounts (2010-)","642","Romania","5166","Residuals","01233","Eggplants (aubergines)","2022","2022","t",0,"I","Imputed value"]
["SCL","Supply Utilization Accounts (2010-)","642","Romania","5141","Food supply quantity","01233","Eggplants (aubergines)","2022","2022","t",64618.29,"E","Estimated value"]
["SCL","Supply Utilization Accounts (2010-)","703","Slovakia","5510","Production","01311","Avocados","2020","2020","t",0,"A","Official figure"]
["SCL","Supply Utilization Accounts (2010-)","703","Slovakia","5610","Import quantity","01311","Avocados","2020","2020","t",3077,"A","Official figure"]
["SCL","Supply Utilization Accounts (2010-)","703","Slovakia","5910","Export quantity","01311","Avocados","2020","2020","t",152.4,"A","Official figure"]
["SCL","Supply Utilization Accounts (2010-)","703","Slovakia","5166","Residuals","01311","Avocados","2020","2020","t",0,"I","Imputed value"]
["SCL","Supply Utilization Accounts (2010-)","703","Slovakia","5141","Food supply quantity","01311","Avocados","2020","2020","t",2924.61,"E","Estimated value"]
["SCL","Supply Utilization Accounts (2010-)","703","Slovakia","5510","Production","01311","Avocados","2021","2021","t",0,"A","Official figure"]
["SCL","Supply Utilization Accounts (2010-)","703","Slovakia","5610","Import quantity","01311","Avocados","2021","2021","t",2625.14,"A","Official figure"]
["SCL","Supply Utilization Accounts (2010-)","703","Slovakia","5910","Export quantity","01311","Avocados","2021","2021","t",13.91,"A","Official figure"]
["SCL","Supply Utilization Accounts (2010-)","703","Slovakia","5166","Residuals","01311","Avocados","2021","2021","t",0,"I","Imputed value"]
["SCL","Supply Utilization Accounts (2010-)","703","Slovakia","5141","Food supply quantity","01311","Avocados","2021","2021","t",2611.23,"E","Estimated value"]
["SCL","Supply Utilization Accounts (2010-)","703","Slovakia","5510","Production","01311","Avocados","2022","2022","t",0,"A","Official figure"]
["SCL","Supply Utilization Accounts (2010-)","703","Slovakia","5610","Import quantity","01311","Avocados","2022","2022","t",2851.69,"A","Official figure"]
["SCL","Supply Utilization Accounts (2010-)","703","Slovakia","5910","Export quantity","01311","Avocados","2022","2022","t",34.380000000000003,"A","Official figure"]
["SCL","Supply Utilization Accounts (2010-)","703","Slovakia","5166","Residuals","01311","Avocados","2022","2022","t",0,"I","Imputed value"]
["SCL","Supply Utilization Accounts (2010-)","703","Slovakia","5141","Food supply quantity","01311","Avocados","2022","2022","t",2817.32,"E","Estimated value"]
["SCL","Supply Utilization Accounts (2010-)","703","Slovakia","5510","Production","01312","Bananas","2020","2020","t",0,"A","Official figure"]
["SCL","Supply Utilization Accounts (2010-)","703","Slovakia","5610","Import quantity","01312","Bananas","2020","2020","t",71578.53,"A","Official figure"]
["SCL","Supply Utilization Accounts (2010-)","703","Slovakia","5910","Export quantity","01312","Bananas","2020","2020","t",20813.72,"A","Official figure"]
["SCL","Supply Utilization Accounts (2010-)","703","Slovakia","5016","Loss","01312","Bananas","2020","2020","t",3578.93,"I","Imputed value"]
["SCL","Supply Utilization Accounts (2010-)","703","Slovakia","5023","Processed","01312","Bananas","2020","2020","t",1996.15,"E","Estimated value"]
["SCL","Supply Utilization Accounts (2010-)","703","Slovakia","5166","Residuals","01312","Bananas","2020","2020","t",0,"I","Imputed value"]
["SCL","Supply Utilization Accounts (2010-)","703","Slovakia","5141","Food supply quantity","01312","Bananas","2020","2020","t",45189.75,"E","Estimated value"]
["SCL","Supply Utilization Accounts (2010-)","703","Slovakia","5510","Production","01312","Bananas","2021","2021","t",0,"A","Official figure"]
["SCL","Supply Utilization Accounts (2010-)","703","Slovakia","5610","Import quantity","01312","Bananas","2021","2021","t",82423.7,"A","Official figure"]
["SCL","Supply Utilization Accounts (2010-)","703","Slovakia","5910","Export quantity","01312","Bananas","2021","2021","t",19684.669999999998,"A","Official figure"]
["SCL","Supply Utilization Accounts (2010-)","703","Slovakia","5016","Loss","01312","Bananas","2021","2021","t",4121.18,"I","Imputed value"]
["SCL","Supply Utilization Accounts (2010-)","703","Slovakia","5023","Processed","01312","Bananas","2021","2021","t",2471.34,"E","Estimated value"]
["SCL","Supply Utilization Accounts (2010-)","703","Slovakia","5166","Residuals","01312","Bananas","2021","2021","t",0,"I","Imputed value"]
["SCL","Supply Utilization Accounts (2010-)","703","Slovakia","5141","Food supply quantity","01312","Bananas","2021","2021","t",56146.5,"E","Estimated value"]
["SCL","Supply Utilization Accounts (2010-)","703","Slovakia","5510","Production","01312","Bananas","2022","2022","t",0,"A","Official figure"]
["SCL","Supply Utilization Accounts (2010-)","703","Slovakia","5610","Import quantity","01312","Bananas","2022","2022","t",70638.47,"A","Official figure"]
["SCL","Supply Utilization Accounts (2010-)","703","Slovakia","5910","Export quantity","01312","Bananas","2022","2022","t",14929.69,"A","Official figure"]
["SCL","Supply Utilization Accounts (2010-)","703","Slovakia","5016","Loss","01312","Bananas","2022","2022","t",3531.92,"I","Imputed value"]
["SCL","Supply Utilization Accounts (2010-)","703","Slovakia","5023","Processed","01312","Bananas","2022","2022","t",2192.29,"E","Estimated value"]
["SCL","Supply Utilization Accounts (2010-)","703","Slovakia","5166","Residuals","01312","Bananas","2022","2022","t",0,"I","Imputed value"]
["SCL","Supply Utilization Accounts (2010-)","703","Slovakia","5141","Food supply quantity","01312","Bananas","2022","2022","t",49984.57,"E","Estimated value"]
["SCL","Supply Utilization Accounts (2010-)","703","Slovakia","5510","Production","01231","Chillies and peppers, green (Capsicum spp. and Pimenta spp.)","2020","2020","t",4300,"A","Official figure"]
["SCL","Supply Utilization Accounts (2010-)","703","Slovakia","5610","Import quantity","01231","Chillies and peppers, green (Capsicum spp. and Pimenta spp.)","2020","2020","t",24366.23,"A","Official figure"]
["SCL","Supply Utilization Accounts (2010-)","703","Slovakia","5910","Export quantity","01231","Chillies and peppers, green (Capsicum spp. and Pimenta spp.)","2020","2020","t",1172.73,"A","Official figure"]
["SCL","Supply Utilization Accounts (2010-)","703","Slovakia","5016","Loss","01231","Chillies and peppers, green (Capsicum spp. and Pimenta spp.)","2020","2020","t",546.59,"I","Imputed value"]
["SCL","Supply Utilization Accounts (2010-)","703","Slovakia","5166","Residuals","01231","Chillies and peppers, green (Capsicum spp. and Pimenta spp.)","2020","2020","t",0,"I","Imputed value"]
["SCL","Supply Utilization Accounts (2010-)","703","Slovakia","5141","Food supply quantity","01231","Chillies and peppers, green (Capsicum spp. and Pimenta spp.)","2020","2020","t",26946.91,"E","Estimated value"]
["SCL","Supply Utilization Accounts (2010-)","703","Slovakia","5510","Production","01231","Chillies and peppers, green (Capsicum spp. and Pimenta spp.)","2021","2021","t",4660,"A","Official figure"]
["SCL","Supply Utilization Accounts (2010-)","703","Slovakia","5610","Import quantity","01231","Chillies and peppers, green (Capsicum spp. and Pimenta spp.)","2021","2021","t",22508.21,"A","Official figure"]
["SCL","Supply Utilization Accounts (2010-)","703","Slovakia","5910","Export quantity","01231","Chillies and peppers, green (Capsicum spp. and Pimenta spp.)","2021","2021","t",836.96,"A","Official figure"]
["SCL","Supply Utilization Accounts (2010-)","703","Slovakia","5016","Loss","01231","Chillies and peppers, green (Capsicum spp. and Pimenta spp.)","2021","2021","t",499.21,"I","Imputed value"]
["SCL","Supply Utilization Accounts (2010-)","703","Slovakia","5166","Residuals","01231","Chillies and peppers, green (Capsicum spp. and Pimenta spp.)","2021","2021","t",0,"I","Imputed value"]
["SCL","Supply Utilization Accounts (2010-)","703","Slovakia","5141","Food supply quantity","01231","Chillies and peppers, green (Capsicum spp. and Pimenta spp.)","2021","2021","t",25832.04,"E","Estimated value"]
["SCL","Supply Utilization Accounts (2010-)","703","Slovakia","5510","Production","01231","Chillies and peppers, green (Capsicum spp. and Pimenta spp.)","2022","2022","t",1860,"A","Official figure"]
["SCL","Supply Utilization Accounts (2010-)","703","Slovakia","5610","Import quantity","01231","Chillies and peppers, green (Capsicum spp. and Pimenta spp.)","2022","2022","t",22156.03,"A","Official figure"]
["SCL","Supply Utilization Accounts (2010-)","703","Slovakia","5910","Export quantity","01231","Chillies and peppers, green (Capsicum spp. and Pimenta spp.)","2022","2022","t",722.87,"A","Official figure"]
["SCL","Supply Utilization Accounts (2010-)","703","Slovakia","5016","Loss","01231","Chillies and peppers, green (Capsicum spp. and Pimenta spp.)","2022","2022","t",441.29,"I","Imputed value"]
["SCL","Supply Utilization Accounts (2010-)","703","Slovakia","5166","Residuals","01231","Chillies and peppers, green (Capsicum spp. and Pimenta spp.)","2022","2022","t",0,"I","Imputed value"]
["SCL","Supply Utilization Accounts (2010-)","703","Slovakia","5141","Food supply quantity","01231","Chillies and peppers, green (Capsicum spp. and Pimenta spp.)","2022","2022","t",22851.86,"E","Estimated value"]
["SCL","Supply Utilization Accounts (2010-)","703","Slovakia","5510","Production","01232","Cucumbers and gherkins","2020","2020","t",3200,"A","Official figure"]
["SCL","Supply Utilization Accounts (2010-)","703","Slovakia","5610","Import quantity","01232","Cucumbers and gherkins","2020","2020","t",17483.91,"A","Official figure"]
["SCL","Supply Utilization Accounts (2010-)","703","Slovakia","5910","Export quantity","01232","Cucumbers and gherkins","2020","2020","t",1624.32,"A","Official figure"]
["SCL","Supply Utilization Accounts (2010-)","703","Slovakia","5016","Loss","01232","Cucumbers and gherkins","2020","2020","t",359.66,"I","Imputed value"]
["SCL","Supply Utilization Accounts (2010-)","703","Slovakia","5166","Residuals","01232","Cucumbers and gherkins","2020","2020","t",0,"I","Imputed value"]
["SCL","Supply Utilization Accounts (2010-)","703","Slovakia","5141","Food supply quantity","01232","Cucumbers and gherkins","2020","2020","t",18699.93,"E","Estimated value"]
["SCL","Supply Utilization Accounts (2010-)","703","Slovakia","5510","Production","01232","Cucumbers and gherkins","2021","2021","t",4810,"A","Official figure"]
["SCL","Supply Utilization Accounts (2010-)","703","Slovakia","5610","Import quantity","01232","Cucumbers and gherkins","2021","2021","t",15989.11,"A","Official figure"]
["SCL","Supply Utilization Accounts (2010-)","703","Slovakia","5910","Export quantity","01232","Cucumbers and gherkins","2021","2021","t",1485.6,"A","Official figure"]
["SCL","Supply Utilization Accounts (2010-)","703","Slovakia","5016","Loss","01232","Cucumbers and gherkins","2021","2021","t",351.36,"I","Imputed value"]
["SCL","Supply Utilization Accounts (2010-)","703","Slovakia","5166","Residuals","01232","Cucumbers and gherkins","2021","2021","t",0,"I","Imputed value"]
["SCL","Supply Utilization Accounts (2010-)","703","Slovakia","5141","Food supply quantity","01232","Cucumbers and gherkins","2021","2021","t",18962.16,"E","Estimated value"]
["SCL","Supply Utilization Accounts (2010-)","703","Slovakia","5510","Production","01232","Cucumbers and gherkins","2022","2022","t",3840,"A","Official figure"]
["SCL","Supply Utilization Accounts (2010-)","703","Slovakia","5610","Import quantity","01232","Cucumbers and gherkins","2022","2022","t",16724.669999999998,"A","Official figure"]
["SCL","Supply Utilization Accounts (2010-)","703","Slovakia","5910","Export quantity","01232","Cucumbers and gherkins","2022","2022","t",708.13,"A","Official figure"]
["SCL","Supply Utilization Accounts (2010-)","703","Slovakia","5016","Loss","01232","Cucumbers and gherkins","2022","2022","t",347.4,"I","Imputed value"]
["SCL","Supply Utilization Accounts (2010-)","703","Slovakia","5166","Residuals","01232","Cucumbers and gherkins","2022","2022","t",0,"I","Imputed value"]
["SCL","Supply Utilization Accounts (2010-)","703","Slovakia","5141","Food supply quantity","01232","Cucumbers and gherkins","2022","2022","t",19509.13,"E","Estimated value"]
["SCL","Supply Utilization Accounts (2010-)","703","Slovakia","5510","Production","01233","Eggplants (aubergines)","2020","2020","t",110,"A","Official figure"]
["SCL","Supply Utilization Accounts (2010-)","703","Slovakia","5610","Import quantity","01233","Eggplants (aubergines)","2020","2020","t",1095.8,"A","Official figure"]
["SCL","Supply Utilization Accounts (2010-)","703","Slovakia","5910","Export quantity","01233","Eggplants (aubergines)","2020","2020","t",120.12,"A","Official figure"]
["SCL","Supply Utilization Accounts (2010-)","703","Slovakia","5016","Loss","01233","Eggplants (aubergines)","2020","2020","t",60.29,"I","Imputed value"]
["SCL","Supply Utilization Accounts (2010-)","703","Slovakia","5166","Residuals","01233","Eggplants (aubergines)","2020","2020","t",0,"I","Imputed value"]
["SCL","Supply Utilization Accounts (2010-)","703","Slovakia","5141","Food supply quantity","01233","Eggplants (aubergines)","2020","2020","t",1025.3900000000001,"E","Estimated value"]
["SCL","Supply Utilization Accounts (2010-)","703","Slovakia","5610","Import quantity","01233","Eggplants (aubergines)","2021","2021","t",881.57,"A","Official figure"]
["SCL","Supply Utilization Accounts (2010-)","703","Slovakia","5910","Export quantity","01233","Eggplants (aubergines)","2021","2021","t",55.17,"A","Official figure"]
["SCL","Supply Utilization Accounts (2010-)","703","Slovakia","5016","Loss","01233","Eggplants (aubergines)","2021","2021","t",44.08,"I","Imputed value"]
["SCL","Supply Utilization Accounts (2010-)","703","Slovakia","5166","Residuals","01233","Eggplants (aubergines)","2021","2021","t",0,"I","Imputed value"]
["SCL","Supply Utilization Accounts (2010-)","703","Slovakia","5141","Food supply quantity","01233","Eggplants (aubergines)","2021","2021","t",782.32,"E","Estimated value"]
["SCL","Supply Utilization Accounts (2010-)","703","Slovakia","5610","Import quantity","01233","Eggplants (aubergines)","2022","2022","t",792.89,"A","Official figure"]
["SCL","Supply Utilization Accounts (2010-)","703","Slovakia","5910","Export quantity","01233","Eggplants (aubergines)","2022","2022","t",27.42,"A","Official figure"]
["SCL","Supply Utilization Accounts (2010-)","703","Slovakia","5016","Loss","01233","Eggplants (aubergines)","2022","2022","t",39.64,"I","Imputed value"]
["SCL","Supply Utilization Accounts (2010-)","703","Slovakia","5166","Residuals","01233","Eggplants (aubergines)","2022","2022","t",0,"I","Imputed value"]
["SCL","Supply Utilization Accounts (2010-)","703","Slovakia","5141","Food supply quantity","01233","Eggplants (aubergines)","2022","2022","t",725.83,"E","Estimated value"]
["SCL","Supply Utilization Accounts (2010-)","705","Slovenia","5510","Production","01311","Avocados","2020","2020","t",0,"A","Official figure"]
["SCL","Supply Utilization Accounts (2010-)","705","Slovenia","5610","Import quantity","01311","Avocados","2020","2020","t",4863.55,"A","Official figure"]
["SCL","Supply Utilization Accounts (2010-)","705","Slovenia","5910","Export quantity","01311","Avocados","2020","2020","t",3753.71,"A","Official figure"]
["SCL","Supply Utilization Accounts (2010-)","705","Slovenia","5016","Loss","01311","Avocados","2020","2020","t",194.54,"I","Imputed value"]
["SCL","Supply Utilization Accounts (2010-)","705","Slovenia","5166","Residuals","01311","Avocados","2020","2020","t",0,"I","Imputed value"]
["SCL","Supply Utilization Accounts (2010-)","705","Slovenia","5141","Food supply quantity","01311","Avocados","2020","2020","t",915.3,"E","Estimated value"]
["SCL","Supply Utilization Accounts (2010-)","705","Slovenia","5510","Production","01311","Avocados","2021","2021","t",0,"A","Official figure"]
["SCL","Supply Utilization Accounts (2010-)","705","Slovenia","5610","Import quantity","01311","Avocados","2021","2021","t",7871.52,"A","Official figure"]
["SCL","Supply Utilization Accounts (2010-)","705","Slovenia","5910","Export quantity","01311","Avocados","2021","2021","t",6437.43,"A","Official figure"]
["SCL","Supply Utilization Accounts (2010-)","705","Slovenia","5016","Loss","01311","Avocados","2021","2021","t",314.86,"I","Imputed value"]
["SCL","Supply Utilization Accounts (2010-)","705","Slovenia","5166","Residuals","01311","Avocados","2021","2021","t",0,"I","Imputed value"]
["SCL","Supply Utilization Accounts (2010-)","705","Slovenia","5141","Food supply quantity","01311","Avocados","2021","2021","t",1119.23,"E","Estimated value"]
["SCL","Supply Utilization Accounts (2010-)","705","Slovenia","5510","Production","01311","Avocados","2022","2022","t",0,"A","Official figure"]
["SCL","Supply Utilization Accounts (2010-)","705","Slovenia","5610","Import quantity","01311","Avocados","2022","2022","t",11831.5,"A","Official figure"]
["SCL","Supply Utilization Accounts (2010-)","705","Slovenia","5910","Export quantity","01311","Avocados","2022","2022","t",8936.5,"A","Official figure"]
["SCL","Supply Utilization Accounts (2010-)","705","Slovenia","5016","Loss","01311","Avocados","2022","2022","t",473.26,"I","Imputed value"]
["SCL","Supply Utilization Accounts (2010-)","705","Slovenia","5166","Residuals","01311","Avocados","2022","2022","t",0,"I","Imputed value"]
["SCL","Supply Utilization Accounts (2010-)","705","Slovenia","5141","Food supply quantity","01311","Avocados","2022","2022","t",2421.7399999999998,"E","Estimated value"]
["SCL","Supply Utilization Accounts (2010-)","705","Slovenia","5510","Production","01312","Bananas","2020","2020","t",0,"A","Official figure"]
["SCL","Supply Utilization Accounts (2010-)","705","Slovenia","5610","Import quantity","01312","Bananas","2020","2020","t",116728.91,"A","Official figure"]
["SCL","Supply Utilization Accounts (2010-)","705","Slovenia","5910","Export quantity","01312","Bananas","2020","2020","t",77921.14,"A","Official figure"]
["SCL","Supply Utilization Accounts (2010-)","705","Slovenia","5016","Loss","01312","Bananas","2020","2020","t",11672.89,"I","Imputed value"]
["SCL","Supply Utilization Accounts (2010-)","705","Slovenia","5166","Residuals","01312","Bananas","2020","2020","t",0,"I","Imputed value"]
["SCL","Supply Utilization Accounts (2010-)","705","Slovenia","5141","Food supply quantity","01312","Bananas","2020","2020","t",27134.880000000001,"E","Estimated value"]
["SCL","Supply Utilization Accounts (2010-)","705","Slovenia","5510","Production","01312","Bananas","2021","2021","t",0,"A","Official figure"]
["SCL","Supply Utilization Accounts (2010-)","705","Slovenia","5610","Import quantity","01312","Bananas","2021","2021","t",112066.63,"A","Official figure"]
["SCL","Supply Utilization Accounts (2010-)","705","Slovenia","5910","Export quantity","01312","Bananas","2021","2021","t",76432.52,"A","Official figure"]
["SCL","Supply Utilization Accounts (2010-)","705","Slovenia","5016","Loss","01312","Bananas","2021","2021","t",11206.66,"I","Imputed value"]
["SCL","Supply Utilization Accounts (2010-)","705","Slovenia","5166","Residuals","01312","Bananas","2021","2021","t",0,"I","Imputed value"]
["SCL","Supply Utilization Accounts (2010-)","705","Slovenia","5141","Food supply quantity","01312","Bananas","2021","2021","t",24427.45,"E","Estimated value"]
["SCL","Supply Utilization Accounts (2010-)","705","Slovenia","5510","Production","01312","Bananas","2022","2022","t",0,"A","Official figure"]
["SCL","Supply Utilization Accounts (2010-)","705","Slovenia","5610","Import quantity","01312","Bananas","2022","2022","t",123729.12,"A","Official figure"]
["SCL","Supply Utilization Accounts (2010-)","705","Slovenia","5910","Export quantity","01312","Bananas","2022","2022","t",89136.12,"A","Official figure"]
["SCL","Supply Utilization Accounts (2010-)","705","Slovenia","5016","Loss","01312","Bananas","2022","2022","t",12372.91,"I","Imputed value"]
["SCL","Supply Utilization Accounts (2010-)","705","Slovenia","5166","Residuals","01312","Bananas","2022","2022","t",0,"I","Imputed value"]
["SCL","Supply Utilization Accounts (2010-)","705","Slovenia","5141","Food supply quantity","01312","Bananas","2022","2022","t",22220.09,"E","Estimated value"]
["SCL","Supply Utilization Accounts (2010-)","705","Slovenia","5510","Production","01231","Chillies and peppers, green (Capsicum spp. and Pimenta spp.)","2020","2020","t",4640,"A","Official figure"]
["SCL","Supply Utilization Accounts (2010-)","705","Slovenia","5610","Import quantity","01231","Chillies and peppers, green (Capsicum spp. and Pimenta spp.)","2020","2020","t",15671.02,"A","Official figure"]
["SCL","Supply Utilization Accounts (2010-)","705","Slovenia","5910","Export quantity","01231","Chillies and peppers, green (Capsicum spp. and Pimenta spp.)","2020","2020","t",7803.24,"A","Official figure"]
["SCL","Supply Utilization Accounts (2010-)","705","Slovenia","5016","Loss","01231","Chillies and peppers, green (Capsicum spp. and Pimenta spp.)","2020","2020","t",2040.1,"I","Imputed value"]
["SCL","Supply Utilization Accounts (2010-)","705","Slovenia","5166","Residuals","01231","Chillies and peppers, green (Capsicum spp. and Pimenta spp.)","2020","2020","t",0,"I","Imputed value"]
["SCL","Supply Utilization Accounts (2010-)","705","Slovenia","5141","Food supply quantity","01231","Chillies and peppers, green (Capsicum spp. and Pimenta spp.)","2020","2020","t",10467.68,"E","Estimated value"]
["SCL","Supply Utilization Accounts (2010-)","705","Slovenia","5510","Production","01231","Chillies and peppers, green (Capsicum spp. and Pimenta spp.)","2021","2021","t",3950,"A","Official figure"]
["SCL","Supply Utilization Accounts (2010-)","705","Slovenia","5610","Import quantity","01231","Chillies and peppers, green (Capsicum spp. and Pimenta spp.)","2021","2021","t",16453.080000000002,"A","Official figure"]
["SCL","Supply Utilization Accounts (2010-)","705","Slovenia","5910","Export quantity","01231","Chillies and peppers, green (Capsicum spp. and Pimenta spp.)","2021","2021","t",7673.41,"A","Official figure"]
["SCL","Supply Utilization Accounts (2010-)","705","Slovenia","5016","Loss","01231","Chillies and peppers, green (Capsicum spp. and Pimenta spp.)","2021","2021","t",2043.32,"I","Imputed value"]
["SCL","Supply Utilization Accounts (2010-)","705","Slovenia","5166","Residuals","01231","Chillies and peppers, green (Capsicum spp. and Pimenta spp.)","2021","2021","t",0,"I","Imputed value"]
["SCL","Supply Utilization Accounts (2010-)","705","Slovenia","5141","Food supply quantity","01231","Chillies and peppers, green (Capsicum spp. and Pimenta spp.)","2021","2021","t",10686.34,"E","Estimated value"]
["SCL","Supply Utilization Accounts (2010-)","705","Slovenia","5510","Production","01231","Chillies and peppers, green (Capsicum spp. and Pimenta spp.)","2022","2022","t",3250,"A","Official figure"]
["SCL","Supply Utilization Accounts (2010-)","705","Slovenia","5610","Import quantity","01231","Chillies and peppers, green (Capsicum spp. and Pimenta spp.)","2022","2022","t",13249.73,"A","Official figure"]
["SCL","Supply Utilization Accounts (2010-)","705","Slovenia","5910","Export quantity","01231","Chillies and peppers, green (Capsicum spp. and Pimenta spp.)","2022","2022","t",5160.59,"A","Official figure"]
["SCL","Supply Utilization Accounts (2010-)","705","Slovenia","5016","Loss","01231","Chillies and peppers, green (Capsicum spp. and Pimenta spp.)","2022","2022","t",1652.41,"I","Imputed value"]
["SCL","Supply Utilization Accounts (2010-)","705","Slovenia","5166","Residuals","01231","Chillies and peppers, green (Capsicum spp. and Pimenta spp.)","2022","2022","t",0,"I","Imputed value"]
["SCL","Supply Utilization Accounts (2010-)","705","Slovenia","5141","Food supply quantity","01231","Chillies and peppers, green (Capsicum spp. and Pimenta spp.)","2022","2022","t",9686.73,"E","Estimated value"]
["SCL","Supply Utilization Accounts (2010-)","705","Slovenia","5510","Production","01232","Cucumbers and gherkins","2020","2020","t",2990,"A","Official figure"]
["SCL","Supply Utilization Accounts (2010-)","705","Slovenia","5610","Import quantity","01232","Cucumbers and gherkins","2020","2020","t",9198.56,"A","Official figure"]
["SCL","Supply Utilization Accounts (2010-)","705","Slovenia","5910","Export quantity","01232","Cucumbers and gherkins","2020","2020","t",6458.12,"A","Official figure"]
["SCL","Supply Utilization Accounts (2010-)","705","Slovenia","5016","Loss","01232","Cucumbers and gherkins","2020","2020","t",1228.8599999999999,"I","Imputed value"]
["SCL","Supply Utilization Accounts (2010-)","705","Slovenia","5166","Residuals","01232","Cucumbers and gherkins","2020","2020","t",0,"I","Imputed value"]
["SCL","Supply Utilization Accounts (2010-)","705","Slovenia","5141","Food supply quantity","01232","Cucumbers and gherkins","2020","2020","t",4501.58,"E","Estimated value"]
["SCL","Supply Utilization Accounts (2010-)","705","Slovenia","5510","Production","01232","Cucumbers and gherkins","2021","2021","t",2330,"A","Official figure"]
["SCL","Supply Utilization Accounts (2010-)","705","Slovenia","5610","Import quantity","01232","Cucumbers and gherkins","2021","2021","t",10720.09,"A","Official figure"]
["SCL","Supply Utilization Accounts (2010-)","705","Slovenia","5910","Export quantity","01232","Cucumbers and gherkins","2021","2021","t",7503.88,"A","Official figure"]
["SCL","Supply Utilization Accounts (2010-)","705","Slovenia","5016","Loss","01232","Cucumbers and gherkins","2021","2021","t",1308.58,"I","Imputed value"]
["SCL","Supply Utilization Accounts (2010-)","705","Slovenia","5166","Residuals","01232","Cucumbers and gherkins","2021","2021","t",0,"I","Imputed value"]
["SCL","Supply Utilization Accounts (2010-)","705","Slovenia","5141","Food supply quantity","01232","Cucumbers and gherkins","2021","2021","t",4237.6400000000003,"E","Estimated value"]
["SCL","Supply Utilization Accounts (2010-)","705","Slovenia","5510","Production","01232","Cucumbers and gherkins","2022","2022","t",2630,"A","Official figure"]
["SCL","Supply Utilization Accounts (2010-)","705","Slovenia","5610","Import quantity","01232","Cucumbers and gherkins","2022","2022","t",9857.25,"A","Official figure"]
["SCL","Supply Utilization Accounts (2010-)","705","Slovenia","5910","Export quantity","01232","Cucumbers and gherkins","2022","2022","t",6962.5,"A","Official figure"]
["SCL","Supply Utilization Accounts (2010-)","705","Slovenia","5016","Loss","01232","Cucumbers and gherkins","2022","2022","t",1252.1400000000001,"I","Imputed value"]
["SCL","Supply Utilization Accounts (2010-)","705","Slovenia","5166","Residuals","01232","Cucumbers and gherkins","2022","2022","t",0,"I","Imputed value"]
["SCL","Supply Utilization Accounts (2010-)","705","Slovenia","5141","Food supply quantity","01232","Cucumbers and gherkins","2022","2022","t",4272.6099999999997,"E","Estimated value"]
["SCL","Supply Utilization Accounts (2010-)","705","Slovenia","5510","Production","01233","Eggplants (aubergines)","2020","2020","t",550,"A","Official figure"]
["SCL","Supply Utilization Accounts (2010-)","705","Slovenia","5610","Import quantity","01233","Eggplants (aubergines)","2020","2020","t",575.16,"A","Official figure"]
["SCL","Supply Utilization Accounts (2010-)","705","Slovenia","5910","Export quantity","01233","Eggplants (aubergines)","2020","2020","t",625.08000000000004,"A","Official figure"]
["SCL","Supply Utilization Accounts (2010-)","705","Slovenia","5016","Loss","01233","Eggplants (aubergines)","2020","2020","t",113.52,"I","Imputed value"]
["SCL","Supply Utilization Accounts (2010-)","705","Slovenia","5166","Residuals","01233","Eggplants (aubergines)","2020","2020","t",0,"I","Imputed value"]
["SCL","Supply Utilization Accounts (2010-)","705","Slovenia","5141","Food supply quantity","01233","Eggplants (aubergines)","2020","2020","t",386.56,"E","Estimated value"]
["SCL","Supply Utilization Accounts (2010-)","705","Slovenia","5510","Production","01233","Eggplants (aubergines)","2021","2021","t",420,"A","Official figure"]
["SCL","Supply Utilization Accounts (2010-)","705","Slovenia","5610","Import quantity","01233","Eggplants (aubergines)","2021","2021","t",626.92999999999995,"A","Official figure"]
["SCL","Supply Utilization Accounts (2010-)","705","Slovenia","5910","Export quantity","01233","Eggplants (aubergines)","2021","2021","t",726.2,"A","Official figure"]
["SCL","Supply Utilization Accounts (2010-)","705","Slovenia","5016","Loss","01233","Eggplants (aubergines)","2021","2021","t",105,"I","Imputed value"]
["SCL","Supply Utilization Accounts (2010-)","705","Slovenia","5166","Residuals","01233","Eggplants (aubergines)","2021","2021","t",0,"I","Imputed value"]
["SCL","Supply Utilization Accounts (2010-)","705","Slovenia","5141","Food supply quantity","01233","Eggplants (aubergines)","2021","2021","t",215.72,"E","Estimated value"]
["SCL","Supply Utilization Accounts (2010-)","705","Slovenia","5510","Production","01233","Eggplants (aubergines)","2022","2022","t",340,"A","Official figure"]
["SCL","Supply Utilization Accounts (2010-)","705","Slovenia","5610","Import quantity","01233","Eggplants (aubergines)","2022","2022","t",516.88,"A","Official figure"]
["SCL","Supply Utilization Accounts (2010-)","705","Slovenia","5910","Export quantity","01233","Eggplants (aubergines)","2022","2022","t",660.09,"A","Official figure"]
["SCL","Supply Utilization Accounts (2010-)","705","Slovenia","5016","Loss","01233","Eggplants (aubergines)","2022","2022","t",85.94,"I","Imputed value"]
["SCL","Supply Utilization Accounts (2010-)","705","Slovenia","5166","Residuals","01233","Eggplants (aubergines)","2022","2022","t",0,"I","Imputed value"]
["SCL","Supply Utilization Accounts (2010-)","705","Slovenia","5141","Food supply quantity","01233","Eggplants (aubergines)","2022","2022","t",110.85,"E","Estimated value"]
["SCL","Supply Utilization Accounts (2010-)","724","Spain","5510","Production","01311","Avocados","2020","2020","t",99070,"A","Official figure"]
["SCL","Supply Utilization Accounts (2010-)","724","Spain","5610","Import quantity","01311","Avocados","2020","2020","t",174265.94,"A","Official figure"]
["SCL","Supply Utilization Accounts (2010-)","724","Spain","5910","Export quantity","01311","Avocados","2020","2020","t",141030.72,"A","Official figure"]
["SCL","Supply Utilization Accounts (2010-)","724","Spain","5016","Loss","01311","Avocados","2020","2020","t",32800.31,"I","Imputed value"]
["SCL","Supply Utilization Accounts (2010-)","724","Spain","5166","Residuals","01311","Avocados","2020","2020","t",0,"I","Imputed value"]
["SCL","Supply Utilization Accounts (2010-)","724","Spain","5141","Food supply quantity","01311","Avocados","2020","2020","t",99504.91,"E","Estimated value"]
["SCL","Supply Utilization Accounts (2010-)","724","Spain","5510","Production","01311","Avocados","2021","2021","t",116770,"A","Official figure"]
["SCL","Supply Utilization Accounts (2010-)","724","Spain","5610","Import quantity","01311","Avocados","2021","2021","t",213907.07,"A","Official figure"]
["SCL","Supply Utilization Accounts (2010-)","724","Spain","5910","Export quantity","01311","Avocados","2021","2021","t",140618.92000000001,"A","Official figure"]
["SCL","Supply Utilization Accounts (2010-)","724","Spain","5016","Loss","01311","Avocados","2021","2021","t",39681.25,"I","Imputed value"]
["SCL","Supply Utilization Accounts (2010-)","724","Spain","5166","Residuals","01311","Avocados","2021","2021","t",0,"I","Imputed value"]
["SCL","Supply Utilization Accounts (2010-)","724","Spain","5141","Food supply quantity","01311","Avocados","2021","2021","t",150376.89000000001,"E","Estimated value"]
["SCL","Supply Utilization Accounts (2010-)","724","Spain","5510","Production","01311","Avocados","2022","2022","t",105930,"A","Official figure"]
["SCL","Supply Utilization Accounts (2010-)","724","Spain","5610","Import quantity","01311","Avocados","2022","2022","t",208576.55,"A","Official figure"]
["SCL","Supply Utilization Accounts (2010-)","724","Spain","5910","Export quantity","01311","Avocados","2022","2022","t",149917.04,"A","Official figure"]
["SCL","Supply Utilization Accounts (2010-)","724","Spain","5016","Loss","01311","Avocados","2022","2022","t",37740.79,"I","Imputed value"]
["SCL","Supply Utilization Accounts (2010-)","724","Spain","5166","Residuals","01311","Avocados","2022","2022","t",0,"I","Imputed value"]
["SCL","Supply Utilization Accounts (2010-)","724","Spain","5141","Food supply quantity","01311","Avocados","2022","2022","t",126848.73,"E","Estimated value"]
["SCL","Supply Utilization Accounts (2010-)","724","Spain","5510","Production","01312","Bananas","2020","2020","t",420140,"A","Official figure"]
["SCL","Supply Utilization Accounts (2010-)","724","Spain","5610","Import quantity","01312","Bananas","2020","2020","t",324377.88,"A","Official figure"]
["SCL","Supply Utilization Accounts (2010-)","724","Spain","5910","Export quantity","01312","Bananas","2020","2020","t",94000.79,"A","Official figure"]
["SCL","Supply Utilization Accounts (2010-)","724","Spain","5016","Loss","01312","Bananas","2020","2020","t",96787.32,"I","Imputed value"]
["SCL","Supply Utilization Accounts (2010-)","724","Spain","5023","Processed","01312","Bananas","2020","2020","t",238661.58,"E","Estimated value"]
["SCL","Supply Utilization Accounts (2010-)","724","Spain","5166","Residuals","01312","Bananas","2020","2020","t",0,"I","Imputed value"]
["SCL","Supply Utilization Accounts (2010-)","724","Spain","5141","Food supply quantity","01312","Bananas","2020","2020","t",315068.19,"E","Estimated value"]
["SCL","Supply Utilization Accounts (2010-)","724","Spain","5510","Production","01312","Bananas","2021","2021","t",409110,"A","Official figure"]
["SCL","Supply Utilization Accounts (2010-)","724","Spain","5610","Import quantity","01312","Bananas","2021","2021","t",369869.25,"A","Official figure"]
["SCL","Supply Utilization Accounts (2010-)","724","Spain","5910","Export quantity","01312","Bananas","2021","2021","t",114666.43,"A","Official figure"]
["SCL","Supply Utilization Accounts (2010-)","724","Spain","5016","Loss","01312","Bananas","2021","2021","t",101267.3,"I","Imputed value"]
["SCL","Supply Utilization Accounts (2010-)","724","Spain","5023","Processed","01312","Bananas","2021","2021","t",246723.83,"E","Estimated value"]
["SCL","Supply Utilization Accounts (2010-)","724","Spain","5166","Residuals","01312","Bananas","2021","2021","t",0,"I","Imputed value"]
["SCL","Supply Utilization Accounts (2010-)","724","Spain","5141","Food supply quantity","01312","Bananas","2021","2021","t",316321.68,"E","Estimated value"]
["SCL","Supply Utilization Accounts (2010-)","724","Spain","5510","Production","01312","Bananas","2022","2022","t",348870,"A","Official figure"]
["SCL","Supply Utilization Accounts (2010-)","724","Spain","5610","Import quantity","01312","Bananas","2022","2022","t",403756.32,"A","Official figure"]
["SCL","Supply Utilization Accounts (2010-)","724","Spain","5910","Export quantity","01312","Bananas","2022","2022","t",71590.36,"A","Official figure"]
["SCL","Supply Utilization Accounts (2010-)","724","Spain","5016","Loss","01312","Bananas","2022","2022","t",97841.42,"I","Imputed value"]
["SCL","Supply Utilization Accounts (2010-)","724","Spain","5023","Processed","01312","Bananas","2022","2022","t",253970.11,"E","Estimated value"]
["SCL","Supply Utilization Accounts (2010-)","724","Spain","5166","Residuals","01312","Bananas","2022","2022","t",0,"I","Imputed value"]
["SCL","Supply Utilization Accounts (2010-)","724","Spain","5141","Food supply quantity","01312","Bananas","2022","2022","t",329224.42,"E","Estimated value"]
["SCL","Supply Utilization Accounts (2010-)","724","Spain","5510","Production","01231","Chillies and peppers, green (Capsicum spp. and Pimenta spp.)","2020","2020","t",1472850,"A","Official figure"]
["SCL","Supply Utilization Accounts (2010-)","724","Spain","5610","Import quantity","01231","Chillies and peppers, green (Capsicum spp. and Pimenta spp.)","2020","2020","t",67638.179999999993,"A","Official figure"]
["SCL","Supply Utilization Accounts (2010-)","724","Spain","5910","Export quantity","01231","Chillies and peppers, green (Capsicum spp. and Pimenta spp.)","2020","2020","t",885991.61,"A","Official figure"]
["SCL","Supply Utilization Accounts (2010-)","724","Spain","5016","Loss","01231","Chillies and peppers, green (Capsicum spp. and Pimenta spp.)","2020","2020","t",154048.82,"I","Imputed value"]
["SCL","Supply Utilization Accounts (2010-)","724","Spain","5166","Residuals","01231","Chillies and peppers, green (Capsicum spp. and Pimenta spp.)","2020","2020","t",0,"I","Imputed value"]
["SCL","Supply Utilization Accounts (2010-)","724","Spain","5141","Food supply quantity","01231","Chillies and peppers, green (Capsicum spp. and Pimenta spp.)","2020","2020","t",500447.75,"E","Estimated value"]
["SCL","Supply Utilization Accounts (2010-)","724","Spain","5510","Production","01231","Chillies and peppers, green (Capsicum spp. and Pimenta spp.)","2021","2021","t",1511560,"A","Official figure"]
["SCL","Supply Utilization Accounts (2010-)","724","Spain","5610","Import quantity","01231","Chillies and peppers, green (Capsicum spp. and Pimenta spp.)","2021","2021","t",76400.09,"A","Official figure"]
["SCL","Supply Utilization Accounts (2010-)","724","Spain","5910","Export quantity","01231","Chillies and peppers, green (Capsicum spp. and Pimenta spp.)","2021","2021","t",879028.38,"A","Official figure"]
["SCL","Supply Utilization Accounts (2010-)","724","Spain","5016","Loss","01231","Chillies and peppers, green (Capsicum spp. and Pimenta spp.)","2021","2021","t",158796.01,"I","Imputed value"]
["SCL","Supply Utilization Accounts (2010-)","724","Spain","5166","Residuals","01231","Chillies and peppers, green (Capsicum spp. and Pimenta spp.)","2021","2021","t",0,"I","Imputed value"]
["SCL","Supply Utilization Accounts (2010-)","724","Spain","5141","Food supply quantity","01231","Chillies and peppers, green (Capsicum spp. and Pimenta spp.)","2021","2021","t",550135.69999999995,"E","Estimated value"]
["SCL","Supply Utilization Accounts (2010-)","724","Spain","5510","Production","01231","Chillies and peppers, green (Capsicum spp. and Pimenta spp.)","2022","2022","t",1533280,"A","Official figure"]
["SCL","Supply Utilization Accounts (2010-)","724","Spain","5610","Import quantity","01231","Chillies and peppers, green (Capsicum spp. and Pimenta spp.)","2022","2022","t",89571.01,"A","Official figure"]
["SCL","Supply Utilization Accounts (2010-)","724","Spain","5910","Export quantity","01231","Chillies and peppers, green (Capsicum spp. and Pimenta spp.)","2022","2022","t",830354.74,"A","Official figure"]
["SCL","Supply Utilization Accounts (2010-)","724","Spain","5016","Loss","01231","Chillies and peppers, green (Capsicum spp. and Pimenta spp.)","2022","2022","t",162285.1,"I","Imputed value"]
["SCL","Supply Utilization Accounts (2010-)","724","Spain","5166","Residuals","01231","Chillies and peppers, green (Capsicum spp. and Pimenta spp.)","2022","2022","t",0,"I","Imputed value"]
["SCL","Supply Utilization Accounts (2010-)","724","Spain","5141","Food supply quantity","01231","Chillies and peppers, green (Capsicum spp. and Pimenta spp.)","2022","2022","t",630211.17000000004,"E","Estimated value"]
["SCL","Supply Utilization Accounts (2010-)","724","Spain","5510","Production","01232","Cucumbers and gherkins","2020","2020","t",794880,"A","Official figure"]
["SCL","Supply Utilization Accounts (2010-)","724","Spain","5610","Import quantity","01232","Cucumbers and gherkins","2020","2020","t",8312.19,"A","Official figure"]
["SCL","Supply Utilization Accounts (2010-)","724","Spain","5910","Export quantity","01232","Cucumbers and gherkins","2020","2020","t",707093.03,"A","Official figure"]
["SCL","Supply Utilization Accounts (2010-)","724","Spain","5016","Loss","01232","Cucumbers and gherkins","2020","2020","t",80319.22,"I","Imputed value"]
["SCL","Supply Utilization Accounts (2010-)","724","Spain","5166","Residuals","01232","Cucumbers and gherkins","2020","2020","t",0,"I","Imputed value"]
["SCL","Supply Utilization Accounts (2010-)","724","Spain","5141","Food supply quantity","01232","Cucumbers and gherkins","2020","2020","t",15779.94,"E","Estimated value"]
["SCL","Supply Utilization Accounts (2010-)","724","Spain","5510","Production","01232","Cucumbers and gherkins","2021","2021","t",745910,"A","Official figure"]
["SCL","Supply Utilization Accounts (2010-)","724","Spain","5610","Import quantity","01232","Cucumbers and gherkins","2021","2021","t",6654.72,"A","Official figure"]
["SCL","Supply Utilization Accounts (2010-)","724","Spain","5910","Export quantity","01232","Cucumbers and gherkins","2021","2021","t",665450.87,"A","Official figure"]
["SCL","Supply Utilization Accounts (2010-)","724","Spain","5016","Loss","01232","Cucumbers and gherkins","2021","2021","t",75256.47,"I","Imputed value"]
["SCL","Supply Utilization Accounts (2010-)","724","Spain","5166","Residuals","01232","Cucumbers and gherkins","2021","2021","t",0,"I","Imputed value"]
["SCL","Supply Utilization Accounts (2010-)","724","Spain","5141","Food supply quantity","01232","Cucumbers and gherkins","2021","2021","t",11857.37,"E","Estimated value"]
["SCL","Supply Utilization Accounts (2010-)","724","Spain","5510","Production","01232","Cucumbers and gherkins","2022","2022","t",769970,"A","Official figure"]
["SCL","Supply Utilization Accounts (2010-)","724","Spain","5610","Import quantity","01232","Cucumbers and gherkins","2022","2022","t",13766.13,"A","Official figure"]
["SCL","Supply Utilization Accounts (2010-)","724","Spain","5910","Export quantity","01232","Cucumbers and gherkins","2022","2022","t",697392.85,"A","Official figure"]
["SCL","Supply Utilization Accounts (2010-)","724","Spain","5016","Loss","01232","Cucumbers and gherkins","2022","2022","t",78373.61,"I","Imputed value"]
["SCL","Supply Utilization Accounts (2010-)","724","Spain","5166","Residuals","01232","Cucumbers and gherkins","2022","2022","t",0,"I","Imputed value"]
["SCL","Supply Utilization Accounts (2010-)","724","Spain","5141","Food supply quantity","01232","Cucumbers and gherkins","2022","2022","t",7969.67,"E","Estimated value"]
["SCL","Supply Utilization Accounts (2010-)","724","Spain","5510","Production","01233","Eggplants (aubergines)","2020","2020","t",282200,"A","Official figure"]
["SCL","Supply Utilization Accounts (2010-)","724","Spain","5610","Import quantity","01233","Eggplants (aubergines)","2020","2020","t",941.2,"A","Official figure"]
["SCL","Supply Utilization Accounts (2010-)","724","Spain","5910","Export quantity","01233","Eggplants (aubergines)","2020","2020","t",173283.93,"A","Official figure"]
["SCL","Supply Utilization Accounts (2010-)","724","Spain","5016","Loss","01233","Eggplants (aubergines)","2020","2020","t",28314.12,"I","Imputed value"]
["SCL","Supply Utilization Accounts (2010-)","724","Spain","5023","Processed","01233","Eggplants (aubergines)","2020","2020","t",12605.94,"E","Estimated value"]
["SCL","Supply Utilization Accounts (2010-)","724","Spain","5166","Residuals","01233","Eggplants (aubergines)","2020","2020","t",0,"I","Imputed value"]
["SCL","Supply Utilization Accounts (2010-)","724","Spain","5141","Food supply quantity","01233","Eggplants (aubergines)","2020","2020","t",68937.210000000006,"E","Estimated value"]
["SCL","Supply Utilization Accounts (2010-)","724","Spain","5510","Production","01233","Eggplants (aubergines)","2021","2021","t",265290,"A","Official figure"]
["SCL","Supply Utilization Accounts (2010-)","724","Spain","5610","Import quantity","01233","Eggplants (aubergines)","2021","2021","t",784.95,"A","Official figure"]
["SCL","Supply Utilization Accounts (2010-)","724","Spain","5910","Export quantity","01233","Eggplants (aubergines)","2021","2021","t",168341.65,"A","Official figure"]
["SCL","Supply Utilization Accounts (2010-)","724","Spain","5016","Loss","01233","Eggplants (aubergines)","2021","2021","t",26607.49,"I","Imputed value"]
["SCL","Supply Utilization Accounts (2010-)","724","Spain","5023","Processed","01233","Eggplants (aubergines)","2021","2021","t",13849.3,"E","Estimated value"]
["SCL","Supply Utilization Accounts (2010-)","724","Spain","5166","Residuals","01233","Eggplants (aubergines)","2021","2021","t",0,"I","Imputed value"]
["SCL","Supply Utilization Accounts (2010-)","724","Spain","5141","Food supply quantity","01233","Eggplants (aubergines)","2021","2021","t",57276.5,"E","Estimated value"]
["SCL","Supply Utilization Accounts (2010-)","724","Spain","5510","Production","01233","Eggplants (aubergines)","2022","2022","t",276320,"A","Official figure"]
["SCL","Supply Utilization Accounts (2010-)","724","Spain","5610","Import quantity","01233","Eggplants (aubergines)","2022","2022","t",1621.21,"A","Official figure"]
["SCL","Supply Utilization Accounts (2010-)","724","Spain","5910","Export quantity","01233","Eggplants (aubergines)","2022","2022","t",150351.46,"A","Official figure"]
["SCL","Supply Utilization Accounts (2010-)","724","Spain","5016","Loss","01233","Eggplants (aubergines)","2022","2022","t",27794.12,"I","Imputed value"]
["SCL","Supply Utilization Accounts (2010-)","724","Spain","5023","Processed","01233","Eggplants (aubergines)","2022","2022","t",16360.41,"E","Estimated value"]
["SCL","Supply Utilization Accounts (2010-)","724","Spain","5166","Residuals","01233","Eggplants (aubergines)","2022","2022","t",0,"I","Imputed value"]
["SCL","Supply Utilization Accounts (2010-)","724","Spain","5141","Food supply quantity","01233","Eggplants (aubergines)","2022","2022","t",83435.22,"E","Estimated value"]
["SCL","Supply Utilization Accounts (2010-)","752","Sweden","5510","Production","01311","Avocados","2020","2020","t",0,"A","Official figure"]
["SCL","Supply Utilization Accounts (2010-)","752","Sweden","5610","Import quantity","01311","Avocados","2020","2020","t",21936.59,"A","Official figure"]
["SCL","Supply Utilization Accounts (2010-)","752","Sweden","5910","Export quantity","01311","Avocados","2020","2020","t",369.38,"A","Official figure"]
["SCL","Supply Utilization Accounts (2010-)","752","Sweden","5016","Loss","01311","Avocados","2020","2020","t",2193.66,"I","Imputed value"]
["SCL","Supply Utilization Accounts (2010-)","752","Sweden","5166","Residuals","01311","Avocados","2020","2020","t",0,"I","Imputed value"]
["SCL","Supply Utilization Accounts (2010-)","752","Sweden","5141","Food supply quantity","01311","Avocados","2020","2020","t",19373.55,"E","Estimated value"]
["SCL","Supply Utilization Accounts (2010-)","752","Sweden","5510","Production","01311","Avocados","2021","2021","t",0,"A","Official figure"]
["SCL","Supply Utilization Accounts (2010-)","752","Sweden","5610","Import quantity","01311","Avocados","2021","2021","t",19158.78,"A","Official figure"]
["SCL","Supply Utilization Accounts (2010-)","752","Sweden","5910","Export quantity","01311","Avocados","2021","2021","t",197.48,"A","Official figure"]
["SCL","Supply Utilization Accounts (2010-)","752","Sweden","5016","Loss","01311","Avocados","2021","2021","t",1915.88,"I","Imputed value"]
["SCL","Supply Utilization Accounts (2010-)","752","Sweden","5166","Residuals","01311","Avocados","2021","2021","t",0,"I","Imputed value"]
["SCL","Supply Utilization Accounts (2010-)","752","Sweden","5141","Food supply quantity","01311","Avocados","2021","2021","t",17045.43,"E","Estimated value"]
["SCL","Supply Utilization Accounts (2010-)","752","Sweden","5510","Production","01311","Avocados","2022","2022","t",0,"A","Official figure"]
["SCL","Supply Utilization Accounts (2010-)","752","Sweden","5610","Import quantity","01311","Avocados","2022","2022","t",19375.009999999998,"A","Official figure"]
["SCL","Supply Utilization Accounts (2010-)","752","Sweden","5910","Export quantity","01311","Avocados","2022","2022","t",138.86000000000001,"A","Official figure"]
["SCL","Supply Utilization Accounts (2010-)","752","Sweden","5016","Loss","01311","Avocados","2022","2022","t",1937.5,"I","Imputed value"]
["SCL","Supply Utilization Accounts (2010-)","752","Sweden","5166","Residuals","01311","Avocados","2022","2022","t",0,"I","Imputed value"]
["SCL","Supply Utilization Accounts (2010-)","752","Sweden","5141","Food supply quantity","01311","Avocados","2022","2022","t",17298.650000000001,"E","Estimated value"]
["SCL","Supply Utilization Accounts (2010-)","752","Sweden","5510","Production","01312","Bananas","2020","2020","t",0,"A","Official figure"]
["SCL","Supply Utilization Accounts (2010-)","752","Sweden","5610","Import quantity","01312","Bananas","2020","2020","t",187383.33,"A","Official figure"]
["SCL","Supply Utilization Accounts (2010-)","752","Sweden","5910","Export quantity","01312","Bananas","2020","2020","t",22142.6,"A","Official figure"]
["SCL","Supply Utilization Accounts (2010-)","752","Sweden","5016","Loss","01312","Bananas","2020","2020","t",9369.17,"I","Imputed value"]
["SCL","Supply Utilization Accounts (2010-)","752","Sweden","5023","Processed","01312","Bananas","2020","2020","t",83451.100000000006,"E","Estimated value"]
["SCL","Supply Utilization Accounts (2010-)","752","Sweden","5166","Residuals","01312","Bananas","2020","2020","t",0,"I","Imputed value"]
["SCL","Supply Utilization Accounts (2010-)","752","Sweden","5141","Food supply quantity","01312","Bananas","2020","2020","t",72420.47,"E","Estimated value"]
["SCL","Supply Utilization Accounts (2010-)","752","Sweden","5510","Production","01312","Bananas","2021","2021","t",0,"A","Official figure"]
["SCL","Supply Utilization Accounts (2010-)","752","Sweden","5610","Import quantity","01312","Bananas","2021","2021","t",188224.55,"A","Official figure"]
["SCL","Supply Utilization Accounts (2010-)","752","Sweden","5910","Export quantity","01312","Bananas","2021","2021","t",23143.74,"A","Official figure"]
["SCL","Supply Utilization Accounts (2010-)","752","Sweden","5016","Loss","01312","Bananas","2021","2021","t",9411.23,"I","Imputed value"]
["SCL","Supply Utilization Accounts (2010-)","752","Sweden","5023","Processed","01312","Bananas","2021","2021","t",81774.559999999998,"E","Estimated value"]
["SCL","Supply Utilization Accounts (2010-)","752","Sweden","5166","Residuals","01312","Bananas","2021","2021","t",0,"I","Imputed value"]
["SCL","Supply Utilization Accounts (2010-)","752","Sweden","5141","Food supply quantity","01312","Bananas","2021","2021","t",73895.03,"E","Estimated value"]
["SCL","Supply Utilization Accounts (2010-)","752","Sweden","5510","Production","01312","Bananas","2022","2022","t",0,"A","Official figure"]
["SCL","Supply Utilization Accounts (2010-)","752","Sweden","5610","Import quantity","01312","Bananas","2022","2022","t",192958.14,"A","Official figure"]
["SCL","Supply Utilization Accounts (2010-)","752","Sweden","5910","Export quantity","01312","Bananas","2022","2022","t",26702.92,"A","Official figure"]
["SCL","Supply Utilization Accounts (2010-)","752","Sweden","5016","Loss","01312","Bananas","2022","2022","t",9647.91,"I","Imputed value"]
["SCL","Supply Utilization Accounts (2010-)","752","Sweden","5023","Processed","01312","Bananas","2022","2022","t",83504.350000000006,"E","Estimated value"]
["SCL","Supply Utilization Accounts (2010-)","752","Sweden","5166","Residuals","01312","Bananas","2022","2022","t",0,"I","Imputed value"]
["SCL","Supply Utilization Accounts (2010-)","752","Sweden","5141","Food supply quantity","01312","Bananas","2022","2022","t",73102.960000000006,"E","Estimated value"]
["SCL","Supply Utilization Accounts (2010-)","752","Sweden","5510","Production","01231","Chillies and peppers, green (Capsicum spp. and Pimenta spp.)","2020","2020","t",40,"A","Official figure"]
["SCL","Supply Utilization Accounts (2010-)","752","Sweden","5610","Import quantity","01231","Chillies and peppers, green (Capsicum spp. and Pimenta spp.)","2020","2020","t",33595.61,"A","Official figure"]
["SCL","Supply Utilization Accounts (2010-)","752","Sweden","5910","Export quantity","01231","Chillies and peppers, green (Capsicum spp. and Pimenta spp.)","2020","2020","t",448.93,"A","Official figure"]
["SCL","Supply Utilization Accounts (2010-)","752","Sweden","5016","Loss","01231","Chillies and peppers, green (Capsicum spp. and Pimenta spp.)","2020","2020","t",3363.56,"I","Imputed value"]
["SCL","Supply Utilization Accounts (2010-)","752","Sweden","5166","Residuals","01231","Chillies and peppers, green (Capsicum spp. and Pimenta spp.)","2020","2020","t",0,"I","Imputed value"]
["SCL","Supply Utilization Accounts (2010-)","752","Sweden","5141","Food supply quantity","01231","Chillies and peppers, green (Capsicum spp. and Pimenta spp.)","2020","2020","t",29823.119999999999,"E","Estimated value"]
["SCL","Supply Utilization Accounts (2010-)","752","Sweden","5510","Production","01231","Chillies and peppers, green (Capsicum spp. and Pimenta spp.)","2021","2021","t",50,"A","Official figure"]
["SCL","Supply Utilization Accounts (2010-)","752","Sweden","5610","Import quantity","01231","Chillies and peppers, green (Capsicum spp. and Pimenta spp.)","2021","2021","t",38453.74,"A","Official figure"]
["SCL","Supply Utilization Accounts (2010-)","752","Sweden","5910","Export quantity","01231","Chillies and peppers, green (Capsicum spp. and Pimenta spp.)","2021","2021","t",359.03,"A","Official figure"]
["SCL","Supply Utilization Accounts (2010-)","752","Sweden","5016","Loss","01231","Chillies and peppers, green (Capsicum spp. and Pimenta spp.)","2021","2021","t",3850.37,"I","Imputed value"]
["SCL","Supply Utilization Accounts (2010-)","752","Sweden","5166","Residuals","01231","Chillies and peppers, green (Capsicum spp. and Pimenta spp.)","2021","2021","t",0,"I","Imputed value"]
["SCL","Supply Utilization Accounts (2010-)","752","Sweden","5141","Food supply quantity","01231","Chillies and peppers, green (Capsicum spp. and Pimenta spp.)","2021","2021","t",34294.339999999997,"E","Estimated value"]
["SCL","Supply Utilization Accounts (2010-)","752","Sweden","5510","Production","01231","Chillies and peppers, green (Capsicum spp. and Pimenta spp.)","2022","2022","t",50,"A","Official figure"]
["SCL","Supply Utilization Accounts (2010-)","752","Sweden","5610","Import quantity","01231","Chillies and peppers, green (Capsicum spp. and Pimenta spp.)","2022","2022","t",35106.65,"A","Official figure"]
["SCL","Supply Utilization Accounts (2010-)","752","Sweden","5910","Export quantity","01231","Chillies and peppers, green (Capsicum spp. and Pimenta spp.)","2022","2022","t",215.63,"A","Official figure"]
["SCL","Supply Utilization Accounts (2010-)","752","Sweden","5016","Loss","01231","Chillies and peppers, green (Capsicum spp. and Pimenta spp.)","2022","2022","t",3515.66,"I","Imputed value"]
["SCL","Supply Utilization Accounts (2010-)","752","Sweden","5166","Residuals","01231","Chillies and peppers, green (Capsicum spp. and Pimenta spp.)","2022","2022","t",0,"I","Imputed value"]
["SCL","Supply Utilization Accounts (2010-)","752","Sweden","5141","Food supply quantity","01231","Chillies and peppers, green (Capsicum spp. and Pimenta spp.)","2022","2022","t",31425.360000000001,"E","Estimated value"]
["SCL","Supply Utilization Accounts (2010-)","752","Sweden","5510","Production","01232","Cucumbers and gherkins","2020","2020","t",38520,"A","Official figure"]
["SCL","Supply Utilization Accounts (2010-)","752","Sweden","5610","Import quantity","01232","Cucumbers and gherkins","2020","2020","t",38138.86,"A","Official figure"]
["SCL","Supply Utilization Accounts (2010-)","752","Sweden","5910","Export quantity","01232","Cucumbers and gherkins","2020","2020","t",115.2,"A","Official figure"]
["SCL","Supply Utilization Accounts (2010-)","752","Sweden","5016","Loss","01232","Cucumbers and gherkins","2020","2020","t",11498.83,"I","Imputed value"]
["SCL","Supply Utilization Accounts (2010-)","752","Sweden","5166","Residuals","01232","Cucumbers and gherkins","2020","2020","t",0,"I","Imputed value"]
["SCL","Supply Utilization Accounts (2010-)","752","Sweden","5141","Food supply quantity","01232","Cucumbers and gherkins","2020","2020","t",65044.83,"E","Estimated value"]
["SCL","Supply Utilization Accounts (2010-)","752","Sweden","5510","Production","01232","Cucumbers and gherkins","2021","2021","t",43530,"A","Official figure"]
["SCL","Supply Utilization Accounts (2010-)","752","Sweden","5610","Import quantity","01232","Cucumbers and gherkins","2021","2021","t",36095.78,"A","Official figure"]
["SCL","Supply Utilization Accounts (2010-)","752","Sweden","5910","Export quantity","01232","Cucumbers and gherkins","2021","2021","t",263.20999999999998,"A","Official figure"]
["SCL","Supply Utilization Accounts (2010-)","752","Sweden","5016","Loss","01232","Cucumbers and gherkins","2021","2021","t",11943.87,"I","Imputed value"]
["SCL","Supply Utilization Accounts (2010-)","752","Sweden","5166","Residuals","01232","Cucumbers and gherkins","2021","2021","t",0,"I","Imputed value"]
["SCL","Supply Utilization Accounts (2010-)","752","Sweden","5141","Food supply quantity","01232","Cucumbers and gherkins","2021","2021","t",67418.7,"E","Estimated value"]
["SCL","Supply Utilization Accounts (2010-)","752","Sweden","5510","Production","01232","Cucumbers and gherkins","2022","2022","t",36920,"A","Official figure"]
["SCL","Supply Utilization Accounts (2010-)","752","Sweden","5610","Import quantity","01232","Cucumbers and gherkins","2022","2022","t",35672.94,"A","Official figure"]
["SCL","Supply Utilization Accounts (2010-)","752","Sweden","5910","Export quantity","01232","Cucumbers and gherkins","2022","2022","t",119.03,"A","Official figure"]
["SCL","Supply Utilization Accounts (2010-)","752","Sweden","5016","Loss","01232","Cucumbers and gherkins","2022","2022","t",10888.94,"I","Imputed value"]
["SCL","Supply Utilization Accounts (2010-)","752","Sweden","5166","Residuals","01232","Cucumbers and gherkins","2022","2022","t",0,"I","Imputed value"]
["SCL","Supply Utilization Accounts (2010-)","752","Sweden","5141","Food supply quantity","01232","Cucumbers and gherkins","2022","2022","t",61584.97,"E","Estimated value"]
["SCL","Supply Utilization Accounts (2010-)","752","Sweden","5510","Production","01233","Eggplants (aubergines)","2020","2020","t",20,"A","Official figure"]
["SCL","Supply Utilization Accounts (2010-)","752","Sweden","5610","Import quantity","01233","Eggplants (aubergines)","2020","2020","t",6182.79,"A","Official figure"]
["SCL","Supply Utilization Accounts (2010-)","752","Sweden","5910","Export quantity","01233","Eggplants (aubergines)","2020","2020","t",54.72,"A","Official figure"]
["SCL","Supply Utilization Accounts (2010-)","752","Sweden","5016","Loss","01233","Eggplants (aubergines)","2020","2020","t",620.28,"I","Imputed value"]
["SCL","Supply Utilization Accounts (2010-)","752","Sweden","5166","Residuals","01233","Eggplants (aubergines)","2020","2020","t",0,"I","Imputed value"]
["SCL","Supply Utilization Accounts (2010-)","752","Sweden","5141","Food supply quantity","01233","Eggplants (aubergines)","2020","2020","t",5527.8,"E","Estimated value"]
["SCL","Supply Utilization Accounts (2010-)","752","Sweden","5510","Production","01233","Eggplants (aubergines)","2021","2021","t",20,"A","Official figure"]
["SCL","Supply Utilization Accounts (2010-)","752","Sweden","5610","Import quantity","01233","Eggplants (aubergines)","2021","2021","t",6840.48,"A","Official figure"]
["SCL","Supply Utilization Accounts (2010-)","752","Sweden","5910","Export quantity","01233","Eggplants (aubergines)","2021","2021","t",55.38,"A","Official figure"]
["SCL","Supply Utilization Accounts (2010-)","752","Sweden","5016","Loss","01233","Eggplants (aubergines)","2021","2021","t",686.05,"I","Imputed value"]
["SCL","Supply Utilization Accounts (2010-)","752","Sweden","5166","Residuals","01233","Eggplants (aubergines)","2021","2021","t",0,"I","Imputed value"]
["SCL","Supply Utilization Accounts (2010-)","752","Sweden","5141","Food supply quantity","01233","Eggplants (aubergines)","2021","2021","t",6119.05,"E","Estimated value"]
["SCL","Supply Utilization Accounts (2010-)","752","Sweden","5510","Production","01233","Eggplants (aubergines)","2022","2022","t",20,"A","Official figure"]
["SCL","Supply Utilization Accounts (2010-)","752","Sweden","5610","Import quantity","01233","Eggplants (aubergines)","2022","2022","t",6715.03,"A","Official figure"]
["SCL","Supply Utilization Accounts (2010-)","752","Sweden","5910","Export quantity","01233","Eggplants (aubergines)","2022","2022","t",26.9,"A","Official figure"]
["SCL","Supply Utilization Accounts (2010-)","752","Sweden","5016","Loss","01233","Eggplants (aubergines)","2022","2022","t",673.5,"I","Imputed value"]
["SCL","Supply Utilization Accounts (2010-)","752","Sweden","5166","Residuals","01233","Eggplants (aubergines)","2022","2022","t",0,"I","Imputed value"]
["SCL","Supply Utilization Accounts (2010-)","752","Sweden","5141","Food supply quantity","01233","Eggplants (aubergines)","2022","2022","t",6034.63,"E","Estimated value"]
["SCL","Supply Utilization Accounts (2010-)","756","Switzerland","5610","Import quantity","01311","Avocados","2020","2020","t",18903.509999999998,"A","Official figure"]
["SCL","Supply Utilization Accounts (2010-)","756","Switzerland","5910","Export quantity","01311","Avocados","2020","2020","t",68.150000000000006,"A","Official figure"]
["SCL","Supply Utilization Accounts (2010-)","756","Switzerland","5016","Loss","01311","Avocados","2020","2020","t",945.18,"I","Imputed value"]
["SCL","Supply Utilization Accounts (2010-)","756","Switzerland","5166","Residuals","01311","Avocados","2020","2020","t",0,"I","Imputed value"]
["SCL","Supply Utilization Accounts (2010-)","756","Switzerland","5141","Food supply quantity","01311","Avocados","2020","2020","t",17890.189999999999,"E","Estimated value"]
["SCL","Supply Utilization Accounts (2010-)","756","Switzerland","5610","Import quantity","01311","Avocados","2021","2021","t",18938.88,"A","Official figure"]
["SCL","Supply Utilization Accounts (2010-)","756","Switzerland","5910","Export quantity","01311","Avocados","2021","2021","t",23.41,"A","Official figure"]
["SCL","Supply Utilization Accounts (2010-)","756","Switzerland","5016","Loss","01311","Avocados","2021","2021","t",946.94,"I","Imputed value"]
["SCL","Supply Utilization Accounts (2010-)","756","Switzerland","5166","Residuals","01311","Avocados","2021","2021","t",0,"I","Imputed value"]
["SCL","Supply Utilization Accounts (2010-)","756","Switzerland","5141","Food supply quantity","01311","Avocados","2021","2021","t",17968.53,"E","Estimated value"]
["SCL","Supply Utilization Accounts (2010-)","756","Switzerland","5610","Import quantity","01311","Avocados","2022","2022","t",19233.099999999999,"A","Official figure"]
["SCL","Supply Utilization Accounts (2010-)","756","Switzerland","5910","Export quantity","01311","Avocados","2022","2022","t",28.98,"A","Official figure"]
["SCL","Supply Utilization Accounts (2010-)","756","Switzerland","5016","Loss","01311","Avocados","2022","2022","t",961.65,"I","Imputed value"]
["SCL","Supply Utilization Accounts (2010-)","756","Switzerland","5166","Residuals","01311","Avocados","2022","2022","t",0,"I","Imputed value"]
["SCL","Supply Utilization Accounts (2010-)","756","Switzerland","5141","Food supply quantity","01311","Avocados","2022","2022","t",18242.46,"E","Estimated value"]
["SCL","Supply Utilization Accounts (2010-)","756","Switzerland","5610","Import quantity","01312","Bananas","2020","2020","t",100320.46,"A","Official figure"]
["SCL","Supply Utilization Accounts (2010-)","756","Switzerland","5910","Export quantity","01312","Bananas","2020","2020","t",48.77,"A","Official figure"]
["SCL","Supply Utilization Accounts (2010-)","756","Switzerland","5016","Loss","01312","Bananas","2020","2020","t",1395.79,"I","Imputed value"]
["SCL","Supply Utilization Accounts (2010-)","756","Switzerland","5166","Residuals","01312","Bananas","2020","2020","t",0,"I","Imputed value"]
["SCL","Supply Utilization Accounts (2010-)","756","Switzerland","5141","Food supply quantity","01312","Bananas","2020","2020","t",98875.9,"E","Estimated value"]
["SCL","Supply Utilization Accounts (2010-)","756","Switzerland","5610","Import quantity","01312","Bananas","2021","2021","t",100571.24,"A","Official figure"]
["SCL","Supply Utilization Accounts (2010-)","756","Switzerland","5910","Export quantity","01312","Bananas","2021","2021","t",3.54,"A","Official figure"]
["SCL","Supply Utilization Accounts (2010-)","756","Switzerland","5016","Loss","01312","Bananas","2021","2021","t",1399.28,"I","Imputed value"]
["SCL","Supply Utilization Accounts (2010-)","756","Switzerland","5166","Residuals","01312","Bananas","2021","2021","t",0,"I","Imputed value"]
["SCL","Supply Utilization Accounts (2010-)","756","Switzerland","5141","Food supply quantity","01312","Bananas","2021","2021","t",99168.42,"E","Estimated value"]
["SCL","Supply Utilization Accounts (2010-)","756","Switzerland","5610","Import quantity","01312","Bananas","2022","2022","t",98714.64,"A","Official figure"]
["SCL","Supply Utilization Accounts (2010-)","756","Switzerland","5910","Export quantity","01312","Bananas","2022","2022","t",58.8,"A","Official figure"]
["SCL","Supply Utilization Accounts (2010-)","756","Switzerland","5016","Loss","01312","Bananas","2022","2022","t",1373.45,"I","Imputed value"]
["SCL","Supply Utilization Accounts (2010-)","756","Switzerland","5166","Residuals","01312","Bananas","2022","2022","t",0,"I","Imputed value"]
["SCL","Supply Utilization Accounts (2010-)","756","Switzerland","5141","Food supply quantity","01312","Bananas","2022","2022","t",97282.39,"E","Estimated value"]
["SCL","Supply Utilization Accounts (2010-)","756","Switzerland","5510","Production","01231","Chillies and peppers, green (Capsicum spp. and Pimenta spp.)","2020","2020","t",901.52,"A","Official figure"]
["SCL","Supply Utilization Accounts (2010-)","756","Switzerland","5610","Import quantity","01231","Chillies and peppers, green (Capsicum spp. and Pimenta spp.)","2020","2020","t",39164.339999999997,"A","Official figure"]
["SCL","Supply Utilization Accounts (2010-)","756","Switzerland","5910","Export quantity","01231","Chillies and peppers, green (Capsicum spp. and Pimenta spp.)","2020","2020","t",9.33,"A","Official figure"]
["SCL","Supply Utilization Accounts (2010-)","756","Switzerland","5016","Loss","01231","Chillies and peppers, green (Capsicum spp. and Pimenta spp.)","2020","2020","t",2224.6799999999998,"I","Imputed value"]
["SCL","Supply Utilization Accounts (2010-)","756","Switzerland","5166","Residuals","01231","Chillies and peppers, green (Capsicum spp. and Pimenta spp.)","2020","2020","t",0,"I","Imputed value"]
["SCL","Supply Utilization Accounts (2010-)","756","Switzerland","5141","Food supply quantity","01231","Chillies and peppers, green (Capsicum spp. and Pimenta spp.)","2020","2020","t",37831.839999999997,"E","Estimated value"]
["SCL","Supply Utilization Accounts (2010-)","756","Switzerland","5510","Production","01231","Chillies and peppers, green (Capsicum spp. and Pimenta spp.)","2021","2021","t",780,"A","Official figure"]
["SCL","Supply Utilization Accounts (2010-)","756","Switzerland","5610","Import quantity","01231","Chillies and peppers, green (Capsicum spp. and Pimenta spp.)","2021","2021","t",39272.97,"A","Official figure"]
["SCL","Supply Utilization Accounts (2010-)","756","Switzerland","5910","Export quantity","01231","Chillies and peppers, green (Capsicum spp. and Pimenta spp.)","2021","2021","t",13.73,"A","Official figure"]
["SCL","Supply Utilization Accounts (2010-)","756","Switzerland","5016","Loss","01231","Chillies and peppers, green (Capsicum spp. and Pimenta spp.)","2021","2021","t",2223.9699999999998,"I","Imputed value"]
["SCL","Supply Utilization Accounts (2010-)","756","Switzerland","5166","Residuals","01231","Chillies and peppers, green (Capsicum spp. and Pimenta spp.)","2021","2021","t",0,"I","Imputed value"]
["SCL","Supply Utilization Accounts (2010-)","756","Switzerland","5141","Food supply quantity","01231","Chillies and peppers, green (Capsicum spp. and Pimenta spp.)","2021","2021","t",37815.269999999997,"E","Estimated value"]
["SCL","Supply Utilization Accounts (2010-)","756","Switzerland","5510","Production","01231","Chillies and peppers, green (Capsicum spp. and Pimenta spp.)","2022","2022","t",719,"A","Official figure"]
["SCL","Supply Utilization Accounts (2010-)","756","Switzerland","5610","Import quantity","01231","Chillies and peppers, green (Capsicum spp. and Pimenta spp.)","2022","2022","t",37653.42,"A","Official figure"]
["SCL","Supply Utilization Accounts (2010-)","756","Switzerland","5910","Export quantity","01231","Chillies and peppers, green (Capsicum spp. and Pimenta spp.)","2022","2022","t",24.45,"A","Official figure"]
["SCL","Supply Utilization Accounts (2010-)","756","Switzerland","5016","Loss","01231","Chillies and peppers, green (Capsicum spp. and Pimenta spp.)","2022","2022","t",2130.65,"I","Imputed value"]
["SCL","Supply Utilization Accounts (2010-)","756","Switzerland","5166","Residuals","01231","Chillies and peppers, green (Capsicum spp. and Pimenta spp.)","2022","2022","t",0,"I","Imputed value"]
["SCL","Supply Utilization Accounts (2010-)","756","Switzerland","5141","Food supply quantity","01231","Chillies and peppers, green (Capsicum spp. and Pimenta spp.)","2022","2022","t",36217.32,"E","Estimated value"]
["SCL","Supply Utilization Accounts (2010-)","756","Switzerland","5510","Production","01232","Cucumbers and gherkins","2020","2020","t",14393.41,"A","Official figure"]
["SCL","Supply Utilization Accounts (2010-)","756","Switzerland","5610","Import quantity","01232","Cucumbers and gherkins","2020","2020","t",21379.79,"A","Official figure"]
["SCL","Supply Utilization Accounts (2010-)","756","Switzerland","5910","Export quantity","01232","Cucumbers and gherkins","2020","2020","t",2.35,"A","Official figure"]
["SCL","Supply Utilization Accounts (2010-)","756","Switzerland","5016","Loss","01232","Cucumbers and gherkins","2020","2020","t",1459.42,"I","Imputed value"]
["SCL","Supply Utilization Accounts (2010-)","756","Switzerland","5166","Residuals","01232","Cucumbers and gherkins","2020","2020","t",0,"I","Imputed value"]
["SCL","Supply Utilization Accounts (2010-)","756","Switzerland","5141","Food supply quantity","01232","Cucumbers and gherkins","2020","2020","t",34311.43,"E","Estimated value"]
["SCL","Supply Utilization Accounts (2010-)","756","Switzerland","5510","Production","01232","Cucumbers and gherkins","2021","2021","t",15314,"A","Official figure"]
["SCL","Supply Utilization Accounts (2010-)","756","Switzerland","5610","Import quantity","01232","Cucumbers and gherkins","2021","2021","t",21821.040000000001,"A","Official figure"]
["SCL","Supply Utilization Accounts (2010-)","756","Switzerland","5910","Export quantity","01232","Cucumbers and gherkins","2021","2021","t",5.57,"A","Official figure"]
["SCL","Supply Utilization Accounts (2010-)","756","Switzerland","5016","Loss","01232","Cucumbers and gherkins","2021","2021","t",1514.49,"I","Imputed value"]
["SCL","Supply Utilization Accounts (2010-)","756","Switzerland","5166","Residuals","01232","Cucumbers and gherkins","2021","2021","t",0,"I","Imputed value"]
["SCL","Supply Utilization Accounts (2010-)","756","Switzerland","5141","Food supply quantity","01232","Cucumbers and gherkins","2021","2021","t",35614.980000000003,"E","Estimated value"]
["SCL","Supply Utilization Accounts (2010-)","756","Switzerland","5510","Production","01232","Cucumbers and gherkins","2022","2022","t",16067,"A","Official figure"]
["SCL","Supply Utilization Accounts (2010-)","756","Switzerland","5610","Import quantity","01232","Cucumbers and gherkins","2022","2022","t",21699.64,"A","Official figure"]
["SCL","Supply Utilization Accounts (2010-)","756","Switzerland","5910","Export quantity","01232","Cucumbers and gherkins","2022","2022","t",20.21,"A","Official figure"]
["SCL","Supply Utilization Accounts (2010-)","756","Switzerland","5016","Loss","01232","Cucumbers and gherkins","2022","2022","t",1540.25,"I","Imputed value"]
["SCL","Supply Utilization Accounts (2010-)","756","Switzerland","5166","Residuals","01232","Cucumbers and gherkins","2022","2022","t",0,"I","Imputed value"]
["SCL","Supply Utilization Accounts (2010-)","756","Switzerland","5141","Food supply quantity","01232","Cucumbers and gherkins","2022","2022","t",36206.18,"E","Estimated value"]
["SCL","Supply Utilization Accounts (2010-)","756","Switzerland","5610","Import quantity","01233","Eggplants (aubergines)","2020","2020","t",7198.85,"A","Official figure"]
["SCL","Supply Utilization Accounts (2010-)","756","Switzerland","5016","Loss","01233","Eggplants (aubergines)","2020","2020","t",719.89,"I","Imputed value"]
["SCL","Supply Utilization Accounts (2010-)","756","Switzerland","5166","Residuals","01233","Eggplants (aubergines)","2020","2020","t",0,"I","Imputed value"]
["SCL","Supply Utilization Accounts (2010-)","756","Switzerland","5141","Food supply quantity","01233","Eggplants (aubergines)","2020","2020","t",6478.97,"E","Estimated value"]
["SCL","Supply Utilization Accounts (2010-)","756","Switzerland","5610","Import quantity","01233","Eggplants (aubergines)","2021","2021","t",7188.32,"A","Official figure"]
["SCL","Supply Utilization Accounts (2010-)","756","Switzerland","5910","Export quantity","01233","Eggplants (aubergines)","2021","2021","t",0.19,"A","Official figure"]
["SCL","Supply Utilization Accounts (2010-)","756","Switzerland","5016","Loss","01233","Eggplants (aubergines)","2021","2021","t",718.83,"I","Imputed value"]
["SCL","Supply Utilization Accounts (2010-)","756","Switzerland","5166","Residuals","01233","Eggplants (aubergines)","2021","2021","t",0,"I","Imputed value"]
["SCL","Supply Utilization Accounts (2010-)","756","Switzerland","5141","Food supply quantity","01233","Eggplants (aubergines)","2021","2021","t",6469.3,"E","Estimated value"]
["SCL","Supply Utilization Accounts (2010-)","756","Switzerland","5610","Import quantity","01233","Eggplants (aubergines)","2022","2022","t",7085.34,"A","Official figure"]
["SCL","Supply Utilization Accounts (2010-)","756","Switzerland","5910","Export quantity","01233","Eggplants (aubergines)","2022","2022","t",0.56000000000000005,"A","Official figure"]
["SCL","Supply Utilization Accounts (2010-)","756","Switzerland","5016","Loss","01233","Eggplants (aubergines)","2022","2022","t",708.53,"I","Imputed value"]
["SCL","Supply Utilization Accounts (2010-)","756","Switzerland","5166","Residuals","01233","Eggplants (aubergines)","2022","2022","t",0,"I","Imputed value"]
["SCL","Supply Utilization Accounts (2010-)","756","Switzerland","5141","Food supply quantity","01233","Eggplants (aubergines)","2022","2022","t",6376.25,"E","Estimated value"]
["SCL","Supply Utilization Accounts (2010-)","826","United Kingdom","5610","Import quantity","01311","Avocados","2020","2020","t",122298.09,"A","Official figure"]
["SCL","Supply Utilization Accounts (2010-)","826","United Kingdom","5910","Export quantity","01311","Avocados","2020","2020","t",21255.53,"A","Official figure"]
["SCL","Supply Utilization Accounts (2010-)","826","United Kingdom","5016","Loss","01311","Avocados","2020","2020","t",6114.9,"I","Imputed value"]
["SCL","Supply Utilization Accounts (2010-)","826","United Kingdom","5166","Residuals","01311","Avocados","2020","2020","t",0,"I","Imputed value"]
["SCL","Supply Utilization Accounts (2010-)","826","United Kingdom","5141","Food supply quantity","01311","Avocados","2020","2020","t",94927.66,"E","Estimated value"]
["SCL","Supply Utilization Accounts (2010-)","826","United Kingdom","5610","Import quantity","01311","Avocados","2021","2021","t",114272.52,"A","Official figure"]
["SCL","Supply Utilization Accounts (2010-)","826","United Kingdom","5910","Export quantity","01311","Avocados","2021","2021","t",6610.67,"A","Official figure"]
["SCL","Supply Utilization Accounts (2010-)","826","United Kingdom","5016","Loss","01311","Avocados","2021","2021","t",5713.63,"I","Imputed value"]
["SCL","Supply Utilization Accounts (2010-)","826","United Kingdom","5166","Residuals","01311","Avocados","2021","2021","t",0,"I","Imputed value"]
["SCL","Supply Utilization Accounts (2010-)","826","United Kingdom","5141","Food supply quantity","01311","Avocados","2021","2021","t",101948.23,"E","Estimated value"]
["SCL","Supply Utilization Accounts (2010-)","826","United Kingdom","5610","Import quantity","01311","Avocados","2022","2022","t",115914.19,"A","Official figure"]
["SCL","Supply Utilization Accounts (2010-)","826","United Kingdom","5910","Export quantity","01311","Avocados","2022","2022","t",7514.77,"A","Official figure"]
["SCL","Supply Utilization Accounts (2010-)","826","United Kingdom","5016","Loss","01311","Avocados","2022","2022","t",5795.71,"I","Imputed value"]
["SCL","Supply Utilization Accounts (2010-)","826","United Kingdom","5166","Residuals","01311","Avocados","2022","2022","t",0,"I","Imputed value"]
["SCL","Supply Utilization Accounts (2010-)","826","United Kingdom","5141","Food supply quantity","01311","Avocados","2022","2022","t",102603.71,"E","Estimated value"]
["SCL","Supply Utilization Accounts (2010-)","826","United Kingdom","5610","Import quantity","01312","Bananas","2020","2020","t",979420.27,"A","Official figure"]
["SCL","Supply Utilization Accounts (2010-)","826","United Kingdom","5910","Export quantity","01312","Bananas","2020","2020","t",6763.69,"A","Official figure"]
["SCL","Supply Utilization Accounts (2010-)","826","United Kingdom","5016","Loss","01312","Bananas","2020","2020","t",48971.01,"I","Imputed value"]
["SCL","Supply Utilization Accounts (2010-)","826","United Kingdom","5166","Residuals","01312","Bananas","2020","2020","t",0,"I","Imputed value"]
["SCL","Supply Utilization Accounts (2010-)","826","United Kingdom","5141","Food supply quantity","01312","Bananas","2020","2020","t",923685.57,"E","Estimated value"]
["SCL","Supply Utilization Accounts (2010-)","826","United Kingdom","5610","Import quantity","01312","Bananas","2021","2021","t",915514.84,"A","Official figure"]
["SCL","Supply Utilization Accounts (2010-)","826","United Kingdom","5910","Export quantity","01312","Bananas","2021","2021","t",813.1,"A","Official figure"]
["SCL","Supply Utilization Accounts (2010-)","826","United Kingdom","5016","Loss","01312","Bananas","2021","2021","t",45775.74,"I","Imputed value"]
["SCL","Supply Utilization Accounts (2010-)","826","United Kingdom","5166","Residuals","01312","Bananas","2021","2021","t",0,"I","Imputed value"]
["SCL","Supply Utilization Accounts (2010-)","826","United Kingdom","5141","Food supply quantity","01312","Bananas","2021","2021","t",868926.01,"E","Estimated value"]
["SCL","Supply Utilization Accounts (2010-)","826","United Kingdom","5610","Import quantity","01312","Bananas","2022","2022","t",852571.75,"A","Official figure"]
["SCL","Supply Utilization Accounts (2010-)","826","United Kingdom","5910","Export quantity","01312","Bananas","2022","2022","t",1257.92,"A","Official figure"]
["SCL","Supply Utilization Accounts (2010-)","826","United Kingdom","5016","Loss","01312","Bananas","2022","2022","t",42628.59,"I","Imputed value"]
["SCL","Supply Utilization Accounts (2010-)","826","United Kingdom","5166","Residuals","01312","Bananas","2022","2022","t",0,"I","Imputed value"]
["SCL","Supply Utilization Accounts (2010-)","826","United Kingdom","5141","Food supply quantity","01312","Bananas","2022","2022","t",808685.24,"E","Estimated value"]
["SCL","Supply Utilization Accounts (2010-)","826","United Kingdom","5510","Production","01231","Chillies and peppers, green (Capsicum spp. and Pimenta spp.)","2020","2020","t",19975,"A","Official figure"]
["SCL","Supply Utilization Accounts (2010-)","826","United Kingdom","5610","Import quantity","01231","Chillies and peppers, green (Capsicum spp. and Pimenta spp.)","2020","2020","t",256690.68,"A","Official figure"]
["SCL","Supply Utilization Accounts (2010-)","826","United Kingdom","5910","Export quantity","01231","Chillies and peppers, green (Capsicum spp. and Pimenta spp.)","2020","2020","t",1230.67,"A","Official figure"]
["SCL","Supply Utilization Accounts (2010-)","826","United Kingdom","5016","Loss","01231","Chillies and peppers, green (Capsicum spp. and Pimenta spp.)","2020","2020","t",1556.51,"I","Imputed value"]
["SCL","Supply Utilization Accounts (2010-)","826","United Kingdom","5166","Residuals","01231","Chillies and peppers, green (Capsicum spp. and Pimenta spp.)","2020","2020","t",0,"I","Imputed value"]
["SCL","Supply Utilization Accounts (2010-)","826","United Kingdom","5141","Food supply quantity","01231","Chillies and peppers, green (Capsicum spp. and Pimenta spp.)","2020","2020","t",273878.5,"E","Estimated value"]
["SCL","Supply Utilization Accounts (2010-)","826","United Kingdom","5510","Production","01231","Chillies and peppers, green (Capsicum spp. and Pimenta spp.)","2021","2021","t",18130.560000000001,"A","Official figure"]
["SCL","Supply Utilization Accounts (2010-)","826","United Kingdom","5610","Import quantity","01231","Chillies and peppers, green (Capsicum spp. and Pimenta spp.)","2021","2021","t",228709.65,"A","Official figure"]
["SCL","Supply Utilization Accounts (2010-)","826","United Kingdom","5910","Export quantity","01231","Chillies and peppers, green (Capsicum spp. and Pimenta spp.)","2021","2021","t",499.88,"A","Official figure"]
["SCL","Supply Utilization Accounts (2010-)","826","United Kingdom","5016","Loss","01231","Chillies and peppers, green (Capsicum spp. and Pimenta spp.)","2021","2021","t",1379.28,"E","Estimated value"]
["SCL","Supply Utilization Accounts (2010-)","826","United Kingdom","5166","Residuals","01231","Chillies and peppers, green (Capsicum spp. and Pimenta spp.)","2021","2021","t",0,"I","Imputed value"]
["SCL","Supply Utilization Accounts (2010-)","826","United Kingdom","5141","Food supply quantity","01231","Chillies and peppers, green (Capsicum spp. and Pimenta spp.)","2021","2021","t",244961.05,"E","Estimated value"]
["SCL","Supply Utilization Accounts (2010-)","826","United Kingdom","5510","Production","01231","Chillies and peppers, green (Capsicum spp. and Pimenta spp.)","2022","2022","t",18260,"A","Official figure"]
["SCL","Supply Utilization Accounts (2010-)","826","United Kingdom","5610","Import quantity","01231","Chillies and peppers, green (Capsicum spp. and Pimenta spp.)","2022","2022","t",240965.99,"A","Official figure"]
["SCL","Supply Utilization Accounts (2010-)","826","United Kingdom","5910","Export quantity","01231","Chillies and peppers, green (Capsicum spp. and Pimenta spp.)","2022","2022","t",385.54,"A","Official figure"]
["SCL","Supply Utilization Accounts (2010-)","826","United Kingdom","5016","Loss","01231","Chillies and peppers, green (Capsicum spp. and Pimenta spp.)","2022","2022","t",1526.29,"E","Estimated value"]
["SCL","Supply Utilization Accounts (2010-)","826","United Kingdom","5166","Residuals","01231","Chillies and peppers, green (Capsicum spp. and Pimenta spp.)","2022","2022","t",0,"I","Imputed value"]
["SCL","Supply Utilization Accounts (2010-)","826","United Kingdom","5141","Food supply quantity","01231","Chillies and peppers, green (Capsicum spp. and Pimenta spp.)","2022","2022","t",257314.16,"E","Estimated value"]
["SCL","Supply Utilization Accounts (2010-)","826","United Kingdom","5510","Production","01232","Cucumbers and gherkins","2020","2020","t",58410,"A","Official figure"]
["SCL","Supply Utilization Accounts (2010-)","826","United Kingdom","5610","Import quantity","01232","Cucumbers and gherkins","2020","2020","t",195542.19,"A","Official figure"]
["SCL","Supply Utilization Accounts (2010-)","826","United Kingdom","5910","Export quantity","01232","Cucumbers and gherkins","2020","2020","t",1208.45,"A","Official figure"]
["SCL","Supply Utilization Accounts (2010-)","826","United Kingdom","5016","Loss","01232","Cucumbers and gherkins","2020","2020","t",3653.28,"I","Imputed value"]
["SCL","Supply Utilization Accounts (2010-)","826","United Kingdom","5166","Residuals","01232","Cucumbers and gherkins","2020","2020","t",0,"I","Imputed value"]
["SCL","Supply Utilization Accounts (2010-)","826","United Kingdom","5141","Food supply quantity","01232","Cucumbers and gherkins","2020","2020","t",249090.46,"E","Estimated value"]
["SCL","Supply Utilization Accounts (2010-)","826","United Kingdom","5510","Production","01232","Cucumbers and gherkins","2021","2021","t",54992.18,"A","Official figure"]
["SCL","Supply Utilization Accounts (2010-)","826","United Kingdom","5610","Import quantity","01232","Cucumbers and gherkins","2021","2021","t",169571.71,"A","Official figure"]
["SCL","Supply Utilization Accounts (2010-)","826","United Kingdom","5910","Export quantity","01232","Cucumbers and gherkins","2021","2021","t",311.97000000000003,"A","Official figure"]
["SCL","Supply Utilization Accounts (2010-)","826","United Kingdom","5016","Loss","01232","Cucumbers and gherkins","2021","2021","t",3218.33,"I","Imputed value"]
["SCL","Supply Utilization Accounts (2010-)","826","United Kingdom","5166","Residuals","01232","Cucumbers and gherkins","2021","2021","t",0,"I","Imputed value"]
["SCL","Supply Utilization Accounts (2010-)","826","United Kingdom","5141","Food supply quantity","01232","Cucumbers and gherkins","2021","2021","t",221033.59,"E","Estimated value"]
["SCL","Supply Utilization Accounts (2010-)","826","United Kingdom","5510","Production","01232","Cucumbers and gherkins","2022","2022","t",45000,"A","Official figure"]
["SCL","Supply Utilization Accounts (2010-)","826","United Kingdom","5610","Import quantity","01232","Cucumbers and gherkins","2022","2022","t",201343.17,"A","Official figure"]
["SCL","Supply Utilization Accounts (2010-)","826","United Kingdom","5910","Export quantity","01232","Cucumbers and gherkins","2022","2022","t",465.06,"A","Official figure"]
["SCL","Supply Utilization Accounts (2010-)","826","United Kingdom","5016","Loss","01232","Cucumbers and gherkins","2022","2022","t",3530.46,"I","Imputed value"]
["SCL","Supply Utilization Accounts (2010-)","826","United Kingdom","5166","Residuals","01232","Cucumbers and gherkins","2022","2022","t",0,"I","Imputed value"]
["SCL","Supply Utilization Accounts (2010-)","826","United Kingdom","5141","Food supply quantity","01232","Cucumbers and gherkins","2022","2022","t",242347.65,"E","Estimated value"]
["SCL","Supply Utilization Accounts (2010-)","826","United Kingdom","5610","Import quantity","01233","Eggplants (aubergines)","2020","2020","t",35492.910000000003,"A","Official figure"]
["SCL","Supply Utilization Accounts (2010-)","826","United Kingdom","5910","Export quantity","01233","Eggplants (aubergines)","2020","2020","t",307.10000000000002,"A","Official figure"]
["SCL","Supply Utilization Accounts (2010-)","826","United Kingdom","5016","Loss","01233","Eggplants (aubergines)","2020","2020","t",1774.65,"I","Imputed value"]
["SCL","Supply Utilization Accounts (2010-)","826","United Kingdom","5166","Residuals","01233","Eggplants (aubergines)","2020","2020","t",0,"I","Imputed value"]
["SCL","Supply Utilization Accounts (2010-)","826","United Kingdom","5141","Food supply quantity","01233","Eggplants (aubergines)","2020","2020","t",33411.160000000003,"E","Estimated value"]
["SCL","Supply Utilization Accounts (2010-)","826","United Kingdom","5610","Import quantity","01233","Eggplants (aubergines)","2021","2021","t",28099.35,"A","Official figure"]
["SCL","Supply Utilization Accounts (2010-)","826","United Kingdom","5910","Export quantity","01233","Eggplants (aubergines)","2021","2021","t",25.32,"A","Official figure"]
["SCL","Supply Utilization Accounts (2010-)","826","United Kingdom","5016","Loss","01233","Eggplants (aubergines)","2021","2021","t",1404.97,"I","Imputed value"]
["SCL","Supply Utilization Accounts (2010-)","826","United Kingdom","5166","Residuals","01233","Eggplants (aubergines)","2021","2021","t",0,"I","Imputed value"]
["SCL","Supply Utilization Accounts (2010-)","826","United Kingdom","5141","Food supply quantity","01233","Eggplants (aubergines)","2021","2021","t",26669.06,"E","Estimated value"]
["SCL","Supply Utilization Accounts (2010-)","826","United Kingdom","5610","Import quantity","01233","Eggplants (aubergines)","2022","2022","t",29974.97,"A","Official figure"]
["SCL","Supply Utilization Accounts (2010-)","826","United Kingdom","5910","Export quantity","01233","Eggplants (aubergines)","2022","2022","t",31.95,"A","Official figure"]
["SCL","Supply Utilization Accounts (2010-)","826","United Kingdom","5016","Loss","01233","Eggplants (aubergines)","2022","2022","t",1498.75,"I","Imputed value"]
["SCL","Supply Utilization Accounts (2010-)","826","United Kingdom","5166","Residuals","01233","Eggplants (aubergines)","2022","2022","t",0,"I","Imputed value"]
["SCL","Supply Utilization Accounts (2010-)","826","United Kingdom","5141","Food supply quantity","01233","Eggplants (aubergines)","2022","2022","t",28444.27,"E","Estimated value"]

{"sheet":"Reference List","index":15,"n_rows":26,"n_cols":3,"rows_kept":26,"cut":false,"hidden":false,"merged":[]}
[]
[]
[]
[]
[]
[]
["Homepage"]
["Beretta el al. (2013)","Beretta, C., Stoessel, F., Baier, U., & Hellweg, S. (2013). Quantifying food losses and the potential for reduction in Switzerland. Waste Management, 33(3), 764–773. ","https://doi.org/10.1016/j.wasman.2012.11.007"]
["Clune et al. (2017)","Clune, S., Crossin, E., & Verghese, K. (2017). Systematic review of greenhouse gas emissions for different fresh food categories. Journal of Cleaner Production, 140(1), Part 2. 766-783. ","https://doi.org/10.1016/j.jclepro.2016.04.082"]
["De Laurentiis et al. (2018)","De Laurentiis, V., Corrado, S. & Sala, S. (2018). Quantifying household waste of fresh fruit and vegetables in the EU. Waste Management, 77(1), 238-251.  ","https://doi.org/10.1016/j.wasman.2018.04.001"]
["Denkstatt (2017)","EY denkstatt (2020) ”STOP waste – SAVE food”. [Report regarding packaging and food waste]. Retrieved May 27, 2025, from: ","https://denkstatt.at/en/references/publications/"]
["Global Growth Insights (2025)","Global Growth Insights (2025). Avocado Market Size, Growth, and Industry Analysis. [Industry report regarding avocado market]. Retrieved May 27, 2025, from: ","https://www.globalgrowthinsights.com/market-reports/avocado-market-107282"]
["Gustavsson et al., 2011","Gustavsson, J. & Stage, J. (2011). Retail waste of horticultural products in Sweden. Resources, Conservation and Recycling, 55(5), 554-556. ","https://doi.org/10.1016/j.resconrec.2011.01.007"]
["Foodsteps (2023)","Foodsteps (2023). The Food Footprint 100 Discover the hidden impact of some of the UK’s most popular food items. Retrieved May 31, 2025, from:","6411bac4930129105550f0df_Food Footprint 100 2023.pdf"]
["Mattson et al. (2018)","Mattsson, L., Williams, H. & Berghel, J. (2018). Waste of fresh fruit and vegetables at retailers in Sweden – Measuring and calculation of mass, economic cost and climate impact. Resources, Conservation and Recycling, 130, 118-126, ","https://doi.org/10.1016/j.resconrec.2017.10.037"]
["Nutrition Incentive Hub (2022)","Nutrition Incentive Hub. (2022). Retail Grocery Pricing: A Primer. [Guide regarding grocery pricing]. Retrieved May 27, 2025, from: ","https://nutritionincentivehub.org/resources/resource-item?resource=65ced2f0-ac9f-4a21-8c55-cdd63130d5f0"]
["Roibás et al. (2016)","Roibás, L., Elbehri, A. and Hospido, A., (2016). Carbon footprint along the Ecuadorian banana supply chain: Methodological improvements and calculation tool. Journal of Cleaner Production, 112, pp.2441-2451.","https://doi.org/10.1016/j.jclepro.2015.09.074 "]
["Svanes et al. (2012)","Svanes, E. and Aronsson, A.K., (2013). Carbon footprint of a Cavendish banana supply chain. The International Journal of Life Cycle Assessment, 18, pp.1450-1464.","http://dx.doi.org/10.1007/s11367-013-0602-4"]
["WRAP (2011)","WRAP  (2011). Fruit and vegetable resource maps: Mapping fruit and vegetable waste through the retail and wholesale supply chain. Waste and Resources Action Programme, RC008. ","https://pdxscholar.library.pdx.edu/busadmin_fac/109/"]
[]
["Databases"]
["FAO (2025a)","FAOSTAT Supply Utilization Accounts (2010-). (2025) [Database for downloading data] Food and Agriculture Organization of the United Nations. Retrieved May 27, 2025, from: ","https://www.fao.org/faostat/en/#data/SCL"]
["FAO (2025b)","FAOSTAT Value of Agricultural Production. (2025) [Database for downloading data] Food and Agriculture Organization of the United Nations. Retrieved May 27, 2025, from: ","https://www.fao.org/faostat/en/#data/QV"]
["UN (2025)","UN Comtrade Database Trade Data. (2025) [Database for downloading data] United Nations. Retrieved May 27, 2025, from: ","https://comtradeplus.un.org/TradeFlow"]
["Eurostat (2025)","European Union Eurostat. (2025) [Database for downloading data] European Union. Retrieved May 27, 2025, from: ","https://ec.europa.eu/eurostat/databrowser/explore/all/agric?lang=en&subtheme=agr.apro.apro_crop&display=list&sort=category"]
["European Central Bank (2025)","European Central Bank (2024) Euro foreign exchange reference rates – USD. [online]. Retreived May 31, 2025, from:","https://www.ecb.europa.eu/stats/policy_and_exchange_rates/euro_reference_exchange_rates/html/eurofxref-graph-usd.en.html"]